{"text_format":"1","workbook":"xlsx","n_sheets":2,"sheets":["2020_Virtual_Forum","UNWDF2020_LookUp"],"not_rendered":{"charts":0,"images":6,"macros":1,"external_links":3,"defined_names":52,"comments":0,"pivot_tables":0},"unopened":[],"bounds":{"document_bytes":16777216,"sheet_cells":100000,"rows_first":2000,"rows_last":500,"rows_between":2000,"halvings":0,"cell_chars":16384,"cell_head_chars":4096},"cells_cut":0,"cells_raw":0,"read":"whole","date_system":"1900"}

{"sheet":"2020_Virtual_Forum","index":0,"n_rows":90,"n_cols":17,"rows_kept":90,"cut":false,"hidden":false,"merged":[[0,5,0,11],[2,5,2,11],[1,5,1,11],[3,5,3,11],[48,5,50,5],[44,5,46,5],[47,6,47,16],[32,12,32,16],[10,5,12,5],[13,6,13,16],[14,5,16,5],[17,6,17,16],[18,5,20,5],[21,6,21,16],[43,6,43,16],[39,6,39,16],[88,9,88,10],[59,5,59,10],[88,6,88,7],[84,6,84,7],[84,9,84,10],[86,6,86,7],[86,9,86,10],[71,6,71,16],[72,5,74,5],[79,6,79,16],[64,5,66,5],[68,5,70,5],[76,5,78,5],[67,6,67,16],[75,6,75,16],[60,5,60,11],[40,5,42,5],[80,5,82,5],[62,5,63,5],[56,9,56,10],[52,6,52,7],[52,9,52,10],[54,6,54,7],[54,9,54,10],[56,6,56,7],[5,5,6,5],[7,5,9,5],[34,5,35,5],[36,5,38,5],[26,6,26,7],[32,5,32,11],[26,9,26,10],[28,6,28,7],[22,5,24,5],[28,9,28,10],[30,6,30,7],[30,9,30,10]]}
[null,null,null,"Day",19,"2020 VIRTUAL"]
[null,"NOW (Local time)",{"$f":"NOW()","v":"2020-10-17T23:02:22.310"},"Month",10,"UNITED NATIONS WORLD DATA FORUM"]
[null,"GMT/UTC",{"$f":"Local2GMT(NOW())","v":"2020-10-18T03:02:22.310"},"Year",2020,"Programme (as of 17 October 2020)*"]
["Day1",null,null,null,null,{"$f":"IF(ISERROR(DATE($E$3,$E$2,$E$1)+TIME(MID(E8,1,2),MID(E8,4,2),0)+($C$2-$C$3)),DATE($E$3,$E$2,$E$1),DATE($E$3,$E$2,$E$1)+TIME(MID(E8,1,2),MID(E8,4,2),0)+($C$2-$C$3))","v":"2020-10-19T06:30:00"}]
[null,null,"LookUp",null,null,null,"LookUp","Parallel 01","Parallel 02","Parallel 03","Parallel 04","Parallel 05","Parallel 06","Parallel 07","Parallel 08","Parallel 09","Parallel 10"]
[null,null,null,null,null,"Time (if macro is enabled will show your local system time, otherwise \"Coordinated Universal Time (UTC)\")","Name","Session 1","Session 2","Session 3","Session 4","Session 5","Session 6","Session 7","Session 8","Session 9","Session 10"]
["DayTime_LookUp","Day_LookUp","Time_LookUp","Col_LookUp","Time (GMT/UTC)",null,"Capacity"]
[{"$f":"B8&C8","v":"Day1Time_SlotO"},"Day1","Time_SlotO",14,"10:30 - 11:00 AM (UTC)",{"$f":"IF(ISERROR(TEXT((DATE($E$3,$E$2,$E$1)+TIME(MID(E8,1,2),MID(E8,4,2),0))+($C$2-$C$3),\"H:MM\")&\" - \"&TEXT(DATE($E$3,$E$2,$E$1)+TIME(MID(E8,9,2),MID(E8,12,2),0)+($C$2-$C$3),\"H:MM\")),E8,TEXT((DATE($E$3,$E$2,$E$1)+TIME(MID(E8,1,2),MID(E8,4,2),0))+($C$2-$C$3),\"HH:MM\")&\" - \"&TEXT(DATE($E$3,$E$2,$E$1)+TIME(MID(E8,9,2),MID(E8,12,2),0)+($C$2-$C$3),\"HH:MM\")&\" \"&TEXT(DATE($E$3,$E$2,$E$1)+TIME(MID(E8,9,2),MID(E8,12,2),0)+($C$2-$C$3),\"AM/PM\"))","v":"06:30 - 07:00 AM"},"Session_ID",{"$f":"IF(VLOOKUP($B8&\"_\"&$C8&\"_\"&H$5,UNWDF2020_LookUp!$B:$P,$D8,FALSE)=0,\"\",VLOOKUP($B8&\"_\"&$C8&\"_\"&H$5,UNWDF2020_LookUp!$B:$P,$D8,FALSE))","v":"TA_O.01"}]
["Day1Time_SlotO","Day1","Time_SlotO",12,null,null,"Thematic Area",{"$f":"IF(VLOOKUP($B9&\"_\"&$C9&\"_\"&H$5,UNWDF2020_LookUp!$B:$P,$D9,FALSE)=0,\"\",VLOOKUP($B9&\"_\"&$C9&\"_\"&H$5,UNWDF2020_LookUp!$B:$P,$D9,FALSE))","v":"_O"}]
["Day1Time_SlotO","Day1","Time_SlotO",15,null,null,"Session Title",{"$f":"IF(VLOOKUP($B10&\"_\"&$C10&\"_\"&H$5,UNWDF2020_LookUp!$B:$P,$D10,FALSE)=0,\"\",VLOOKUP($B10&\"_\"&$C10&\"_\"&H$5,UNWDF2020_LookUp!$B:$P,$D10,FALSE))","v":"Opening session"}]
[{"$f":"B11&C11","v":"Day1Time_Slot1"},"Day1","Time_Slot1",14,"11:00 - 12:15 PM (UTC)",{"$f":"IF(ISERROR(TEXT((DATE($E$3,$E$2,$E$1)+TIME(MID(E11,1,2),MID(E11,4,2),0))+($C$2-$C$3),\"H:MM\")&\" - \"&TEXT(DATE($E$3,$E$2,$E$1)+TIME(MID(E11,9,2),MID(E11,12,2),0)+($C$2-$C$3),\"H:MM\")),E11,TEXT((DATE($E$3,$E$2,$E$1)+TIME(MID(E11,1,2),MID(E11,4,2),0))+($C$2-$C$3),\"HH:MM\")&\" - \"&TEXT(DATE($E$3,$E$2,$E$1)+TIME(MID(E11,9,2),MID(E11,12,2),0)+($C$2-$C$3),\"HH:MM\")&\" \"&TEXT(DATE($E$3,$E$2,$E$1)+TIME(MID(E11,9,2),MID(E11,12,2),0)+($C$2-$C$3),\"AM/PM\"))","v":"07:00 - 08:15 AM"},"Session_ID",{"$f":"IF(VLOOKUP($B11&\"_\"&$C11&\"_\"&H$5,UNWDF2020_LookUp!$B:$P,$D11,FALSE)=0,\"\",VLOOKUP($B11&\"_\"&$C11&\"_\"&H$5,UNWDF2020_LookUp!$B:$P,$D11,FALSE))","v":"TA4.01"}]
["Day1Time_Slot1","Day1","Time_Slot1",12,null,null,"Thematic Area",{"$f":"IF(VLOOKUP($B12&\"_\"&$C12&\"_\"&H$5,UNWDF2020_LookUp!$B:$P,$D12,FALSE)=0,\"\",VLOOKUP($B12&\"_\"&$C12&\"_\"&H$5,UNWDF2020_LookUp!$B:$P,$D12,FALSE))","v":4}]
["Day1Time_Slot1","Day1","Time_Slot1",15,null,null,"Session Title",{"$f":"IF(VLOOKUP($B13&\"_\"&$C13&\"_\"&H$5,UNWDF2020_LookUp!$B:$P,$D13,FALSE)=0,\"\",VLOOKUP($B13&\"_\"&$C13&\"_\"&H$5,UNWDF2020_LookUp!$B:$P,$D13,FALSE))","v":"Data for a changing World: data use under Covid-19"}]
[null,"Day1",null,null,"12:15 - 12:30 PM (UTC)",{"$f":"IF(ISERROR(TEXT((DATE($E$3,$E$2,$E$1)+TIME(MID(E14,1,2),MID(E14,4,2),0))+($C$2-$C$3),\"H:MM\")&\" - \"&TEXT(DATE($E$3,$E$2,$E$1)+TIME(MID(E14,9,2),MID(E14,12,2),0)+($C$2-$C$3),\"H:MM\")),E14,TEXT((DATE($E$3,$E$2,$E$1)+TIME(MID(E14,1,2),MID(E14,4,2),0))+($C$2-$C$3),\"HH:MM\")&\" - \"&TEXT(DATE($E$3,$E$2,$E$1)+TIME(MID(E14,9,2),MID(E14,12,2),0)+($C$2-$C$3),\"HH:MM\")&\" \"&TEXT(DATE($E$3,$E$2,$E$1)+TIME(MID(E14,9,2),MID(E14,12,2),0)+($C$2-$C$3),\"AM/PM\"))","v":"08:15 - 08:30 AM"},"Break"]
["Day1Time_Slot2","Day1","Time_Slot2",14,"12:30 - 13:45 PM (UTC)","08:30 - 09:45 AM","Session_ID",{"$f":"IF(VLOOKUP($B15&\"_\"&$C15&\"_\"&H$5,UNWDF2020_LookUp!$B:$P,$D15,FALSE)=0,\"\",VLOOKUP($B15&\"_\"&$C15&\"_\"&H$5,UNWDF2020_LookUp!$B:$P,$D15,FALSE))","v":"TA2.01"},{"$f":"IF(VLOOKUP($B15&\"_\"&$C15&\"_\"&I$5,UNWDF2020_LookUp!$B:$P,$D15,FALSE)=0,\"\",VLOOKUP($B15&\"_\"&$C15&\"_\"&I$5,UNWDF2020_LookUp!$B:$P,$D15,FALSE))","v":"TA3.02"},{"$f":"IF(VLOOKUP($B15&\"_\"&$C15&\"_\"&J$5,UNWDF2020_LookUp!$B:$P,$D15,FALSE)=0,\"\",VLOOKUP($B15&\"_\"&$C15&\"_\"&J$5,UNWDF2020_LookUp!$B:$P,$D15,FALSE))","v":"TA4.02"},null,null,{"$f":"IF(VLOOKUP($B15&\"_\"&$C15&\"_\"&M$5,UNWDF2020_LookUp!$B:$P,$D15,FALSE)=0,\"\",VLOOKUP($B15&\"_\"&$C15&\"_\"&M$5,UNWDF2020_LookUp!$B:$P,$D15,FALSE))","v":"NA"},{"$f":"IF(VLOOKUP($B15&\"_\"&$C15&\"_\"&N$5,UNWDF2020_LookUp!$B:$P,$D15,FALSE)=0,\"\",VLOOKUP($B15&\"_\"&$C15&\"_\"&N$5,UNWDF2020_LookUp!$B:$P,$D15,FALSE))","v":"NA"},{"$f":"IF(VLOOKUP($B15&\"_\"&$C15&\"_\"&O$5,UNWDF2020_LookUp!$B:$P,$D15,FALSE)=0,\"\",VLOOKUP($B15&\"_\"&$C15&\"_\"&O$5,UNWDF2020_LookUp!$B:$P,$D15,FALSE))","v":"NA"},{"$f":"IF(VLOOKUP($B15&\"_\"&$C15&\"_\"&P$5,UNWDF2020_LookUp!$B:$P,$D15,FALSE)=0,\"\",VLOOKUP($B15&\"_\"&$C15&\"_\"&P$5,UNWDF2020_LookUp!$B:$P,$D15,FALSE))","v":"NA"},{"$f":"IF(VLOOKUP($B15&\"_\"&$C15&\"_\"&Q$5,UNWDF2020_LookUp!$B:$P,$D15,FALSE)=0,\"\",VLOOKUP($B15&\"_\"&$C15&\"_\"&Q$5,UNWDF2020_LookUp!$B:$P,$D15,FALSE))","v":"NA"}]
["Day1Time_Slot2","Day1","Time_Slot2",12,null,null,"Thematic Area",{"$f":"IF(VLOOKUP($B16&\"_\"&$C16&\"_\"&H$5,UNWDF2020_LookUp!$B:$P,$D16,FALSE)=0,\"\",VLOOKUP($B16&\"_\"&$C16&\"_\"&H$5,UNWDF2020_LookUp!$B:$P,$D16,FALSE))","v":2},{"$f":"IF(VLOOKUP($B16&\"_\"&$C16&\"_\"&I$5,UNWDF2020_LookUp!$B:$P,$D16,FALSE)=0,\"\",VLOOKUP($B16&\"_\"&$C16&\"_\"&I$5,UNWDF2020_LookUp!$B:$P,$D16,FALSE))","v":3},{"$f":"IF(VLOOKUP($B16&\"_\"&$C16&\"_\"&J$5,UNWDF2020_LookUp!$B:$P,$D16,FALSE)=0,\"\",VLOOKUP($B16&\"_\"&$C16&\"_\"&J$5,UNWDF2020_LookUp!$B:$P,$D16,FALSE))","v":4},null,null,{"$f":"IF(VLOOKUP($B16&\"_\"&$C16&\"_\"&M$5,UNWDF2020_LookUp!$B:$P,$D16,FALSE)=0,\"\",VLOOKUP($B16&\"_\"&$C16&\"_\"&M$5,UNWDF2020_LookUp!$B:$P,$D16,FALSE))","v":"NA"},{"$f":"IF(VLOOKUP($B16&\"_\"&$C16&\"_\"&N$5,UNWDF2020_LookUp!$B:$P,$D16,FALSE)=0,\"\",VLOOKUP($B16&\"_\"&$C16&\"_\"&N$5,UNWDF2020_LookUp!$B:$P,$D16,FALSE))","v":"NA"},{"$f":"IF(VLOOKUP($B16&\"_\"&$C16&\"_\"&O$5,UNWDF2020_LookUp!$B:$P,$D16,FALSE)=0,\"\",VLOOKUP($B16&\"_\"&$C16&\"_\"&O$5,UNWDF2020_LookUp!$B:$P,$D16,FALSE))","v":"NA"},{"$f":"IF(VLOOKUP($B16&\"_\"&$C16&\"_\"&P$5,UNWDF2020_LookUp!$B:$P,$D16,FALSE)=0,\"\",VLOOKUP($B16&\"_\"&$C16&\"_\"&P$5,UNWDF2020_LookUp!$B:$P,$D16,FALSE))","v":"NA"},{"$f":"IF(VLOOKUP($B16&\"_\"&$C16&\"_\"&Q$5,UNWDF2020_LookUp!$B:$P,$D16,FALSE)=0,\"\",VLOOKUP($B16&\"_\"&$C16&\"_\"&Q$5,UNWDF2020_LookUp!$B:$P,$D16,FALSE))","v":"NA"}]
["Day1Time_Slot2","Day1","Time_Slot2",15,null,null,"Session Title",{"$f":"IF(VLOOKUP($B17&\"_\"&$C17&\"_\"&H$5,UNWDF2020_LookUp!$B:$P,$D17,FALSE)=0,\"\",VLOOKUP($B17&\"_\"&$C17&\"_\"&H$5,UNWDF2020_LookUp!$B:$P,$D17,FALSE))","v":"Integrating Citizen Science into the Official SDG Monitoring Mechanisms and A Proposal to Use Unofficial Statistics for SDG Reporting (to Deal with Crises)"},{"$f":"IF(VLOOKUP($B17&\"_\"&$C17&\"_\"&I$5,UNWDF2020_LookUp!$B:$P,$D17,FALSE)=0,\"\",VLOOKUP($B17&\"_\"&$C17&\"_\"&I$5,UNWDF2020_LookUp!$B:$P,$D17,FALSE))","v":"Operationalising data to leave no one behind in the context of Covid-19: Practical steps from Benin and beyond"},{"$f":"IF(VLOOKUP($B17&\"_\"&$C17&\"_\"&J$5,UNWDF2020_LookUp!$B:$P,$D17,FALSE)=0,\"\",VLOOKUP($B17&\"_\"&$C17&\"_\"&J$5,UNWDF2020_LookUp!$B:$P,$D17,FALSE))","v":"Data Gems for the Public: Innovative ways and best practices to communicate official statistics"},null,null,{"$f":"IF(VLOOKUP($B17&\"_\"&$C17&\"_\"&M$5,UNWDF2020_LookUp!$B:$P,$D17,FALSE)=0,\"\",VLOOKUP($B17&\"_\"&$C17&\"_\"&M$5,UNWDF2020_LookUp!$B:$P,$D17,FALSE))","v":"TBC"},{"$f":"IF(VLOOKUP($B17&\"_\"&$C17&\"_\"&N$5,UNWDF2020_LookUp!$B:$P,$D17,FALSE)=0,\"\",VLOOKUP($B17&\"_\"&$C17&\"_\"&N$5,UNWDF2020_LookUp!$B:$P,$D17,FALSE))","v":"TBC"},{"$f":"IF(VLOOKUP($B17&\"_\"&$C17&\"_\"&O$5,UNWDF2020_LookUp!$B:$P,$D17,FALSE)=0,\"\",VLOOKUP($B17&\"_\"&$C17&\"_\"&O$5,UNWDF2020_LookUp!$B:$P,$D17,FALSE))","v":"TBC"},{"$f":"IF(VLOOKUP($B17&\"_\"&$C17&\"_\"&P$5,UNWDF2020_LookUp!$B:$P,$D17,FALSE)=0,\"\",VLOOKUP($B17&\"_\"&$C17&\"_\"&P$5,UNWDF2020_LookUp!$B:$P,$D17,FALSE))","v":"TBC"},{"$f":"IF(VLOOKUP($B17&\"_\"&$C17&\"_\"&Q$5,UNWDF2020_LookUp!$B:$P,$D17,FALSE)=0,\"\",VLOOKUP($B17&\"_\"&$C17&\"_\"&Q$5,UNWDF2020_LookUp!$B:$P,$D17,FALSE))","v":"NA"}]
[null,"Day1",null,null,"13:45 - 14:00 PM (UTC)",{"$f":"IF(ISERROR(TEXT((DATE($E$3,$E$2,$E$1)+TIME(MID(E18,1,2),MID(E18,4,2),0))+($C$2-$C$3),\"H:MM\")&\" - \"&TEXT(DATE($E$3,$E$2,$E$1)+TIME(MID(E18,9,2),MID(E18,12,2),0)+($C$2-$C$3),\"H:MM\")),E18,TEXT((DATE($E$3,$E$2,$E$1)+TIME(MID(E18,1,2),MID(E18,4,2),0))+($C$2-$C$3),\"HH:MM\")&\" - \"&TEXT(DATE($E$3,$E$2,$E$1)+TIME(MID(E18,9,2),MID(E18,12,2),0)+($C$2-$C$3),\"HH:MM\")&\" \"&TEXT(DATE($E$3,$E$2,$E$1)+TIME(MID(E18,9,2),MID(E18,12,2),0)+($C$2-$C$3),\"AM/PM\"))","v":"09:45 - 10:00 AM"},"Break"]
["Day1Time_Slot3","Day1","Time_Slot3",14,"14:00 - 15:15 PM (UTC)","10:00 - 11:15 AM","Session_ID",{"$f":"IF(VLOOKUP($B19&\"_\"&$C19&\"_\"&H$5,UNWDF2020_LookUp!$B:$P,$D19,FALSE)=0,\"\",VLOOKUP($B19&\"_\"&$C19&\"_\"&H$5,UNWDF2020_LookUp!$B:$P,$D19,FALSE))","v":"TA5.02"},{"$f":"IF(VLOOKUP($B19&\"_\"&$C19&\"_\"&I$5,UNWDF2020_LookUp!$B:$P,$D19,FALSE)=0,\"\",VLOOKUP($B19&\"_\"&$C19&\"_\"&I$5,UNWDF2020_LookUp!$B:$P,$D19,FALSE))","v":"TA2.02"},{"$f":"IF(VLOOKUP($B19&\"_\"&$C19&\"_\"&J$5,UNWDF2020_LookUp!$B:$P,$D19,FALSE)=0,\"\",VLOOKUP($B19&\"_\"&$C19&\"_\"&J$5,UNWDF2020_LookUp!$B:$P,$D19,FALSE))","v":"TA2.09"},null,null,{"$f":"IF(VLOOKUP($B19&\"_\"&$C19&\"_\"&M$5,UNWDF2020_LookUp!$B:$P,$D19,FALSE)=0,\"\",VLOOKUP($B19&\"_\"&$C19&\"_\"&M$5,UNWDF2020_LookUp!$B:$P,$D19,FALSE))","v":"NA"},{"$f":"IF(VLOOKUP($B19&\"_\"&$C19&\"_\"&N$5,UNWDF2020_LookUp!$B:$P,$D19,FALSE)=0,\"\",VLOOKUP($B19&\"_\"&$C19&\"_\"&N$5,UNWDF2020_LookUp!$B:$P,$D19,FALSE))","v":"NA"},{"$f":"IF(VLOOKUP($B19&\"_\"&$C19&\"_\"&O$5,UNWDF2020_LookUp!$B:$P,$D19,FALSE)=0,\"\",VLOOKUP($B19&\"_\"&$C19&\"_\"&O$5,UNWDF2020_LookUp!$B:$P,$D19,FALSE))","v":"NA"},{"$f":"IF(VLOOKUP($B19&\"_\"&$C19&\"_\"&P$5,UNWDF2020_LookUp!$B:$P,$D19,FALSE)=0,\"\",VLOOKUP($B19&\"_\"&$C19&\"_\"&P$5,UNWDF2020_LookUp!$B:$P,$D19,FALSE))","v":"NA"},{"$f":"IF(VLOOKUP($B19&\"_\"&$C19&\"_\"&Q$5,UNWDF2020_LookUp!$B:$P,$D19,FALSE)=0,\"\",VLOOKUP($B19&\"_\"&$C19&\"_\"&Q$5,UNWDF2020_LookUp!$B:$P,$D19,FALSE))","v":"NA"}]
["Day1Time_Slot3","Day1","Time_Slot3",12,null,null,"Thematic Area",{"$f":"IF(VLOOKUP($B20&\"_\"&$C20&\"_\"&H$5,UNWDF2020_LookUp!$B:$P,$D20,FALSE)=0,\"\",VLOOKUP($B20&\"_\"&$C20&\"_\"&H$5,UNWDF2020_LookUp!$B:$P,$D20,FALSE))","v":5},{"$f":"IF(VLOOKUP($B20&\"_\"&$C20&\"_\"&I$5,UNWDF2020_LookUp!$B:$P,$D20,FALSE)=0,\"\",VLOOKUP($B20&\"_\"&$C20&\"_\"&I$5,UNWDF2020_LookUp!$B:$P,$D20,FALSE))","v":2},{"$f":"IF(VLOOKUP($B20&\"_\"&$C20&\"_\"&J$5,UNWDF2020_LookUp!$B:$P,$D20,FALSE)=0,\"\",VLOOKUP($B20&\"_\"&$C20&\"_\"&J$5,UNWDF2020_LookUp!$B:$P,$D20,FALSE))","v":2},null,null,{"$f":"IF(VLOOKUP($B20&\"_\"&$C20&\"_\"&M$5,UNWDF2020_LookUp!$B:$P,$D20,FALSE)=0,\"\",VLOOKUP($B20&\"_\"&$C20&\"_\"&M$5,UNWDF2020_LookUp!$B:$P,$D20,FALSE))","v":"NA"},{"$f":"IF(VLOOKUP($B20&\"_\"&$C20&\"_\"&N$5,UNWDF2020_LookUp!$B:$P,$D20,FALSE)=0,\"\",VLOOKUP($B20&\"_\"&$C20&\"_\"&N$5,UNWDF2020_LookUp!$B:$P,$D20,FALSE))","v":"NA"},{"$f":"IF(VLOOKUP($B20&\"_\"&$C20&\"_\"&O$5,UNWDF2020_LookUp!$B:$P,$D20,FALSE)=0,\"\",VLOOKUP($B20&\"_\"&$C20&\"_\"&O$5,UNWDF2020_LookUp!$B:$P,$D20,FALSE))","v":"NA"},{"$f":"IF(VLOOKUP($B20&\"_\"&$C20&\"_\"&P$5,UNWDF2020_LookUp!$B:$P,$D20,FALSE)=0,\"\",VLOOKUP($B20&\"_\"&$C20&\"_\"&P$5,UNWDF2020_LookUp!$B:$P,$D20,FALSE))","v":"NA"},{"$f":"IF(VLOOKUP($B20&\"_\"&$C20&\"_\"&Q$5,UNWDF2020_LookUp!$B:$P,$D20,FALSE)=0,\"\",VLOOKUP($B20&\"_\"&$C20&\"_\"&Q$5,UNWDF2020_LookUp!$B:$P,$D20,FALSE))","v":"NA"}]
["Day1Time_Slot3","Day1","Time_Slot3",15,null,null,"Session Title",{"$f":"IF(VLOOKUP($B21&\"_\"&$C21&\"_\"&H$5,UNWDF2020_LookUp!$B:$P,$D21,FALSE)=0,\"\",VLOOKUP($B21&\"_\"&$C21&\"_\"&H$5,UNWDF2020_LookUp!$B:$P,$D21,FALSE))","v":"Isn’t the world already mapped? Mapping 1 billion people in the world’s unmapped places through machine learning and Citizen Generated Data"},{"$f":"IF(VLOOKUP($B21&\"_\"&$C21&\"_\"&I$5,UNWDF2020_LookUp!$B:$P,$D21,FALSE)=0,\"\",VLOOKUP($B21&\"_\"&$C21&\"_\"&I$5,UNWDF2020_LookUp!$B:$P,$D21,FALSE))","v":"The Million Neighbourhoods Map and OpenReblock: Spatial data-driven processes and tools to accelerate sustainable and equitable human development in fast-growing cities"},{"$f":"IF(VLOOKUP($B21&\"_\"&$C21&\"_\"&J$5,UNWDF2020_LookUp!$B:$P,$D21,FALSE)=0,\"\",VLOOKUP($B21&\"_\"&$C21&\"_\"&J$5,UNWDF2020_LookUp!$B:$P,$D21,FALSE))","v":"Cross sectoral digital cooperation : How the international Geneva ecosystem can bring its contribution towards an enhanced data integration to better achieve SDGs"},null,null,{"$f":"IF(VLOOKUP($B21&\"_\"&$C21&\"_\"&M$5,UNWDF2020_LookUp!$B:$P,$D21,FALSE)=0,\"\",VLOOKUP($B21&\"_\"&$C21&\"_\"&M$5,UNWDF2020_LookUp!$B:$P,$D21,FALSE))","v":"TBC"},{"$f":"IF(VLOOKUP($B21&\"_\"&$C21&\"_\"&N$5,UNWDF2020_LookUp!$B:$P,$D21,FALSE)=0,\"\",VLOOKUP($B21&\"_\"&$C21&\"_\"&N$5,UNWDF2020_LookUp!$B:$P,$D21,FALSE))","v":"TBC"},{"$f":"IF(VLOOKUP($B21&\"_\"&$C21&\"_\"&O$5,UNWDF2020_LookUp!$B:$P,$D21,FALSE)=0,\"\",VLOOKUP($B21&\"_\"&$C21&\"_\"&O$5,UNWDF2020_LookUp!$B:$P,$D21,FALSE))","v":"TBC"},{"$f":"IF(VLOOKUP($B21&\"_\"&$C21&\"_\"&P$5,UNWDF2020_LookUp!$B:$P,$D21,FALSE)=0,\"\",VLOOKUP($B21&\"_\"&$C21&\"_\"&P$5,UNWDF2020_LookUp!$B:$P,$D21,FALSE))","v":"TBC"},{"$f":"IF(VLOOKUP($B21&\"_\"&$C21&\"_\"&Q$5,UNWDF2020_LookUp!$B:$P,$D21,FALSE)=0,\"\",VLOOKUP($B21&\"_\"&$C21&\"_\"&Q$5,UNWDF2020_LookUp!$B:$P,$D21,FALSE))","v":"NA"}]
[null,"Day1",null,null,"15:15 - 15:30 PM (UTC)",{"$f":"IF(ISERROR(TEXT((DATE($E$3,$E$2,$E$1)+TIME(MID(E22,1,2),MID(E22,4,2),0))+($C$2-$C$3),\"H:MM\")&\" - \"&TEXT(DATE($E$3,$E$2,$E$1)+TIME(MID(E22,9,2),MID(E22,12,2),0)+($C$2-$C$3),\"H:MM\")),E22,TEXT((DATE($E$3,$E$2,$E$1)+TIME(MID(E22,1,2),MID(E22,4,2),0))+($C$2-$C$3),\"HH:MM\")&\" - \"&TEXT(DATE($E$3,$E$2,$E$1)+TIME(MID(E22,9,2),MID(E22,12,2),0)+($C$2-$C$3),\"HH:MM\")&\" \"&TEXT(DATE($E$3,$E$2,$E$1)+TIME(MID(E22,9,2),MID(E22,12,2),0)+($C$2-$C$3),\"AM/PM\"))","v":"11:15 - 11:30 AM"},"Break"]
[{"$f":"B23&C23","v":"Day1Time_Slot4"},"Day1","Time_Slot4",14,"15:30 - 16:45 PM (UTC)","11:30 - 12:45 PM","Session_ID",{"$f":"IF(VLOOKUP($B23&\"_\"&$C23&\"_\"&H$5,UNWDF2020_LookUp!$B:$P,$D23,FALSE)=0,\"\",VLOOKUP($B23&\"_\"&$C23&\"_\"&H$5,UNWDF2020_LookUp!$B:$P,$D23,FALSE))","v":"TA1.01"},{"$f":"IF(VLOOKUP($B23&\"_\"&$C23&\"_\"&I$5,UNWDF2020_LookUp!$B:$P,$D23,FALSE)=0,\"\",VLOOKUP($B23&\"_\"&$C23&\"_\"&I$5,UNWDF2020_LookUp!$B:$P,$D23,FALSE))","v":"TA2.04"},{"$f":"IF(VLOOKUP($B23&\"_\"&$C23&\"_\"&J$5,UNWDF2020_LookUp!$B:$P,$D23,FALSE)=0,\"\",VLOOKUP($B23&\"_\"&$C23&\"_\"&J$5,UNWDF2020_LookUp!$B:$P,$D23,FALSE))","v":"TA5.03"},null,null,{"$f":"IF(VLOOKUP($B23&\"_\"&$C23&\"_\"&M$5,UNWDF2020_LookUp!$B:$P,$D23,FALSE)=0,\"\",VLOOKUP($B23&\"_\"&$C23&\"_\"&M$5,UNWDF2020_LookUp!$B:$P,$D23,FALSE))","v":"NA"},{"$f":"IF(VLOOKUP($B23&\"_\"&$C23&\"_\"&N$5,UNWDF2020_LookUp!$B:$P,$D23,FALSE)=0,\"\",VLOOKUP($B23&\"_\"&$C23&\"_\"&N$5,UNWDF2020_LookUp!$B:$P,$D23,FALSE))","v":"NA"},{"$f":"IF(VLOOKUP($B23&\"_\"&$C23&\"_\"&O$5,UNWDF2020_LookUp!$B:$P,$D23,FALSE)=0,\"\",VLOOKUP($B23&\"_\"&$C23&\"_\"&O$5,UNWDF2020_LookUp!$B:$P,$D23,FALSE))","v":"NA"},{"$f":"IF(VLOOKUP($B23&\"_\"&$C23&\"_\"&P$5,UNWDF2020_LookUp!$B:$P,$D23,FALSE)=0,\"\",VLOOKUP($B23&\"_\"&$C23&\"_\"&P$5,UNWDF2020_LookUp!$B:$P,$D23,FALSE))","v":"NA"},{"$f":"IF(VLOOKUP($B23&\"_\"&$C23&\"_\"&Q$5,UNWDF2020_LookUp!$B:$P,$D23,FALSE)=0,\"\",VLOOKUP($B23&\"_\"&$C23&\"_\"&Q$5,UNWDF2020_LookUp!$B:$P,$D23,FALSE))","v":"NA"}]
["Day1Time_Slot4","Day1","Time_Slot4",12,null,null,"Thematic Area",{"$f":"IF(VLOOKUP($B24&\"_\"&$C24&\"_\"&H$5,UNWDF2020_LookUp!$B:$P,$D24,FALSE)=0,\"\",VLOOKUP($B24&\"_\"&$C24&\"_\"&H$5,UNWDF2020_LookUp!$B:$P,$D24,FALSE))","v":1},{"$f":"IF(VLOOKUP($B24&\"_\"&$C24&\"_\"&I$5,UNWDF2020_LookUp!$B:$P,$D24,FALSE)=0,\"\",VLOOKUP($B24&\"_\"&$C24&\"_\"&I$5,UNWDF2020_LookUp!$B:$P,$D24,FALSE))","v":2},{"$f":"IF(VLOOKUP($B24&\"_\"&$C24&\"_\"&J$5,UNWDF2020_LookUp!$B:$P,$D24,FALSE)=0,\"\",VLOOKUP($B24&\"_\"&$C24&\"_\"&J$5,UNWDF2020_LookUp!$B:$P,$D24,FALSE))","v":5},null,null,{"$f":"IF(VLOOKUP($B24&\"_\"&$C24&\"_\"&M$5,UNWDF2020_LookUp!$B:$P,$D24,FALSE)=0,\"\",VLOOKUP($B24&\"_\"&$C24&\"_\"&M$5,UNWDF2020_LookUp!$B:$P,$D24,FALSE))","v":"NA"},{"$f":"IF(VLOOKUP($B24&\"_\"&$C24&\"_\"&N$5,UNWDF2020_LookUp!$B:$P,$D24,FALSE)=0,\"\",VLOOKUP($B24&\"_\"&$C24&\"_\"&N$5,UNWDF2020_LookUp!$B:$P,$D24,FALSE))","v":"NA"},{"$f":"IF(VLOOKUP($B24&\"_\"&$C24&\"_\"&O$5,UNWDF2020_LookUp!$B:$P,$D24,FALSE)=0,\"\",VLOOKUP($B24&\"_\"&$C24&\"_\"&O$5,UNWDF2020_LookUp!$B:$P,$D24,FALSE))","v":"NA"},{"$f":"IF(VLOOKUP($B24&\"_\"&$C24&\"_\"&P$5,UNWDF2020_LookUp!$B:$P,$D24,FALSE)=0,\"\",VLOOKUP($B24&\"_\"&$C24&\"_\"&P$5,UNWDF2020_LookUp!$B:$P,$D24,FALSE))","v":"NA"},{"$f":"IF(VLOOKUP($B24&\"_\"&$C24&\"_\"&Q$5,UNWDF2020_LookUp!$B:$P,$D24,FALSE)=0,\"\",VLOOKUP($B24&\"_\"&$C24&\"_\"&Q$5,UNWDF2020_LookUp!$B:$P,$D24,FALSE))","v":"NA"}]
["Day1Time_Slot4","Day1","Time_Slot4",15,null,null,"Session Title",{"$f":"IF(VLOOKUP($B25&\"_\"&$C25&\"_\"&H$5,UNWDF2020_LookUp!$B:$P,$D25,FALSE)=0,\"\",VLOOKUP($B25&\"_\"&$C25&\"_\"&H$5,UNWDF2020_LookUp!$B:$P,$D25,FALSE))","v":"Uncovering Opportunity in Unusual Places: How countries are helping each other leverage administrative data for the SDGs"},{"$f":"IF(VLOOKUP($B25&\"_\"&$C25&\"_\"&I$5,UNWDF2020_LookUp!$B:$P,$D25,FALSE)=0,\"\",VLOOKUP($B25&\"_\"&$C25&\"_\"&I$5,UNWDF2020_LookUp!$B:$P,$D25,FALSE))","v":"Private Sector Innovation for the SDGs: Integrating non-commercial data resources to support pandemic response and sustainable development"},{"$f":"IF(VLOOKUP($B25&\"_\"&$C25&\"_\"&J$5,UNWDF2020_LookUp!$B:$P,$D25,FALSE)=0,\"\",VLOOKUP($B25&\"_\"&$C25&\"_\"&J$5,UNWDF2020_LookUp!$B:$P,$D25,FALSE))","v":"Learning from geo open data platforms that worked in the midst of a pandemic"},null,null,{"$f":"IF(VLOOKUP($B25&\"_\"&$C25&\"_\"&M$5,UNWDF2020_LookUp!$B:$P,$D25,FALSE)=0,\"\",VLOOKUP($B25&\"_\"&$C25&\"_\"&M$5,UNWDF2020_LookUp!$B:$P,$D25,FALSE))","v":"TBC"},{"$f":"IF(VLOOKUP($B25&\"_\"&$C25&\"_\"&N$5,UNWDF2020_LookUp!$B:$P,$D25,FALSE)=0,\"\",VLOOKUP($B25&\"_\"&$C25&\"_\"&N$5,UNWDF2020_LookUp!$B:$P,$D25,FALSE))","v":"TBC"},{"$f":"IF(VLOOKUP($B25&\"_\"&$C25&\"_\"&O$5,UNWDF2020_LookUp!$B:$P,$D25,FALSE)=0,\"\",VLOOKUP($B25&\"_\"&$C25&\"_\"&O$5,UNWDF2020_LookUp!$B:$P,$D25,FALSE))","v":"TBC"},{"$f":"IF(VLOOKUP($B25&\"_\"&$C25&\"_\"&P$5,UNWDF2020_LookUp!$B:$P,$D25,FALSE)=0,\"\",VLOOKUP($B25&\"_\"&$C25&\"_\"&P$5,UNWDF2020_LookUp!$B:$P,$D25,FALSE))","v":"TBC"},{"$f":"IF(VLOOKUP($B25&\"_\"&$C25&\"_\"&Q$5,UNWDF2020_LookUp!$B:$P,$D25,FALSE)=0,\"\",VLOOKUP($B25&\"_\"&$C25&\"_\"&Q$5,UNWDF2020_LookUp!$B:$P,$D25,FALSE))","v":"NA"}]
[]
[null,null,null,null,null,null," TA 1. New approaches to capacity development for better data: supporting broad data ecosystems in countries",null,null," TA 4. Understanding the world through data: making data and statistics relevant and usable to all users; increasing data and statistical literacy and data communication; strengthening the use of data in journalism"]
[]
[null,null,null,null,null,null," TA 2. Innovations and synergies across data ecosystems: bringing data sources together and creating an enabling environment for the integration and use of non-traditional data sources",null,null," TA 5. Building trust in data and statistics: Applying data principles and governance to new and existing data sources and  implementing open data principles and practices"]
[]
[null,null,null,null,null,null," TA 3. Leaving no one behind: Generating and leveraging data and statistics to ensure visibility and voice for everyone",null,null," TA 6. How far have we come? A look at the implementation of the Cape Town Global Action Plan; Addressing emerging challenges of fully harnessing the power of data to improve people's lives"]
[null,null,null,null,null,"* The programme will be subject to further adjustment"]
["Day2",null,null,null,null,{"$f":"IF(ISERROR(DATE($E$3,$E$2,$E$1+1)+TIME(MID(E37,1,2),MID(E37,4,2),0)+($C$2-$C$3)),DATE($E$3,$E$2,$E$1+1),DATE($E$3,$E$2,$E$1+1)+TIME(MID(E37,1,2),MID(E37,4,2),0)+($C$2-$C$3))","v":"2020-10-20T07:00:00"}]
[null,null,"LookUp",null,null,null,"LookUp","Parallel 01","Parallel 02","Parallel 03","Parallel 04","Parallel 05","Parallel 06","Parallel 07","Parallel 08","Parallel 09","Parallel 10"]
[null,null,null,null,null,"Time (if macro is enabled will show your local system time, otherwise \"Coordinated Universal Time (UTC)\")","Name","Session 1","Session 2","Session 3","Session 4","Session 5","Session 6","Session 7","Session 8","Session 9","Session 10"]
["DayTime_LookUp","Day_LookUp","Time_LookUp","Col_LookUp","Time (UTC)",null,"Capacity"]
[{"$f":"B37&C37","v":"Day2Time_Slot1"},"Day2","Time_Slot1",14,"11:00 - 12:15 PM (UTC)",{"$f":"IF(ISERROR(TEXT((DATE($E$3,$E$2,$E$1)+TIME(MID(E37,1,2),MID(E37,4,2),0))+($C$2-$C$3),\"H:MM\")&\" - \"&TEXT(DATE($E$3,$E$2,$E$1)+TIME(MID(E37,9,2),MID(E37,12,2),0)+($C$2-$C$3),\"H:MM\")),E37,TEXT((DATE($E$3,$E$2,$E$1)+TIME(MID(E37,1,2),MID(E37,4,2),0))+($C$2-$C$3),\"HH:MM\")&\" - \"&TEXT(DATE($E$3,$E$2,$E$1)+TIME(MID(E37,9,2),MID(E37,12,2),0)+($C$2-$C$3),\"HH:MM\")&\" \"&TEXT(DATE($E$3,$E$2,$E$1)+TIME(MID(E37,9,2),MID(E37,12,2),0)+($C$2-$C$3),\"AM/PM\"))","v":"07:00 - 08:15 AM"},"Session_ID",{"$f":"IF(VLOOKUP($B37&\"_\"&$C37&\"_\"&H$5,UNWDF2020_LookUp!$B:$P,$D37,FALSE)=0,\"\",VLOOKUP($B37&\"_\"&$C37&\"_\"&H$5,UNWDF2020_LookUp!$B:$P,$D37,FALSE))","v":"TA1.02"},{"$f":"IF(VLOOKUP($B37&\"_\"&$C37&\"_\"&I$5,UNWDF2020_LookUp!$B:$P,$D37,FALSE)=0,\"\",VLOOKUP($B37&\"_\"&$C37&\"_\"&I$5,UNWDF2020_LookUp!$B:$P,$D37,FALSE))","v":"TA5.04"},{"$f":"IF(VLOOKUP($B37&\"_\"&$C37&\"_\"&J$5,UNWDF2020_LookUp!$B:$P,$D37,FALSE)=0,\"\",VLOOKUP($B37&\"_\"&$C37&\"_\"&J$5,UNWDF2020_LookUp!$B:$P,$D37,FALSE))","v":"TA3.07"},{"$f":"IF(VLOOKUP($B37&\"_\"&$C37&\"_\"&K$5,UNWDF2020_LookUp!$B:$P,$D37,FALSE)=0,\"\",VLOOKUP($B37&\"_\"&$C37&\"_\"&K$5,UNWDF2020_LookUp!$B:$P,$D37,FALSE))","v":"TA2-5.01"},null,{"$f":"IF(VLOOKUP($B37&\"_\"&$C37&\"_\"&M$5,UNWDF2020_LookUp!$B:$P,$D37,FALSE)=0,\"\",VLOOKUP($B37&\"_\"&$C37&\"_\"&M$5,UNWDF2020_LookUp!$B:$P,$D37,FALSE))","v":"NA"},{"$f":"IF(VLOOKUP($B37&\"_\"&$C37&\"_\"&N$5,UNWDF2020_LookUp!$B:$P,$D37,FALSE)=0,\"\",VLOOKUP($B37&\"_\"&$C37&\"_\"&N$5,UNWDF2020_LookUp!$B:$P,$D37,FALSE))","v":"NA"},{"$f":"IF(VLOOKUP($B37&\"_\"&$C37&\"_\"&O$5,UNWDF2020_LookUp!$B:$P,$D37,FALSE)=0,\"\",VLOOKUP($B37&\"_\"&$C37&\"_\"&O$5,UNWDF2020_LookUp!$B:$P,$D37,FALSE))","v":"NA"},{"$f":"IF(VLOOKUP($B37&\"_\"&$C37&\"_\"&P$5,UNWDF2020_LookUp!$B:$P,$D37,FALSE)=0,\"\",VLOOKUP($B37&\"_\"&$C37&\"_\"&P$5,UNWDF2020_LookUp!$B:$P,$D37,FALSE))","v":"NA"},{"$f":"IF(VLOOKUP($B37&\"_\"&$C37&\"_\"&Q$5,UNWDF2020_LookUp!$B:$P,$D37,FALSE)=0,\"\",VLOOKUP($B37&\"_\"&$C37&\"_\"&Q$5,UNWDF2020_LookUp!$B:$P,$D37,FALSE))","v":"NA"}]
["Day2Time_Slot1","Day2","Time_Slot1",12,null,null,"Thematic Area",{"$f":"IF(VLOOKUP($B38&\"_\"&$C38&\"_\"&H$5,UNWDF2020_LookUp!$B:$P,$D38,FALSE)=0,\"\",VLOOKUP($B38&\"_\"&$C38&\"_\"&H$5,UNWDF2020_LookUp!$B:$P,$D38,FALSE))","v":1},{"$f":"IF(VLOOKUP($B38&\"_\"&$C38&\"_\"&I$5,UNWDF2020_LookUp!$B:$P,$D38,FALSE)=0,\"\",VLOOKUP($B38&\"_\"&$C38&\"_\"&I$5,UNWDF2020_LookUp!$B:$P,$D38,FALSE))","v":5},{"$f":"IF(VLOOKUP($B38&\"_\"&$C38&\"_\"&J$5,UNWDF2020_LookUp!$B:$P,$D38,FALSE)=0,\"\",VLOOKUP($B38&\"_\"&$C38&\"_\"&J$5,UNWDF2020_LookUp!$B:$P,$D38,FALSE))","v":3},{"$f":"IF(VLOOKUP($B38&\"_\"&$C38&\"_\"&K$5,UNWDF2020_LookUp!$B:$P,$D38,FALSE)=0,\"\",VLOOKUP($B38&\"_\"&$C38&\"_\"&K$5,UNWDF2020_LookUp!$B:$P,$D38,FALSE))","v":"2-5"},null,{"$f":"IF(VLOOKUP($B38&\"_\"&$C38&\"_\"&M$5,UNWDF2020_LookUp!$B:$P,$D38,FALSE)=0,\"\",VLOOKUP($B38&\"_\"&$C38&\"_\"&M$5,UNWDF2020_LookUp!$B:$P,$D38,FALSE))","v":"NA"},{"$f":"IF(VLOOKUP($B38&\"_\"&$C38&\"_\"&N$5,UNWDF2020_LookUp!$B:$P,$D38,FALSE)=0,\"\",VLOOKUP($B38&\"_\"&$C38&\"_\"&N$5,UNWDF2020_LookUp!$B:$P,$D38,FALSE))","v":"NA"},{"$f":"IF(VLOOKUP($B38&\"_\"&$C38&\"_\"&O$5,UNWDF2020_LookUp!$B:$P,$D38,FALSE)=0,\"\",VLOOKUP($B38&\"_\"&$C38&\"_\"&O$5,UNWDF2020_LookUp!$B:$P,$D38,FALSE))","v":"NA"},{"$f":"IF(VLOOKUP($B38&\"_\"&$C38&\"_\"&P$5,UNWDF2020_LookUp!$B:$P,$D38,FALSE)=0,\"\",VLOOKUP($B38&\"_\"&$C38&\"_\"&P$5,UNWDF2020_LookUp!$B:$P,$D38,FALSE))","v":"NA"},{"$f":"IF(VLOOKUP($B38&\"_\"&$C38&\"_\"&Q$5,UNWDF2020_LookUp!$B:$P,$D38,FALSE)=0,\"\",VLOOKUP($B38&\"_\"&$C38&\"_\"&Q$5,UNWDF2020_LookUp!$B:$P,$D38,FALSE))","v":"NA"}]
["Day2Time_Slot1","Day2","Time_Slot1",15,null,null,"Session Title",{"$f":"IF(VLOOKUP($B39&\"_\"&$C39&\"_\"&H$5,UNWDF2020_LookUp!$B:$P,$D39,FALSE)=0,\"\",VLOOKUP($B39&\"_\"&$C39&\"_\"&H$5,UNWDF2020_LookUp!$B:$P,$D39,FALSE))","v":"Where to start first? – Identifying the leverage points of effective capacity development"},{"$f":"IF(VLOOKUP($B39&\"_\"&$C39&\"_\"&I$5,UNWDF2020_LookUp!$B:$P,$D39,FALSE)=0,\"\",VLOOKUP($B39&\"_\"&$C39&\"_\"&I$5,UNWDF2020_LookUp!$B:$P,$D39,FALSE))","v":"Safe and Trustworthy Al-Based Data Algorithms - Emerging Best Practices in the Global South and the Global North"},{"$f":"IF(VLOOKUP($B39&\"_\"&$C39&\"_\"&J$5,UNWDF2020_LookUp!$B:$P,$D39,FALSE)=0,\"\",VLOOKUP($B39&\"_\"&$C39&\"_\"&J$5,UNWDF2020_LookUp!$B:$P,$D39,FALSE))","v":"Generating Local Level Statistics for More Informed Policymaking Using the Community-Based Monitoring System (CBMS)"},{"$f":"IF(VLOOKUP($B39&\"_\"&$C39&\"_\"&K$5,UNWDF2020_LookUp!$B:$P,$D39,FALSE)=0,\"\",VLOOKUP($B39&\"_\"&$C39&\"_\"&K$5,UNWDF2020_LookUp!$B:$P,$D39,FALSE))","v":"3 Ted-style talks [see list**]"},null,{"$f":"IF(VLOOKUP($B39&\"_\"&$C39&\"_\"&M$5,UNWDF2020_LookUp!$B:$P,$D39,FALSE)=0,\"\",VLOOKUP($B39&\"_\"&$C39&\"_\"&M$5,UNWDF2020_LookUp!$B:$P,$D39,FALSE))","v":"TBC"},{"$f":"IF(VLOOKUP($B39&\"_\"&$C39&\"_\"&N$5,UNWDF2020_LookUp!$B:$P,$D39,FALSE)=0,\"\",VLOOKUP($B39&\"_\"&$C39&\"_\"&N$5,UNWDF2020_LookUp!$B:$P,$D39,FALSE))","v":"TBC"},{"$f":"IF(VLOOKUP($B39&\"_\"&$C39&\"_\"&O$5,UNWDF2020_LookUp!$B:$P,$D39,FALSE)=0,\"\",VLOOKUP($B39&\"_\"&$C39&\"_\"&O$5,UNWDF2020_LookUp!$B:$P,$D39,FALSE))","v":"TBC"},{"$f":"IF(VLOOKUP($B39&\"_\"&$C39&\"_\"&P$5,UNWDF2020_LookUp!$B:$P,$D39,FALSE)=0,\"\",VLOOKUP($B39&\"_\"&$C39&\"_\"&P$5,UNWDF2020_LookUp!$B:$P,$D39,FALSE))","v":"TBC"},{"$f":"IF(VLOOKUP($B39&\"_\"&$C39&\"_\"&Q$5,UNWDF2020_LookUp!$B:$P,$D39,FALSE)=0,\"\",VLOOKUP($B39&\"_\"&$C39&\"_\"&Q$5,UNWDF2020_LookUp!$B:$P,$D39,FALSE))","v":"NA"}]
[null,"Day2",null,null,"12:15 - 12:30 PM (UTC)",{"$f":"IF(ISERROR(TEXT((DATE($E$3,$E$2,$E$1)+TIME(MID(E40,1,2),MID(E40,4,2),0))+($C$2-$C$3),\"H:MM\")&\" - \"&TEXT(DATE($E$3,$E$2,$E$1)+TIME(MID(E40,9,2),MID(E40,12,2),0)+($C$2-$C$3),\"H:MM\")),E40,TEXT((DATE($E$3,$E$2,$E$1)+TIME(MID(E40,1,2),MID(E40,4,2),0))+($C$2-$C$3),\"HH:MM\")&\" - \"&TEXT(DATE($E$3,$E$2,$E$1)+TIME(MID(E40,9,2),MID(E40,12,2),0)+($C$2-$C$3),\"HH:MM\")&\" \"&TEXT(DATE($E$3,$E$2,$E$1)+TIME(MID(E40,9,2),MID(E40,12,2),0)+($C$2-$C$3),\"AM/PM\"))","v":"08:15 - 08:30 AM"},"Break"]
[{"$f":"B41&C41","v":"Day2Time_Slot2"},"Day2","Time_Slot2",14,"12:30 - 13:45 PM (UTC)","08:30 - 09:45 AM","Session_ID",{"$f":"IF(VLOOKUP($B41&\"_\"&$C41&\"_\"&H$5,UNWDF2020_LookUp!$B:$P,$D41,FALSE)=0,\"\",VLOOKUP($B41&\"_\"&$C41&\"_\"&H$5,UNWDF2020_LookUp!$B:$P,$D41,FALSE))","v":"TA5.01"}]
["Day2Time_Slot2","Day2","Time_Slot2",12,null,null,"Thematic Area",{"$f":"IF(VLOOKUP($B42&\"_\"&$C42&\"_\"&H$5,UNWDF2020_LookUp!$B:$P,$D42,FALSE)=0,\"\",VLOOKUP($B42&\"_\"&$C42&\"_\"&H$5,UNWDF2020_LookUp!$B:$P,$D42,FALSE))","v":5}]
["Day2Time_Slot2","Day2","Time_Slot2",15,null,null,"Session Title",{"$f":"IF(VLOOKUP($B43&\"_\"&$C43&\"_\"&H$5,UNWDF2020_LookUp!$B:$P,$D43,FALSE)=0,\"\",VLOOKUP($B43&\"_\"&$C43&\"_\"&H$5,UNWDF2020_LookUp!$B:$P,$D43,FALSE))","v":"Trust, privacy and governance during pandemics and disasters"}]
["Day2Time_Slot2B","Day2","Time_Slot2B",14,"13:45 - 14:00 PM (UTC)",{"$f":"IF(ISERROR(TEXT((DATE($E$3,$E$2,$E$1)+TIME(MID(E44,1,2),MID(E44,4,2),0))+($C$2-$C$3),\"H:MM\")&\" - \"&TEXT(DATE($E$3,$E$2,$E$1)+TIME(MID(E44,9,2),MID(E44,12,2),0)+($C$2-$C$3),\"H:MM\")),E44,TEXT((DATE($E$3,$E$2,$E$1)+TIME(MID(E44,1,2),MID(E44,4,2),0))+($C$2-$C$3),\"HH:MM\")&\" - \"&TEXT(DATE($E$3,$E$2,$E$1)+TIME(MID(E44,9,2),MID(E44,12,2),0)+($C$2-$C$3),\"HH:MM\")&\" \"&TEXT(DATE($E$3,$E$2,$E$1)+TIME(MID(E44,9,2),MID(E44,12,2),0)+($C$2-$C$3),\"AM/PM\"))","v":"09:45 - 10:00 AM"},"Break"]
["Day2Time_Slot3","Day2","Time_Slot3",14,"14:00 - 15:15 PM (UTC)","10:00 - 11:15 AM","Session_ID",{"$f":"IF(VLOOKUP($B45&\"_\"&$C45&\"_\"&H$5,UNWDF2020_LookUp!$B:$P,$D45,FALSE)=0,\"\",VLOOKUP($B45&\"_\"&$C45&\"_\"&H$5,UNWDF2020_LookUp!$B:$P,$D45,FALSE))","v":"TA4.03"},{"$f":"IF(VLOOKUP($B45&\"_\"&$C45&\"_\"&I$5,UNWDF2020_LookUp!$B:$P,$D45,FALSE)=0,\"\",VLOOKUP($B45&\"_\"&$C45&\"_\"&I$5,UNWDF2020_LookUp!$B:$P,$D45,FALSE))","v":"TA5.05"},{"$f":"IF(VLOOKUP($B45&\"_\"&$C45&\"_\"&J$5,UNWDF2020_LookUp!$B:$P,$D45,FALSE)=0,\"\",VLOOKUP($B45&\"_\"&$C45&\"_\"&J$5,UNWDF2020_LookUp!$B:$P,$D45,FALSE))","v":"TA4.04"},{"$f":"IF(VLOOKUP($B45&\"_\"&$C45&\"_\"&K$5,UNWDF2020_LookUp!$B:$P,$D45,FALSE)=0,\"\",VLOOKUP($B45&\"_\"&$C45&\"_\"&K$5,UNWDF2020_LookUp!$B:$P,$D45,FALSE))","v":"TA3.03"},null,{"$f":"IF(VLOOKUP($B45&\"_\"&$C45&\"_\"&M$5,UNWDF2020_LookUp!$B:$P,$D45,FALSE)=0,\"\",VLOOKUP($B45&\"_\"&$C45&\"_\"&M$5,UNWDF2020_LookUp!$B:$P,$D45,FALSE))","v":"NA"},{"$f":"IF(VLOOKUP($B45&\"_\"&$C45&\"_\"&N$5,UNWDF2020_LookUp!$B:$P,$D45,FALSE)=0,\"\",VLOOKUP($B45&\"_\"&$C45&\"_\"&N$5,UNWDF2020_LookUp!$B:$P,$D45,FALSE))","v":"NA"},{"$f":"IF(VLOOKUP($B45&\"_\"&$C45&\"_\"&O$5,UNWDF2020_LookUp!$B:$P,$D45,FALSE)=0,\"\",VLOOKUP($B45&\"_\"&$C45&\"_\"&O$5,UNWDF2020_LookUp!$B:$P,$D45,FALSE))","v":"NA"},{"$f":"IF(VLOOKUP($B45&\"_\"&$C45&\"_\"&P$5,UNWDF2020_LookUp!$B:$P,$D45,FALSE)=0,\"\",VLOOKUP($B45&\"_\"&$C45&\"_\"&P$5,UNWDF2020_LookUp!$B:$P,$D45,FALSE))","v":"NA"},{"$f":"IF(VLOOKUP($B45&\"_\"&$C45&\"_\"&Q$5,UNWDF2020_LookUp!$B:$P,$D45,FALSE)=0,\"\",VLOOKUP($B45&\"_\"&$C45&\"_\"&Q$5,UNWDF2020_LookUp!$B:$P,$D45,FALSE))","v":"NA"}]
["Day2Time_Slot3","Day2","Time_Slot3",12,null,null,"Thematic Area",{"$f":"IF(VLOOKUP($B46&\"_\"&$C46&\"_\"&H$5,UNWDF2020_LookUp!$B:$P,$D46,FALSE)=0,\"\",VLOOKUP($B46&\"_\"&$C46&\"_\"&H$5,UNWDF2020_LookUp!$B:$P,$D46,FALSE))","v":4},{"$f":"IF(VLOOKUP($B46&\"_\"&$C46&\"_\"&I$5,UNWDF2020_LookUp!$B:$P,$D46,FALSE)=0,\"\",VLOOKUP($B46&\"_\"&$C46&\"_\"&I$5,UNWDF2020_LookUp!$B:$P,$D46,FALSE))","v":5},{"$f":"IF(VLOOKUP($B46&\"_\"&$C46&\"_\"&J$5,UNWDF2020_LookUp!$B:$P,$D46,FALSE)=0,\"\",VLOOKUP($B46&\"_\"&$C46&\"_\"&J$5,UNWDF2020_LookUp!$B:$P,$D46,FALSE))","v":4},{"$f":"IF(VLOOKUP($B46&\"_\"&$C46&\"_\"&K$5,UNWDF2020_LookUp!$B:$P,$D46,FALSE)=0,\"\",VLOOKUP($B46&\"_\"&$C46&\"_\"&K$5,UNWDF2020_LookUp!$B:$P,$D46,FALSE))","v":3},null,{"$f":"IF(VLOOKUP($B46&\"_\"&$C46&\"_\"&M$5,UNWDF2020_LookUp!$B:$P,$D46,FALSE)=0,\"\",VLOOKUP($B46&\"_\"&$C46&\"_\"&M$5,UNWDF2020_LookUp!$B:$P,$D46,FALSE))","v":"NA"},{"$f":"IF(VLOOKUP($B46&\"_\"&$C46&\"_\"&N$5,UNWDF2020_LookUp!$B:$P,$D46,FALSE)=0,\"\",VLOOKUP($B46&\"_\"&$C46&\"_\"&N$5,UNWDF2020_LookUp!$B:$P,$D46,FALSE))","v":"NA"},{"$f":"IF(VLOOKUP($B46&\"_\"&$C46&\"_\"&O$5,UNWDF2020_LookUp!$B:$P,$D46,FALSE)=0,\"\",VLOOKUP($B46&\"_\"&$C46&\"_\"&O$5,UNWDF2020_LookUp!$B:$P,$D46,FALSE))","v":"NA"},{"$f":"IF(VLOOKUP($B46&\"_\"&$C46&\"_\"&P$5,UNWDF2020_LookUp!$B:$P,$D46,FALSE)=0,\"\",VLOOKUP($B46&\"_\"&$C46&\"_\"&P$5,UNWDF2020_LookUp!$B:$P,$D46,FALSE))","v":"NA"},{"$f":"IF(VLOOKUP($B46&\"_\"&$C46&\"_\"&Q$5,UNWDF2020_LookUp!$B:$P,$D46,FALSE)=0,\"\",VLOOKUP($B46&\"_\"&$C46&\"_\"&Q$5,UNWDF2020_LookUp!$B:$P,$D46,FALSE))","v":"NA"}]
["Day2Time_Slot3","Day2","Time_Slot3",15,null,null,"Session Title",{"$f":"IF(VLOOKUP($B47&\"_\"&$C47&\"_\"&H$5,UNWDF2020_LookUp!$B:$P,$D47,FALSE)=0,\"\",VLOOKUP($B47&\"_\"&$C47&\"_\"&H$5,UNWDF2020_LookUp!$B:$P,$D47,FALSE))","v":"New approaches of NSOs in reaching out to a broader audience"},{"$f":"IF(VLOOKUP($B47&\"_\"&$C47&\"_\"&I$5,UNWDF2020_LookUp!$B:$P,$D47,FALSE)=0,\"\",VLOOKUP($B47&\"_\"&$C47&\"_\"&I$5,UNWDF2020_LookUp!$B:$P,$D47,FALSE))","v":"Data Responsibility in the Covid-19 Response: Lessons Learned and the Road Ahead"},{"$f":"IF(VLOOKUP($B47&\"_\"&$C47&\"_\"&J$5,UNWDF2020_LookUp!$B:$P,$D47,FALSE)=0,\"\",VLOOKUP($B47&\"_\"&$C47&\"_\"&J$5,UNWDF2020_LookUp!$B:$P,$D47,FALSE))","v":"Telling Stories Using Planetary and Sustainable Development Data: A workshop for data creators and journalists to streamline the pipeline from data production to public awareness"},{"$f":"IF(VLOOKUP($B47&\"_\"&$C47&\"_\"&K$5,UNWDF2020_LookUp!$B:$P,$D47,FALSE)=0,\"\",VLOOKUP($B47&\"_\"&$C47&\"_\"&K$5,UNWDF2020_LookUp!$B:$P,$D47,FALSE))","v":"Mind the Gap: Assessing progress towards gender equality with innovative approaches"},null,{"$f":"IF(VLOOKUP($B47&\"_\"&$C47&\"_\"&M$5,UNWDF2020_LookUp!$B:$P,$D47,FALSE)=0,\"\",VLOOKUP($B47&\"_\"&$C47&\"_\"&M$5,UNWDF2020_LookUp!$B:$P,$D47,FALSE))","v":"TBC"},{"$f":"IF(VLOOKUP($B47&\"_\"&$C47&\"_\"&N$5,UNWDF2020_LookUp!$B:$P,$D47,FALSE)=0,\"\",VLOOKUP($B47&\"_\"&$C47&\"_\"&N$5,UNWDF2020_LookUp!$B:$P,$D47,FALSE))","v":"TBC"},{"$f":"IF(VLOOKUP($B47&\"_\"&$C47&\"_\"&O$5,UNWDF2020_LookUp!$B:$P,$D47,FALSE)=0,\"\",VLOOKUP($B47&\"_\"&$C47&\"_\"&O$5,UNWDF2020_LookUp!$B:$P,$D47,FALSE))","v":"TBC"},{"$f":"IF(VLOOKUP($B47&\"_\"&$C47&\"_\"&P$5,UNWDF2020_LookUp!$B:$P,$D47,FALSE)=0,\"\",VLOOKUP($B47&\"_\"&$C47&\"_\"&P$5,UNWDF2020_LookUp!$B:$P,$D47,FALSE))","v":"TBC"},{"$f":"IF(VLOOKUP($B47&\"_\"&$C47&\"_\"&Q$5,UNWDF2020_LookUp!$B:$P,$D47,FALSE)=0,\"\",VLOOKUP($B47&\"_\"&$C47&\"_\"&Q$5,UNWDF2020_LookUp!$B:$P,$D47,FALSE))","v":"NA"}]
[{"$f":"B48&C48","v":"Day2Time_Slot2B"},"Day2","Time_Slot2B",14,"15:15 - 15:30 PM (UTC)",{"$f":"IF(ISERROR(TEXT((DATE($E$3,$E$2,$E$1)+TIME(MID(E48,1,2),MID(E48,4,2),0))+($C$2-$C$3),\"H:MM\")&\" - \"&TEXT(DATE($E$3,$E$2,$E$1)+TIME(MID(E48,9,2),MID(E48,12,2),0)+($C$2-$C$3),\"H:MM\")),E48,TEXT((DATE($E$3,$E$2,$E$1)+TIME(MID(E48,1,2),MID(E48,4,2),0))+($C$2-$C$3),\"HH:MM\")&\" - \"&TEXT(DATE($E$3,$E$2,$E$1)+TIME(MID(E48,9,2),MID(E48,12,2),0)+($C$2-$C$3),\"HH:MM\")&\" \"&TEXT(DATE($E$3,$E$2,$E$1)+TIME(MID(E48,9,2),MID(E48,12,2),0)+($C$2-$C$3),\"AM/PM\"))","v":"11:15 - 11:30 AM"},"Break"]
["Day2Time_Slot4","Day2","Time_Slot4",14,"15:30 - 16:45 PM (UTC)","11:30 - 12:45 PM","Session_ID",{"$f":"IF(VLOOKUP($B49&\"_\"&$C49&\"_\"&H$5,UNWDF2020_LookUp!$B:$P,$D49,FALSE)=0,\"\",VLOOKUP($B49&\"_\"&$C49&\"_\"&H$5,UNWDF2020_LookUp!$B:$P,$D49,FALSE))","v":"TA2.05"},{"$f":"IF(VLOOKUP($B49&\"_\"&$C49&\"_\"&I$5,UNWDF2020_LookUp!$B:$P,$D49,FALSE)=0,\"\",VLOOKUP($B49&\"_\"&$C49&\"_\"&I$5,UNWDF2020_LookUp!$B:$P,$D49,FALSE))","v":"TA2.06"},{"$f":"IF(VLOOKUP($B49&\"_\"&$C49&\"_\"&J$5,UNWDF2020_LookUp!$B:$P,$D49,FALSE)=0,\"\",VLOOKUP($B49&\"_\"&$C49&\"_\"&J$5,UNWDF2020_LookUp!$B:$P,$D49,FALSE))","v":"TA5.06"},{"$f":"IF(VLOOKUP($B49&\"_\"&$C49&\"_\"&K$5,UNWDF2020_LookUp!$B:$P,$D49,FALSE)=0,\"\",VLOOKUP($B49&\"_\"&$C49&\"_\"&K$5,UNWDF2020_LookUp!$B:$P,$D49,FALSE))","v":"TA5.07"},{"$f":"IF(VLOOKUP($B49&\"_\"&$C49&\"_\"&L$5,UNWDF2020_LookUp!$B:$P,$D49,FALSE)=0,\"\",VLOOKUP($B49&\"_\"&$C49&\"_\"&L$5,UNWDF2020_LookUp!$B:$P,$D49,FALSE))","v":"TA2.03"},{"$f":"IF(VLOOKUP($B49&\"_\"&$C49&\"_\"&M$5,UNWDF2020_LookUp!$B:$P,$D49,FALSE)=0,\"\",VLOOKUP($B49&\"_\"&$C49&\"_\"&M$5,UNWDF2020_LookUp!$B:$P,$D49,FALSE))","v":"NA"},{"$f":"IF(VLOOKUP($B49&\"_\"&$C49&\"_\"&N$5,UNWDF2020_LookUp!$B:$P,$D49,FALSE)=0,\"\",VLOOKUP($B49&\"_\"&$C49&\"_\"&N$5,UNWDF2020_LookUp!$B:$P,$D49,FALSE))","v":"NA"},{"$f":"IF(VLOOKUP($B49&\"_\"&$C49&\"_\"&O$5,UNWDF2020_LookUp!$B:$P,$D49,FALSE)=0,\"\",VLOOKUP($B49&\"_\"&$C49&\"_\"&O$5,UNWDF2020_LookUp!$B:$P,$D49,FALSE))","v":"NA"},{"$f":"IF(VLOOKUP($B49&\"_\"&$C49&\"_\"&P$5,UNWDF2020_LookUp!$B:$P,$D49,FALSE)=0,\"\",VLOOKUP($B49&\"_\"&$C49&\"_\"&P$5,UNWDF2020_LookUp!$B:$P,$D49,FALSE))","v":"NA"},{"$f":"IF(VLOOKUP($B49&\"_\"&$C49&\"_\"&Q$5,UNWDF2020_LookUp!$B:$P,$D49,FALSE)=0,\"\",VLOOKUP($B49&\"_\"&$C49&\"_\"&Q$5,UNWDF2020_LookUp!$B:$P,$D49,FALSE))","v":"NA"}]
["Day2Time_Slot4","Day2","Time_Slot4",12,null,null,"Thematic Area",{"$f":"IF(VLOOKUP($B50&\"_\"&$C50&\"_\"&H$5,UNWDF2020_LookUp!$B:$P,$D50,FALSE)=0,\"\",VLOOKUP($B50&\"_\"&$C50&\"_\"&H$5,UNWDF2020_LookUp!$B:$P,$D50,FALSE))","v":2},{"$f":"IF(VLOOKUP($B50&\"_\"&$C50&\"_\"&I$5,UNWDF2020_LookUp!$B:$P,$D50,FALSE)=0,\"\",VLOOKUP($B50&\"_\"&$C50&\"_\"&I$5,UNWDF2020_LookUp!$B:$P,$D50,FALSE))","v":2},{"$f":"IF(VLOOKUP($B50&\"_\"&$C50&\"_\"&J$5,UNWDF2020_LookUp!$B:$P,$D50,FALSE)=0,\"\",VLOOKUP($B50&\"_\"&$C50&\"_\"&J$5,UNWDF2020_LookUp!$B:$P,$D50,FALSE))","v":5},{"$f":"IF(VLOOKUP($B50&\"_\"&$C50&\"_\"&K$5,UNWDF2020_LookUp!$B:$P,$D50,FALSE)=0,\"\",VLOOKUP($B50&\"_\"&$C50&\"_\"&K$5,UNWDF2020_LookUp!$B:$P,$D50,FALSE))","v":5},{"$f":"IF(VLOOKUP($B50&\"_\"&$C50&\"_\"&L$5,UNWDF2020_LookUp!$B:$P,$D50,FALSE)=0,\"\",VLOOKUP($B50&\"_\"&$C50&\"_\"&L$5,UNWDF2020_LookUp!$B:$P,$D50,FALSE))","v":2},{"$f":"IF(VLOOKUP($B50&\"_\"&$C50&\"_\"&M$5,UNWDF2020_LookUp!$B:$P,$D50,FALSE)=0,\"\",VLOOKUP($B50&\"_\"&$C50&\"_\"&M$5,UNWDF2020_LookUp!$B:$P,$D50,FALSE))","v":"NA"},{"$f":"IF(VLOOKUP($B50&\"_\"&$C50&\"_\"&N$5,UNWDF2020_LookUp!$B:$P,$D50,FALSE)=0,\"\",VLOOKUP($B50&\"_\"&$C50&\"_\"&N$5,UNWDF2020_LookUp!$B:$P,$D50,FALSE))","v":"NA"},{"$f":"IF(VLOOKUP($B50&\"_\"&$C50&\"_\"&O$5,UNWDF2020_LookUp!$B:$P,$D50,FALSE)=0,\"\",VLOOKUP($B50&\"_\"&$C50&\"_\"&O$5,UNWDF2020_LookUp!$B:$P,$D50,FALSE))","v":"NA"},{"$f":"IF(VLOOKUP($B50&\"_\"&$C50&\"_\"&P$5,UNWDF2020_LookUp!$B:$P,$D50,FALSE)=0,\"\",VLOOKUP($B50&\"_\"&$C50&\"_\"&P$5,UNWDF2020_LookUp!$B:$P,$D50,FALSE))","v":"NA"},{"$f":"IF(VLOOKUP($B50&\"_\"&$C50&\"_\"&Q$5,UNWDF2020_LookUp!$B:$P,$D50,FALSE)=0,\"\",VLOOKUP($B50&\"_\"&$C50&\"_\"&Q$5,UNWDF2020_LookUp!$B:$P,$D50,FALSE))","v":"NA"}]
["Day2Time_Slot4","Day2","Time_Slot4",15,null,null,"Session Title",{"$f":"IF(VLOOKUP($B51&\"_\"&$C51&\"_\"&H$5,UNWDF2020_LookUp!$B:$P,$D51,FALSE)=0,\"\",VLOOKUP($B51&\"_\"&$C51&\"_\"&H$5,UNWDF2020_LookUp!$B:$P,$D51,FALSE))","v":"Use of Geospatial Data to Support Covid-19 Response"},{"$f":"IF(VLOOKUP($B51&\"_\"&$C51&\"_\"&I$5,UNWDF2020_LookUp!$B:$P,$D51,FALSE)=0,\"\",VLOOKUP($B51&\"_\"&$C51&\"_\"&I$5,UNWDF2020_LookUp!$B:$P,$D51,FALSE))","v":"How big data, citizen science data, and survey data can be effective in monitoring progress and decision-making around SDG 6 (ensuring availability and sustainable management of water and sanitation for all)"},{"$f":"IF(VLOOKUP($B51&\"_\"&$C51&\"_\"&J$5,UNWDF2020_LookUp!$B:$P,$D51,FALSE)=0,\"\",VLOOKUP($B51&\"_\"&$C51&\"_\"&J$5,UNWDF2020_LookUp!$B:$P,$D51,FALSE))","v":"Capacity building for policymakers to use data and evidence for decision-making"},{"$f":"IF(VLOOKUP($B51&\"_\"&$C51&\"_\"&K$5,UNWDF2020_LookUp!$B:$P,$D51,FALSE)=0,\"\",VLOOKUP($B51&\"_\"&$C51&\"_\"&K$5,UNWDF2020_LookUp!$B:$P,$D51,FALSE))","v":"Data for Good: toward a sustainable ecosystem, beyond philanthropy"},{"$f":"IF(VLOOKUP($B51&\"_\"&$C51&\"_\"&L$5,UNWDF2020_LookUp!$B:$P,$D51,FALSE)=0,\"\",VLOOKUP($B51&\"_\"&$C51&\"_\"&L$5,UNWDF2020_LookUp!$B:$P,$D51,FALSE))","v":"Mapping the Change We Want: Geo-coded statistics to track SDG 16 indicators"},{"$f":"IF(VLOOKUP($B51&\"_\"&$C51&\"_\"&M$5,UNWDF2020_LookUp!$B:$P,$D51,FALSE)=0,\"\",VLOOKUP($B51&\"_\"&$C51&\"_\"&M$5,UNWDF2020_LookUp!$B:$P,$D51,FALSE))","v":"TBC"},{"$f":"IF(VLOOKUP($B51&\"_\"&$C51&\"_\"&N$5,UNWDF2020_LookUp!$B:$P,$D51,FALSE)=0,\"\",VLOOKUP($B51&\"_\"&$C51&\"_\"&N$5,UNWDF2020_LookUp!$B:$P,$D51,FALSE))","v":"TBC"},{"$f":"IF(VLOOKUP($B51&\"_\"&$C51&\"_\"&O$5,UNWDF2020_LookUp!$B:$P,$D51,FALSE)=0,\"\",VLOOKUP($B51&\"_\"&$C51&\"_\"&O$5,UNWDF2020_LookUp!$B:$P,$D51,FALSE))","v":"TBC"},{"$f":"IF(VLOOKUP($B51&\"_\"&$C51&\"_\"&P$5,UNWDF2020_LookUp!$B:$P,$D51,FALSE)=0,\"\",VLOOKUP($B51&\"_\"&$C51&\"_\"&P$5,UNWDF2020_LookUp!$B:$P,$D51,FALSE))","v":"TBC"},{"$f":"IF(VLOOKUP($B51&\"_\"&$C51&\"_\"&Q$5,UNWDF2020_LookUp!$B:$P,$D51,FALSE)=0,\"\",VLOOKUP($B51&\"_\"&$C51&\"_\"&Q$5,UNWDF2020_LookUp!$B:$P,$D51,FALSE))","v":"NA"}]
[]
[null,null,null,null,null,null," TA 1. New approaches to capacity development for better data: supporting broad data ecosystems in countries",null,null," TA 4. Understanding the world through data: making data and statistics relevant and usable to all users; increasing data and statistical literacy and data communication; strengthening the use of data in journalism"]
[]
[null,null,null,null,null,null," TA 2. Innovations and synergies across data ecosystems: bringing data sources together and creating an enabling environment for the integration and use of non-traditional data sources",null,null," TA 5. Building trust in data and statistics: Applying data principles and governance to new and existing data sources and  implementing open data principles and practices"]
[]
[null,null,null,null,null,null," TA 3. Leaving no one behind: Generating and leveraging data and statistics to ensure visibility and voice for everyone",null,null," TA 6. How far have we come? A look at the implementation of the Cape Town Global Action Plan; Addressing emerging challenges of fully harnessing the power of data to improve people's lives"]
[]
[null,null,null,null,null,"* The programme will be subject to further adjustment"]
[null,null,null,null,null,"** Titles as follows: (1) School Connectivity Map: facing the digital divide in Brazilian schools through real-time measurement of connectivity quality (2) The Impact of Data and its Ability to Affect Change (3) Increasing Open Data Literacy in the Time of COVID-19: An Online Approach to Engaging Students in Corporate Sustainability Research"]
["Day3",null,null,null,null,{"$f":"IF(ISERROR(DATE($E$3,$E$2,$E$1+2)+TIME(MID(E65,1,2),MID(E65,4,2),0)+($C$2-$C$3)),DATE($E$3,$E$2,$E$1+2),DATE($E$3,$E$2,$E$1+2)+TIME(MID(E65,1,2),MID(E65,4,2),0)+($C$2-$C$3))","v":"2020-10-21T07:00:00"}]
[null,null,"LookUp",null,null,null,"LookUp","Parallel 01","Parallel 02","Parallel 03","Parallel 04","Parallel 05","Parallel 06","Parallel 07","Parallel 08","Parallel 09","Parallel 10"]
[null,null,null,null,null,"Time (if macro is enabled will show your local system time, otherwise \"Coordinated Universal Time (UTC)\")","Name","Session 1","Session 2","Session 3","Session 4","Session 5","Session 6","Session 7","Session 8","Session 9","Session 10"]
["DayTime_LookUp","Day_LookUp","Time_LookUp","Col_LookUp","Time (UTC)",null,"Capacity"]
[{"$f":"B65&C65","v":"Day3Time_Slot1"},"Day3","Time_Slot1",14,"11:00 - 12:15 PM (UTC)",{"$f":"IF(ISERROR(TEXT((DATE($E$3,$E$2,$E$1)+TIME(MID(E65,1,2),MID(E65,4,2),0))+($C$2-$C$3),\"H:MM\")&\" - \"&TEXT(DATE($E$3,$E$2,$E$1)+TIME(MID(E65,9,2),MID(E65,12,2),0)+($C$2-$C$3),\"H:MM\")),E65,TEXT((DATE($E$3,$E$2,$E$1)+TIME(MID(E65,1,2),MID(E65,4,2),0))+($C$2-$C$3),\"HH:MM\")&\" - \"&TEXT(DATE($E$3,$E$2,$E$1)+TIME(MID(E65,9,2),MID(E65,12,2),0)+($C$2-$C$3),\"HH:MM\")&\" \"&TEXT(DATE($E$3,$E$2,$E$1)+TIME(MID(E65,9,2),MID(E65,12,2),0)+($C$2-$C$3),\"AM/PM\"))","v":"07:00 - 08:15 AM"},"Session_ID",{"$f":"IF(VLOOKUP($B65&\"_\"&$C65&\"_\"&H$5,UNWDF2020_LookUp!$B:$P,$D65,FALSE)=0,\"\",VLOOKUP($B65&\"_\"&$C65&\"_\"&H$5,UNWDF2020_LookUp!$B:$P,$D65,FALSE))","v":"TA2.07"},{"$f":"IF(VLOOKUP($B65&\"_\"&$C65&\"_\"&I$5,UNWDF2020_LookUp!$B:$P,$D65,FALSE)=0,\"\",VLOOKUP($B65&\"_\"&$C65&\"_\"&I$5,UNWDF2020_LookUp!$B:$P,$D65,FALSE))","v":"TA3.04"},{"$f":"IF(VLOOKUP($B65&\"_\"&$C65&\"_\"&J$5,UNWDF2020_LookUp!$B:$P,$D65,FALSE)=0,\"\",VLOOKUP($B65&\"_\"&$C65&\"_\"&J$5,UNWDF2020_LookUp!$B:$P,$D65,FALSE))","v":"TA4.05"},null,null,{"$f":"IF(VLOOKUP($B65&\"_\"&$C65&\"_\"&M$5,UNWDF2020_LookUp!$B:$P,$D65,FALSE)=0,\"\",VLOOKUP($B65&\"_\"&$C65&\"_\"&M$5,UNWDF2020_LookUp!$B:$P,$D65,FALSE))","v":"NA"},{"$f":"IF(VLOOKUP($B65&\"_\"&$C65&\"_\"&N$5,UNWDF2020_LookUp!$B:$P,$D65,FALSE)=0,\"\",VLOOKUP($B65&\"_\"&$C65&\"_\"&N$5,UNWDF2020_LookUp!$B:$P,$D65,FALSE))","v":"NA"},{"$f":"IF(VLOOKUP($B65&\"_\"&$C65&\"_\"&O$5,UNWDF2020_LookUp!$B:$P,$D65,FALSE)=0,\"\",VLOOKUP($B65&\"_\"&$C65&\"_\"&O$5,UNWDF2020_LookUp!$B:$P,$D65,FALSE))","v":"NA"},{"$f":"IF(VLOOKUP($B65&\"_\"&$C65&\"_\"&P$5,UNWDF2020_LookUp!$B:$P,$D65,FALSE)=0,\"\",VLOOKUP($B65&\"_\"&$C65&\"_\"&P$5,UNWDF2020_LookUp!$B:$P,$D65,FALSE))","v":"NA"},{"$f":"IF(VLOOKUP($B65&\"_\"&$C65&\"_\"&Q$5,UNWDF2020_LookUp!$B:$P,$D65,FALSE)=0,\"\",VLOOKUP($B65&\"_\"&$C65&\"_\"&Q$5,UNWDF2020_LookUp!$B:$P,$D65,FALSE))","v":"NA"}]
[{"$f":"B66&C66","v":"Day3Time_Slot1"},"Day3","Time_Slot1",12,null,null,"Thematic Area",{"$f":"IF(VLOOKUP($B66&\"_\"&$C66&\"_\"&H$5,UNWDF2020_LookUp!$B:$P,$D66,FALSE)=0,\"\",VLOOKUP($B66&\"_\"&$C66&\"_\"&H$5,UNWDF2020_LookUp!$B:$P,$D66,FALSE))","v":2},{"$f":"IF(VLOOKUP($B66&\"_\"&$C66&\"_\"&I$5,UNWDF2020_LookUp!$B:$P,$D66,FALSE)=0,\"\",VLOOKUP($B66&\"_\"&$C66&\"_\"&I$5,UNWDF2020_LookUp!$B:$P,$D66,FALSE))","v":3},{"$f":"IF(VLOOKUP($B66&\"_\"&$C66&\"_\"&J$5,UNWDF2020_LookUp!$B:$P,$D66,FALSE)=0,\"\",VLOOKUP($B66&\"_\"&$C66&\"_\"&J$5,UNWDF2020_LookUp!$B:$P,$D66,FALSE))","v":4},null,null,{"$f":"IF(VLOOKUP($B66&\"_\"&$C66&\"_\"&M$5,UNWDF2020_LookUp!$B:$P,$D66,FALSE)=0,\"\",VLOOKUP($B66&\"_\"&$C66&\"_\"&M$5,UNWDF2020_LookUp!$B:$P,$D66,FALSE))","v":"NA"},{"$f":"IF(VLOOKUP($B66&\"_\"&$C66&\"_\"&N$5,UNWDF2020_LookUp!$B:$P,$D66,FALSE)=0,\"\",VLOOKUP($B66&\"_\"&$C66&\"_\"&N$5,UNWDF2020_LookUp!$B:$P,$D66,FALSE))","v":"NA"},{"$f":"IF(VLOOKUP($B66&\"_\"&$C66&\"_\"&O$5,UNWDF2020_LookUp!$B:$P,$D66,FALSE)=0,\"\",VLOOKUP($B66&\"_\"&$C66&\"_\"&O$5,UNWDF2020_LookUp!$B:$P,$D66,FALSE))","v":"NA"},{"$f":"IF(VLOOKUP($B66&\"_\"&$C66&\"_\"&P$5,UNWDF2020_LookUp!$B:$P,$D66,FALSE)=0,\"\",VLOOKUP($B66&\"_\"&$C66&\"_\"&P$5,UNWDF2020_LookUp!$B:$P,$D66,FALSE))","v":"NA"},{"$f":"IF(VLOOKUP($B66&\"_\"&$C66&\"_\"&Q$5,UNWDF2020_LookUp!$B:$P,$D66,FALSE)=0,\"\",VLOOKUP($B66&\"_\"&$C66&\"_\"&Q$5,UNWDF2020_LookUp!$B:$P,$D66,FALSE))","v":"NA"}]
["Day3Time_Slot1","Day3","Time_Slot1",15,null,null,"Session Title",{"$f":"IF(VLOOKUP($B67&\"_\"&$C67&\"_\"&H$5,UNWDF2020_LookUp!$B:$P,$D67,FALSE)=0,\"\",VLOOKUP($B67&\"_\"&$C67&\"_\"&H$5,UNWDF2020_LookUp!$B:$P,$D67,FALSE))","v":"Leveraging Data and AI to Achieve the SDGs: Using Mobile Phone Data to Combat Noncommunicable Diseases While Moving Toward a Global Data Access Framework"},{"$f":"IF(VLOOKUP($B67&\"_\"&$C67&\"_\"&I$5,UNWDF2020_LookUp!$B:$P,$D67,FALSE)=0,\"\",VLOOKUP($B67&\"_\"&$C67&\"_\"&I$5,UNWDF2020_LookUp!$B:$P,$D67,FALSE))","v":"Persons with disabilities and Covid-19 data collection and disaggregation efforts"},{"$f":"IF(VLOOKUP($B67&\"_\"&$C67&\"_\"&J$5,UNWDF2020_LookUp!$B:$P,$D67,FALSE)=0,\"\",VLOOKUP($B67&\"_\"&$C67&\"_\"&J$5,UNWDF2020_LookUp!$B:$P,$D67,FALSE))","v":"CitizEMPOWER: sharing citizen-led data tools and catalyzing partnerships with official data communities to respond to Covid-19"},null,null,{"$f":"IF(VLOOKUP($B67&\"_\"&$C67&\"_\"&M$5,UNWDF2020_LookUp!$B:$P,$D67,FALSE)=0,\"\",VLOOKUP($B67&\"_\"&$C67&\"_\"&M$5,UNWDF2020_LookUp!$B:$P,$D67,FALSE))","v":"TBC"},{"$f":"IF(VLOOKUP($B67&\"_\"&$C67&\"_\"&N$5,UNWDF2020_LookUp!$B:$P,$D67,FALSE)=0,\"\",VLOOKUP($B67&\"_\"&$C67&\"_\"&N$5,UNWDF2020_LookUp!$B:$P,$D67,FALSE))","v":"TBC"},{"$f":"IF(VLOOKUP($B67&\"_\"&$C67&\"_\"&O$5,UNWDF2020_LookUp!$B:$P,$D67,FALSE)=0,\"\",VLOOKUP($B67&\"_\"&$C67&\"_\"&O$5,UNWDF2020_LookUp!$B:$P,$D67,FALSE))","v":"TBC"},{"$f":"IF(VLOOKUP($B67&\"_\"&$C67&\"_\"&P$5,UNWDF2020_LookUp!$B:$P,$D67,FALSE)=0,\"\",VLOOKUP($B67&\"_\"&$C67&\"_\"&P$5,UNWDF2020_LookUp!$B:$P,$D67,FALSE))","v":"TBC"},{"$f":"IF(VLOOKUP($B67&\"_\"&$C67&\"_\"&Q$5,UNWDF2020_LookUp!$B:$P,$D67,FALSE)=0,\"\",VLOOKUP($B67&\"_\"&$C67&\"_\"&Q$5,UNWDF2020_LookUp!$B:$P,$D67,FALSE))","v":"NA"}]
[null,"Day3",null,null,"12:15 - 12:30 PM (UTC)",{"$f":"IF(ISERROR(TEXT((DATE($E$3,$E$2,$E$1)+TIME(MID(E68,1,2),MID(E68,4,2),0))+($C$2-$C$3),\"H:MM\")&\" - \"&TEXT(DATE($E$3,$E$2,$E$1)+TIME(MID(E68,9,2),MID(E68,12,2),0)+($C$2-$C$3),\"H:MM\")),E68,TEXT((DATE($E$3,$E$2,$E$1)+TIME(MID(E68,1,2),MID(E68,4,2),0))+($C$2-$C$3),\"HH:MM\")&\" - \"&TEXT(DATE($E$3,$E$2,$E$1)+TIME(MID(E68,9,2),MID(E68,12,2),0)+($C$2-$C$3),\"HH:MM\")&\" \"&TEXT(DATE($E$3,$E$2,$E$1)+TIME(MID(E68,9,2),MID(E68,12,2),0)+($C$2-$C$3),\"AM/PM\"))","v":"08:15 - 08:30 AM"},"Break"]
[{"$f":"B69&C69","v":"Day3Time_Slot2"},"Day3","Time_Slot2",14,"12:30 - 13:45 PM (UTC)","08:30 - 09:45 AM","Session_ID",{"$f":"IF(VLOOKUP($B69&\"_\"&$C69&\"_\"&H$5,UNWDF2020_LookUp!$B:$P,$D69,FALSE)=0,\"\",VLOOKUP($B69&\"_\"&$C69&\"_\"&H$5,UNWDF2020_LookUp!$B:$P,$D69,FALSE))","v":"TA3.05"},{"$f":"IF(VLOOKUP($B69&\"_\"&$C69&\"_\"&I$5,UNWDF2020_LookUp!$B:$P,$D69,FALSE)=0,\"\",VLOOKUP($B69&\"_\"&$C69&\"_\"&I$5,UNWDF2020_LookUp!$B:$P,$D69,FALSE))","v":"TA6.01"},{"$f":"IF(VLOOKUP($B69&\"_\"&$C69&\"_\"&J$5,UNWDF2020_LookUp!$B:$P,$D69,FALSE)=0,\"\",VLOOKUP($B69&\"_\"&$C69&\"_\"&J$5,UNWDF2020_LookUp!$B:$P,$D69,FALSE))","v":"TA5.08"},null,null,{"$f":"IF(VLOOKUP($B69&\"_\"&$C69&\"_\"&M$5,UNWDF2020_LookUp!$B:$P,$D69,FALSE)=0,\"\",VLOOKUP($B69&\"_\"&$C69&\"_\"&M$5,UNWDF2020_LookUp!$B:$P,$D69,FALSE))","v":"NA"},{"$f":"IF(VLOOKUP($B69&\"_\"&$C69&\"_\"&N$5,UNWDF2020_LookUp!$B:$P,$D69,FALSE)=0,\"\",VLOOKUP($B69&\"_\"&$C69&\"_\"&N$5,UNWDF2020_LookUp!$B:$P,$D69,FALSE))","v":"NA"},{"$f":"IF(VLOOKUP($B69&\"_\"&$C69&\"_\"&O$5,UNWDF2020_LookUp!$B:$P,$D69,FALSE)=0,\"\",VLOOKUP($B69&\"_\"&$C69&\"_\"&O$5,UNWDF2020_LookUp!$B:$P,$D69,FALSE))","v":"NA"},{"$f":"IF(VLOOKUP($B69&\"_\"&$C69&\"_\"&P$5,UNWDF2020_LookUp!$B:$P,$D69,FALSE)=0,\"\",VLOOKUP($B69&\"_\"&$C69&\"_\"&P$5,UNWDF2020_LookUp!$B:$P,$D69,FALSE))","v":"NA"},{"$f":"IF(VLOOKUP($B69&\"_\"&$C69&\"_\"&Q$5,UNWDF2020_LookUp!$B:$P,$D69,FALSE)=0,\"\",VLOOKUP($B69&\"_\"&$C69&\"_\"&Q$5,UNWDF2020_LookUp!$B:$P,$D69,FALSE))","v":"NA"}]
["Day3Time_Slot2","Day3","Time_Slot2",12,null,null,"Thematic Area",{"$f":"IF(VLOOKUP($B70&\"_\"&$C70&\"_\"&H$5,UNWDF2020_LookUp!$B:$P,$D70,FALSE)=0,\"\",VLOOKUP($B70&\"_\"&$C70&\"_\"&H$5,UNWDF2020_LookUp!$B:$P,$D70,FALSE))","v":3},{"$f":"IF(VLOOKUP($B70&\"_\"&$C70&\"_\"&I$5,UNWDF2020_LookUp!$B:$P,$D70,FALSE)=0,\"\",VLOOKUP($B70&\"_\"&$C70&\"_\"&I$5,UNWDF2020_LookUp!$B:$P,$D70,FALSE))","v":6},{"$f":"IF(VLOOKUP($B70&\"_\"&$C70&\"_\"&J$5,UNWDF2020_LookUp!$B:$P,$D70,FALSE)=0,\"\",VLOOKUP($B70&\"_\"&$C70&\"_\"&J$5,UNWDF2020_LookUp!$B:$P,$D70,FALSE))","v":5},null,null,{"$f":"IF(VLOOKUP($B70&\"_\"&$C70&\"_\"&M$5,UNWDF2020_LookUp!$B:$P,$D70,FALSE)=0,\"\",VLOOKUP($B70&\"_\"&$C70&\"_\"&M$5,UNWDF2020_LookUp!$B:$P,$D70,FALSE))","v":"NA"},{"$f":"IF(VLOOKUP($B70&\"_\"&$C70&\"_\"&N$5,UNWDF2020_LookUp!$B:$P,$D70,FALSE)=0,\"\",VLOOKUP($B70&\"_\"&$C70&\"_\"&N$5,UNWDF2020_LookUp!$B:$P,$D70,FALSE))","v":"NA"},{"$f":"IF(VLOOKUP($B70&\"_\"&$C70&\"_\"&O$5,UNWDF2020_LookUp!$B:$P,$D70,FALSE)=0,\"\",VLOOKUP($B70&\"_\"&$C70&\"_\"&O$5,UNWDF2020_LookUp!$B:$P,$D70,FALSE))","v":"NA"},{"$f":"IF(VLOOKUP($B70&\"_\"&$C70&\"_\"&P$5,UNWDF2020_LookUp!$B:$P,$D70,FALSE)=0,\"\",VLOOKUP($B70&\"_\"&$C70&\"_\"&P$5,UNWDF2020_LookUp!$B:$P,$D70,FALSE))","v":"NA"},{"$f":"IF(VLOOKUP($B70&\"_\"&$C70&\"_\"&Q$5,UNWDF2020_LookUp!$B:$P,$D70,FALSE)=0,\"\",VLOOKUP($B70&\"_\"&$C70&\"_\"&Q$5,UNWDF2020_LookUp!$B:$P,$D70,FALSE))","v":"NA"}]
["Day3Time_Slot2","Day3","Time_Slot2",15,null,null,"Session Title",{"$f":"IF(VLOOKUP($B71&\"_\"&$C71&\"_\"&H$5,UNWDF2020_LookUp!$B:$P,$D71,FALSE)=0,\"\",VLOOKUP($B71&\"_\"&$C71&\"_\"&H$5,UNWDF2020_LookUp!$B:$P,$D71,FALSE))","v":"The Deep Data Power Shift"},{"$f":"IF(VLOOKUP($B71&\"_\"&$C71&\"_\"&I$5,UNWDF2020_LookUp!$B:$P,$D71,FALSE)=0,\"\",VLOOKUP($B71&\"_\"&$C71&\"_\"&I$5,UNWDF2020_LookUp!$B:$P,$D71,FALSE))","v":"From Cape Town to Bern: the Data Governance Revolution"},{"$f":"IF(VLOOKUP($B71&\"_\"&$C71&\"_\"&J$5,UNWDF2020_LookUp!$B:$P,$D71,FALSE)=0,\"\",VLOOKUP($B71&\"_\"&$C71&\"_\"&J$5,UNWDF2020_LookUp!$B:$P,$D71,FALSE))","v":"Balancing data use and data protection – Learning from African Experiences"},null,null,{"$f":"IF(VLOOKUP($B71&\"_\"&$C71&\"_\"&M$5,UNWDF2020_LookUp!$B:$P,$D71,FALSE)=0,\"\",VLOOKUP($B71&\"_\"&$C71&\"_\"&M$5,UNWDF2020_LookUp!$B:$P,$D71,FALSE))","v":"TBC"},{"$f":"IF(VLOOKUP($B71&\"_\"&$C71&\"_\"&N$5,UNWDF2020_LookUp!$B:$P,$D71,FALSE)=0,\"\",VLOOKUP($B71&\"_\"&$C71&\"_\"&N$5,UNWDF2020_LookUp!$B:$P,$D71,FALSE))","v":"TBC"},{"$f":"IF(VLOOKUP($B71&\"_\"&$C71&\"_\"&O$5,UNWDF2020_LookUp!$B:$P,$D71,FALSE)=0,\"\",VLOOKUP($B71&\"_\"&$C71&\"_\"&O$5,UNWDF2020_LookUp!$B:$P,$D71,FALSE))","v":"TBC"},{"$f":"IF(VLOOKUP($B71&\"_\"&$C71&\"_\"&P$5,UNWDF2020_LookUp!$B:$P,$D71,FALSE)=0,\"\",VLOOKUP($B71&\"_\"&$C71&\"_\"&P$5,UNWDF2020_LookUp!$B:$P,$D71,FALSE))","v":"TBC"},{"$f":"IF(VLOOKUP($B71&\"_\"&$C71&\"_\"&Q$5,UNWDF2020_LookUp!$B:$P,$D71,FALSE)=0,\"\",VLOOKUP($B71&\"_\"&$C71&\"_\"&Q$5,UNWDF2020_LookUp!$B:$P,$D71,FALSE))","v":"NA"}]
[null,"Day3",null,null,"13:45 - 14:00 PM (UTC)",{"$f":"IF(ISERROR(TEXT((DATE($E$3,$E$2,$E$1)+TIME(MID(E72,1,2),MID(E72,4,2),0))+($C$2-$C$3),\"H:MM\")&\" - \"&TEXT(DATE($E$3,$E$2,$E$1)+TIME(MID(E72,9,2),MID(E72,12,2),0)+($C$2-$C$3),\"H:MM\")),E72,TEXT((DATE($E$3,$E$2,$E$1)+TIME(MID(E72,1,2),MID(E72,4,2),0))+($C$2-$C$3),\"HH:MM\")&\" - \"&TEXT(DATE($E$3,$E$2,$E$1)+TIME(MID(E72,9,2),MID(E72,12,2),0)+($C$2-$C$3),\"HH:MM\")&\" \"&TEXT(DATE($E$3,$E$2,$E$1)+TIME(MID(E72,9,2),MID(E72,12,2),0)+($C$2-$C$3),\"AM/PM\"))","v":"09:45 - 10:00 AM"},"Break"]
[{"$f":"B73&C73","v":"Day3Time_Slot3"},"Day3","Time_Slot3",14,"14:00 - 15:15 PM (UTC)","10:00 - 11:15 AM","Session_ID",{"$f":"IF(VLOOKUP($B73&\"_\"&$C73&\"_\"&H$5,UNWDF2020_LookUp!$B:$P,$D73,FALSE)=0,\"\",VLOOKUP($B73&\"_\"&$C73&\"_\"&H$5,UNWDF2020_LookUp!$B:$P,$D73,FALSE))","v":"TA6.02"},{"$f":"IF(VLOOKUP($B73&\"_\"&$C73&\"_\"&I$5,UNWDF2020_LookUp!$B:$P,$D73,FALSE)=0,\"\",VLOOKUP($B73&\"_\"&$C73&\"_\"&I$5,UNWDF2020_LookUp!$B:$P,$D73,FALSE))","v":"TA2.08"},{"$f":"IF(VLOOKUP($B73&\"_\"&$C73&\"_\"&J$5,UNWDF2020_LookUp!$B:$P,$D73,FALSE)=0,\"\",VLOOKUP($B73&\"_\"&$C73&\"_\"&J$5,UNWDF2020_LookUp!$B:$P,$D73,FALSE))","v":"TA4.06"},{"$f":"IF(VLOOKUP($B73&\"_\"&$C73&\"_\"&K$5,UNWDF2020_LookUp!$B:$P,$D73,FALSE)=0,\"\",VLOOKUP($B73&\"_\"&$C73&\"_\"&K$5,UNWDF2020_LookUp!$B:$P,$D73,FALSE))","v":"TA3.06"}]
["Day3Time_Slot3","Day3","Time_Slot3",12,null,null,"Thematic Area",{"$f":"IF(VLOOKUP($B74&\"_\"&$C74&\"_\"&H$5,UNWDF2020_LookUp!$B:$P,$D74,FALSE)=0,\"\",VLOOKUP($B74&\"_\"&$C74&\"_\"&H$5,UNWDF2020_LookUp!$B:$P,$D74,FALSE))","v":6},{"$f":"IF(VLOOKUP($B74&\"_\"&$C74&\"_\"&I$5,UNWDF2020_LookUp!$B:$P,$D74,FALSE)=0,\"\",VLOOKUP($B74&\"_\"&$C74&\"_\"&I$5,UNWDF2020_LookUp!$B:$P,$D74,FALSE))","v":2},{"$f":"IF(VLOOKUP($B74&\"_\"&$C74&\"_\"&J$5,UNWDF2020_LookUp!$B:$P,$D74,FALSE)=0,\"\",VLOOKUP($B74&\"_\"&$C74&\"_\"&J$5,UNWDF2020_LookUp!$B:$P,$D74,FALSE))","v":4},{"$f":"IF(VLOOKUP($B74&\"_\"&$C74&\"_\"&K$5,UNWDF2020_LookUp!$B:$P,$D74,FALSE)=0,\"\",VLOOKUP($B74&\"_\"&$C74&\"_\"&K$5,UNWDF2020_LookUp!$B:$P,$D74,FALSE))","v":3}]
["Day3Time_Slot3","Day3","Time_Slot3",15,null,null,"Session Title",{"$f":"IF(VLOOKUP($B75&\"_\"&$C75&\"_\"&H$5,UNWDF2020_LookUp!$B:$P,$D75,FALSE)=0,\"\",VLOOKUP($B75&\"_\"&$C75&\"_\"&H$5,UNWDF2020_LookUp!$B:$P,$D75,FALSE))","v":"Bern Network for Financing Development Data – Strategic dialogue and launch of new commitments to get to more and better funding support for CTGAP"},{"$f":"IF(VLOOKUP($B75&\"_\"&$C75&\"_\"&I$5,UNWDF2020_LookUp!$B:$P,$D75,FALSE)=0,\"\",VLOOKUP($B75&\"_\"&$C75&\"_\"&I$5,UNWDF2020_LookUp!$B:$P,$D75,FALSE))","v":"Leveraging data platforms and data-based insights for sustainable health financing and better delivery for all in Africa : During Covid-19 and beyond"},{"$f":"IF(VLOOKUP($B75&\"_\"&$C75&\"_\"&J$5,UNWDF2020_LookUp!$B:$P,$D75,FALSE)=0,\"\",VLOOKUP($B75&\"_\"&$C75&\"_\"&J$5,UNWDF2020_LookUp!$B:$P,$D75,FALSE))","v":"The Best Data Are Worthless If You Can’t Tell Their Story"},{"$f":"IF(VLOOKUP($B75&\"_\"&$C75&\"_\"&K$5,UNWDF2020_LookUp!$B:$P,$D75,FALSE)=0,\"\",VLOOKUP($B75&\"_\"&$C75&\"_\"&K$5,UNWDF2020_LookUp!$B:$P,$D75,FALSE))","v":"Ageing 2.0: livehacks for better data and living"}]
[null,"Day3",null,null,"15:15 - 15:30 PM (UTC)",{"$f":"IF(ISERROR(TEXT((DATE($E$3,$E$2,$E$1)+TIME(MID(E76,1,2),MID(E76,4,2),0))+($C$2-$C$3),\"H:MM\")&\" - \"&TEXT(DATE($E$3,$E$2,$E$1)+TIME(MID(E76,9,2),MID(E76,12,2),0)+($C$2-$C$3),\"H:MM\")),E76,TEXT((DATE($E$3,$E$2,$E$1)+TIME(MID(E76,1,2),MID(E76,4,2),0))+($C$2-$C$3),\"HH:MM\")&\" - \"&TEXT(DATE($E$3,$E$2,$E$1)+TIME(MID(E76,9,2),MID(E76,12,2),0)+($C$2-$C$3),\"HH:MM\")&\" \"&TEXT(DATE($E$3,$E$2,$E$1)+TIME(MID(E76,9,2),MID(E76,12,2),0)+($C$2-$C$3),\"AM/PM\"))","v":"11:15 - 11:30 AM"},"Break"]
[{"$f":"B77&C77","v":"Day3Time_Slot4"},"Day3","Time_Slot4",14,"15:30 - 16:45 PM (UTC)","11:30 - 12:45 PM","Session_ID",{"$f":"IF(VLOOKUP($B77&\"_\"&$C77&\"_\"&H$5,UNWDF2020_LookUp!$B:$P,$D77,FALSE)=0,\"\",VLOOKUP($B77&\"_\"&$C77&\"_\"&H$5,UNWDF2020_LookUp!$B:$P,$D77,FALSE))","v":"TA3.01"}]
["Day3Time_Slot4","Day3","Time_Slot4",12,null,null,"Thematic Area",{"$f":"IF(VLOOKUP($B78&\"_\"&$C78&\"_\"&H$5,UNWDF2020_LookUp!$B:$P,$D78,FALSE)=0,\"\",VLOOKUP($B78&\"_\"&$C78&\"_\"&H$5,UNWDF2020_LookUp!$B:$P,$D78,FALSE))","v":3}]
["Day3Time_Slot4","Day3","Time_Slot4",15,null,null,"Session Title",{"$f":"IF(VLOOKUP($B79&\"_\"&$C79&\"_\"&H$5,UNWDF2020_LookUp!$B:$P,$D79,FALSE)=0,\"\",VLOOKUP($B79&\"_\"&$C79&\"_\"&H$5,UNWDF2020_LookUp!$B:$P,$D79,FALSE))","v":"Leaving no one behind in data for Covid-19 and the 2030 Agenda"}]
[null,"Day3",null,null,"16:45 - 17:00 PM (UTC)",{"$f":"IF(ISERROR(TEXT((DATE($E$3,$E$2,$E$1)+TIME(MID(E80,1,2),MID(E80,4,2),0))+($C$2-$C$3),\"H:MM\")&\" - \"&TEXT(DATE($E$3,$E$2,$E$1)+TIME(MID(E80,9,2),MID(E80,12,2),0)+($C$2-$C$3),\"H:MM\")),E80,TEXT((DATE($E$3,$E$2,$E$1)+TIME(MID(E80,1,2),MID(E80,4,2),0))+($C$2-$C$3),\"HH:MM\")&\" - \"&TEXT(DATE($E$3,$E$2,$E$1)+TIME(MID(E80,9,2),MID(E80,12,2),0)+($C$2-$C$3),\"HH:MM\")&\" \"&TEXT(DATE($E$3,$E$2,$E$1)+TIME(MID(E80,9,2),MID(E80,12,2),0)+($C$2-$C$3),\"AM/PM\"))","v":"12:45 - 13:00 PM"},"Break"]
[{"$f":"B81&C81","v":"Day3Time_SlotC"},"Day3","Time_SlotC",14,"17:00 - 18:00 PM (UTC)","13:00 - 14:00 PM","Session_ID",{"$f":"IF(VLOOKUP($B81&\"_\"&$C81&\"_\"&H$5,UNWDF2020_LookUp!$B:$P,$D81,FALSE)=0,\"\",VLOOKUP($B81&\"_\"&$C81&\"_\"&H$5,UNWDF2020_LookUp!$B:$P,$D81,FALSE))","v":"TA_C.01"}]
["Day3Time_SlotC","Day3","Time_SlotC",12,null,null,"Thematic Area",{"$f":"IF(VLOOKUP($B82&\"_\"&$C82&\"_\"&H$5,UNWDF2020_LookUp!$B:$P,$D82,FALSE)=0,\"\",VLOOKUP($B82&\"_\"&$C82&\"_\"&H$5,UNWDF2020_LookUp!$B:$P,$D82,FALSE))","v":"_C"}]
["Day3Time_SlotC","Day3","Time_SlotC",15,null,null,"Session Title",{"$f":"IF(VLOOKUP($B83&\"_\"&$C83&\"_\"&H$5,UNWDF2020_LookUp!$B:$P,$D83,FALSE)=0,\"\",VLOOKUP($B83&\"_\"&$C83&\"_\"&H$5,UNWDF2020_LookUp!$B:$P,$D83,FALSE))","v":"Closing session"}]
[]
[null,null,null,null,null,null," TA 1. New approaches to capacity development for better data: supporting broad data ecosystems in countries",null,null," TA 4. Understanding the world through data: making data and statistics relevant and usable to all users; increasing data and statistical literacy and data communication; strengthening the use of data in journalism"]
[]
[null,null,null,null,null,null," TA 2. Innovations and synergies across data ecosystems: bringing data sources together and creating an enabling environment for the integration and use of non-traditional data sources",null,null," TA 5. Building trust in data and statistics: Applying data principles and governance to new and existing data sources and  implementing open data principles and practices"]
[]
[null,null,null,null,null,null," TA 3. Leaving no one behind: Generating and leveraging data and statistics to ensure visibility and voice for everyone",null,null," TA 6. How far have we come? A look at the implementation of the Cape Town Global Action Plan; Addressing emerging challenges of fully harnessing the power of data to improve people's lives"]
[null,null,null,null,null,"* The programme will be subject to further adjustment"]

{"sheet":"UNWDF2020_LookUp","index":1,"n_rows":158,"n_cols":19,"rows_kept":158,"cut":false,"hidden":true,"merged":[]}
["ID","LookUp","Day/Time","Day","Time_Slot","Location","Date","Time","Room_Name","Room_Capacity","UNWDF2020_Plenary","UNWDF2020_ProposalID","UNWDF2020_TA","UNWDF2020_Session","UNWDF2020_SessionID","UNWDF2020_SessionTitle"]
[1,{"$f":"C2&\"_\"&F2","v":"Day1_Time_SlotO_Parallel 01"},{"$f":"$D$1&D2&\"_\"&$E$1&E2","v":"Day1_Time_SlotO"},1,"O","Parallel 01",{"$f":"VLOOKUP($D$1&D2,'2020_Virtual_Forum'!A:F,6,FALSE)","v":"2020-10-19T06:30:00"},{"$f":"VLOOKUP($D$1&D2&$E$1&E2,'2020_Virtual_Forum'!A:F,5,FALSE)","v":"10:30 - 11:00 AM (UTC)"},{"$f":"HLOOKUP($F2,'2020_Virtual_Forum'!$H$5:$Q$7,2,FALSE)","v":"Session 1"},{"$f":"HLOOKUP($F2,'2020_Virtual_Forum'!$H$5:$Q$7,3,FALSE)","v":0},"Y","NA","_O",{"$f":"IF(K2=\"NA\",\"NA\",IF(K2=\"Y\",COUNTIF($M$1:M3,M2)+1,COUNTIF($M$1:M3,M2)+1))","v":2},"TA_O.01","Opening session"]
[11,{"$f":"C3&\"_\"&F3","v":"Day1_Time_Slot1_Parallel 01"},{"$f":"$D$1&D3&\"_\"&$E$1&E3","v":"Day1_Time_Slot1"},1,1,"Parallel 01",{"$f":"VLOOKUP($D$1&D3,'2020_Virtual_Forum'!A:F,6,FALSE)","v":"2020-10-19T06:30:00"},{"$f":"VLOOKUP($D$1&D3&$E$1&E3,'2020_Virtual_Forum'!A:F,5,FALSE)","v":"11:00 - 12:15 PM (UTC)"},{"$f":"HLOOKUP($F3,'2020_Virtual_Forum'!$H$5:$Q$7,2,FALSE)","v":"Session 1"},{"$f":"HLOOKUP($F3,'2020_Virtual_Forum'!$H$5:$Q$7,3,FALSE)","v":0},"Y","NA",4,{"$f":"IF(K3=\"NA\",\"NA\",IF(K3=\"Y\",COUNTIF($M$1:M1,M3)+1,COUNTIF($M$1:M1,M3)+1))","v":1},"TA4.01","Data for a changing World: data use under Covid-19"]
[61,"Day2_Time_Slot2_Parallel 01","Day2_Time_Slot2",2,2,"Parallel 01",{"$f":"VLOOKUP($D$1&D4,'2020_Virtual_Forum'!A:F,6,FALSE)","v":"2020-10-20T07:00:00"},{"$f":"VLOOKUP($D$1&D4&$E$1&E4,'2020_Virtual_Forum'!A:F,5,FALSE)","v":"12:30 - 13:45 PM (UTC)"},{"$f":"HLOOKUP($F4,'2020_Virtual_Forum'!$H$5:$Q$7,2,FALSE)","v":"Session 1"},{"$f":"HLOOKUP($F4,'2020_Virtual_Forum'!$H$5:$Q$7,3,FALSE)","v":0},"Y","NA",5,{"$f":"IF(K4=\"NA\",\"NA\",IF(K4=\"Y\",COUNTIF($M$1:M3,M4)+1,COUNTIF($M$1:M3,M4)+1))","v":1},"TA5.01","Trust, privacy and governance during pandemics and disasters"]
[121,"Day3_Time_Slot4_Parallel 01","Day3_Time_Slot4",3,4,"Parallel 01",{"$f":"VLOOKUP($D$1&D5,'2020_Virtual_Forum'!A:F,6,FALSE)","v":"2020-10-21T07:00:00"},{"$f":"VLOOKUP($D$1&D5&$E$1&E5,'2020_Virtual_Forum'!A:F,5,FALSE)","v":"15:30 - 16:45 PM (UTC)"},{"$f":"HLOOKUP($F5,'2020_Virtual_Forum'!$H$5:$Q$7,2,FALSE)","v":"Session 1"},{"$f":"HLOOKUP($F5,'2020_Virtual_Forum'!$H$5:$Q$7,3,FALSE)","v":0},"Y","NA",3,{"$f":"IF(K5=\"NA\",\"NA\",IF(K5=\"Y\",COUNTIF($M$1:M4,M5)+1,COUNTIF($M$1:M4,M5)+1))","v":1},"TA3.01","Leaving no one behind in data for Covid-19 and the 2030 Agenda"]
[131,"Day3_Time_SlotC_Parallel 01","Day3_Time_SlotC",3,"C","Parallel 01",{"$f":"VLOOKUP($D$1&D6,'2020_Virtual_Forum'!A:F,6,FALSE)","v":"2020-10-21T07:00:00"},{"$f":"VLOOKUP($D$1&D6&$E$1&E6,'2020_Virtual_Forum'!A:F,5,FALSE)","v":"17:00 - 18:00 PM (UTC)"},{"$f":"HLOOKUP($F6,'2020_Virtual_Forum'!$H$5:$Q$7,2,FALSE)","v":"Session 1"},{"$f":"HLOOKUP($F6,'2020_Virtual_Forum'!$H$5:$Q$7,3,FALSE)","v":0},"Y","NA","_C",{"$f":"IF(K6=\"NA\",\"NA\",IF(K6=\"Y\",COUNTIF($M$1:M5,M6)+1,COUNTIF($M$1:M5,M6)+1))","v":1},"TA_C.01","Closing session"]
[12,"Day1_Time_Slot1_Parallel 02","Day1_Time_Slot1",1,1,"Parallel 02",{"$f":"VLOOKUP($D$1&D7,'2020_Virtual_Forum'!A:F,6,FALSE)","v":"2020-10-19T06:30:00"},{"$f":"VLOOKUP($D$1&D7&$E$1&E7,'2020_Virtual_Forum'!A:F,5,FALSE)","v":"11:00 - 12:15 PM (UTC)"},{"$f":"HLOOKUP($F7,'2020_Virtual_Forum'!$H$5:$Q$7,2,FALSE)","v":"Session 2"},{"$f":"HLOOKUP($F7,'2020_Virtual_Forum'!$H$5:$Q$7,3,FALSE)","v":0},"NA","NA","NA",{"$f":"IF(K7=\"NA\",\"NA\",IF(K7=\"Y\",COUNTIF($M$1:M6,M7)+1,COUNTIF($M$1:M6,M7)+1))","v":"NA"},"NA","NA"]
[13,"Day1_Time_Slot1_Parallel 03","Day1_Time_Slot1",1,1,"Parallel 03",{"$f":"VLOOKUP($D$1&D8,'2020_Virtual_Forum'!A:F,6,FALSE)","v":"2020-10-19T06:30:00"},{"$f":"VLOOKUP($D$1&D8&$E$1&E8,'2020_Virtual_Forum'!A:F,5,FALSE)","v":"11:00 - 12:15 PM (UTC)"},{"$f":"HLOOKUP($F8,'2020_Virtual_Forum'!$H$5:$Q$7,2,FALSE)","v":"Session 3"},{"$f":"HLOOKUP($F8,'2020_Virtual_Forum'!$H$5:$Q$7,3,FALSE)","v":0},"NA","NA","NA",{"$f":"IF(K8=\"NA\",\"NA\",IF(K8=\"Y\",COUNTIF($M$1:M7,M8)+1,COUNTIF($M$1:M7,M8)+1))","v":"NA"},"NA","NA"]
[14,"Day1_Time_Slot1_Parallel 04","Day1_Time_Slot1",1,1,"Parallel 04",{"$f":"VLOOKUP($D$1&D9,'2020_Virtual_Forum'!A:F,6,FALSE)","v":"2020-10-19T06:30:00"},{"$f":"VLOOKUP($D$1&D9&$E$1&E9,'2020_Virtual_Forum'!A:F,5,FALSE)","v":"11:00 - 12:15 PM (UTC)"},{"$f":"HLOOKUP($F9,'2020_Virtual_Forum'!$H$5:$Q$7,2,FALSE)","v":"Session 4"},{"$f":"HLOOKUP($F9,'2020_Virtual_Forum'!$H$5:$Q$7,3,FALSE)","v":0},"NA","NA","NA",{"$f":"IF(K9=\"NA\",\"NA\",IF(K9=\"Y\",COUNTIF($M$1:M8,M9)+1,COUNTIF($M$1:M8,M9)+1))","v":"NA"},"NA","NA"]
[15,"Day1_Time_Slot1_Parallel 05","Day1_Time_Slot1",1,1,"Parallel 05",{"$f":"VLOOKUP($D$1&D10,'2020_Virtual_Forum'!A:F,6,FALSE)","v":"2020-10-19T06:30:00"},{"$f":"VLOOKUP($D$1&D10&$E$1&E10,'2020_Virtual_Forum'!A:F,5,FALSE)","v":"11:00 - 12:15 PM (UTC)"},{"$f":"HLOOKUP($F10,'2020_Virtual_Forum'!$H$5:$Q$7,2,FALSE)","v":"Session 5"},{"$f":"HLOOKUP($F10,'2020_Virtual_Forum'!$H$5:$Q$7,3,FALSE)","v":0},"NA","NA","NA","NA","NA","Empty"]
[16,"Day1_Time_Slot1_Parallel 06","Day1_Time_Slot1",1,1,"Parallel 06",{"$f":"VLOOKUP($D$1&D11,'2020_Virtual_Forum'!A:F,6,FALSE)","v":"2020-10-19T06:30:00"},{"$f":"VLOOKUP($D$1&D11&$E$1&E11,'2020_Virtual_Forum'!A:F,5,FALSE)","v":"11:00 - 12:15 PM (UTC)"},{"$f":"HLOOKUP($F11,'2020_Virtual_Forum'!$H$5:$Q$7,2,FALSE)","v":"Session 6"},{"$f":"HLOOKUP($F11,'2020_Virtual_Forum'!$H$5:$Q$7,3,FALSE)","v":0},"NA","NA","NA",{"$f":"IF(K11=\"NA\",\"NA\",IF(K11=\"Y\",COUNTIF($M$1:M10,M11)+1,COUNTIF($M$1:M10,M11)+1))","v":"NA"},"NA","NA"]
[17,"Day1_Time_Slot1_Parallel 07","Day1_Time_Slot1",1,1,"Parallel 07",{"$f":"VLOOKUP($D$1&D12,'2020_Virtual_Forum'!A:F,6,FALSE)","v":"2020-10-19T06:30:00"},{"$f":"VLOOKUP($D$1&D12&$E$1&E12,'2020_Virtual_Forum'!A:F,5,FALSE)","v":"11:00 - 12:15 PM (UTC)"},{"$f":"HLOOKUP($F12,'2020_Virtual_Forum'!$H$5:$Q$7,2,FALSE)","v":"Session 7"},{"$f":"HLOOKUP($F12,'2020_Virtual_Forum'!$H$5:$Q$7,3,FALSE)","v":0},"NA","NA","NA",{"$f":"IF(K12=\"NA\",\"NA\",IF(K12=\"Y\",COUNTIF($M$1:M11,M12)+1,COUNTIF($M$1:M11,M12)+1))","v":"NA"},"NA","NA"]
[18,"Day1_Time_Slot1_Parallel 08","Day1_Time_Slot1",1,1,"Parallel 08",{"$f":"VLOOKUP($D$1&D13,'2020_Virtual_Forum'!A:F,6,FALSE)","v":"2020-10-19T06:30:00"},{"$f":"VLOOKUP($D$1&D13&$E$1&E13,'2020_Virtual_Forum'!A:F,5,FALSE)","v":"11:00 - 12:15 PM (UTC)"},{"$f":"HLOOKUP($F13,'2020_Virtual_Forum'!$H$5:$Q$7,2,FALSE)","v":"Session 8"},{"$f":"HLOOKUP($F13,'2020_Virtual_Forum'!$H$5:$Q$7,3,FALSE)","v":0},"NA","NA","NA",{"$f":"IF(K13=\"NA\",\"NA\",IF(K13=\"Y\",COUNTIF($M$1:M12,M13)+1,COUNTIF($M$1:M12,M13)+1))","v":"NA"},"NA","NA"]
[19,"Day1_Time_Slot1_Parallel 09","Day1_Time_Slot1",1,1,"Parallel 09",{"$f":"VLOOKUP($D$1&D14,'2020_Virtual_Forum'!A:F,6,FALSE)","v":"2020-10-19T06:30:00"},{"$f":"VLOOKUP($D$1&D14&$E$1&E14,'2020_Virtual_Forum'!A:F,5,FALSE)","v":"11:00 - 12:15 PM (UTC)"},{"$f":"HLOOKUP($F14,'2020_Virtual_Forum'!$H$5:$Q$7,2,FALSE)","v":"Session 9"},{"$f":"HLOOKUP($F14,'2020_Virtual_Forum'!$H$5:$Q$7,3,FALSE)","v":0},"NA","NA","NA",{"$f":"IF(K14=\"NA\",\"NA\",IF(K14=\"Y\",COUNTIF($M$1:M13,M14)+1,COUNTIF($M$1:M13,M14)+1))","v":"NA"},"NA","NA"]
[20,"Day1_Time_Slot1_Parallel 10","Day1_Time_Slot1",1,1,"Parallel 10",{"$f":"VLOOKUP($D$1&D15,'2020_Virtual_Forum'!A:F,6,FALSE)","v":"2020-10-19T06:30:00"},{"$f":"VLOOKUP($D$1&D15&$E$1&E15,'2020_Virtual_Forum'!A:F,5,FALSE)","v":"11:00 - 12:15 PM (UTC)"},{"$f":"HLOOKUP($F15,'2020_Virtual_Forum'!$H$5:$Q$7,2,FALSE)","v":"Session 10"},{"$f":"HLOOKUP($F15,'2020_Virtual_Forum'!$H$5:$Q$7,3,FALSE)","v":0},"NA","NA","NA",{"$f":"IF(K15=\"NA\",\"NA\",IF(K15=\"Y\",COUNTIF($M$1:M14,M15)+1,COUNTIF($M$1:M14,M15)+1))","v":"NA"},"NA","NA"]
[24,"Day1_Time_Slot2_Parallel 04","Day1_Time_Slot2",1,2,"Parallel 04",{"$f":"VLOOKUP($D$1&D16,'2020_Virtual_Forum'!A:F,6,FALSE)","v":"2020-10-19T06:30:00"},{"$f":"VLOOKUP($D$1&D16&$E$1&E16,'2020_Virtual_Forum'!A:F,5,FALSE)","v":"12:30 - 13:45 PM (UTC)"},{"$f":"HLOOKUP($F16,'2020_Virtual_Forum'!$H$5:$Q$7,2,FALSE)","v":"Session 4"},{"$f":"HLOOKUP($F16,'2020_Virtual_Forum'!$H$5:$Q$7,3,FALSE)","v":0},"NA","NA","NA",{"$f":"IF(K16=\"NA\",\"NA\",IF(K16=\"Y\",COUNTIF($M$1:M15,M16)+1,COUNTIF($M$1:M15,M16)+1))","v":"NA"},"NA","Empty"]
[25,"Day1_Time_Slot2_Parallel 05","Day1_Time_Slot2",1,2,"Parallel 05",{"$f":"VLOOKUP($D$1&D17,'2020_Virtual_Forum'!A:F,6,FALSE)","v":"2020-10-19T06:30:00"},{"$f":"VLOOKUP($D$1&D17&$E$1&E17,'2020_Virtual_Forum'!A:F,5,FALSE)","v":"12:30 - 13:45 PM (UTC)"},{"$f":"HLOOKUP($F17,'2020_Virtual_Forum'!$H$5:$Q$7,2,FALSE)","v":"Session 5"},{"$f":"HLOOKUP($F17,'2020_Virtual_Forum'!$H$5:$Q$7,3,FALSE)","v":0},"NA","NA","NA","NA","NA","Empty"]
[26,"Day1_Time_Slot2_Parallel 06","Day1_Time_Slot2",1,2,"Parallel 06",{"$f":"VLOOKUP($D$1&D18,'2020_Virtual_Forum'!A:F,6,FALSE)","v":"2020-10-19T06:30:00"},{"$f":"VLOOKUP($D$1&D18&$E$1&E18,'2020_Virtual_Forum'!A:F,5,FALSE)","v":"12:30 - 13:45 PM (UTC)"},{"$f":"HLOOKUP($F18,'2020_Virtual_Forum'!$H$5:$Q$7,2,FALSE)","v":"Session 6"},{"$f":"HLOOKUP($F18,'2020_Virtual_Forum'!$H$5:$Q$7,3,FALSE)","v":0},"NA","NA","NA",{"$f":"IF(K18=\"NA\",\"NA\",IF(K18=\"Y\",COUNTIF($M$1:M17,M18)+1,COUNTIF($M$1:M17,M18)+1))","v":"NA"},"NA","TBC"]
[27,"Day1_Time_Slot2_Parallel 07","Day1_Time_Slot2",1,2,"Parallel 07",{"$f":"VLOOKUP($D$1&D19,'2020_Virtual_Forum'!A:F,6,FALSE)","v":"2020-10-19T06:30:00"},{"$f":"VLOOKUP($D$1&D19&$E$1&E19,'2020_Virtual_Forum'!A:F,5,FALSE)","v":"12:30 - 13:45 PM (UTC)"},{"$f":"HLOOKUP($F19,'2020_Virtual_Forum'!$H$5:$Q$7,2,FALSE)","v":"Session 7"},{"$f":"HLOOKUP($F19,'2020_Virtual_Forum'!$H$5:$Q$7,3,FALSE)","v":0},"NA","NA","NA",{"$f":"IF(K19=\"NA\",\"NA\",IF(K19=\"Y\",COUNTIF($M$1:M18,M19)+1,COUNTIF($M$1:M18,M19)+1))","v":"NA"},"NA","TBC"]
[28,"Day1_Time_Slot2_Parallel 08","Day1_Time_Slot2",1,2,"Parallel 08",{"$f":"VLOOKUP($D$1&D20,'2020_Virtual_Forum'!A:F,6,FALSE)","v":"2020-10-19T06:30:00"},{"$f":"VLOOKUP($D$1&D20&$E$1&E20,'2020_Virtual_Forum'!A:F,5,FALSE)","v":"12:30 - 13:45 PM (UTC)"},{"$f":"HLOOKUP($F20,'2020_Virtual_Forum'!$H$5:$Q$7,2,FALSE)","v":"Session 8"},{"$f":"HLOOKUP($F20,'2020_Virtual_Forum'!$H$5:$Q$7,3,FALSE)","v":0},"NA","NA","NA",{"$f":"IF(K20=\"NA\",\"NA\",IF(K20=\"Y\",COUNTIF($M$1:M19,M20)+1,COUNTIF($M$1:M19,M20)+1))","v":"NA"},"NA","TBC"]
[29,"Day1_Time_Slot2_Parallel 09","Day1_Time_Slot2",1,2,"Parallel 09",{"$f":"VLOOKUP($D$1&D21,'2020_Virtual_Forum'!A:F,6,FALSE)","v":"2020-10-19T06:30:00"},{"$f":"VLOOKUP($D$1&D21&$E$1&E21,'2020_Virtual_Forum'!A:F,5,FALSE)","v":"12:30 - 13:45 PM (UTC)"},{"$f":"HLOOKUP($F21,'2020_Virtual_Forum'!$H$5:$Q$7,2,FALSE)","v":"Session 9"},{"$f":"HLOOKUP($F21,'2020_Virtual_Forum'!$H$5:$Q$7,3,FALSE)","v":0},"NA","NA","NA",{"$f":"IF(K21=\"NA\",\"NA\",IF(K21=\"Y\",COUNTIF($M$1:M20,M21)+1,COUNTIF($M$1:M20,M21)+1))","v":"NA"},"NA","TBC"]
[30,"Day1_Time_Slot2_Parallel 10","Day1_Time_Slot2",1,2,"Parallel 10",{"$f":"VLOOKUP($D$1&D22,'2020_Virtual_Forum'!A:F,6,FALSE)","v":"2020-10-19T06:30:00"},{"$f":"VLOOKUP($D$1&D22&$E$1&E22,'2020_Virtual_Forum'!A:F,5,FALSE)","v":"12:30 - 13:45 PM (UTC)"},{"$f":"HLOOKUP($F22,'2020_Virtual_Forum'!$H$5:$Q$7,2,FALSE)","v":"Session 10"},{"$f":"HLOOKUP($F22,'2020_Virtual_Forum'!$H$5:$Q$7,3,FALSE)","v":0},"NA","NA","NA",{"$f":"IF(K22=\"NA\",\"NA\",IF(K22=\"Y\",COUNTIF($M$1:M21,M22)+1,COUNTIF($M$1:M21,M22)+1))","v":"NA"},"NA","NA"]
[34,"Day1_Time_Slot3_Parallel 04","Day1_Time_Slot3",1,3,"Parallel 04",{"$f":"VLOOKUP($D$1&D23,'2020_Virtual_Forum'!A:F,6,FALSE)","v":"2020-10-19T06:30:00"},{"$f":"VLOOKUP($D$1&D23&$E$1&E23,'2020_Virtual_Forum'!A:F,5,FALSE)","v":"14:00 - 15:15 PM (UTC)"},{"$f":"HLOOKUP($F23,'2020_Virtual_Forum'!$H$5:$Q$7,2,FALSE)","v":"Session 4"},{"$f":"HLOOKUP($F23,'2020_Virtual_Forum'!$H$5:$Q$7,3,FALSE)","v":0},"NA","NA","NA",{"$f":"IF(K23=\"NA\",\"NA\",IF(K23=\"Y\",COUNTIF($M$1:M22,M23)+1,COUNTIF($M$1:M22,M23)+1))","v":"NA"},"NA","Empty"]
[35,"Day1_Time_Slot3_Parallel 05","Day1_Time_Slot3",1,3,"Parallel 05",{"$f":"VLOOKUP($D$1&D24,'2020_Virtual_Forum'!A:F,6,FALSE)","v":"2020-10-19T06:30:00"},{"$f":"VLOOKUP($D$1&D24&$E$1&E24,'2020_Virtual_Forum'!A:F,5,FALSE)","v":"14:00 - 15:15 PM (UTC)"},{"$f":"HLOOKUP($F24,'2020_Virtual_Forum'!$H$5:$Q$7,2,FALSE)","v":"Session 5"},{"$f":"HLOOKUP($F24,'2020_Virtual_Forum'!$H$5:$Q$7,3,FALSE)","v":0},"NA","NA","NA","NA","NA","Empty"]
[36,"Day1_Time_Slot3_Parallel 06","Day1_Time_Slot3",1,3,"Parallel 06",{"$f":"VLOOKUP($D$1&D25,'2020_Virtual_Forum'!A:F,6,FALSE)","v":"2020-10-19T06:30:00"},{"$f":"VLOOKUP($D$1&D25&$E$1&E25,'2020_Virtual_Forum'!A:F,5,FALSE)","v":"14:00 - 15:15 PM (UTC)"},{"$f":"HLOOKUP($F25,'2020_Virtual_Forum'!$H$5:$Q$7,2,FALSE)","v":"Session 6"},{"$f":"HLOOKUP($F25,'2020_Virtual_Forum'!$H$5:$Q$7,3,FALSE)","v":0},"NA","NA","NA",{"$f":"IF(K25=\"NA\",\"NA\",IF(K25=\"Y\",COUNTIF($M$1:M24,M25)+1,COUNTIF($M$1:M24,M25)+1))","v":"NA"},"NA","TBC"]
[37,"Day1_Time_Slot3_Parallel 07","Day1_Time_Slot3",1,3,"Parallel 07",{"$f":"VLOOKUP($D$1&D26,'2020_Virtual_Forum'!A:F,6,FALSE)","v":"2020-10-19T06:30:00"},{"$f":"VLOOKUP($D$1&D26&$E$1&E26,'2020_Virtual_Forum'!A:F,5,FALSE)","v":"14:00 - 15:15 PM (UTC)"},{"$f":"HLOOKUP($F26,'2020_Virtual_Forum'!$H$5:$Q$7,2,FALSE)","v":"Session 7"},{"$f":"HLOOKUP($F26,'2020_Virtual_Forum'!$H$5:$Q$7,3,FALSE)","v":0},"NA","NA","NA",{"$f":"IF(K26=\"NA\",\"NA\",IF(K26=\"Y\",COUNTIF($M$1:M25,M26)+1,COUNTIF($M$1:M25,M26)+1))","v":"NA"},"NA","TBC"]
[38,"Day1_Time_Slot3_Parallel 08","Day1_Time_Slot3",1,3,"Parallel 08",{"$f":"VLOOKUP($D$1&D27,'2020_Virtual_Forum'!A:F,6,FALSE)","v":"2020-10-19T06:30:00"},{"$f":"VLOOKUP($D$1&D27&$E$1&E27,'2020_Virtual_Forum'!A:F,5,FALSE)","v":"14:00 - 15:15 PM (UTC)"},{"$f":"HLOOKUP($F27,'2020_Virtual_Forum'!$H$5:$Q$7,2,FALSE)","v":"Session 8"},{"$f":"HLOOKUP($F27,'2020_Virtual_Forum'!$H$5:$Q$7,3,FALSE)","v":0},"NA","NA","NA",{"$f":"IF(K27=\"NA\",\"NA\",IF(K27=\"Y\",COUNTIF($M$1:M26,M27)+1,COUNTIF($M$1:M26,M27)+1))","v":"NA"},"NA","TBC"]
[39,"Day1_Time_Slot3_Parallel 09","Day1_Time_Slot3",1,3,"Parallel 09",{"$f":"VLOOKUP($D$1&D28,'2020_Virtual_Forum'!A:F,6,FALSE)","v":"2020-10-19T06:30:00"},{"$f":"VLOOKUP($D$1&D28&$E$1&E28,'2020_Virtual_Forum'!A:F,5,FALSE)","v":"14:00 - 15:15 PM (UTC)"},{"$f":"HLOOKUP($F28,'2020_Virtual_Forum'!$H$5:$Q$7,2,FALSE)","v":"Session 9"},{"$f":"HLOOKUP($F28,'2020_Virtual_Forum'!$H$5:$Q$7,3,FALSE)","v":0},"NA","NA","NA",{"$f":"IF(K28=\"NA\",\"NA\",IF(K28=\"Y\",COUNTIF($M$1:M27,M28)+1,COUNTIF($M$1:M27,M28)+1))","v":"NA"},"NA","TBC"]
[40,"Day1_Time_Slot3_Parallel 10","Day1_Time_Slot3",1,3,"Parallel 10",{"$f":"VLOOKUP($D$1&D29,'2020_Virtual_Forum'!A:F,6,FALSE)","v":"2020-10-19T06:30:00"},{"$f":"VLOOKUP($D$1&D29&$E$1&E29,'2020_Virtual_Forum'!A:F,5,FALSE)","v":"14:00 - 15:15 PM (UTC)"},{"$f":"HLOOKUP($F29,'2020_Virtual_Forum'!$H$5:$Q$7,2,FALSE)","v":"Session 10"},{"$f":"HLOOKUP($F29,'2020_Virtual_Forum'!$H$5:$Q$7,3,FALSE)","v":0},"NA","NA","NA",{"$f":"IF(K29=\"NA\",\"NA\",IF(K29=\"Y\",COUNTIF($M$1:M28,M29)+1,COUNTIF($M$1:M28,M29)+1))","v":"NA"},"NA","NA"]
[45,"Day1_Time_Slot4_Parallel 05","Day1_Time_Slot4",1,4,"Parallel 05",{"$f":"VLOOKUP($D$1&D30,'2020_Virtual_Forum'!A:F,6,FALSE)","v":"2020-10-19T06:30:00"},{"$f":"VLOOKUP($D$1&D30&$E$1&E30,'2020_Virtual_Forum'!A:F,5,FALSE)","v":"15:30 - 16:45 PM (UTC)"},{"$f":"HLOOKUP($F30,'2020_Virtual_Forum'!$H$5:$Q$7,2,FALSE)","v":"Session 5"},{"$f":"HLOOKUP($F30,'2020_Virtual_Forum'!$H$5:$Q$7,3,FALSE)","v":0},"NA","NA","NA","NA","NA","Empty"]
[46,"Day1_Time_Slot4_Parallel 06","Day1_Time_Slot4",1,4,"Parallel 06",{"$f":"VLOOKUP($D$1&D31,'2020_Virtual_Forum'!A:F,6,FALSE)","v":"2020-10-19T06:30:00"},{"$f":"VLOOKUP($D$1&D31&$E$1&E31,'2020_Virtual_Forum'!A:F,5,FALSE)","v":"15:30 - 16:45 PM (UTC)"},{"$f":"HLOOKUP($F31,'2020_Virtual_Forum'!$H$5:$Q$7,2,FALSE)","v":"Session 6"},{"$f":"HLOOKUP($F31,'2020_Virtual_Forum'!$H$5:$Q$7,3,FALSE)","v":0},"NA","NA","NA",{"$f":"IF(K31=\"NA\",\"NA\",IF(K31=\"Y\",COUNTIF($M$1:M30,M31)+1,COUNTIF($M$1:M30,M31)+1))","v":"NA"},"NA","TBC"]
[47,"Day1_Time_Slot4_Parallel 07","Day1_Time_Slot4",1,4,"Parallel 07",{"$f":"VLOOKUP($D$1&D32,'2020_Virtual_Forum'!A:F,6,FALSE)","v":"2020-10-19T06:30:00"},{"$f":"VLOOKUP($D$1&D32&$E$1&E32,'2020_Virtual_Forum'!A:F,5,FALSE)","v":"15:30 - 16:45 PM (UTC)"},{"$f":"HLOOKUP($F32,'2020_Virtual_Forum'!$H$5:$Q$7,2,FALSE)","v":"Session 7"},{"$f":"HLOOKUP($F32,'2020_Virtual_Forum'!$H$5:$Q$7,3,FALSE)","v":0},"NA","NA","NA",{"$f":"IF(K32=\"NA\",\"NA\",IF(K32=\"Y\",COUNTIF($M$1:M31,M32)+1,COUNTIF($M$1:M31,M32)+1))","v":"NA"},"NA","TBC"]
[48,"Day1_Time_Slot4_Parallel 08","Day1_Time_Slot4",1,4,"Parallel 08",{"$f":"VLOOKUP($D$1&D33,'2020_Virtual_Forum'!A:F,6,FALSE)","v":"2020-10-19T06:30:00"},{"$f":"VLOOKUP($D$1&D33&$E$1&E33,'2020_Virtual_Forum'!A:F,5,FALSE)","v":"15:30 - 16:45 PM (UTC)"},{"$f":"HLOOKUP($F33,'2020_Virtual_Forum'!$H$5:$Q$7,2,FALSE)","v":"Session 8"},{"$f":"HLOOKUP($F33,'2020_Virtual_Forum'!$H$5:$Q$7,3,FALSE)","v":0},"NA","NA","NA",{"$f":"IF(K33=\"NA\",\"NA\",IF(K33=\"Y\",COUNTIF($M$1:M32,M33)+1,COUNTIF($M$1:M32,M33)+1))","v":"NA"},"NA","TBC"]
[49,{"$f":"C34&\"_\"&F34","v":"Day1_Time_Slot4_Parallel 09"},{"$f":"$D$1&D34&\"_\"&$E$1&E34","v":"Day1_Time_Slot4"},1,4,"Parallel 09",{"$f":"VLOOKUP($D$1&D34,'2020_Virtual_Forum'!A:F,6,FALSE)","v":"2020-10-19T06:30:00"},{"$f":"VLOOKUP($D$1&D34&$E$1&E34,'2020_Virtual_Forum'!A:F,5,FALSE)","v":"15:30 - 16:45 PM (UTC)"},{"$f":"HLOOKUP($F34,'2020_Virtual_Forum'!$H$5:$Q$7,2,FALSE)","v":"Session 9"},{"$f":"HLOOKUP($F34,'2020_Virtual_Forum'!$H$5:$Q$7,3,FALSE)","v":0},"NA","NA","NA",{"$f":"IF(K34=\"NA\",\"NA\",IF(K34=\"Y\",COUNTIF($M$1:M33,M34)+1,COUNTIF($M$1:M33,M34)+1))","v":"NA"},"NA","TBC"]
[50,"Day1_Time_Slot4_Parallel 10","Day1_Time_Slot4",1,4,"Parallel 10",{"$f":"VLOOKUP($D$1&D35,'2020_Virtual_Forum'!A:F,6,FALSE)","v":"2020-10-19T06:30:00"},{"$f":"VLOOKUP($D$1&D35&$E$1&E35,'2020_Virtual_Forum'!A:F,5,FALSE)","v":"15:30 - 16:45 PM (UTC)"},{"$f":"HLOOKUP($F35,'2020_Virtual_Forum'!$H$5:$Q$7,2,FALSE)","v":"Session 10"},{"$f":"HLOOKUP($F35,'2020_Virtual_Forum'!$H$5:$Q$7,3,FALSE)","v":0},"NA","NA","NA",{"$f":"IF(K35=\"NA\",\"NA\",IF(K35=\"Y\",COUNTIF($M$1:M34,M35)+1,COUNTIF($M$1:M34,M35)+1))","v":"NA"},"NA","NA"]
[2,"Day1_Time_SlotO_Parallel 02","Day1_Time_SlotO",1,"O","Parallel 02",{"$f":"VLOOKUP($D$1&D36,'2020_Virtual_Forum'!A:F,6,FALSE)","v":"2020-10-19T06:30:00"},{"$f":"VLOOKUP($D$1&D36&$E$1&E36,'2020_Virtual_Forum'!A:F,5,FALSE)","v":"10:30 - 11:00 AM (UTC)"},{"$f":"HLOOKUP($F36,'2020_Virtual_Forum'!$H$5:$Q$7,2,FALSE)","v":"Session 2"},{"$f":"HLOOKUP($F36,'2020_Virtual_Forum'!$H$5:$Q$7,3,FALSE)","v":0},"NA","NA","NA",{"$f":"IF(K36=\"NA\",\"NA\",IF(K36=\"Y\",COUNTIF($M$1:M35,M36)+1,COUNTIF($M$1:M35,M36)+1))","v":"NA"},"NA","NA"]
[3,"Day1_Time_SlotO_Parallel 03","Day1_Time_SlotO",1,"O","Parallel 03",{"$f":"VLOOKUP($D$1&D37,'2020_Virtual_Forum'!A:F,6,FALSE)","v":"2020-10-19T06:30:00"},{"$f":"VLOOKUP($D$1&D37&$E$1&E37,'2020_Virtual_Forum'!A:F,5,FALSE)","v":"10:30 - 11:00 AM (UTC)"},{"$f":"HLOOKUP($F37,'2020_Virtual_Forum'!$H$5:$Q$7,2,FALSE)","v":"Session 3"},{"$f":"HLOOKUP($F37,'2020_Virtual_Forum'!$H$5:$Q$7,3,FALSE)","v":0},"NA","NA","NA",{"$f":"IF(K37=\"NA\",\"NA\",IF(K37=\"Y\",COUNTIF($M$1:M36,M37)+1,COUNTIF($M$1:M36,M37)+1))","v":"NA"},"NA","NA"]
[4,"Day1_Time_SlotO_Parallel 04","Day1_Time_SlotO",1,"O","Parallel 04",{"$f":"VLOOKUP($D$1&D38,'2020_Virtual_Forum'!A:F,6,FALSE)","v":"2020-10-19T06:30:00"},{"$f":"VLOOKUP($D$1&D38&$E$1&E38,'2020_Virtual_Forum'!A:F,5,FALSE)","v":"10:30 - 11:00 AM (UTC)"},{"$f":"HLOOKUP($F38,'2020_Virtual_Forum'!$H$5:$Q$7,2,FALSE)","v":"Session 4"},{"$f":"HLOOKUP($F38,'2020_Virtual_Forum'!$H$5:$Q$7,3,FALSE)","v":0},"NA","NA","NA",{"$f":"IF(K38=\"NA\",\"NA\",IF(K38=\"Y\",COUNTIF($M$1:M37,M38)+1,COUNTIF($M$1:M37,M38)+1))","v":"NA"},"NA","NA"]
[5,"Day1_Time_SlotO_Parallel 05","Day1_Time_SlotO",1,"O","Parallel 05",{"$f":"VLOOKUP($D$1&D39,'2020_Virtual_Forum'!A:F,6,FALSE)","v":"2020-10-19T06:30:00"},{"$f":"VLOOKUP($D$1&D39&$E$1&E39,'2020_Virtual_Forum'!A:F,5,FALSE)","v":"10:30 - 11:00 AM (UTC)"},{"$f":"HLOOKUP($F39,'2020_Virtual_Forum'!$H$5:$Q$7,2,FALSE)","v":"Session 5"},{"$f":"HLOOKUP($F39,'2020_Virtual_Forum'!$H$5:$Q$7,3,FALSE)","v":0},"NA","NA","NA","NA","NA","Empty"]
[6,"Day1_Time_SlotO_Parallel 06","Day1_Time_SlotO",1,"O","Parallel 06",{"$f":"VLOOKUP($D$1&D40,'2020_Virtual_Forum'!A:F,6,FALSE)","v":"2020-10-19T06:30:00"},{"$f":"VLOOKUP($D$1&D40&$E$1&E40,'2020_Virtual_Forum'!A:F,5,FALSE)","v":"10:30 - 11:00 AM (UTC)"},{"$f":"HLOOKUP($F40,'2020_Virtual_Forum'!$H$5:$Q$7,2,FALSE)","v":"Session 6"},{"$f":"HLOOKUP($F40,'2020_Virtual_Forum'!$H$5:$Q$7,3,FALSE)","v":0},"NA","NA","NA",{"$f":"IF(K40=\"NA\",\"NA\",IF(K40=\"Y\",COUNTIF($M$1:M39,M40)+1,COUNTIF($M$1:M39,M40)+1))","v":"NA"},"NA","NA"]
[7,"Day1_Time_SlotO_Parallel 07","Day1_Time_SlotO",1,"O","Parallel 07",{"$f":"VLOOKUP($D$1&D41,'2020_Virtual_Forum'!A:F,6,FALSE)","v":"2020-10-19T06:30:00"},{"$f":"VLOOKUP($D$1&D41&$E$1&E41,'2020_Virtual_Forum'!A:F,5,FALSE)","v":"10:30 - 11:00 AM (UTC)"},{"$f":"HLOOKUP($F41,'2020_Virtual_Forum'!$H$5:$Q$7,2,FALSE)","v":"Session 7"},{"$f":"HLOOKUP($F41,'2020_Virtual_Forum'!$H$5:$Q$7,3,FALSE)","v":0},"NA","NA","NA",{"$f":"IF(K41=\"NA\",\"NA\",IF(K41=\"Y\",COUNTIF($M$1:M40,M41)+1,COUNTIF($M$1:M40,M41)+1))","v":"NA"},"NA","NA"]
[8,"Day1_Time_SlotO_Parallel 08","Day1_Time_SlotO",1,"O","Parallel 08",{"$f":"VLOOKUP($D$1&D42,'2020_Virtual_Forum'!A:F,6,FALSE)","v":"2020-10-19T06:30:00"},{"$f":"VLOOKUP($D$1&D42&$E$1&E42,'2020_Virtual_Forum'!A:F,5,FALSE)","v":"10:30 - 11:00 AM (UTC)"},{"$f":"HLOOKUP($F42,'2020_Virtual_Forum'!$H$5:$Q$7,2,FALSE)","v":"Session 8"},{"$f":"HLOOKUP($F42,'2020_Virtual_Forum'!$H$5:$Q$7,3,FALSE)","v":0},"NA","NA","NA",{"$f":"IF(K42=\"NA\",\"NA\",IF(K42=\"Y\",COUNTIF($M$1:M41,M42)+1,COUNTIF($M$1:M41,M42)+1))","v":"NA"},"NA","NA"]
[9,"Day1_Time_SlotO_Parallel 09","Day1_Time_SlotO",1,"O","Parallel 09",{"$f":"VLOOKUP($D$1&D43,'2020_Virtual_Forum'!A:F,6,FALSE)","v":"2020-10-19T06:30:00"},{"$f":"VLOOKUP($D$1&D43&$E$1&E43,'2020_Virtual_Forum'!A:F,5,FALSE)","v":"10:30 - 11:00 AM (UTC)"},{"$f":"HLOOKUP($F43,'2020_Virtual_Forum'!$H$5:$Q$7,2,FALSE)","v":"Session 9"},{"$f":"HLOOKUP($F43,'2020_Virtual_Forum'!$H$5:$Q$7,3,FALSE)","v":0},"NA","NA","NA",{"$f":"IF(K43=\"NA\",\"NA\",IF(K43=\"Y\",COUNTIF($M$1:M42,M43)+1,COUNTIF($M$1:M42,M43)+1))","v":"NA"},"NA","NA"]
[10,"Day1_Time_SlotO_Parallel 10","Day1_Time_SlotO",1,"O","Parallel 10",{"$f":"VLOOKUP($D$1&D44,'2020_Virtual_Forum'!A:F,6,FALSE)","v":"2020-10-19T06:30:00"},{"$f":"VLOOKUP($D$1&D44&$E$1&E44,'2020_Virtual_Forum'!A:F,5,FALSE)","v":"10:30 - 11:00 AM (UTC)"},{"$f":"HLOOKUP($F44,'2020_Virtual_Forum'!$H$5:$Q$7,2,FALSE)","v":"Session 10"},{"$f":"HLOOKUP($F44,'2020_Virtual_Forum'!$H$5:$Q$7,3,FALSE)","v":0},"NA","NA","NA",{"$f":"IF(K44=\"NA\",\"NA\",IF(K44=\"Y\",COUNTIF($M$1:M43,M44)+1,COUNTIF($M$1:M43,M44)+1))","v":"NA"},"NA","NA"]
[55,"Day2_Time_Slot1_Parallel 05","Day2_Time_Slot1",2,1,"Parallel 05",{"$f":"VLOOKUP($D$1&D45,'2020_Virtual_Forum'!A:F,6,FALSE)","v":"2020-10-20T07:00:00"},{"$f":"VLOOKUP($D$1&D45&$E$1&E45,'2020_Virtual_Forum'!A:F,5,FALSE)","v":"11:00 - 12:15 PM (UTC)"},{"$f":"HLOOKUP($F45,'2020_Virtual_Forum'!$H$5:$Q$7,2,FALSE)","v":"Session 5"},{"$f":"HLOOKUP($F45,'2020_Virtual_Forum'!$H$5:$Q$7,3,FALSE)","v":0},"NA","NA","NA","NA","NA","Empty"]
[56,"Day2_Time_Slot1_Parallel 06","Day2_Time_Slot1",2,1,"Parallel 06",{"$f":"VLOOKUP($D$1&D46,'2020_Virtual_Forum'!A:F,6,FALSE)","v":"2020-10-20T07:00:00"},{"$f":"VLOOKUP($D$1&D46&$E$1&E46,'2020_Virtual_Forum'!A:F,5,FALSE)","v":"11:00 - 12:15 PM (UTC)"},{"$f":"HLOOKUP($F46,'2020_Virtual_Forum'!$H$5:$Q$7,2,FALSE)","v":"Session 6"},{"$f":"HLOOKUP($F46,'2020_Virtual_Forum'!$H$5:$Q$7,3,FALSE)","v":0},"NA","NA","NA",{"$f":"IF(K46=\"NA\",\"NA\",IF(K46=\"Y\",COUNTIF($M$1:M45,M46)+1,COUNTIF($M$1:M45,M46)+1))","v":"NA"},"NA","TBC"]
[57,"Day2_Time_Slot1_Parallel 07","Day2_Time_Slot1",2,1,"Parallel 07",{"$f":"VLOOKUP($D$1&D47,'2020_Virtual_Forum'!A:F,6,FALSE)","v":"2020-10-20T07:00:00"},{"$f":"VLOOKUP($D$1&D47&$E$1&E47,'2020_Virtual_Forum'!A:F,5,FALSE)","v":"11:00 - 12:15 PM (UTC)"},{"$f":"HLOOKUP($F47,'2020_Virtual_Forum'!$H$5:$Q$7,2,FALSE)","v":"Session 7"},{"$f":"HLOOKUP($F47,'2020_Virtual_Forum'!$H$5:$Q$7,3,FALSE)","v":0},"NA","NA","NA",{"$f":"IF(K47=\"NA\",\"NA\",IF(K47=\"Y\",COUNTIF($M$1:M46,M47)+1,COUNTIF($M$1:M46,M47)+1))","v":"NA"},"NA","TBC"]
[58,"Day2_Time_Slot1_Parallel 08","Day2_Time_Slot1",2,1,"Parallel 08",{"$f":"VLOOKUP($D$1&D48,'2020_Virtual_Forum'!A:F,6,FALSE)","v":"2020-10-20T07:00:00"},{"$f":"VLOOKUP($D$1&D48&$E$1&E48,'2020_Virtual_Forum'!A:F,5,FALSE)","v":"11:00 - 12:15 PM (UTC)"},{"$f":"HLOOKUP($F48,'2020_Virtual_Forum'!$H$5:$Q$7,2,FALSE)","v":"Session 8"},{"$f":"HLOOKUP($F48,'2020_Virtual_Forum'!$H$5:$Q$7,3,FALSE)","v":0},"NA","NA","NA",{"$f":"IF(K48=\"NA\",\"NA\",IF(K48=\"Y\",COUNTIF($M$1:M47,M48)+1,COUNTIF($M$1:M47,M48)+1))","v":"NA"},"NA","TBC"]
[59,"Day2_Time_Slot1_Parallel 09","Day2_Time_Slot1",2,1,"Parallel 09",{"$f":"VLOOKUP($D$1&D49,'2020_Virtual_Forum'!A:F,6,FALSE)","v":"2020-10-20T07:00:00"},{"$f":"VLOOKUP($D$1&D49&$E$1&E49,'2020_Virtual_Forum'!A:F,5,FALSE)","v":"11:00 - 12:15 PM (UTC)"},{"$f":"HLOOKUP($F49,'2020_Virtual_Forum'!$H$5:$Q$7,2,FALSE)","v":"Session 9"},{"$f":"HLOOKUP($F49,'2020_Virtual_Forum'!$H$5:$Q$7,3,FALSE)","v":0},"NA","NA","NA",{"$f":"IF(K49=\"NA\",\"NA\",IF(K49=\"Y\",COUNTIF($M$1:M48,M49)+1,COUNTIF($M$1:M48,M49)+1))","v":"NA"},"NA","TBC"]
[60,"Day2_Time_Slot1_Parallel 10","Day2_Time_Slot1",2,1,"Parallel 10",{"$f":"VLOOKUP($D$1&D50,'2020_Virtual_Forum'!A:F,6,FALSE)","v":"2020-10-20T07:00:00"},{"$f":"VLOOKUP($D$1&D50&$E$1&E50,'2020_Virtual_Forum'!A:F,5,FALSE)","v":"11:00 - 12:15 PM (UTC)"},{"$f":"HLOOKUP($F50,'2020_Virtual_Forum'!$H$5:$Q$7,2,FALSE)","v":"Session 10"},{"$f":"HLOOKUP($F50,'2020_Virtual_Forum'!$H$5:$Q$7,3,FALSE)","v":0},"NA","NA","NA",{"$f":"IF(K50=\"NA\",\"NA\",IF(K50=\"Y\",COUNTIF($M$1:M49,M50)+1,COUNTIF($M$1:M49,M50)+1))","v":"NA"},"NA","NA"]
[62,"Day2_Time_Slot2_Parallel 02","Day2_Time_Slot2",2,2,"Parallel 02",{"$f":"VLOOKUP($D$1&D51,'2020_Virtual_Forum'!A:F,6,FALSE)","v":"2020-10-20T07:00:00"},{"$f":"VLOOKUP($D$1&D51&$E$1&E51,'2020_Virtual_Forum'!A:F,5,FALSE)","v":"12:30 - 13:45 PM (UTC)"},{"$f":"HLOOKUP($F51,'2020_Virtual_Forum'!$H$5:$Q$7,2,FALSE)","v":"Session 2"},{"$f":"HLOOKUP($F51,'2020_Virtual_Forum'!$H$5:$Q$7,3,FALSE)","v":0},"NA","NA","NA",{"$f":"IF(K51=\"NA\",\"NA\",IF(K51=\"Y\",COUNTIF($M$1:M50,M51)+1,COUNTIF($M$1:M50,M51)+1))","v":"NA"},"NA","NA"]
[63,"Day2_Time_Slot2_Parallel 03","Day2_Time_Slot2",2,2,"Parallel 03",{"$f":"VLOOKUP($D$1&D52,'2020_Virtual_Forum'!A:F,6,FALSE)","v":"2020-10-20T07:00:00"},{"$f":"VLOOKUP($D$1&D52&$E$1&E52,'2020_Virtual_Forum'!A:F,5,FALSE)","v":"12:30 - 13:45 PM (UTC)"},{"$f":"HLOOKUP($F52,'2020_Virtual_Forum'!$H$5:$Q$7,2,FALSE)","v":"Session 3"},{"$f":"HLOOKUP($F52,'2020_Virtual_Forum'!$H$5:$Q$7,3,FALSE)","v":0},"NA","NA","NA",{"$f":"IF(K52=\"NA\",\"NA\",IF(K52=\"Y\",COUNTIF($M$1:M51,M52)+1,COUNTIF($M$1:M51,M52)+1))","v":"NA"},"NA","NA"]
[64,"Day2_Time_Slot2_Parallel 04","Day2_Time_Slot2",2,2,"Parallel 04",{"$f":"VLOOKUP($D$1&D53,'2020_Virtual_Forum'!A:F,6,FALSE)","v":"2020-10-20T07:00:00"},{"$f":"VLOOKUP($D$1&D53&$E$1&E53,'2020_Virtual_Forum'!A:F,5,FALSE)","v":"12:30 - 13:45 PM (UTC)"},{"$f":"HLOOKUP($F53,'2020_Virtual_Forum'!$H$5:$Q$7,2,FALSE)","v":"Session 4"},{"$f":"HLOOKUP($F53,'2020_Virtual_Forum'!$H$5:$Q$7,3,FALSE)","v":0},"NA","NA","NA",{"$f":"IF(K53=\"NA\",\"NA\",IF(K53=\"Y\",COUNTIF($M$1:M52,M53)+1,COUNTIF($M$1:M52,M53)+1))","v":"NA"},"NA","NA"]
[65,"Day2_Time_Slot2_Parallel 05","Day2_Time_Slot2",2,2,"Parallel 05",{"$f":"VLOOKUP($D$1&D54,'2020_Virtual_Forum'!A:F,6,FALSE)","v":"2020-10-20T07:00:00"},{"$f":"VLOOKUP($D$1&D54&$E$1&E54,'2020_Virtual_Forum'!A:F,5,FALSE)","v":"12:30 - 13:45 PM (UTC)"},{"$f":"HLOOKUP($F54,'2020_Virtual_Forum'!$H$5:$Q$7,2,FALSE)","v":"Session 5"},{"$f":"HLOOKUP($F54,'2020_Virtual_Forum'!$H$5:$Q$7,3,FALSE)","v":0},"NA","NA","NA","NA","NA","Empty"]
[66,"Day2_Time_Slot2_Parallel 06","Day2_Time_Slot2",2,2,"Parallel 06",{"$f":"VLOOKUP($D$1&D55,'2020_Virtual_Forum'!A:F,6,FALSE)","v":"2020-10-20T07:00:00"},{"$f":"VLOOKUP($D$1&D55&$E$1&E55,'2020_Virtual_Forum'!A:F,5,FALSE)","v":"12:30 - 13:45 PM (UTC)"},{"$f":"HLOOKUP($F55,'2020_Virtual_Forum'!$H$5:$Q$7,2,FALSE)","v":"Session 6"},{"$f":"HLOOKUP($F55,'2020_Virtual_Forum'!$H$5:$Q$7,3,FALSE)","v":0},"NA","NA","NA",{"$f":"IF(K55=\"NA\",\"NA\",IF(K55=\"Y\",COUNTIF($M$1:M54,M55)+1,COUNTIF($M$1:M54,M55)+1))","v":"NA"},"NA","NA"]
[67,"Day2_Time_Slot2_Parallel 07","Day2_Time_Slot2",2,2,"Parallel 07",{"$f":"VLOOKUP($D$1&D56,'2020_Virtual_Forum'!A:F,6,FALSE)","v":"2020-10-20T07:00:00"},{"$f":"VLOOKUP($D$1&D56&$E$1&E56,'2020_Virtual_Forum'!A:F,5,FALSE)","v":"12:30 - 13:45 PM (UTC)"},{"$f":"HLOOKUP($F56,'2020_Virtual_Forum'!$H$5:$Q$7,2,FALSE)","v":"Session 7"},{"$f":"HLOOKUP($F56,'2020_Virtual_Forum'!$H$5:$Q$7,3,FALSE)","v":0},"NA","NA","NA",{"$f":"IF(K56=\"NA\",\"NA\",IF(K56=\"Y\",COUNTIF($M$1:M55,M56)+1,COUNTIF($M$1:M55,M56)+1))","v":"NA"},"NA","NA"]
[68,"Day2_Time_Slot2_Parallel 08","Day2_Time_Slot2",2,2,"Parallel 08",{"$f":"VLOOKUP($D$1&D57,'2020_Virtual_Forum'!A:F,6,FALSE)","v":"2020-10-20T07:00:00"},{"$f":"VLOOKUP($D$1&D57&$E$1&E57,'2020_Virtual_Forum'!A:F,5,FALSE)","v":"12:30 - 13:45 PM (UTC)"},{"$f":"HLOOKUP($F57,'2020_Virtual_Forum'!$H$5:$Q$7,2,FALSE)","v":"Session 8"},{"$f":"HLOOKUP($F57,'2020_Virtual_Forum'!$H$5:$Q$7,3,FALSE)","v":0},"NA","NA","NA",{"$f":"IF(K57=\"NA\",\"NA\",IF(K57=\"Y\",COUNTIF($M$1:M56,M57)+1,COUNTIF($M$1:M56,M57)+1))","v":"NA"},"NA","NA"]
[69,"Day2_Time_Slot2_Parallel 09","Day2_Time_Slot2",2,2,"Parallel 09",{"$f":"VLOOKUP($D$1&D58,'2020_Virtual_Forum'!A:F,6,FALSE)","v":"2020-10-20T07:00:00"},{"$f":"VLOOKUP($D$1&D58&$E$1&E58,'2020_Virtual_Forum'!A:F,5,FALSE)","v":"12:30 - 13:45 PM (UTC)"},{"$f":"HLOOKUP($F58,'2020_Virtual_Forum'!$H$5:$Q$7,2,FALSE)","v":"Session 9"},{"$f":"HLOOKUP($F58,'2020_Virtual_Forum'!$H$5:$Q$7,3,FALSE)","v":0},"NA","NA","NA",{"$f":"IF(K58=\"NA\",\"NA\",IF(K58=\"Y\",COUNTIF($M$1:M57,M58)+1,COUNTIF($M$1:M57,M58)+1))","v":"NA"},"NA","NA"]
[70,"Day2_Time_Slot2_Parallel 10","Day2_Time_Slot2",2,2,"Parallel 10",{"$f":"VLOOKUP($D$1&D59,'2020_Virtual_Forum'!A:F,6,FALSE)","v":"2020-10-20T07:00:00"},{"$f":"VLOOKUP($D$1&D59&$E$1&E59,'2020_Virtual_Forum'!A:F,5,FALSE)","v":"12:30 - 13:45 PM (UTC)"},{"$f":"HLOOKUP($F59,'2020_Virtual_Forum'!$H$5:$Q$7,2,FALSE)","v":"Session 10"},{"$f":"HLOOKUP($F59,'2020_Virtual_Forum'!$H$5:$Q$7,3,FALSE)","v":0},"NA","NA","NA",{"$f":"IF(K59=\"NA\",\"NA\",IF(K59=\"Y\",COUNTIF($M$1:M58,M59)+1,COUNTIF($M$1:M58,M59)+1))","v":"NA"},"NA","NA"]
[74,"Day2_Time_Slot3_Parallel 04","Day2_Time_Slot3",2,3,"Parallel 04",{"$f":"VLOOKUP($D$1&D60,'2020_Virtual_Forum'!A:F,6,FALSE)","v":"2020-10-20T07:00:00"},{"$f":"VLOOKUP($D$1&D60&$E$1&E60,'2020_Virtual_Forum'!A:F,5,FALSE)","v":"14:00 - 15:15 PM (UTC)"},{"$f":"HLOOKUP($F60,'2020_Virtual_Forum'!$H$5:$Q$7,2,FALSE)","v":"Session 4"},{"$f":"HLOOKUP($F60,'2020_Virtual_Forum'!$H$5:$Q$7,3,FALSE)","v":0},"N","SP.1139",3,3,"TA3.03","Mind the Gap: Assessing progress towards gender equality with innovative approaches"]
[75,"Day2_Time_Slot3_Parallel 05","Day2_Time_Slot3",2,3,"Parallel 05",{"$f":"VLOOKUP($D$1&D61,'2020_Virtual_Forum'!A:F,6,FALSE)","v":"2020-10-20T07:00:00"},{"$f":"VLOOKUP($D$1&D61&$E$1&E61,'2020_Virtual_Forum'!A:F,5,FALSE)","v":"14:00 - 15:15 PM (UTC)"},{"$f":"HLOOKUP($F61,'2020_Virtual_Forum'!$H$5:$Q$7,2,FALSE)","v":"Session 5"},{"$f":"HLOOKUP($F61,'2020_Virtual_Forum'!$H$5:$Q$7,3,FALSE)","v":0},"NA","NA","NA","NA","NA","Empty"]
[76,"Day2_Time_Slot3_Parallel 06","Day2_Time_Slot3",2,3,"Parallel 06",{"$f":"VLOOKUP($D$1&D62,'2020_Virtual_Forum'!A:F,6,FALSE)","v":"2020-10-20T07:00:00"},{"$f":"VLOOKUP($D$1&D62&$E$1&E62,'2020_Virtual_Forum'!A:F,5,FALSE)","v":"14:00 - 15:15 PM (UTC)"},{"$f":"HLOOKUP($F62,'2020_Virtual_Forum'!$H$5:$Q$7,2,FALSE)","v":"Session 6"},{"$f":"HLOOKUP($F62,'2020_Virtual_Forum'!$H$5:$Q$7,3,FALSE)","v":0},"NA","NA","NA",{"$f":"IF(K62=\"NA\",\"NA\",IF(K62=\"Y\",COUNTIF($M$1:M61,M62)+1,COUNTIF($M$1:M61,M62)+1))","v":"NA"},"NA","TBC"]
[77,"Day2_Time_Slot3_Parallel 07","Day2_Time_Slot3",2,3,"Parallel 07",{"$f":"VLOOKUP($D$1&D63,'2020_Virtual_Forum'!A:F,6,FALSE)","v":"2020-10-20T07:00:00"},{"$f":"VLOOKUP($D$1&D63&$E$1&E63,'2020_Virtual_Forum'!A:F,5,FALSE)","v":"14:00 - 15:15 PM (UTC)"},{"$f":"HLOOKUP($F63,'2020_Virtual_Forum'!$H$5:$Q$7,2,FALSE)","v":"Session 7"},{"$f":"HLOOKUP($F63,'2020_Virtual_Forum'!$H$5:$Q$7,3,FALSE)","v":0},"NA","NA","NA",{"$f":"IF(K63=\"NA\",\"NA\",IF(K63=\"Y\",COUNTIF($M$1:M62,M63)+1,COUNTIF($M$1:M62,M63)+1))","v":"NA"},"NA","TBC"]
[78,"Day2_Time_Slot3_Parallel 08","Day2_Time_Slot3",2,3,"Parallel 08",{"$f":"VLOOKUP($D$1&D64,'2020_Virtual_Forum'!A:F,6,FALSE)","v":"2020-10-20T07:00:00"},{"$f":"VLOOKUP($D$1&D64&$E$1&E64,'2020_Virtual_Forum'!A:F,5,FALSE)","v":"14:00 - 15:15 PM (UTC)"},{"$f":"HLOOKUP($F64,'2020_Virtual_Forum'!$H$5:$Q$7,2,FALSE)","v":"Session 8"},{"$f":"HLOOKUP($F64,'2020_Virtual_Forum'!$H$5:$Q$7,3,FALSE)","v":0},"NA","NA","NA",{"$f":"IF(K64=\"NA\",\"NA\",IF(K64=\"Y\",COUNTIF($M$1:M63,M64)+1,COUNTIF($M$1:M63,M64)+1))","v":"NA"},"NA","TBC"]
[79,{"$f":"C65&\"_\"&F65","v":"Day2_Time_Slot3_Parallel 09"},{"$f":"$D$1&D65&\"_\"&$E$1&E65","v":"Day2_Time_Slot3"},2,3,"Parallel 09",{"$f":"VLOOKUP($D$1&D65,'2020_Virtual_Forum'!A:F,6,FALSE)","v":"2020-10-20T07:00:00"},{"$f":"VLOOKUP($D$1&D65&$E$1&E65,'2020_Virtual_Forum'!A:F,5,FALSE)","v":"14:00 - 15:15 PM (UTC)"},{"$f":"HLOOKUP($F65,'2020_Virtual_Forum'!$H$5:$Q$7,2,FALSE)","v":"Session 9"},{"$f":"HLOOKUP($F65,'2020_Virtual_Forum'!$H$5:$Q$7,3,FALSE)","v":0},"NA","NA","NA",{"$f":"IF(K65=\"NA\",\"NA\",IF(K65=\"Y\",COUNTIF($M$1:M64,M65)+1,COUNTIF($M$1:M64,M65)+1))","v":"NA"},"NA","TBC"]
[80,"Day2_Time_Slot3_Parallel 10","Day2_Time_Slot3",2,3,"Parallel 10",{"$f":"VLOOKUP($D$1&D66,'2020_Virtual_Forum'!A:F,6,FALSE)","v":"2020-10-20T07:00:00"},{"$f":"VLOOKUP($D$1&D66&$E$1&E66,'2020_Virtual_Forum'!A:F,5,FALSE)","v":"14:00 - 15:15 PM (UTC)"},{"$f":"HLOOKUP($F66,'2020_Virtual_Forum'!$H$5:$Q$7,2,FALSE)","v":"Session 10"},{"$f":"HLOOKUP($F66,'2020_Virtual_Forum'!$H$5:$Q$7,3,FALSE)","v":0},"NA","NA","NA",{"$f":"IF(K66=\"NA\",\"NA\",IF(K66=\"Y\",COUNTIF($M$1:M65,M66)+1,COUNTIF($M$1:M65,M66)+1))","v":"NA"},"NA","NA"]
[85,"Day2_Time_Slot4_Parallel 05","Day2_Time_Slot4",2,4,"Parallel 05",{"$f":"VLOOKUP($D$1&D67,'2020_Virtual_Forum'!A:F,6,FALSE)","v":"2020-10-20T07:00:00"},{"$f":"VLOOKUP($D$1&D67&$E$1&E67,'2020_Virtual_Forum'!A:F,5,FALSE)","v":"15:30 - 16:45 PM (UTC)"},{"$f":"HLOOKUP($F67,'2020_Virtual_Forum'!$H$5:$Q$7,2,FALSE)","v":"Session 5"},{"$f":"HLOOKUP($F67,'2020_Virtual_Forum'!$H$5:$Q$7,3,FALSE)","v":0},"N","SP.1169.1342",2,4,"TA2.03","Mapping the Change We Want: Geo-coded statistics to track SDG 16 indicators"]
[86,"Day2_Time_Slot4_Parallel 06","Day2_Time_Slot4",2,4,"Parallel 06",{"$f":"VLOOKUP($D$1&D68,'2020_Virtual_Forum'!A:F,6,FALSE)","v":"2020-10-20T07:00:00"},{"$f":"VLOOKUP($D$1&D68&$E$1&E68,'2020_Virtual_Forum'!A:F,5,FALSE)","v":"15:30 - 16:45 PM (UTC)"},{"$f":"HLOOKUP($F68,'2020_Virtual_Forum'!$H$5:$Q$7,2,FALSE)","v":"Session 6"},{"$f":"HLOOKUP($F68,'2020_Virtual_Forum'!$H$5:$Q$7,3,FALSE)","v":0},"NA","NA","NA",{"$f":"IF(K68=\"NA\",\"NA\",IF(K68=\"Y\",COUNTIF($M$1:M67,M68)+1,COUNTIF($M$1:M67,M68)+1))","v":"NA"},"NA","TBC"]
[87,"Day2_Time_Slot4_Parallel 07","Day2_Time_Slot4",2,4,"Parallel 07",{"$f":"VLOOKUP($D$1&D69,'2020_Virtual_Forum'!A:F,6,FALSE)","v":"2020-10-20T07:00:00"},{"$f":"VLOOKUP($D$1&D69&$E$1&E69,'2020_Virtual_Forum'!A:F,5,FALSE)","v":"15:30 - 16:45 PM (UTC)"},{"$f":"HLOOKUP($F69,'2020_Virtual_Forum'!$H$5:$Q$7,2,FALSE)","v":"Session 7"},{"$f":"HLOOKUP($F69,'2020_Virtual_Forum'!$H$5:$Q$7,3,FALSE)","v":0},"NA","NA","NA",{"$f":"IF(K69=\"NA\",\"NA\",IF(K69=\"Y\",COUNTIF($M$1:M68,M69)+1,COUNTIF($M$1:M68,M69)+1))","v":"NA"},"NA","TBC"]
[88,"Day2_Time_Slot4_Parallel 08","Day2_Time_Slot4",2,4,"Parallel 08",{"$f":"VLOOKUP($D$1&D70,'2020_Virtual_Forum'!A:F,6,FALSE)","v":"2020-10-20T07:00:00"},{"$f":"VLOOKUP($D$1&D70&$E$1&E70,'2020_Virtual_Forum'!A:F,5,FALSE)","v":"15:30 - 16:45 PM (UTC)"},{"$f":"HLOOKUP($F70,'2020_Virtual_Forum'!$H$5:$Q$7,2,FALSE)","v":"Session 8"},{"$f":"HLOOKUP($F70,'2020_Virtual_Forum'!$H$5:$Q$7,3,FALSE)","v":0},"NA","NA","NA",{"$f":"IF(K70=\"NA\",\"NA\",IF(K70=\"Y\",COUNTIF($M$1:M69,M70)+1,COUNTIF($M$1:M69,M70)+1))","v":"NA"},"NA","TBC"]
[89,"Day2_Time_Slot4_Parallel 09","Day2_Time_Slot4",2,4,"Parallel 09",{"$f":"VLOOKUP($D$1&D71,'2020_Virtual_Forum'!A:F,6,FALSE)","v":"2020-10-20T07:00:00"},{"$f":"VLOOKUP($D$1&D71&$E$1&E71,'2020_Virtual_Forum'!A:F,5,FALSE)","v":"15:30 - 16:45 PM (UTC)"},{"$f":"HLOOKUP($F71,'2020_Virtual_Forum'!$H$5:$Q$7,2,FALSE)","v":"Session 9"},{"$f":"HLOOKUP($F71,'2020_Virtual_Forum'!$H$5:$Q$7,3,FALSE)","v":0},"NA","NA","NA",{"$f":"IF(K71=\"NA\",\"NA\",IF(K71=\"Y\",COUNTIF($M$1:M70,M71)+1,COUNTIF($M$1:M70,M71)+1))","v":"NA"},"NA","TBC"]
[90,"Day2_Time_Slot4_Parallel 10","Day2_Time_Slot4",2,4,"Parallel 10",{"$f":"VLOOKUP($D$1&D72,'2020_Virtual_Forum'!A:F,6,FALSE)","v":"2020-10-20T07:00:00"},{"$f":"VLOOKUP($D$1&D72&$E$1&E72,'2020_Virtual_Forum'!A:F,5,FALSE)","v":"15:30 - 16:45 PM (UTC)"},{"$f":"HLOOKUP($F72,'2020_Virtual_Forum'!$H$5:$Q$7,2,FALSE)","v":"Session 10"},{"$f":"HLOOKUP($F72,'2020_Virtual_Forum'!$H$5:$Q$7,3,FALSE)","v":0},"NA","NA","NA",{"$f":"IF(K72=\"NA\",\"NA\",IF(K72=\"Y\",COUNTIF($M$1:M71,M72)+1,COUNTIF($M$1:M71,M72)+1))","v":"NA"},"NA","NA"]
[94,"Day3_Time_Slot1_Parallel 04","Day3_Time_Slot1",3,1,"Parallel 04",{"$f":"VLOOKUP($D$1&D73,'2020_Virtual_Forum'!A:F,6,FALSE)","v":"2020-10-21T07:00:00"},{"$f":"VLOOKUP($D$1&D73&$E$1&E73,'2020_Virtual_Forum'!A:F,5,FALSE)","v":"11:00 - 12:15 PM (UTC)"},{"$f":"HLOOKUP($F73,'2020_Virtual_Forum'!$H$5:$Q$7,2,FALSE)","v":"Session 4"},{"$f":"HLOOKUP($F73,'2020_Virtual_Forum'!$H$5:$Q$7,3,FALSE)","v":0},"NA","NA","NA",{"$f":"IF(K73=\"NA\",\"NA\",IF(K73=\"Y\",COUNTIF($M$1:M72,M73)+1,COUNTIF($M$1:M72,M73)+1))","v":"NA"},"NA","Empty"]
[95,"Day3_Time_Slot1_Parallel 05","Day3_Time_Slot1",3,1,"Parallel 05",{"$f":"VLOOKUP($D$1&D74,'2020_Virtual_Forum'!A:F,6,FALSE)","v":"2020-10-21T07:00:00"},{"$f":"VLOOKUP($D$1&D74&$E$1&E74,'2020_Virtual_Forum'!A:F,5,FALSE)","v":"11:00 - 12:15 PM (UTC)"},{"$f":"HLOOKUP($F74,'2020_Virtual_Forum'!$H$5:$Q$7,2,FALSE)","v":"Session 5"},{"$f":"HLOOKUP($F74,'2020_Virtual_Forum'!$H$5:$Q$7,3,FALSE)","v":0},"NA","NA","NA","NA","NA","Empty"]
[96,"Day3_Time_Slot1_Parallel 06","Day3_Time_Slot1",3,1,"Parallel 06",{"$f":"VLOOKUP($D$1&D75,'2020_Virtual_Forum'!A:F,6,FALSE)","v":"2020-10-21T07:00:00"},{"$f":"VLOOKUP($D$1&D75&$E$1&E75,'2020_Virtual_Forum'!A:F,5,FALSE)","v":"11:00 - 12:15 PM (UTC)"},{"$f":"HLOOKUP($F75,'2020_Virtual_Forum'!$H$5:$Q$7,2,FALSE)","v":"Session 6"},{"$f":"HLOOKUP($F75,'2020_Virtual_Forum'!$H$5:$Q$7,3,FALSE)","v":0},"NA","NA","NA",{"$f":"IF(K75=\"NA\",\"NA\",IF(K75=\"Y\",COUNTIF($M$1:M74,M75)+1,COUNTIF($M$1:M74,M75)+1))","v":"NA"},"NA","TBC"]
[97,"Day3_Time_Slot1_Parallel 07","Day3_Time_Slot1",3,1,"Parallel 07",{"$f":"VLOOKUP($D$1&D76,'2020_Virtual_Forum'!A:F,6,FALSE)","v":"2020-10-21T07:00:00"},{"$f":"VLOOKUP($D$1&D76&$E$1&E76,'2020_Virtual_Forum'!A:F,5,FALSE)","v":"11:00 - 12:15 PM (UTC)"},{"$f":"HLOOKUP($F76,'2020_Virtual_Forum'!$H$5:$Q$7,2,FALSE)","v":"Session 7"},{"$f":"HLOOKUP($F76,'2020_Virtual_Forum'!$H$5:$Q$7,3,FALSE)","v":0},"NA","NA","NA",{"$f":"IF(K76=\"NA\",\"NA\",IF(K76=\"Y\",COUNTIF($M$1:M75,M76)+1,COUNTIF($M$1:M75,M76)+1))","v":"NA"},"NA","TBC"]
[98,"Day3_Time_Slot1_Parallel 08","Day3_Time_Slot1",3,1,"Parallel 08",{"$f":"VLOOKUP($D$1&D77,'2020_Virtual_Forum'!A:F,6,FALSE)","v":"2020-10-21T07:00:00"},{"$f":"VLOOKUP($D$1&D77&$E$1&E77,'2020_Virtual_Forum'!A:F,5,FALSE)","v":"11:00 - 12:15 PM (UTC)"},{"$f":"HLOOKUP($F77,'2020_Virtual_Forum'!$H$5:$Q$7,2,FALSE)","v":"Session 8"},{"$f":"HLOOKUP($F77,'2020_Virtual_Forum'!$H$5:$Q$7,3,FALSE)","v":0},"NA","NA","NA",{"$f":"IF(K77=\"NA\",\"NA\",IF(K77=\"Y\",COUNTIF($M$1:M76,M77)+1,COUNTIF($M$1:M76,M77)+1))","v":"NA"},"NA","TBC"]
[99,"Day3_Time_Slot1_Parallel 09","Day3_Time_Slot1",3,1,"Parallel 09",{"$f":"VLOOKUP($D$1&D78,'2020_Virtual_Forum'!A:F,6,FALSE)","v":"2020-10-21T07:00:00"},{"$f":"VLOOKUP($D$1&D78&$E$1&E78,'2020_Virtual_Forum'!A:F,5,FALSE)","v":"11:00 - 12:15 PM (UTC)"},{"$f":"HLOOKUP($F78,'2020_Virtual_Forum'!$H$5:$Q$7,2,FALSE)","v":"Session 9"},{"$f":"HLOOKUP($F78,'2020_Virtual_Forum'!$H$5:$Q$7,3,FALSE)","v":0},"NA","NA","NA",{"$f":"IF(K78=\"NA\",\"NA\",IF(K78=\"Y\",COUNTIF($M$1:M77,M78)+1,COUNTIF($M$1:M77,M78)+1))","v":"NA"},"NA","TBC"]
[100,"Day3_Time_Slot1_Parallel 10","Day3_Time_Slot1",3,1,"Parallel 10",{"$f":"VLOOKUP($D$1&D79,'2020_Virtual_Forum'!A:F,6,FALSE)","v":"2020-10-21T07:00:00"},{"$f":"VLOOKUP($D$1&D79&$E$1&E79,'2020_Virtual_Forum'!A:F,5,FALSE)","v":"11:00 - 12:15 PM (UTC)"},{"$f":"HLOOKUP($F79,'2020_Virtual_Forum'!$H$5:$Q$7,2,FALSE)","v":"Session 10"},{"$f":"HLOOKUP($F79,'2020_Virtual_Forum'!$H$5:$Q$7,3,FALSE)","v":0},"NA","NA","NA",{"$f":"IF(K79=\"NA\",\"NA\",IF(K79=\"Y\",COUNTIF($M$1:M78,M79)+1,COUNTIF($M$1:M78,M79)+1))","v":"NA"},"NA","NA"]
[104,"Day3_Time_Slot2_Parallel 04","Day3_Time_Slot2",3,2,"Parallel 04",{"$f":"VLOOKUP($D$1&D80,'2020_Virtual_Forum'!A:F,6,FALSE)","v":"2020-10-21T07:00:00"},{"$f":"VLOOKUP($D$1&D80&$E$1&E80,'2020_Virtual_Forum'!A:F,5,FALSE)","v":"12:30 - 13:45 PM (UTC)"},{"$f":"HLOOKUP($F80,'2020_Virtual_Forum'!$H$5:$Q$7,2,FALSE)","v":"Session 4"},{"$f":"HLOOKUP($F80,'2020_Virtual_Forum'!$H$5:$Q$7,3,FALSE)","v":0},"NA","NA","NA",{"$f":"IF(K80=\"NA\",\"NA\",IF(K80=\"Y\",COUNTIF($M$1:M79,M80)+1,COUNTIF($M$1:M79,M80)+1))","v":"NA"},"NA","Empty"]
[105,"Day3_Time_Slot2_Parallel 05","Day3_Time_Slot2",3,2,"Parallel 05",{"$f":"VLOOKUP($D$1&D81,'2020_Virtual_Forum'!A:F,6,FALSE)","v":"2020-10-21T07:00:00"},{"$f":"VLOOKUP($D$1&D81&$E$1&E81,'2020_Virtual_Forum'!A:F,5,FALSE)","v":"12:30 - 13:45 PM (UTC)"},{"$f":"HLOOKUP($F81,'2020_Virtual_Forum'!$H$5:$Q$7,2,FALSE)","v":"Session 5"},{"$f":"HLOOKUP($F81,'2020_Virtual_Forum'!$H$5:$Q$7,3,FALSE)","v":0},"NA","NA","NA","NA","NA","Empty"]
[106,"Day3_Time_Slot2_Parallel 06","Day3_Time_Slot2",3,2,"Parallel 06",{"$f":"VLOOKUP($D$1&D82,'2020_Virtual_Forum'!A:F,6,FALSE)","v":"2020-10-21T07:00:00"},{"$f":"VLOOKUP($D$1&D82&$E$1&E82,'2020_Virtual_Forum'!A:F,5,FALSE)","v":"12:30 - 13:45 PM (UTC)"},{"$f":"HLOOKUP($F82,'2020_Virtual_Forum'!$H$5:$Q$7,2,FALSE)","v":"Session 6"},{"$f":"HLOOKUP($F82,'2020_Virtual_Forum'!$H$5:$Q$7,3,FALSE)","v":0},"NA","NA","NA",{"$f":"IF(K82=\"NA\",\"NA\",IF(K82=\"Y\",COUNTIF($M$1:M81,M82)+1,COUNTIF($M$1:M81,M82)+1))","v":"NA"},"NA","TBC"]
[107,"Day3_Time_Slot2_Parallel 07","Day3_Time_Slot2",3,2,"Parallel 07",{"$f":"VLOOKUP($D$1&D83,'2020_Virtual_Forum'!A:F,6,FALSE)","v":"2020-10-21T07:00:00"},{"$f":"VLOOKUP($D$1&D83&$E$1&E83,'2020_Virtual_Forum'!A:F,5,FALSE)","v":"12:30 - 13:45 PM (UTC)"},{"$f":"HLOOKUP($F83,'2020_Virtual_Forum'!$H$5:$Q$7,2,FALSE)","v":"Session 7"},{"$f":"HLOOKUP($F83,'2020_Virtual_Forum'!$H$5:$Q$7,3,FALSE)","v":0},"NA","NA","NA",{"$f":"IF(K83=\"NA\",\"NA\",IF(K83=\"Y\",COUNTIF($M$1:M82,M83)+1,COUNTIF($M$1:M82,M83)+1))","v":"NA"},"NA","TBC"]
[108,"Day3_Time_Slot2_Parallel 08","Day3_Time_Slot2",3,2,"Parallel 08",{"$f":"VLOOKUP($D$1&D84,'2020_Virtual_Forum'!A:F,6,FALSE)","v":"2020-10-21T07:00:00"},{"$f":"VLOOKUP($D$1&D84&$E$1&E84,'2020_Virtual_Forum'!A:F,5,FALSE)","v":"12:30 - 13:45 PM (UTC)"},{"$f":"HLOOKUP($F84,'2020_Virtual_Forum'!$H$5:$Q$7,2,FALSE)","v":"Session 8"},{"$f":"HLOOKUP($F84,'2020_Virtual_Forum'!$H$5:$Q$7,3,FALSE)","v":0},"NA","NA","NA",{"$f":"IF(K84=\"NA\",\"NA\",IF(K84=\"Y\",COUNTIF($M$1:M83,M84)+1,COUNTIF($M$1:M83,M84)+1))","v":"NA"},"NA","TBC"]
[109,"Day3_Time_Slot2_Parallel 09","Day3_Time_Slot2",3,2,"Parallel 09",{"$f":"VLOOKUP($D$1&D85,'2020_Virtual_Forum'!A:F,6,FALSE)","v":"2020-10-21T07:00:00"},{"$f":"VLOOKUP($D$1&D85&$E$1&E85,'2020_Virtual_Forum'!A:F,5,FALSE)","v":"12:30 - 13:45 PM (UTC)"},{"$f":"HLOOKUP($F85,'2020_Virtual_Forum'!$H$5:$Q$7,2,FALSE)","v":"Session 9"},{"$f":"HLOOKUP($F85,'2020_Virtual_Forum'!$H$5:$Q$7,3,FALSE)","v":0},"NA","NA","NA",{"$f":"IF(K85=\"NA\",\"NA\",IF(K85=\"Y\",COUNTIF($M$1:M84,M85)+1,COUNTIF($M$1:M84,M85)+1))","v":"NA"},"NA","TBC"]
[110,"Day3_Time_Slot2_Parallel 10","Day3_Time_Slot2",3,2,"Parallel 10",{"$f":"VLOOKUP($D$1&D86,'2020_Virtual_Forum'!A:F,6,FALSE)","v":"2020-10-21T07:00:00"},{"$f":"VLOOKUP($D$1&D86&$E$1&E86,'2020_Virtual_Forum'!A:F,5,FALSE)","v":"12:30 - 13:45 PM (UTC)"},{"$f":"HLOOKUP($F86,'2020_Virtual_Forum'!$H$5:$Q$7,2,FALSE)","v":"Session 10"},{"$f":"HLOOKUP($F86,'2020_Virtual_Forum'!$H$5:$Q$7,3,FALSE)","v":0},"NA","NA","NA",{"$f":"IF(K86=\"NA\",\"NA\",IF(K86=\"Y\",COUNTIF($M$1:M85,M86)+1,COUNTIF($M$1:M85,M86)+1))","v":"NA"},"NA","NA"]
[115,"Day3_Time_Slot3_Parallel 05","Day3_Time_Slot3",3,3,"Parallel 05",{"$f":"VLOOKUP($D$1&D87,'2020_Virtual_Forum'!A:F,6,FALSE)","v":"2020-10-21T07:00:00"},{"$f":"VLOOKUP($D$1&D87&$E$1&E87,'2020_Virtual_Forum'!A:F,5,FALSE)","v":"14:00 - 15:15 PM (UTC)"},{"$f":"HLOOKUP($F87,'2020_Virtual_Forum'!$H$5:$Q$7,2,FALSE)","v":"Session 5"},{"$f":"HLOOKUP($F87,'2020_Virtual_Forum'!$H$5:$Q$7,3,FALSE)","v":0},"NA","NA","NA","NA","NA","Empty"]
[116,"Day3_Time_Slot3_Parallel 06","Day3_Time_Slot3",3,3,"Parallel 06",{"$f":"VLOOKUP($D$1&D88,'2020_Virtual_Forum'!A:F,6,FALSE)","v":"2020-10-21T07:00:00"},{"$f":"VLOOKUP($D$1&D88&$E$1&E88,'2020_Virtual_Forum'!A:F,5,FALSE)","v":"14:00 - 15:15 PM (UTC)"},{"$f":"HLOOKUP($F88,'2020_Virtual_Forum'!$H$5:$Q$7,2,FALSE)","v":"Session 6"},{"$f":"HLOOKUP($F88,'2020_Virtual_Forum'!$H$5:$Q$7,3,FALSE)","v":0},"NA","NA","NA",{"$f":"IF(K88=\"NA\",\"NA\",IF(K88=\"Y\",COUNTIF($M$1:M87,M88)+1,COUNTIF($M$1:M87,M88)+1))","v":"NA"},"NA","TBC"]
[117,"Day3_Time_Slot3_Parallel 07","Day3_Time_Slot3",3,3,"Parallel 07",{"$f":"VLOOKUP($D$1&D89,'2020_Virtual_Forum'!A:F,6,FALSE)","v":"2020-10-21T07:00:00"},{"$f":"VLOOKUP($D$1&D89&$E$1&E89,'2020_Virtual_Forum'!A:F,5,FALSE)","v":"14:00 - 15:15 PM (UTC)"},{"$f":"HLOOKUP($F89,'2020_Virtual_Forum'!$H$5:$Q$7,2,FALSE)","v":"Session 7"},{"$f":"HLOOKUP($F89,'2020_Virtual_Forum'!$H$5:$Q$7,3,FALSE)","v":0},"NA","NA","NA",{"$f":"IF(K89=\"NA\",\"NA\",IF(K89=\"Y\",COUNTIF($M$1:M88,M89)+1,COUNTIF($M$1:M88,M89)+1))","v":"NA"},"NA","TBC"]
[118,"Day3_Time_Slot3_Parallel 08","Day3_Time_Slot3",3,3,"Parallel 08",{"$f":"VLOOKUP($D$1&D90,'2020_Virtual_Forum'!A:F,6,FALSE)","v":"2020-10-21T07:00:00"},{"$f":"VLOOKUP($D$1&D90&$E$1&E90,'2020_Virtual_Forum'!A:F,5,FALSE)","v":"14:00 - 15:15 PM (UTC)"},{"$f":"HLOOKUP($F90,'2020_Virtual_Forum'!$H$5:$Q$7,2,FALSE)","v":"Session 8"},{"$f":"HLOOKUP($F90,'2020_Virtual_Forum'!$H$5:$Q$7,3,FALSE)","v":0},"NA","NA","NA",{"$f":"IF(K90=\"NA\",\"NA\",IF(K90=\"Y\",COUNTIF($M$1:M89,M90)+1,COUNTIF($M$1:M89,M90)+1))","v":"NA"},"NA","TBC"]
[119,"Day3_Time_Slot3_Parallel 09","Day3_Time_Slot3",3,3,"Parallel 09",{"$f":"VLOOKUP($D$1&D91,'2020_Virtual_Forum'!A:F,6,FALSE)","v":"2020-10-21T07:00:00"},{"$f":"VLOOKUP($D$1&D91&$E$1&E91,'2020_Virtual_Forum'!A:F,5,FALSE)","v":"14:00 - 15:15 PM (UTC)"},{"$f":"HLOOKUP($F91,'2020_Virtual_Forum'!$H$5:$Q$7,2,FALSE)","v":"Session 9"},{"$f":"HLOOKUP($F91,'2020_Virtual_Forum'!$H$5:$Q$7,3,FALSE)","v":0},"NA","NA","NA",{"$f":"IF(K91=\"NA\",\"NA\",IF(K91=\"Y\",COUNTIF($M$1:M90,M91)+1,COUNTIF($M$1:M90,M91)+1))","v":"NA"},"NA","TBC"]
[120,"Day3_Time_Slot3_Parallel 10","Day3_Time_Slot3",3,3,"Parallel 10",{"$f":"VLOOKUP($D$1&D92,'2020_Virtual_Forum'!A:F,6,FALSE)","v":"2020-10-21T07:00:00"},{"$f":"VLOOKUP($D$1&D92&$E$1&E92,'2020_Virtual_Forum'!A:F,5,FALSE)","v":"14:00 - 15:15 PM (UTC)"},{"$f":"HLOOKUP($F92,'2020_Virtual_Forum'!$H$5:$Q$7,2,FALSE)","v":"Session 10"},{"$f":"HLOOKUP($F92,'2020_Virtual_Forum'!$H$5:$Q$7,3,FALSE)","v":0},"NA","NA","NA",{"$f":"IF(K92=\"NA\",\"NA\",IF(K92=\"Y\",COUNTIF($M$1:M91,M92)+1,COUNTIF($M$1:M91,M92)+1))","v":"NA"},"NA","NA"]
[122,"Day3_Time_Slot4_Parallel 02","Day3_Time_Slot4",3,4,"Parallel 02",{"$f":"VLOOKUP($D$1&D93,'2020_Virtual_Forum'!A:F,6,FALSE)","v":"2020-10-21T07:00:00"},{"$f":"VLOOKUP($D$1&D93&$E$1&E93,'2020_Virtual_Forum'!A:F,5,FALSE)","v":"15:30 - 16:45 PM (UTC)"},{"$f":"HLOOKUP($F93,'2020_Virtual_Forum'!$H$5:$Q$7,2,FALSE)","v":"Session 2"},{"$f":"HLOOKUP($F93,'2020_Virtual_Forum'!$H$5:$Q$7,3,FALSE)","v":0},"NA","TBC","NA",{"$f":"IF(K93=\"NA\",\"NA\",IF(K93=\"Y\",COUNTIF($M$1:M92,M93)+1,COUNTIF($M$1:M92,M93)+1))","v":"NA"},"NA","NA"]
[123,"Day3_Time_Slot4_Parallel 03","Day3_Time_Slot4",3,4,"Parallel 03",{"$f":"VLOOKUP($D$1&D94,'2020_Virtual_Forum'!A:F,6,FALSE)","v":"2020-10-21T07:00:00"},{"$f":"VLOOKUP($D$1&D94&$E$1&E94,'2020_Virtual_Forum'!A:F,5,FALSE)","v":"15:30 - 16:45 PM (UTC)"},{"$f":"HLOOKUP($F94,'2020_Virtual_Forum'!$H$5:$Q$7,2,FALSE)","v":"Session 3"},{"$f":"HLOOKUP($F94,'2020_Virtual_Forum'!$H$5:$Q$7,3,FALSE)","v":0},"NA","TBC","NA",{"$f":"IF(K94=\"NA\",\"NA\",IF(K94=\"Y\",COUNTIF($M$1:M93,M94)+1,COUNTIF($M$1:M93,M94)+1))","v":"NA"},"NA","NA"]
[124,"Day3_Time_Slot4_Parallel 04","Day3_Time_Slot4",3,4,"Parallel 04",{"$f":"VLOOKUP($D$1&D95,'2020_Virtual_Forum'!A:F,6,FALSE)","v":"2020-10-21T07:00:00"},{"$f":"VLOOKUP($D$1&D95&$E$1&E95,'2020_Virtual_Forum'!A:F,5,FALSE)","v":"15:30 - 16:45 PM (UTC)"},{"$f":"HLOOKUP($F95,'2020_Virtual_Forum'!$H$5:$Q$7,2,FALSE)","v":"Session 4"},{"$f":"HLOOKUP($F95,'2020_Virtual_Forum'!$H$5:$Q$7,3,FALSE)","v":0},"NA","TBC","NA",{"$f":"IF(K95=\"NA\",\"NA\",IF(K95=\"Y\",COUNTIF($M$1:M94,M95)+1,COUNTIF($M$1:M94,M95)+1))","v":"NA"},"NA","NA"]
[125,"Day3_Time_Slot4_Parallel 05","Day3_Time_Slot4",3,4,"Parallel 05",{"$f":"VLOOKUP($D$1&D96,'2020_Virtual_Forum'!A:F,6,FALSE)","v":"2020-10-21T07:00:00"},{"$f":"VLOOKUP($D$1&D96&$E$1&E96,'2020_Virtual_Forum'!A:F,5,FALSE)","v":"15:30 - 16:45 PM (UTC)"},{"$f":"HLOOKUP($F96,'2020_Virtual_Forum'!$H$5:$Q$7,2,FALSE)","v":"Session 5"},{"$f":"HLOOKUP($F96,'2020_Virtual_Forum'!$H$5:$Q$7,3,FALSE)","v":0},"NA","NA","NA","NA","NA","Empty"]
[126,{"$f":"C97&\"_\"&F97","v":"Day3_Time_Slot4_Parallel 06"},{"$f":"$D$1&D97&\"_\"&$E$1&E97","v":"Day3_Time_Slot4"},3,4,"Parallel 06",{"$f":"VLOOKUP($D$1&D97,'2020_Virtual_Forum'!A:F,6,FALSE)","v":"2020-10-21T07:00:00"},{"$f":"VLOOKUP($D$1&D97&$E$1&E97,'2020_Virtual_Forum'!A:F,5,FALSE)","v":"15:30 - 16:45 PM (UTC)"},{"$f":"HLOOKUP($F97,'2020_Virtual_Forum'!$H$5:$Q$7,2,FALSE)","v":"Session 6"},{"$f":"HLOOKUP($F97,'2020_Virtual_Forum'!$H$5:$Q$7,3,FALSE)","v":0},"NA","TBC","NA",{"$f":"IF(K97=\"NA\",\"NA\",IF(K97=\"Y\",COUNTIF($M$1:M96,M97)+1,COUNTIF($M$1:M96,M97)+1))","v":"NA"},"NA","NA"]
[127,"Day3_Time_Slot4_Parallel 07","Day3_Time_Slot4",3,4,"Parallel 07",{"$f":"VLOOKUP($D$1&D98,'2020_Virtual_Forum'!A:F,6,FALSE)","v":"2020-10-21T07:00:00"},{"$f":"VLOOKUP($D$1&D98&$E$1&E98,'2020_Virtual_Forum'!A:F,5,FALSE)","v":"15:30 - 16:45 PM (UTC)"},{"$f":"HLOOKUP($F98,'2020_Virtual_Forum'!$H$5:$Q$7,2,FALSE)","v":"Session 7"},{"$f":"HLOOKUP($F98,'2020_Virtual_Forum'!$H$5:$Q$7,3,FALSE)","v":0},"NA","TBC","NA",{"$f":"IF(K98=\"NA\",\"NA\",IF(K98=\"Y\",COUNTIF($M$1:M97,M98)+1,COUNTIF($M$1:M97,M98)+1))","v":"NA"},"NA","NA"]
[128,"Day3_Time_Slot4_Parallel 08","Day3_Time_Slot4",3,4,"Parallel 08",{"$f":"VLOOKUP($D$1&D99,'2020_Virtual_Forum'!A:F,6,FALSE)","v":"2020-10-21T07:00:00"},{"$f":"VLOOKUP($D$1&D99&$E$1&E99,'2020_Virtual_Forum'!A:F,5,FALSE)","v":"15:30 - 16:45 PM (UTC)"},{"$f":"HLOOKUP($F99,'2020_Virtual_Forum'!$H$5:$Q$7,2,FALSE)","v":"Session 8"},{"$f":"HLOOKUP($F99,'2020_Virtual_Forum'!$H$5:$Q$7,3,FALSE)","v":0},"NA","TBC","NA",{"$f":"IF(K99=\"NA\",\"NA\",IF(K99=\"Y\",COUNTIF($M$1:M98,M99)+1,COUNTIF($M$1:M98,M99)+1))","v":"NA"},"NA","NA"]
[129,"Day3_Time_Slot4_Parallel 09","Day3_Time_Slot4",3,4,"Parallel 09",{"$f":"VLOOKUP($D$1&D100,'2020_Virtual_Forum'!A:F,6,FALSE)","v":"2020-10-21T07:00:00"},{"$f":"VLOOKUP($D$1&D100&$E$1&E100,'2020_Virtual_Forum'!A:F,5,FALSE)","v":"15:30 - 16:45 PM (UTC)"},{"$f":"HLOOKUP($F100,'2020_Virtual_Forum'!$H$5:$Q$7,2,FALSE)","v":"Session 9"},{"$f":"HLOOKUP($F100,'2020_Virtual_Forum'!$H$5:$Q$7,3,FALSE)","v":0},"NA","TBC","NA",{"$f":"IF(K100=\"NA\",\"NA\",IF(K100=\"Y\",COUNTIF($M$1:M99,M100)+1,COUNTIF($M$1:M99,M100)+1))","v":"NA"},"NA","NA"]
[130,"Day3_Time_Slot4_Parallel 10","Day3_Time_Slot4",3,4,"Parallel 10",{"$f":"VLOOKUP($D$1&D101,'2020_Virtual_Forum'!A:F,6,FALSE)","v":"2020-10-21T07:00:00"},{"$f":"VLOOKUP($D$1&D101&$E$1&E101,'2020_Virtual_Forum'!A:F,5,FALSE)","v":"15:30 - 16:45 PM (UTC)"},{"$f":"HLOOKUP($F101,'2020_Virtual_Forum'!$H$5:$Q$7,2,FALSE)","v":"Session 10"},{"$f":"HLOOKUP($F101,'2020_Virtual_Forum'!$H$5:$Q$7,3,FALSE)","v":0},"NA","TBC","NA",{"$f":"IF(K101=\"NA\",\"NA\",IF(K101=\"Y\",COUNTIF($M$1:M100,M101)+1,COUNTIF($M$1:M100,M101)+1))","v":"NA"},"NA","NA"]
[132,"Day3_Time_SlotC_Parallel 02","Day3_Time_SlotC",3,"C","Parallel 02",{"$f":"VLOOKUP($D$1&D102,'2020_Virtual_Forum'!A:F,6,FALSE)","v":"2020-10-21T07:00:00"},{"$f":"VLOOKUP($D$1&D102&$E$1&E102,'2020_Virtual_Forum'!A:F,5,FALSE)","v":"17:00 - 18:00 PM (UTC)"},{"$f":"HLOOKUP($F102,'2020_Virtual_Forum'!$H$5:$Q$7,2,FALSE)","v":"Session 2"},{"$f":"HLOOKUP($F102,'2020_Virtual_Forum'!$H$5:$Q$7,3,FALSE)","v":0},"NA","TBC","NA",{"$f":"IF(K102=\"NA\",\"NA\",IF(K102=\"Y\",COUNTIF($M$1:M101,M102)+1,COUNTIF($M$1:M101,M102)+1))","v":"NA"},"NA","NA"]
[133,"Day3_Time_SlotC_Parallel 03","Day3_Time_SlotC",3,"C","Parallel 03",{"$f":"VLOOKUP($D$1&D103,'2020_Virtual_Forum'!A:F,6,FALSE)","v":"2020-10-21T07:00:00"},{"$f":"VLOOKUP($D$1&D103&$E$1&E103,'2020_Virtual_Forum'!A:F,5,FALSE)","v":"17:00 - 18:00 PM (UTC)"},{"$f":"HLOOKUP($F103,'2020_Virtual_Forum'!$H$5:$Q$7,2,FALSE)","v":"Session 3"},{"$f":"HLOOKUP($F103,'2020_Virtual_Forum'!$H$5:$Q$7,3,FALSE)","v":0},"NA","TBC","NA",{"$f":"IF(K103=\"NA\",\"NA\",IF(K103=\"Y\",COUNTIF($M$1:M102,M103)+1,COUNTIF($M$1:M102,M103)+1))","v":"NA"},"NA","NA"]
[134,"Day3_Time_SlotC_Parallel 04","Day3_Time_SlotC",3,"C","Parallel 04",{"$f":"VLOOKUP($D$1&D104,'2020_Virtual_Forum'!A:F,6,FALSE)","v":"2020-10-21T07:00:00"},{"$f":"VLOOKUP($D$1&D104&$E$1&E104,'2020_Virtual_Forum'!A:F,5,FALSE)","v":"17:00 - 18:00 PM (UTC)"},{"$f":"HLOOKUP($F104,'2020_Virtual_Forum'!$H$5:$Q$7,2,FALSE)","v":"Session 4"},{"$f":"HLOOKUP($F104,'2020_Virtual_Forum'!$H$5:$Q$7,3,FALSE)","v":0},"NA","TBC","NA",{"$f":"IF(K104=\"NA\",\"NA\",IF(K104=\"Y\",COUNTIF($M$1:M103,M104)+1,COUNTIF($M$1:M103,M104)+1))","v":"NA"},"NA","NA"]
[135,"Day3_Time_SlotC_Parallel 05","Day3_Time_SlotC",3,"C","Parallel 05",{"$f":"VLOOKUP($D$1&D105,'2020_Virtual_Forum'!A:F,6,FALSE)","v":"2020-10-21T07:00:00"},{"$f":"VLOOKUP($D$1&D105&$E$1&E105,'2020_Virtual_Forum'!A:F,5,FALSE)","v":"17:00 - 18:00 PM (UTC)"},{"$f":"HLOOKUP($F105,'2020_Virtual_Forum'!$H$5:$Q$7,2,FALSE)","v":"Session 5"},{"$f":"HLOOKUP($F105,'2020_Virtual_Forum'!$H$5:$Q$7,3,FALSE)","v":0},"NA","NA","NA","NA","NA","Empty"]
[136,"Day3_Time_SlotC_Parallel 06","Day3_Time_SlotC",3,"C","Parallel 06",{"$f":"VLOOKUP($D$1&D106,'2020_Virtual_Forum'!A:F,6,FALSE)","v":"2020-10-21T07:00:00"},{"$f":"VLOOKUP($D$1&D106&$E$1&E106,'2020_Virtual_Forum'!A:F,5,FALSE)","v":"17:00 - 18:00 PM (UTC)"},{"$f":"HLOOKUP($F106,'2020_Virtual_Forum'!$H$5:$Q$7,2,FALSE)","v":"Session 6"},{"$f":"HLOOKUP($F106,'2020_Virtual_Forum'!$H$5:$Q$7,3,FALSE)","v":0},"NA","TBC","NA",{"$f":"IF(K106=\"NA\",\"NA\",IF(K106=\"Y\",COUNTIF($M$1:M105,M106)+1,COUNTIF($M$1:M105,M106)+1))","v":"NA"},"NA","NA"]
[137,"Day3_Time_SlotC_Parallel 07","Day3_Time_SlotC",3,"C","Parallel 07",{"$f":"VLOOKUP($D$1&D107,'2020_Virtual_Forum'!A:F,6,FALSE)","v":"2020-10-21T07:00:00"},{"$f":"VLOOKUP($D$1&D107&$E$1&E107,'2020_Virtual_Forum'!A:F,5,FALSE)","v":"17:00 - 18:00 PM (UTC)"},{"$f":"HLOOKUP($F107,'2020_Virtual_Forum'!$H$5:$Q$7,2,FALSE)","v":"Session 7"},{"$f":"HLOOKUP($F107,'2020_Virtual_Forum'!$H$5:$Q$7,3,FALSE)","v":0},"NA","TBC","NA",{"$f":"IF(K107=\"NA\",\"NA\",IF(K107=\"Y\",COUNTIF($M$1:M106,M107)+1,COUNTIF($M$1:M106,M107)+1))","v":"NA"},"NA","NA"]
[138,"Day3_Time_SlotC_Parallel 08","Day3_Time_SlotC",3,"C","Parallel 08",{"$f":"VLOOKUP($D$1&D108,'2020_Virtual_Forum'!A:F,6,FALSE)","v":"2020-10-21T07:00:00"},{"$f":"VLOOKUP($D$1&D108&$E$1&E108,'2020_Virtual_Forum'!A:F,5,FALSE)","v":"17:00 - 18:00 PM (UTC)"},{"$f":"HLOOKUP($F108,'2020_Virtual_Forum'!$H$5:$Q$7,2,FALSE)","v":"Session 8"},{"$f":"HLOOKUP($F108,'2020_Virtual_Forum'!$H$5:$Q$7,3,FALSE)","v":0},"NA","TBC","NA",{"$f":"IF(K108=\"NA\",\"NA\",IF(K108=\"Y\",COUNTIF($M$1:M107,M108)+1,COUNTIF($M$1:M107,M108)+1))","v":"NA"},"NA","NA"]
[139,"Day3_Time_SlotC_Parallel 09","Day3_Time_SlotC",3,"C","Parallel 09",{"$f":"VLOOKUP($D$1&D109,'2020_Virtual_Forum'!A:F,6,FALSE)","v":"2020-10-21T07:00:00"},{"$f":"VLOOKUP($D$1&D109&$E$1&E109,'2020_Virtual_Forum'!A:F,5,FALSE)","v":"17:00 - 18:00 PM (UTC)"},{"$f":"HLOOKUP($F109,'2020_Virtual_Forum'!$H$5:$Q$7,2,FALSE)","v":"Session 9"},{"$f":"HLOOKUP($F109,'2020_Virtual_Forum'!$H$5:$Q$7,3,FALSE)","v":0},"NA","TBC","NA",{"$f":"IF(K109=\"NA\",\"NA\",IF(K109=\"Y\",COUNTIF($M$1:M108,M109)+1,COUNTIF($M$1:M108,M109)+1))","v":"NA"},"NA","NA"]
[140,"Day3_Time_SlotC_Parallel 10","Day3_Time_SlotC",3,"C","Parallel 10",{"$f":"VLOOKUP($D$1&D110,'2020_Virtual_Forum'!A:F,6,FALSE)","v":"2020-10-21T07:00:00"},{"$f":"VLOOKUP($D$1&D110&$E$1&E110,'2020_Virtual_Forum'!A:F,5,FALSE)","v":"17:00 - 18:00 PM (UTC)"},{"$f":"HLOOKUP($F110,'2020_Virtual_Forum'!$H$5:$Q$7,2,FALSE)","v":"Session 10"},{"$f":"HLOOKUP($F110,'2020_Virtual_Forum'!$H$5:$Q$7,3,FALSE)","v":0},"NA","TBC","NA",{"$f":"IF(K110=\"NA\",\"NA\",IF(K110=\"Y\",COUNTIF($M$1:M109,M110)+1,COUNTIF($M$1:M109,M110)+1))","v":"NA"},"NA","NA"]
[21,"Day1_Time_Slot2_Parallel 01","Day1_Time_Slot2",1,2,"Parallel 01",{"$f":"VLOOKUP($D$1&D111,'2020_Virtual_Forum'!A:F,6,FALSE)","v":"2020-10-19T06:30:00"},{"$f":"VLOOKUP($D$1&D111&$E$1&E111,'2020_Virtual_Forum'!A:F,5,FALSE)","v":"12:30 - 13:45 PM (UTC)"},{"$f":"HLOOKUP($F111,'2020_Virtual_Forum'!$H$5:$Q$7,2,FALSE)","v":"Session 1"},{"$f":"HLOOKUP($F111,'2020_Virtual_Forum'!$H$5:$Q$7,3,FALSE)","v":0},"N","SP.1038.1285",2,{"$f":"IF(K111=\"NA\",\"NA\",IF(K111=\"Y\",COUNTIF($M$1:M110,M111)+1,COUNTIF($M$1:M110,M111)+1))","v":2},"TA2.01","Integrating Citizen Science into the Official SDG Monitoring Mechanisms and A Proposal to Use Unofficial Statistics for SDG Reporting (to Deal with Crises)"]
[22,"Day1_Time_Slot2_Parallel 02","Day1_Time_Slot2",1,2,"Parallel 02",{"$f":"VLOOKUP($D$1&D112,'2020_Virtual_Forum'!A:F,6,FALSE)","v":"2020-10-19T06:30:00"},{"$f":"VLOOKUP($D$1&D112&$E$1&E112,'2020_Virtual_Forum'!A:F,5,FALSE)","v":"12:30 - 13:45 PM (UTC)"},{"$f":"HLOOKUP($F112,'2020_Virtual_Forum'!$H$5:$Q$7,2,FALSE)","v":"Session 2"},{"$f":"HLOOKUP($F112,'2020_Virtual_Forum'!$H$5:$Q$7,3,FALSE)","v":0},"N","SP.1127",3,{"$f":"IF(K112=\"NA\",\"NA\",IF(K112=\"Y\",COUNTIF($M$1:M111,M112)+1,COUNTIF($M$1:M111,M112)+1))","v":3},"TA3.02","Operationalising data to leave no one behind in the context of Covid-19: Practical steps from Benin and beyond"]
[23,"Day1_Time_Slot2_Parallel 03","Day1_Time_Slot2",1,2,"Parallel 03",{"$f":"VLOOKUP($D$1&D113,'2020_Virtual_Forum'!A:F,6,FALSE)","v":"2020-10-19T06:30:00"},{"$f":"VLOOKUP($D$1&D113&$E$1&E113,'2020_Virtual_Forum'!A:F,5,FALSE)","v":"12:30 - 13:45 PM (UTC)"},{"$f":"HLOOKUP($F113,'2020_Virtual_Forum'!$H$5:$Q$7,2,FALSE)","v":"Session 3"},{"$f":"HLOOKUP($F113,'2020_Virtual_Forum'!$H$5:$Q$7,3,FALSE)","v":0},"N","SP.1142.1172",4,{"$f":"IF(K113=\"NA\",\"NA\",IF(K113=\"Y\",COUNTIF($M$1:M112,M113)+1,COUNTIF($M$1:M112,M113)+1))","v":2},"TA4.02","Data Gems for the Public: Innovative ways and best practices to communicate official statistics"]
[31,"Day1_Time_Slot3_Parallel 01","Day1_Time_Slot3",1,3,"Parallel 01",{"$f":"VLOOKUP($D$1&D114,'2020_Virtual_Forum'!A:F,6,FALSE)","v":"2020-10-19T06:30:00"},{"$f":"VLOOKUP($D$1&D114&$E$1&E114,'2020_Virtual_Forum'!A:F,5,FALSE)","v":"14:00 - 15:15 PM (UTC)"},{"$f":"HLOOKUP($F114,'2020_Virtual_Forum'!$H$5:$Q$7,2,FALSE)","v":"Session 1"},{"$f":"HLOOKUP($F114,'2020_Virtual_Forum'!$H$5:$Q$7,3,FALSE)","v":0},"N","SP.1297.1484",5,{"$f":"IF(K114=\"NA\",\"NA\",IF(K114=\"Y\",COUNTIF($M$1:M113,M114)+1,COUNTIF($M$1:M113,M114)+1))","v":2},"TA5.02","Isn’t the world already mapped? Mapping 1 billion people in the world’s unmapped places through machine learning and Citizen Generated Data"]
[32,"Day1_Time_Slot3_Parallel 02","Day1_Time_Slot3",1,3,"Parallel 02",{"$f":"VLOOKUP($D$1&D115,'2020_Virtual_Forum'!A:F,6,FALSE)","v":"2020-10-19T06:30:00"},{"$f":"VLOOKUP($D$1&D115&$E$1&E115,'2020_Virtual_Forum'!A:F,5,FALSE)","v":"14:00 - 15:15 PM (UTC)"},{"$f":"HLOOKUP($F115,'2020_Virtual_Forum'!$H$5:$Q$7,2,FALSE)","v":"Session 2"},{"$f":"HLOOKUP($F115,'2020_Virtual_Forum'!$H$5:$Q$7,3,FALSE)","v":0},"N","SP.1270",2,{"$f":"IF(K115=\"NA\",\"NA\",IF(K115=\"Y\",COUNTIF($M$1:M114,M115)+1,COUNTIF($M$1:M114,M115)+1))","v":3},"TA2.02","The Million Neighbourhoods Map and OpenReblock: Spatial data-driven processes and tools to accelerate sustainable and equitable human development in fast-growing cities"]
[33,"Day1_Time_Slot3_Parallel 03","Day1_Time_Slot3",1,3,"Parallel 03",{"$f":"VLOOKUP($D$1&D116,'2020_Virtual_Forum'!A:F,6,FALSE)","v":"2020-10-19T06:30:00"},{"$f":"VLOOKUP($D$1&D116&$E$1&E116,'2020_Virtual_Forum'!A:F,5,FALSE)","v":"14:00 - 15:15 PM (UTC)"},{"$f":"HLOOKUP($F116,'2020_Virtual_Forum'!$H$5:$Q$7,2,FALSE)","v":"Session 3"},{"$f":"HLOOKUP($F116,'2020_Virtual_Forum'!$H$5:$Q$7,3,FALSE)","v":0},"N","SP.1519",2,{"$f":"IF(K116=\"NA\",\"NA\",IF(K116=\"Y\",COUNTIF($M$1:M115,M116)+1,COUNTIF($M$1:M115,M116)+1))","v":4},"TA2.09","Cross sectoral digital cooperation : How the international Geneva ecosystem can bring its contribution towards an enhanced data integration to better achieve SDGs"]
[41,"Day1_Time_Slot4_Parallel 01","Day1_Time_Slot4",1,4,"Parallel 01",{"$f":"VLOOKUP($D$1&D117,'2020_Virtual_Forum'!A:F,6,FALSE)","v":"2020-10-19T06:30:00"},{"$f":"VLOOKUP($D$1&D117&$E$1&E117,'2020_Virtual_Forum'!A:F,5,FALSE)","v":"15:30 - 16:45 PM (UTC)"},{"$f":"HLOOKUP($F117,'2020_Virtual_Forum'!$H$5:$Q$7,2,FALSE)","v":"Session 1"},{"$f":"HLOOKUP($F117,'2020_Virtual_Forum'!$H$5:$Q$7,3,FALSE)","v":0},"N","SP.1194",1,{"$f":"IF(K117=\"NA\",\"NA\",IF(K117=\"Y\",COUNTIF($M$1:M116,M117)+1,COUNTIF($M$1:M116,M117)+1))","v":1},"TA1.01","Uncovering Opportunity in Unusual Places: How countries are helping each other leverage administrative data for the SDGs"]
[42,"Day1_Time_Slot4_Parallel 02","Day1_Time_Slot4",1,4,"Parallel 02",{"$f":"VLOOKUP($D$1&D118,'2020_Virtual_Forum'!A:F,6,FALSE)","v":"2020-10-19T06:30:00"},{"$f":"VLOOKUP($D$1&D118&$E$1&E118,'2020_Virtual_Forum'!A:F,5,FALSE)","v":"15:30 - 16:45 PM (UTC)"},{"$f":"HLOOKUP($F118,'2020_Virtual_Forum'!$H$5:$Q$7,2,FALSE)","v":"Session 2"},{"$f":"HLOOKUP($F118,'2020_Virtual_Forum'!$H$5:$Q$7,3,FALSE)","v":0},"N","SP.1227",2,{"$f":"IF(K118=\"NA\",\"NA\",IF(K118=\"Y\",COUNTIF($M$1:M117,M118)+1,COUNTIF($M$1:M117,M118)+1))","v":5},"TA2.04","Private Sector Innovation for the SDGs: Integrating non-commercial data resources to support pandemic response and sustainable development"]
[43,"Day1_Time_Slot4_Parallel 03","Day1_Time_Slot4",1,4,"Parallel 03",{"$f":"VLOOKUP($D$1&D119,'2020_Virtual_Forum'!A:F,6,FALSE)","v":"2020-10-19T06:30:00"},{"$f":"VLOOKUP($D$1&D119&$E$1&E119,'2020_Virtual_Forum'!A:F,5,FALSE)","v":"15:30 - 16:45 PM (UTC)"},{"$f":"HLOOKUP($F119,'2020_Virtual_Forum'!$H$5:$Q$7,2,FALSE)","v":"Session 3"},{"$f":"HLOOKUP($F119,'2020_Virtual_Forum'!$H$5:$Q$7,3,FALSE)","v":0},"N","SP.1479",5,{"$f":"IF(K119=\"NA\",\"NA\",IF(K119=\"Y\",COUNTIF($M$1:M118,M119)+1,COUNTIF($M$1:M118,M119)+1))","v":3},"TA5.03","Learning from geo open data platforms that worked in the midst of a pandemic"]
[44,"Day1_Time_Slot4_Parallel 04","Day1_Time_Slot4",1,4,"Parallel 04",{"$f":"VLOOKUP($D$1&D120,'2020_Virtual_Forum'!A:F,6,FALSE)","v":"2020-10-19T06:30:00"},{"$f":"VLOOKUP($D$1&D120&$E$1&E120,'2020_Virtual_Forum'!A:F,5,FALSE)","v":"15:30 - 16:45 PM (UTC)"},{"$f":"HLOOKUP($F120,'2020_Virtual_Forum'!$H$5:$Q$7,2,FALSE)","v":"Session 4"},{"$f":"HLOOKUP($F120,'2020_Virtual_Forum'!$H$5:$Q$7,3,FALSE)","v":0},"NA","NA","NA","NA","NA","Empty"]
[51,"Day2_Time_Slot1_Parallel 01","Day2_Time_Slot1",2,1,"Parallel 01",{"$f":"VLOOKUP($D$1&D121,'2020_Virtual_Forum'!A:F,6,FALSE)","v":"2020-10-20T07:00:00"},{"$f":"VLOOKUP($D$1&D121&$E$1&E121,'2020_Virtual_Forum'!A:F,5,FALSE)","v":"11:00 - 12:15 PM (UTC)"},{"$f":"HLOOKUP($F121,'2020_Virtual_Forum'!$H$5:$Q$7,2,FALSE)","v":"Session 1"},{"$f":"HLOOKUP($F121,'2020_Virtual_Forum'!$H$5:$Q$7,3,FALSE)","v":0},"N","SP.1320",1,{"$f":"IF(K121=\"NA\",\"NA\",IF(K121=\"Y\",COUNTIF($M$1:M120,M121)+1,COUNTIF($M$1:M120,M121)+1))","v":2},"TA1.02","Where to start first? – Identifying the leverage points of effective capacity development"]
[52,"Day2_Time_Slot1_Parallel 02","Day2_Time_Slot1",2,1,"Parallel 02",{"$f":"VLOOKUP($D$1&D122,'2020_Virtual_Forum'!A:F,6,FALSE)","v":"2020-10-20T07:00:00"},{"$f":"VLOOKUP($D$1&D122&$E$1&E122,'2020_Virtual_Forum'!A:F,5,FALSE)","v":"11:00 - 12:15 PM (UTC)"},{"$f":"HLOOKUP($F122,'2020_Virtual_Forum'!$H$5:$Q$7,2,FALSE)","v":"Session 2"},{"$f":"HLOOKUP($F122,'2020_Virtual_Forum'!$H$5:$Q$7,3,FALSE)","v":0},"N","SP.1122.1467",5,{"$f":"IF(K122=\"NA\",\"NA\",IF(K122=\"Y\",COUNTIF($M$1:M121,M122)+1,COUNTIF($M$1:M121,M122)+1))","v":4},"TA5.04","Safe and Trustworthy Al-Based Data Algorithms - Emerging Best Practices in the Global South and the Global North"]
[53,"Day2_Time_Slot1_Parallel 03","Day2_Time_Slot1",2,1,"Parallel 03",{"$f":"VLOOKUP($D$1&D123,'2020_Virtual_Forum'!A:F,6,FALSE)","v":"2020-10-20T07:00:00"},{"$f":"VLOOKUP($D$1&D123&$E$1&E123,'2020_Virtual_Forum'!A:F,5,FALSE)","v":"11:00 - 12:15 PM (UTC)"},{"$f":"HLOOKUP($F123,'2020_Virtual_Forum'!$H$5:$Q$7,2,FALSE)","v":"Session 3"},{"$f":"HLOOKUP($F123,'2020_Virtual_Forum'!$H$5:$Q$7,3,FALSE)","v":0},"N","SP.1110",3,{"$f":"IF(K123=\"NA\",\"NA\",IF(K123=\"Y\",COUNTIF($M$1:M122,M124)+1,COUNTIF($M$1:M122,M124)+1))","v":1},"TA3.07","Generating Local Level Statistics for More Informed Policymaking Using the Community-Based Monitoring System (CBMS)"]
[54,{"$f":"C124&\"_\"&F124","v":"Day2_Time_Slot1_Parallel 04"},{"$f":"$D$1&D124&\"_\"&$E$1&E124","v":"Day2_Time_Slot1"},2,1,"Parallel 04",{"$f":"VLOOKUP($D$1&D124,'2020_Virtual_Forum'!A:F,6,FALSE)","v":"2020-10-20T07:00:00"},{"$f":"VLOOKUP($D$1&D124&$E$1&E124,'2020_Virtual_Forum'!A:F,5,FALSE)","v":"11:00 - 12:15 PM (UTC)"},{"$f":"HLOOKUP($F124,'2020_Virtual_Forum'!$H$5:$Q$7,2,FALSE)","v":"Session 4"},{"$f":"HLOOKUP($F124,'2020_Virtual_Forum'!$H$5:$Q$7,3,FALSE)","v":0},"N","SP.1097.1110.1112.1299","2-5",{"$f":"IF(K124=\"NA\",\"NA\",IF(K124=\"Y\",COUNTIF($M$1:M44,M123)+1,COUNTIF($M$1:M44,M123)+1))","v":2},"TA2-5.01","3 Ted-style talks [see list**]"]
[71,"Day2_Time_Slot3_Parallel 01","Day2_Time_Slot3",2,3,"Parallel 01",{"$f":"VLOOKUP($D$1&D125,'2020_Virtual_Forum'!A:F,6,FALSE)","v":"2020-10-20T07:00:00"},{"$f":"VLOOKUP($D$1&D125&$E$1&E125,'2020_Virtual_Forum'!A:F,5,FALSE)","v":"14:00 - 15:15 PM (UTC)"},{"$f":"HLOOKUP($F125,'2020_Virtual_Forum'!$H$5:$Q$7,2,FALSE)","v":"Session 1"},{"$f":"HLOOKUP($F125,'2020_Virtual_Forum'!$H$5:$Q$7,3,FALSE)","v":0},"N","SP.1437",4,{"$f":"IF(K125=\"NA\",\"NA\",IF(K125=\"Y\",COUNTIF($M$1:M124,M125)+1,COUNTIF($M$1:M124,M125)+1))","v":3},"TA4.03","New approaches of NSOs in reaching out to a broader audience"]
[72,"Day2_Time_Slot3_Parallel 02","Day2_Time_Slot3",2,3,"Parallel 02",{"$f":"VLOOKUP($D$1&D126,'2020_Virtual_Forum'!A:F,6,FALSE)","v":"2020-10-20T07:00:00"},{"$f":"VLOOKUP($D$1&D126&$E$1&E126,'2020_Virtual_Forum'!A:F,5,FALSE)","v":"14:00 - 15:15 PM (UTC)"},{"$f":"HLOOKUP($F126,'2020_Virtual_Forum'!$H$5:$Q$7,2,FALSE)","v":"Session 2"},{"$f":"HLOOKUP($F126,'2020_Virtual_Forum'!$H$5:$Q$7,3,FALSE)","v":0},"N","SP.1426",5,{"$f":"IF(K126=\"NA\",\"NA\",IF(K126=\"Y\",COUNTIF($M$1:M125,M126)+1,COUNTIF($M$1:M125,M126)+1))","v":5},"TA5.05","Data Responsibility in the Covid-19 Response: Lessons Learned and the Road Ahead"]
[73,"Day2_Time_Slot3_Parallel 03","Day2_Time_Slot3",2,3,"Parallel 03",{"$f":"VLOOKUP($D$1&D127,'2020_Virtual_Forum'!A:F,6,FALSE)","v":"2020-10-20T07:00:00"},{"$f":"VLOOKUP($D$1&D127&$E$1&E127,'2020_Virtual_Forum'!A:F,5,FALSE)","v":"14:00 - 15:15 PM (UTC)"},{"$f":"HLOOKUP($F127,'2020_Virtual_Forum'!$H$5:$Q$7,2,FALSE)","v":"Session 3"},{"$f":"HLOOKUP($F127,'2020_Virtual_Forum'!$H$5:$Q$7,3,FALSE)","v":0},"N","SP.1335",4,{"$f":"IF(K127=\"NA\",\"NA\",IF(K127=\"Y\",COUNTIF($M$1:M126,M127)+1,COUNTIF($M$1:M126,M127)+1))","v":4},"TA4.04","Telling Stories Using Planetary and Sustainable Development Data: A workshop for data creators and journalists to streamline the pipeline from data production to public awareness"]
[81,"Day2_Time_Slot4_Parallel 01","Day2_Time_Slot4",2,4,"Parallel 01",{"$f":"VLOOKUP($D$1&D128,'2020_Virtual_Forum'!A:F,6,FALSE)","v":"2020-10-20T07:00:00"},{"$f":"VLOOKUP($D$1&D128&$E$1&E128,'2020_Virtual_Forum'!A:F,5,FALSE)","v":"15:30 - 16:45 PM (UTC)"},{"$f":"HLOOKUP($F128,'2020_Virtual_Forum'!$H$5:$Q$7,2,FALSE)","v":"Session 1"},{"$f":"HLOOKUP($F128,'2020_Virtual_Forum'!$H$5:$Q$7,3,FALSE)","v":0},"N","SP.1311.1325",2,{"$f":"IF(K128=\"NA\",\"NA\",IF(K128=\"Y\",COUNTIF($M$1:M127,M128)+1,COUNTIF($M$1:M127,M128)+1))","v":6},"TA2.05","Use of Geospatial Data to Support Covid-19 Response"]
[82,"Day2_Time_Slot4_Parallel 02","Day2_Time_Slot4",2,4,"Parallel 02",{"$f":"VLOOKUP($D$1&D129,'2020_Virtual_Forum'!A:F,6,FALSE)","v":"2020-10-20T07:00:00"},{"$f":"VLOOKUP($D$1&D129&$E$1&E129,'2020_Virtual_Forum'!A:F,5,FALSE)","v":"15:30 - 16:45 PM (UTC)"},{"$f":"HLOOKUP($F129,'2020_Virtual_Forum'!$H$5:$Q$7,2,FALSE)","v":"Session 2"},{"$f":"HLOOKUP($F129,'2020_Virtual_Forum'!$H$5:$Q$7,3,FALSE)","v":0},"N","SP.1333.1187.1404",2,{"$f":"IF(K129=\"NA\",\"NA\",IF(K129=\"Y\",COUNTIF($M$1:M128,M129)+1,COUNTIF($M$1:M128,M129)+1))","v":7},"TA2.06","How big data, citizen science data, and survey data can be effective in monitoring progress and decision-making around SDG 6 (ensuring availability and sustainable management of water and sanitation for all)"]
[83,{"$f":"C130&\"_\"&F130","v":"Day2_Time_Slot4_Parallel 03"},{"$f":"$D$1&D130&\"_\"&$E$1&E130","v":"Day2_Time_Slot4"},2,4,"Parallel 03",{"$f":"VLOOKUP($D$1&D130,'2020_Virtual_Forum'!A:F,6,FALSE)","v":"2020-10-20T07:00:00"},{"$f":"VLOOKUP($D$1&D130&$E$1&E130,'2020_Virtual_Forum'!A:F,5,FALSE)","v":"15:30 - 16:45 PM (UTC)"},{"$f":"HLOOKUP($F130,'2020_Virtual_Forum'!$H$5:$Q$7,2,FALSE)","v":"Session 3"},{"$f":"HLOOKUP($F130,'2020_Virtual_Forum'!$H$5:$Q$7,3,FALSE)","v":0},"N","SP.1154",5,{"$f":"IF(K130=\"NA\",\"NA\",IF(K130=\"Y\",COUNTIF($M$1:M129,M130)+1,COUNTIF($M$1:M129,M130)+1))","v":6},"TA5.06","Capacity building for policymakers to use data and evidence for decision-making"]
[84,"Day2_Time_Slot4_Parallel 04","Day2_Time_Slot4",2,4,"Parallel 04",{"$f":"VLOOKUP($D$1&D131,'2020_Virtual_Forum'!A:F,6,FALSE)","v":"2020-10-20T07:00:00"},{"$f":"VLOOKUP($D$1&D131&$E$1&E131,'2020_Virtual_Forum'!A:F,5,FALSE)","v":"15:30 - 16:45 PM (UTC)"},{"$f":"HLOOKUP($F131,'2020_Virtual_Forum'!$H$5:$Q$7,2,FALSE)","v":"Session 4"},{"$f":"HLOOKUP($F131,'2020_Virtual_Forum'!$H$5:$Q$7,3,FALSE)","v":0},"N","SP.1141",5,{"$f":"IF(K131=\"NA\",\"NA\",IF(K131=\"Y\",COUNTIF($M$1:M130,M131)+1,COUNTIF($M$1:M130,M131)+1))","v":7},"TA5.07","Data for Good: toward a sustainable ecosystem, beyond philanthropy"]
[91,"Day3_Time_Slot1_Parallel 01","Day3_Time_Slot1",3,1,"Parallel 01",{"$f":"VLOOKUP($D$1&D132,'2020_Virtual_Forum'!A:F,6,FALSE)","v":"2020-10-21T07:00:00"},{"$f":"VLOOKUP($D$1&D132&$E$1&E132,'2020_Virtual_Forum'!A:F,5,FALSE)","v":"11:00 - 12:15 PM (UTC)"},{"$f":"HLOOKUP($F132,'2020_Virtual_Forum'!$H$5:$Q$7,2,FALSE)","v":"Session 1"},{"$f":"HLOOKUP($F132,'2020_Virtual_Forum'!$H$5:$Q$7,3,FALSE)","v":0},"N","SP.1070.1454",2,{"$f":"IF(K132=\"NA\",\"NA\",IF(K132=\"Y\",COUNTIF($M$1:M131,M132)+1,COUNTIF($M$1:M131,M132)+1))","v":8},"TA2.07","Leveraging Data and AI to Achieve the SDGs: Using Mobile Phone Data to Combat Noncommunicable Diseases While Moving Toward a Global Data Access Framework"]
[92,"Day3_Time_Slot1_Parallel 02","Day3_Time_Slot1",3,1,"Parallel 02",{"$f":"VLOOKUP($D$1&D133,'2020_Virtual_Forum'!A:F,6,FALSE)","v":"2020-10-21T07:00:00"},{"$f":"VLOOKUP($D$1&D133&$E$1&E133,'2020_Virtual_Forum'!A:F,5,FALSE)","v":"11:00 - 12:15 PM (UTC)"},{"$f":"HLOOKUP($F133,'2020_Virtual_Forum'!$H$5:$Q$7,2,FALSE)","v":"Session 2"},{"$f":"HLOOKUP($F133,'2020_Virtual_Forum'!$H$5:$Q$7,3,FALSE)","v":0},"N","SP.1243",3,{"$f":"IF(K133=\"NA\",\"NA\",IF(K133=\"Y\",COUNTIF($M$1:M132,M133)+1,COUNTIF($M$1:M132,M133)+1))","v":5},"TA3.04","Persons with disabilities and Covid-19 data collection and disaggregation efforts"]
[93,"Day3_Time_Slot1_Parallel 03","Day3_Time_Slot1",3,1,"Parallel 03",{"$f":"VLOOKUP($D$1&D134,'2020_Virtual_Forum'!A:F,6,FALSE)","v":"2020-10-21T07:00:00"},{"$f":"VLOOKUP($D$1&D134&$E$1&E134,'2020_Virtual_Forum'!A:F,5,FALSE)","v":"11:00 - 12:15 PM (UTC)"},{"$f":"HLOOKUP($F134,'2020_Virtual_Forum'!$H$5:$Q$7,2,FALSE)","v":"Session 3"},{"$f":"HLOOKUP($F134,'2020_Virtual_Forum'!$H$5:$Q$7,3,FALSE)","v":0},"N","SP.1358",4,{"$f":"IF(K134=\"NA\",\"NA\",IF(K134=\"Y\",COUNTIF($M$1:M133,M134)+1,COUNTIF($M$1:M133,M134)+1))","v":5},"TA4.05","CitizEMPOWER: sharing citizen-led data tools and catalyzing partnerships with official data communities to respond to Covid-19"]
[101,"Day3_Time_Slot2_Parallel 01","Day3_Time_Slot2",3,2,"Parallel 01",{"$f":"VLOOKUP($D$1&D135,'2020_Virtual_Forum'!A:F,6,FALSE)","v":"2020-10-21T07:00:00"},{"$f":"VLOOKUP($D$1&D135&$E$1&E135,'2020_Virtual_Forum'!A:F,5,FALSE)","v":"12:30 - 13:45 PM (UTC)"},{"$f":"HLOOKUP($F135,'2020_Virtual_Forum'!$H$5:$Q$7,2,FALSE)","v":"Session 1"},{"$f":"HLOOKUP($F135,'2020_Virtual_Forum'!$H$5:$Q$7,3,FALSE)","v":0},"N","SP.1418",3,{"$f":"IF(K135=\"NA\",\"NA\",IF(K135=\"Y\",COUNTIF($M$1:M134,M135)+1,COUNTIF($M$1:M134,M135)+1))","v":6},"TA3.05","The Deep Data Power Shift"]
[102,"Day3_Time_Slot2_Parallel 02","Day3_Time_Slot2",3,2,"Parallel 02",{"$f":"VLOOKUP($D$1&D136,'2020_Virtual_Forum'!A:F,6,FALSE)","v":"2020-10-21T07:00:00"},{"$f":"VLOOKUP($D$1&D136&$E$1&E136,'2020_Virtual_Forum'!A:F,5,FALSE)","v":"12:30 - 13:45 PM (UTC)"},{"$f":"HLOOKUP($F136,'2020_Virtual_Forum'!$H$5:$Q$7,2,FALSE)","v":"Session 2"},{"$f":"HLOOKUP($F136,'2020_Virtual_Forum'!$H$5:$Q$7,3,FALSE)","v":0},"N","SP.1498",6,{"$f":"IF(K136=\"NA\",\"NA\",IF(K136=\"Y\",COUNTIF($M$1:M135,M136)+1,COUNTIF($M$1:M135,M136)+1))","v":1},"TA6.01","From Cape Town to Bern: the Data Governance Revolution"]
[103,"Day3_Time_Slot2_Parallel 03","Day3_Time_Slot2",3,2,"Parallel 03",{"$f":"VLOOKUP($D$1&D137,'2020_Virtual_Forum'!A:F,6,FALSE)","v":"2020-10-21T07:00:00"},{"$f":"VLOOKUP($D$1&D137&$E$1&E137,'2020_Virtual_Forum'!A:F,5,FALSE)","v":"12:30 - 13:45 PM (UTC)"},{"$f":"HLOOKUP($F137,'2020_Virtual_Forum'!$H$5:$Q$7,2,FALSE)","v":"Session 3"},{"$f":"HLOOKUP($F137,'2020_Virtual_Forum'!$H$5:$Q$7,3,FALSE)","v":0},"N","SP.1409",5,{"$f":"IF(K137=\"NA\",\"NA\",IF(K137=\"Y\",COUNTIF($M$1:M136,M137)+1,COUNTIF($M$1:M136,M137)+1))","v":8},"TA5.08","Balancing data use and data protection – Learning from African Experiences"]
[111,"Day3_Time_Slot3_Parallel 01","Day3_Time_Slot3",3,3,"Parallel 01",{"$f":"VLOOKUP($D$1&D138,'2020_Virtual_Forum'!A:F,6,FALSE)","v":"2020-10-21T07:00:00"},{"$f":"VLOOKUP($D$1&D138&$E$1&E138,'2020_Virtual_Forum'!A:F,5,FALSE)","v":"14:00 - 15:15 PM (UTC)"},{"$f":"HLOOKUP($F138,'2020_Virtual_Forum'!$H$5:$Q$7,2,FALSE)","v":"Session 1"},{"$f":"HLOOKUP($F138,'2020_Virtual_Forum'!$H$5:$Q$7,3,FALSE)","v":0},"N","SP.1174.1401",6,{"$f":"IF(K138=\"NA\",\"NA\",IF(K138=\"Y\",COUNTIF($M$1:M137,M138)+1,COUNTIF($M$1:M137,M138)+1))","v":2},"TA6.02","Bern Network for Financing Development Data – Strategic dialogue and launch of new commitments to get to more and better funding support for CTGAP"]
[112,"Day3_Time_Slot3_Parallel 02","Day3_Time_Slot3",3,3,"Parallel 02",{"$f":"VLOOKUP($D$1&D139,'2020_Virtual_Forum'!A:F,6,FALSE)","v":"2020-10-21T07:00:00"},{"$f":"VLOOKUP($D$1&D139&$E$1&E139,'2020_Virtual_Forum'!A:F,5,FALSE)","v":"14:00 - 15:15 PM (UTC)"},{"$f":"HLOOKUP($F139,'2020_Virtual_Forum'!$H$5:$Q$7,2,FALSE)","v":"Session 2"},{"$f":"HLOOKUP($F139,'2020_Virtual_Forum'!$H$5:$Q$7,3,FALSE)","v":0},"N","SP.1025.1282",2,{"$f":"IF(K139=\"NA\",\"NA\",IF(K139=\"Y\",COUNTIF($M$1:M138,M139)+1,COUNTIF($M$1:M138,M139)+1))","v":9},"TA2.08","Leveraging data platforms and data-based insights for sustainable health financing and better delivery for all in Africa : During Covid-19 and beyond"]
[113,"Day3_Time_Slot3_Parallel 03","Day3_Time_Slot3",3,3,"Parallel 03",{"$f":"VLOOKUP($D$1&D140,'2020_Virtual_Forum'!A:F,6,FALSE)","v":"2020-10-21T07:00:00"},{"$f":"VLOOKUP($D$1&D140&$E$1&E140,'2020_Virtual_Forum'!A:F,5,FALSE)","v":"14:00 - 15:15 PM (UTC)"},{"$f":"HLOOKUP($F140,'2020_Virtual_Forum'!$H$5:$Q$7,2,FALSE)","v":"Session 3"},{"$f":"HLOOKUP($F140,'2020_Virtual_Forum'!$H$5:$Q$7,3,FALSE)","v":0},"N","SP.1482",4,{"$f":"IF(K140=\"NA\",\"NA\",IF(K140=\"Y\",COUNTIF($M$1:M139,M140)+1,COUNTIF($M$1:M139,M140)+1))","v":6},"TA4.06","The Best Data Are Worthless If You Can’t Tell Their Story"]
[114,"Day3_Time_Slot3_Parallel 04","Day3_Time_Slot3",3,3,"Parallel 04",{"$f":"VLOOKUP($D$1&D141,'2020_Virtual_Forum'!A:F,6,FALSE)","v":"2020-10-21T07:00:00"},{"$f":"VLOOKUP($D$1&D141&$E$1&E141,'2020_Virtual_Forum'!A:F,5,FALSE)","v":"14:00 - 15:15 PM (UTC)"},{"$f":"HLOOKUP($F141,'2020_Virtual_Forum'!$H$5:$Q$7,2,FALSE)","v":"Session 4"},{"$f":"HLOOKUP($F141,'2020_Virtual_Forum'!$H$5:$Q$7,3,FALSE)","v":0},"N","SP.1473",3,{"$f":"IF(K141=\"NA\",\"NA\",IF(K141=\"Y\",COUNTIF($M$1:M140,M141)+1,COUNTIF($M$1:M140,M141)+1))","v":7},"TA3.06","Ageing 2.0: livehacks for better data and living"]
[null,null,null,null,null,null,null,null,null,null,null,null,null,null,null,null,"UNWDF2017"]
[null,null,null,null,null,null,null,null,null,null,null,null,null,"TA",null,null,"TA"]
[null,null,null,null,null,null,null,null,null,null,null,null,null,"_O",1,{"$f":"O144/$O$154","v":2.8571428571428571E-2},"_O",1,0.01]
[null,null,null,null,null,null,null,null,null,null,null,null,null,1,2,5.7142857142857141E-2,1,9,0.11]
[null,null,null,null,null,null,null,null,null,null,null,null,null,2,8,0.22857142857142856,2,20,0.25]
[null,null,null,null,null,null,null,null,null,null,null,null,null,3,6,0.17142857142857143,3,13,0.16]
[null,null,null,null,null,null,null,null,null,null,null,null,null,4,6,0.17142857142857143,4,18,0.23]
[null,null,null,null,null,null,null,null,null,null,null,null,null,5,8,0.22857142857142856,5,12,0.15]
[null,null,null,null,null,null,null,null,null,null,null,null,null,6,2,5.7142857142857141E-2,6,6,0.08]
[null,null,null,null,null,null,null,null,null,null,null,null,null,"2-5",1,2.8571428571428571E-2]
[null,null,null,null,null,null,null,null,null,null,null,null,null,"_Z",0,0,"_Z",0,0]
[null,null,null,null,null,null,null,null,null,null,null,null,null,"_C",1,2.8571428571428571E-2,"_C",1,0.01]
[null,null,null,null,null,null,null,null,null,null,null,null,null,null,35,null,null,80]
[]
[null,null,null,null,null,null,null,null,null,null,null,null,null,"Plenary",5,null,"Plenary",10]
[null,null,null,null,null,null,null,null,null,null,null,null,null,"Sessions",30,null,"Sessions",70]
[null,null,null,null,null,null,null,null,null,null,null,null,null,"Total",35,null,"Total",80]