{"text_format":"1","workbook":"xlsx","n_sheets":2,"sheets":["UNWDF_Hangzhou_2023","UNWDF2023_LookUp"],"not_rendered":{"charts":0,"images":1,"macros":1,"external_links":3,"defined_names":52,"comments":0,"pivot_tables":0},"unopened":[],"bounds":{"document_bytes":16777216,"sheet_cells":100000,"rows_first":2000,"rows_last":500,"rows_between":2000,"halvings":0,"cell_chars":16384,"cell_head_chars":4096},"cells_cut":0,"cells_raw":0,"read":"whole","date_system":"1900"}

{"sheet":"UNWDF_Hangzhou_2023","index":0,"n_rows":130,"n_cols":19,"rows_kept":130,"cut":false,"hidden":false,"merged":[[89,5,89,18],[129,5,129,18],[108,6,108,18],[113,6,113,18],[118,6,118,18],[90,5,90,18],[109,5,112,5],[104,5,107,5],[94,5,97,5],[99,5,102,5],[114,5,117,5],[92,5,93,5],[119,5,120,5],[122,5,123,5],[98,6,98,18],[125,10,125,12],[24,6,24,18],[29,6,29,18],[34,6,34,18],[39,6,39,18],[61,6,61,18],[48,10,48,12],[48,14,48,16],[50,10,50,12],[50,14,50,16],[53,5,53,18],[44,6,44,15],[57,5,60,5],[35,5,38,5],[52,5,52,18],[0,5,0,18],[1,5,1,18],[2,5,2,18],[3,5,3,18],[12,5,12,18],[5,5,6,5],[10,5,11,5],[7,5,8,5],[9,6,9,18],[85,10,85,12],[85,14,85,16],[87,10,87,12],[87,14,87,16],[81,6,81,15],[127,10,127,12],[127,14,127,16],[125,14,125,16],[103,6,103,18],[121,6,121,15],[14,5,15,5],[30,5,33,5],[20,5,23,5],[16,5,19,5],[25,5,28,5],[66,6,66,18],[82,5,83,5],[40,5,43,5],[45,5,46,5],[77,5,80,5],[55,5,56,5],[62,5,65,5],[67,5,70,5],[72,5,75,5],[71,6,71,18],[76,6,76,18]]}
[null,null,null,"Day",24,"UNITED NATIONS WORLD DATA FORUM 2023 (24 - 27 APRIL)"]
[null,"NOW (Local time)",{"$f":"NOW()","v":"2023-05-01T12:39:05.050"},"Month",4,"Hangzhou International Expo Centre, Hangzhou, China"]
[null,"GMT+8/UTC+8 (Hangzhou time)",{"$f":"Local2GMT(NOW())+(8/24)","v":{"$error":"#NAME?"}},"Year",2023,"FINAL Programme, as of 28 April 2023"]
["Day0",null,null,null,{"$f":"DATE($E$3,$E$2,$E$1+MID(B8,4,1))","v":"2023-04-24"},{"$f":"IF(ISERROR(DATE($E$3,$E$2,$E$1+MID(B8,4,1))+TIME(MID(E8,1,2),MID(E8,4,2),0)+($C$2-$C$3)),DATE($E$3,$E$2,$E$1+MID(B8,4,1)),TEXT(DATE($E$3,$E$2,$E$1+MID(B8,4,1))+TIME(MID(E8,1,2),MID(E8,4,2),0)+($C$2-$C$3),\"DDDDDD, DD MMMM YYYY\")&\" [Date changes shown on row]\")","v":"2023-04-24"}]
[null,null,"LookUp",null,null,null,"LookUp","Parallel 01","Parallel 02","Parallel 03","Parallel 04","Parallel 05","Parallel 06","Parallel 07","Parallel 08","Parallel 09","Parallel 10","Parallel 11","Parallel 12"]
[null,null,null,null,null,"Time (Auto-adjusts to your local time, unless \"(Hangzhou time)\" shown)","Rm Name","Room 01","Room 02","Room 03","Room 04","Room 05","Room 06","Room 07","Room 08","Room 09","LEARNING LABS 1","LEARNING LABS 2","DEMOS SPACE"]
["DayTime_LookUp","Day_LookUp","Time_LookUp","Col_LookUp","Time (GMT/UTC time+8)",null,"Capacity",2000,200,200,200,200,200,100,100,100,100,100,100]
[{"$f":"B8&C8","v":"Day0Time_Slot1"},"Day0","Time_Slot1",16,"10:00 - 11:00 (Hangzhou Time)",{"$f":"IF(ISERROR(TEXT((DATE($E$3,$E$2,$E$1+MID(B8,4,1))+TIME(MID(E8,1,2),MID(E8,4,2),0))+($C$2-$C$3),\"H:MM AM/PM\")&\" - \"&TEXT(DATE($E$3,$E$2,$E$1+MID(B8,4,1))+TIME(MID(E8,9,2),MID(E8,12,2),0)+($C$2-$C$3),\"H:MM AM/PM\")),E8,TEXT(DATE($E$3,$E$2,$E$1+MID(B8,4,1))+TIME(MID(E8,1,2),MID(E8,4,2),0)+($C$2-$C$3),\"DDDD DD MMM\")&\" : \"&TEXT((DATE($E$3,$E$2,$E$1+MID(B8,4,1))+TIME(MID(E8,1,2),MID(E8,4,2),0))+($C$2-$C$3),\"H:MM AM/PM\")&\" - \"&TEXT(DATE($E$3,$E$2,$E$1+MID(B8,4,1))+TIME(MID(E8,9,2),MID(E8,12,2),0)+($C$2-$C$3),\"H:MM AM/PM\"))","v":"10:00 - 11:00 (Hangzhou Time)"},"Event Title",{"$f":"IF(VLOOKUP($B8&\"_\"&$C8&\"_\"&H$14,UNWDF2023_LookUp!$B:$R,$D8,FALSE)=0,\"\",VLOOKUP($B8&\"_\"&$C8&\"_\"&H$14,UNWDF2023_LookUp!$B:$R,$D8,FALSE))","v":"Opening press conference (LOCATION: MEDIA AREA)"}]
["Day0Time_Slot1","Day0","Time_Slot1",17,"",null,"Organiser",{"$f":"IF(VLOOKUP($B9&\"_\"&$C9&\"_\"&H$14,UNWDF2023_LookUp!$B:$R,$D9,FALSE)=0,\"\",VLOOKUP($B9&\"_\"&$C9&\"_\"&H$14,UNWDF2023_LookUp!$B:$R,$D9,FALSE))","v":"National Bureau of Statistics (NBS-China); United Nations Statistics Division (UNSD-DESA)"}]
[null,"Day0",null,null,"11:00 - 15:30 (Hangzhou time)",{"$f":"IF(ISERROR(TEXT((DATE($E$3,$E$2,$E$1+MID(B10,4,1))+TIME(MID(E10,1,2),MID(E10,4,2),0))+($C$2-$C$3),\"H:MM AM/PM\")&\" - \"&TEXT(DATE($E$3,$E$2,$E$1+MID(B10,4,1))+TIME(MID(E10,9,2),MID(E10,12,2),0)+($C$2-$C$3),\"H:MM AM/PM\")),E10,TEXT((DATE($E$3,$E$2,$E$1+MID(B10,4,1))+TIME(MID(E10,1,2),MID(E10,4,2),0))+($C$2-$C$3),\"H:MM AM/PM\")&\" - \"&TEXT(DATE($E$3,$E$2,$E$1+MID(B10,4,1))+TIME(MID(E10,9,2),MID(E10,12,2),0)+($C$2-$C$3),\"H:MM AM/PM\"))","v":"11:00 - 15:30 (Hangzhou time)"},"Break"]
[{"$f":"B11&C11","v":"Day0Time_Slot2"},"Day0","Time_Slot2",16,"15:30 - 16:15 (Hangzhou Time)",{"$f":"IF(ISERROR(TEXT((DATE($E$3,$E$2,$E$1+MID(B11,4,1))+TIME(MID(E11,1,2),MID(E11,4,2),0))+($C$2-$C$3),\"H:MM AM/PM\")&\" - \"&TEXT(DATE($E$3,$E$2,$E$1+MID(B11,4,1))+TIME(MID(E11,9,2),MID(E11,12,2),0)+($C$2-$C$3),\"H:MM AM/PM\")),E11,TEXT(DATE($E$3,$E$2,$E$1+MID(B11,4,1))+TIME(MID(E11,1,2),MID(E11,4,2),0)+($C$2-$C$3),\"DDDD DD MMM\")&\" : \"&TEXT((DATE($E$3,$E$2,$E$1+MID(B11,4,1))+TIME(MID(E11,1,2),MID(E11,4,2),0))+($C$2-$C$3),\"H:MM AM/PM\")&\" - \"&TEXT(DATE($E$3,$E$2,$E$1+MID(B11,4,1))+TIME(MID(E11,9,2),MID(E11,12,2),0)+($C$2-$C$3),\"H:MM AM/PM\"))","v":"15:30 - 16:15 (Hangzhou Time)"},"Event Title",{"$f":"IF(VLOOKUP($B11&\"_\"&$C11&\"_\"&H$14,UNWDF2023_LookUp!$B:$R,$D11,FALSE)=0,\"\",VLOOKUP($B11&\"_\"&$C11&\"_\"&H$14,UNWDF2023_LookUp!$B:$R,$D11,FALSE))","v":"Opening ceremony"}]
["Day0Time_Slot2","Day0","Time_Slot2",17,"",null,"Organiser",{"$f":"IF(VLOOKUP($B12&\"_\"&$C12&\"_\"&H$14,UNWDF2023_LookUp!$B:$R,$D12,FALSE)=0,\"\",VLOOKUP($B12&\"_\"&$C12&\"_\"&H$14,UNWDF2023_LookUp!$B:$R,$D12,FALSE))","v":"National Bureau of Statistics (NBS-China)"}]
["Day1",null,null,null,{"$f":"DATE($E$3,$E$2,$E$1+MID(B17,4,1))","v":"2023-04-25"},{"$f":"IF(ISERROR(DATE($E$3,$E$2,$E$1+MID(B17,4,1))+TIME(MID(E17,1,2),MID(E17,4,2),0)+($C$2-$C$3)),DATE($E$3,$E$2,$E$1+MID(B17,4,1)),TEXT(DATE($E$3,$E$2,$E$1+MID(B17,4,1))+TIME(MID(E17,1,2),MID(E17,4,2),0)+($C$2-$C$3),\"DDDDDD, DD MMMM YYYY\")&\" [Date changes shown on row]\")","v":"2023-04-25"}]
[null,null,"LookUp",null,null,null,"LookUp","Parallel 01","Parallel 02","Parallel 03","Parallel 04","Parallel 05","Parallel 06","Parallel 07","Parallel 08","Parallel 09","Parallel 10","Parallel 11","Parallel 12"]
[null,null,null,null,null,"Time (Auto-adjusts to your local time, unless \"(Hangzhou time)\" shown)","Rm Name","Room 01","Room 02","Room 03","Room 04","Room 05","Room 06","Room 07","Room 08","Room 09","LEARNING LABS 1","LEARNING LABS 2","DEMOS SPACE"]
["DayTime_LookUp","Day_LookUp","Time_LookUp","Col_LookUp","Time (GMT/UTC time+8)",null,"Capacity",2000,200,200,200,200,200,100,100,100,100,100,100]
[{"$f":"B17&C17","v":"Day1Time_Slot1"},"Day1","Time_Slot1",15,"08:45 - 08:55 (Hangzhou time)",{"$f":"IF(ISERROR(TEXT((DATE($E$3,$E$2,$E$1+MID(B17,4,1))+TIME(MID(E17,1,2),MID(E17,4,2),0))+($C$2-$C$3),\"H:MM AM/PM\")&\" - \"&TEXT(DATE($E$3,$E$2,$E$1+MID(B17,4,1))+TIME(MID(E17,9,2),MID(E17,12,2),0)+($C$2-$C$3),\"H:MM AM/PM\")),E17,TEXT(DATE($E$3,$E$2,$E$1+MID(B17,4,1))+TIME(MID(E17,1,2),MID(E17,4,2),0)+($C$2-$C$3),\"DDDD DD MMM\")&\" : \"&TEXT((DATE($E$3,$E$2,$E$1+MID(B17,4,1))+TIME(MID(E17,1,2),MID(E17,4,2),0))+($C$2-$C$3),\"H:MM AM/PM\")&\" - \"&TEXT(DATE($E$3,$E$2,$E$1+MID(B17,4,1))+TIME(MID(E17,9,2),MID(E17,12,2),0)+($C$2-$C$3),\"H:MM AM/PM\"))","v":"08:45 - 08:55 (Hangzhou time)"},"Event_ID",{"$f":"IF(VLOOKUP($B17&\"_\"&$C17&\"_\"&H$14,UNWDF2023_LookUp!$B:$R,$D17,FALSE)=0,\"\",VLOOKUP($B17&\"_\"&$C17&\"_\"&H$14,UNWDF2023_LookUp!$B:$R,$D17,FALSE))","v":"TA_O.03"}]
["Day1Time_Slot1","Day1","Time_Slot1",13,"",null,"Thematic Area",{"$f":"IF(VLOOKUP($B18&\"_\"&$C18&\"_\"&H$14,UNWDF2023_LookUp!$B:$R,$D18,FALSE)=0,\"\",VLOOKUP($B18&\"_\"&$C18&\"_\"&H$14,UNWDF2023_LookUp!$B:$R,$D18,FALSE))","v":"_O"}]
[{"$f":"B19&C19","v":"Day1Time_Slot1"},"Day1","Time_Slot1",16,"",null,"Event Title",{"$f":"IF(VLOOKUP($B19&\"_\"&$C19&\"_\"&H$14,UNWDF2023_LookUp!$B:$R,$D19,FALSE)=0,\"\",VLOOKUP($B19&\"_\"&$C19&\"_\"&H$14,UNWDF2023_LookUp!$B:$R,$D19,FALSE))","v":"Welcome and introduction"}]
["Day1Time_Slot1","Day1","Time_Slot1",17,"",null,"Organiser",{"$f":"IF(VLOOKUP($B20&\"_\"&$C20&\"_\"&H$14,UNWDF2023_LookUp!$B:$R,$D20,FALSE)=0,\"\",VLOOKUP($B20&\"_\"&$C20&\"_\"&H$14,UNWDF2023_LookUp!$B:$R,$D20,FALSE))","v":"National Bureau of Statistics (NBS-China) / United Nations Statistics Division (UNSD-DESA)"}]
["Day1Time_Slot2","Day1","Time_Slot2",15,"09:00 - 10:30 (Hangzhou time)",{"$f":"IF(ISERROR(TEXT((DATE($E$3,$E$2,$E$1+MID(B21,4,1))+TIME(MID(E21,1,2),MID(E21,4,2),0))+($C$2-$C$3),\"H:MM AM/PM\")&\" - \"&TEXT(DATE($E$3,$E$2,$E$1+MID(B21,4,1))+TIME(MID(E21,9,2),MID(E21,12,2),0)+($C$2-$C$3),\"H:MM AM/PM\")),E21,TEXT(DATE($E$3,$E$2,$E$1+MID(B21,4,1))+TIME(MID(E21,1,2),MID(E21,4,2),0)+($C$2-$C$3),\"DDDD DD MMM\")&\" : \"&TEXT((DATE($E$3,$E$2,$E$1+MID(B21,4,1))+TIME(MID(E21,1,2),MID(E21,4,2),0))+($C$2-$C$3),\"H:MM AM/PM\")&\" - \"&TEXT(DATE($E$3,$E$2,$E$1+MID(B21,4,1))+TIME(MID(E21,9,2),MID(E21,12,2),0)+($C$2-$C$3),\"H:MM AM/PM\"))","v":"09:00 - 10:30 (Hangzhou time)"},"Event_ID",{"$f":"IF(VLOOKUP($B21&\"_\"&$C21&\"_\"&H$14,UNWDF2023_LookUp!$B:$R,$D21,FALSE)=0,\"\",VLOOKUP($B21&\"_\"&$C21&\"_\"&H$14,UNWDF2023_LookUp!$B:$R,$D21,FALSE))","v":"TA5.01"}]
[null,"Day1","Time_Slot2",13,null,null,"Thematic Area",{"$f":"IF(VLOOKUP($B22&\"_\"&$C22&\"_\"&H$14,UNWDF2023_LookUp!$B:$R,$D22,FALSE)=0,\"\",VLOOKUP($B22&\"_\"&$C22&\"_\"&H$14,UNWDF2023_LookUp!$B:$R,$D22,FALSE))","v":5}]
[{"$f":"B23&C23","v":"Day1Time_Slot2"},"Day1","Time_Slot2",16,null,null,"Event Title",{"$f":"IF(VLOOKUP($B23&\"_\"&$C23&\"_\"&H$14,UNWDF2023_LookUp!$B:$R,$D23,FALSE)=0,\"\",VLOOKUP($B23&\"_\"&$C23&\"_\"&H$14,UNWDF2023_LookUp!$B:$R,$D23,FALSE))","v":"Host country plenary session"}]
["Day1Time_Slot2","Day1","Time_Slot2",17,"",null,"Organiser",{"$f":"IF(VLOOKUP($B24&\"_\"&$C24&\"_\"&H$14,UNWDF2023_LookUp!$B:$R,$D24,FALSE)=0,\"\",VLOOKUP($B24&\"_\"&$C24&\"_\"&H$14,UNWDF2023_LookUp!$B:$R,$D24,FALSE))","v":"National Bureau of Statistics (NBS-China)"}]
[null,"Day1",null,null,"10:30 - 11:00 (Hangzhou time)",{"$f":"IF(ISERROR(TEXT((DATE($E$3,$E$2,$E$1+MID(B25,4,1))+TIME(MID(E25,1,2),MID(E25,4,2),0))+($C$2-$C$3),\"H:MM AM/PM\")&\" - \"&TEXT(DATE($E$3,$E$2,$E$1+MID(B25,4,1))+TIME(MID(E25,9,2),MID(E25,12,2),0)+($C$2-$C$3),\"H:MM AM/PM\")),E25,TEXT((DATE($E$3,$E$2,$E$1+MID(B25,4,1))+TIME(MID(E25,1,2),MID(E25,4,2),0))+($C$2-$C$3),\"H:MM AM/PM\")&\" - \"&TEXT(DATE($E$3,$E$2,$E$1+MID(B25,4,1))+TIME(MID(E25,9,2),MID(E25,12,2),0)+($C$2-$C$3),\"H:MM AM/PM\"))","v":"10:30 - 11:00 (Hangzhou time)"},"Break"]
[{"$f":"B26&C26","v":"Day1Time_Slot3"},"Day1","Time_Slot3",15,"11:00 - 12:00 (Hangzhou time)",{"$f":"IF(ISERROR(TEXT((DATE($E$3,$E$2,$E$1+MID(B26,4,1))+TIME(MID(E26,1,2),MID(E26,4,2),0))+($C$2-$C$3),\"H:MM AM/PM\")&\" - \"&TEXT(DATE($E$3,$E$2,$E$1+MID(B26,4,1))+TIME(MID(E26,9,2),MID(E26,12,2),0)+($C$2-$C$3),\"H:MM AM/PM\")),E26,TEXT(DATE($E$3,$E$2,$E$1+MID(B26,4,1))+TIME(MID(E26,1,2),MID(E26,4,2),0)+($C$2-$C$3),\"DDDD DD MMM\")&\" : \"&TEXT((DATE($E$3,$E$2,$E$1+MID(B26,4,1))+TIME(MID(E26,1,2),MID(E26,4,2),0))+($C$2-$C$3),\"H:MM AM/PM\")&\" - \"&TEXT(DATE($E$3,$E$2,$E$1+MID(B26,4,1))+TIME(MID(E26,9,2),MID(E26,12,2),0)+($C$2-$C$3),\"H:MM AM/PM\"))","v":"11:00 - 12:00 (Hangzhou time)"},"Event_ID",null,{"$f":"IF(VLOOKUP($B26&\"_\"&$C26&\"_\"&I$14,UNWDF2023_LookUp!$B:$R,$D26,FALSE)=0,\"\",VLOOKUP($B26&\"_\"&$C26&\"_\"&I$14,UNWDF2023_LookUp!$B:$R,$D26,FALSE))","v":"TA2.11"},{"$f":"IF(VLOOKUP($B26&\"_\"&$C26&\"_\"&J$14,UNWDF2023_LookUp!$B:$R,$D26,FALSE)=0,\"\",VLOOKUP($B26&\"_\"&$C26&\"_\"&J$14,UNWDF2023_LookUp!$B:$R,$D26,FALSE))","v":"TA1.03"},{"$f":"IF(VLOOKUP($B26&\"_\"&$C26&\"_\"&K$14,UNWDF2023_LookUp!$B:$R,$D26,FALSE)=0,\"\",VLOOKUP($B26&\"_\"&$C26&\"_\"&K$14,UNWDF2023_LookUp!$B:$R,$D26,FALSE))","v":"TA2.34"},{"$f":"IF(VLOOKUP($B26&\"_\"&$C26&\"_\"&L$14,UNWDF2023_LookUp!$B:$R,$D26,FALSE)=0,\"\",VLOOKUP($B26&\"_\"&$C26&\"_\"&L$14,UNWDF2023_LookUp!$B:$R,$D26,FALSE))","v":"TA1.20"},{"$f":"IF(VLOOKUP($B26&\"_\"&$C26&\"_\"&M$14,UNWDF2023_LookUp!$B:$R,$D26,FALSE)=0,\"\",VLOOKUP($B26&\"_\"&$C26&\"_\"&M$14,UNWDF2023_LookUp!$B:$R,$D26,FALSE))","v":"TA2.19"},{"$f":"IF(VLOOKUP($B26&\"_\"&$C26&\"_\"&N$14,UNWDF2023_LookUp!$B:$R,$D26,FALSE)=0,\"\",VLOOKUP($B26&\"_\"&$C26&\"_\"&N$14,UNWDF2023_LookUp!$B:$R,$D26,FALSE))","v":"TA4.05"},{"$f":"IF(VLOOKUP($B26&\"_\"&$C26&\"_\"&O$14,UNWDF2023_LookUp!$B:$R,$D26,FALSE)=0,\"\",VLOOKUP($B26&\"_\"&$C26&\"_\"&O$14,UNWDF2023_LookUp!$B:$R,$D26,FALSE))","v":"TA2.40"},{"$f":"IF(VLOOKUP($B26&\"_\"&$C26&\"_\"&P$14,UNWDF2023_LookUp!$B:$R,$D26,FALSE)=0,\"\",VLOOKUP($B26&\"_\"&$C26&\"_\"&P$14,UNWDF2023_LookUp!$B:$R,$D26,FALSE))","v":"TA2.13"},{"$f":"IF(VLOOKUP($B26&\"_\"&$C26&\"_\"&Q$14,UNWDF2023_LookUp!$B:$R,$D26,FALSE)=0,\"\",VLOOKUP($B26&\"_\"&$C26&\"_\"&Q$14,UNWDF2023_LookUp!$B:$R,$D26,FALSE))","v":"LEARN.303"},{"$f":"IF(VLOOKUP($B26&\"_\"&$C26&\"_\"&R$14,UNWDF2023_LookUp!$B:$R,$D26,FALSE)=0,\"\",VLOOKUP($B26&\"_\"&$C26&\"_\"&R$14,UNWDF2023_LookUp!$B:$R,$D26,FALSE))","v":"LEARN.302"},{"$f":"IF(VLOOKUP($B26&\"_\"&$C26&\"_\"&S$14,UNWDF2023_LookUp!$B:$R,$D26,FALSE)=0,\"\",VLOOKUP($B26&\"_\"&$C26&\"_\"&S$14,UNWDF2023_LookUp!$B:$R,$D26,FALSE))","v":"NA"}]
["Day1Time_Slot3","Day1","Time_Slot3",13,"",null,"Thematic Area",null,{"$f":"IF(VLOOKUP($B27&\"_\"&$C27&\"_\"&I$14,UNWDF2023_LookUp!$B:$R,$D27,FALSE)=0,\"\",VLOOKUP($B27&\"_\"&$C27&\"_\"&I$14,UNWDF2023_LookUp!$B:$R,$D27,FALSE))","v":2},{"$f":"IF(VLOOKUP($B27&\"_\"&$C27&\"_\"&J$14,UNWDF2023_LookUp!$B:$R,$D27,FALSE)=0,\"\",VLOOKUP($B27&\"_\"&$C27&\"_\"&J$14,UNWDF2023_LookUp!$B:$R,$D27,FALSE))","v":1},{"$f":"IF(VLOOKUP($B27&\"_\"&$C27&\"_\"&K$14,UNWDF2023_LookUp!$B:$R,$D27,FALSE)=0,\"\",VLOOKUP($B27&\"_\"&$C27&\"_\"&K$14,UNWDF2023_LookUp!$B:$R,$D27,FALSE))","v":2},{"$f":"IF(VLOOKUP($B27&\"_\"&$C27&\"_\"&L$14,UNWDF2023_LookUp!$B:$R,$D27,FALSE)=0,\"\",VLOOKUP($B27&\"_\"&$C27&\"_\"&L$14,UNWDF2023_LookUp!$B:$R,$D27,FALSE))","v":1},{"$f":"IF(VLOOKUP($B27&\"_\"&$C27&\"_\"&M$14,UNWDF2023_LookUp!$B:$R,$D27,FALSE)=0,\"\",VLOOKUP($B27&\"_\"&$C27&\"_\"&M$14,UNWDF2023_LookUp!$B:$R,$D27,FALSE))","v":2},{"$f":"IF(VLOOKUP($B27&\"_\"&$C27&\"_\"&N$14,UNWDF2023_LookUp!$B:$R,$D27,FALSE)=0,\"\",VLOOKUP($B27&\"_\"&$C27&\"_\"&N$14,UNWDF2023_LookUp!$B:$R,$D27,FALSE))","v":4},{"$f":"IF(VLOOKUP($B27&\"_\"&$C27&\"_\"&O$14,UNWDF2023_LookUp!$B:$R,$D27,FALSE)=0,\"\",VLOOKUP($B27&\"_\"&$C27&\"_\"&O$14,UNWDF2023_LookUp!$B:$R,$D27,FALSE))","v":2},{"$f":"IF(VLOOKUP($B27&\"_\"&$C27&\"_\"&P$14,UNWDF2023_LookUp!$B:$R,$D27,FALSE)=0,\"\",VLOOKUP($B27&\"_\"&$C27&\"_\"&P$14,UNWDF2023_LookUp!$B:$R,$D27,FALSE))","v":2},{"$f":"IF(VLOOKUP($B27&\"_\"&$C27&\"_\"&Q$14,UNWDF2023_LookUp!$B:$R,$D27,FALSE)=0,\"\",VLOOKUP($B27&\"_\"&$C27&\"_\"&Q$14,UNWDF2023_LookUp!$B:$R,$D27,FALSE))","v":"NA"},{"$f":"IF(VLOOKUP($B27&\"_\"&$C27&\"_\"&R$14,UNWDF2023_LookUp!$B:$R,$D27,FALSE)=0,\"\",VLOOKUP($B27&\"_\"&$C27&\"_\"&R$14,UNWDF2023_LookUp!$B:$R,$D27,FALSE))","v":"NA"},{"$f":"IF(VLOOKUP($B27&\"_\"&$C27&\"_\"&S$14,UNWDF2023_LookUp!$B:$R,$D27,FALSE)=0,\"\",VLOOKUP($B27&\"_\"&$C27&\"_\"&S$14,UNWDF2023_LookUp!$B:$R,$D27,FALSE))","v":"NA"}]
[{"$f":"B28&C28","v":"Day1Time_Slot3"},"Day1","Time_Slot3",16,"",null,"Event Title",null,{"$f":"IF(VLOOKUP($B28&\"_\"&$C28&\"_\"&I$14,UNWDF2023_LookUp!$B:$R,$D28,FALSE)=0,\"\",VLOOKUP($B28&\"_\"&$C28&\"_\"&I$14,UNWDF2023_LookUp!$B:$R,$D28,FALSE))","v":"Demonstrating the Power of Private Sector Data for Sustainable Development"},{"$f":"IF(VLOOKUP($B28&\"_\"&$C28&\"_\"&J$14,UNWDF2023_LookUp!$B:$R,$D28,FALSE)=0,\"\",VLOOKUP($B28&\"_\"&$C28&\"_\"&J$14,UNWDF2023_LookUp!$B:$R,$D28,FALSE))","v":"Increasing the use of innovative sources, methods, and technologies to inform decision-making: Insights from the Data For Now Initiative"},{"$f":"IF(VLOOKUP($B28&\"_\"&$C28&\"_\"&K$14,UNWDF2023_LookUp!$B:$R,$D28,FALSE)=0,\"\",VLOOKUP($B28&\"_\"&$C28&\"_\"&K$14,UNWDF2023_LookUp!$B:$R,$D28,FALSE))","v":"Toward better collection and analysis of data in healthcare applications"},{"$f":"IF(VLOOKUP($B28&\"_\"&$C28&\"_\"&L$14,UNWDF2023_LookUp!$B:$R,$D28,FALSE)=0,\"\",VLOOKUP($B28&\"_\"&$C28&\"_\"&L$14,UNWDF2023_LookUp!$B:$R,$D28,FALSE))","v":"A New Tomorrow for Population and Housing Censuses? Prospects for the 2030 Census Round and Beyond"},{"$f":"IF(VLOOKUP($B28&\"_\"&$C28&\"_\"&M$14,UNWDF2023_LookUp!$B:$R,$D28,FALSE)=0,\"\",VLOOKUP($B28&\"_\"&$C28&\"_\"&M$14,UNWDF2023_LookUp!$B:$R,$D28,FALSE))","v":"New developments in governance of cross-border data flows: Data strategies and trade negotiations"},{"$f":"IF(VLOOKUP($B28&\"_\"&$C28&\"_\"&N$14,UNWDF2023_LookUp!$B:$R,$D28,FALSE)=0,\"\",VLOOKUP($B28&\"_\"&$C28&\"_\"&N$14,UNWDF2023_LookUp!$B:$R,$D28,FALSE))","v":"How Public-Private Data Collaboration Helps Governments Address Crises"},{"$f":"IF(VLOOKUP($B28&\"_\"&$C28&\"_\"&O$14,UNWDF2023_LookUp!$B:$R,$D28,FALSE)=0,\"\",VLOOKUP($B28&\"_\"&$C28&\"_\"&O$14,UNWDF2023_LookUp!$B:$R,$D28,FALSE))","v":"Strengthening Violence against Women Data and Measurement for Evidence-based Policies (^^)"},{"$f":"IF(VLOOKUP($B28&\"_\"&$C28&\"_\"&P$14,UNWDF2023_LookUp!$B:$R,$D28,FALSE)=0,\"\",VLOOKUP($B28&\"_\"&$C28&\"_\"&P$14,UNWDF2023_LookUp!$B:$R,$D28,FALSE))","v":"Creating Care Economy Indicators at the local level (^^)"},{"$f":"IF(VLOOKUP($B28&\"_\"&$C28&\"_\"&Q$14,UNWDF2023_LookUp!$B:$R,$D28,FALSE)=0,\"\",VLOOKUP($B28&\"_\"&$C28&\"_\"&Q$14,UNWDF2023_LookUp!$B:$R,$D28,FALSE))","v":"National Statistical System (NSS) cooperation to increase the use of administrative data for official statistics: Interactive learning session"},{"$f":"IF(VLOOKUP($B28&\"_\"&$C28&\"_\"&R$14,UNWDF2023_LookUp!$B:$R,$D28,FALSE)=0,\"\",VLOOKUP($B28&\"_\"&$C28&\"_\"&R$14,UNWDF2023_LookUp!$B:$R,$D28,FALSE))","v":"Data evolution, Data revolution and Data accounting"},{"$f":"IF(VLOOKUP($B28&\"_\"&$C28&\"_\"&S$14,UNWDF2023_LookUp!$B:$R,$D28,FALSE)=0,\"\",VLOOKUP($B28&\"_\"&$C28&\"_\"&S$14,UNWDF2023_LookUp!$B:$R,$D28,FALSE))","v":"TBC"}]
["Day1Time_Slot3","Day1","Time_Slot3",17,"",null,"Organiser",null,{"$f":"IF(VLOOKUP($B29&\"_\"&$C29&\"_\"&I$14,UNWDF2023_LookUp!$B:$R,$D29,FALSE)=0,\"\",VLOOKUP($B29&\"_\"&$C29&\"_\"&I$14,UNWDF2023_LookUp!$B:$R,$D29,FALSE))","v":"Centro de Pensamiento Estratégico Internacional (Cepei); LIRNEasia; Local Development Research Institute (LDRI); University of the West Indies (UWI); Birzeit University; International Development Research Centre (IDRC)"},{"$f":"IF(VLOOKUP($B29&\"_\"&$C29&\"_\"&J$14,UNWDF2023_LookUp!$B:$R,$D29,FALSE)=0,\"\",VLOOKUP($B29&\"_\"&$C29&\"_\"&J$14,UNWDF2023_LookUp!$B:$R,$D29,FALSE))","v":"United Nations Statistics Division (UNSD-DESA); Global Partnership for Sustainable Development Data (GPSDD); Sustainable Development Solutions Network (SDSN); World Bank (WB)"},{"$f":"IF(VLOOKUP($B29&\"_\"&$C29&\"_\"&K$14,UNWDF2023_LookUp!$B:$R,$D29,FALSE)=0,\"\",VLOOKUP($B29&\"_\"&$C29&\"_\"&K$14,UNWDF2023_LookUp!$B:$R,$D29,FALSE))","v":"George Washington University; Renmin University of China; Columbia University; Beijing Institute of Geriatrics National Health Commission"},{"$f":"IF(VLOOKUP($B29&\"_\"&$C29&\"_\"&L$14,UNWDF2023_LookUp!$B:$R,$D29,FALSE)=0,\"\",VLOOKUP($B29&\"_\"&$C29&\"_\"&L$14,UNWDF2023_LookUp!$B:$R,$D29,FALSE))","v":"United Nations Population Fund (UNFPA); United Nations Statistics Division (UNSD-DESA)"},{"$f":"IF(VLOOKUP($B29&\"_\"&$C29&\"_\"&M$14,UNWDF2023_LookUp!$B:$R,$D29,FALSE)=0,\"\",VLOOKUP($B29&\"_\"&$C29&\"_\"&M$14,UNWDF2023_LookUp!$B:$R,$D29,FALSE))","v":"Centre for International Governance Innovation (CIGI); Digital Trade and Data Governance Hub, Elliott School of International Affairs, GWU; School of Public Affairs, Zhejiang University; Datasphere Initiative; Elliott School of International Affairs"},{"$f":"IF(VLOOKUP($B29&\"_\"&$C29&\"_\"&N$14,UNWDF2023_LookUp!$B:$R,$D29,FALSE)=0,\"\",VLOOKUP($B29&\"_\"&$C29&\"_\"&N$14,UNWDF2023_LookUp!$B:$R,$D29,FALSE))","v":"LinkedIn; World Bank (WB); Meta; United Nations Development Programme (UNDP), Pintig Lab; International Monetary Fund (IMF)"},{"$f":"IF(VLOOKUP($B29&\"_\"&$C29&\"_\"&O$14,UNWDF2023_LookUp!$B:$R,$D29,FALSE)=0,\"\",VLOOKUP($B29&\"_\"&$C29&\"_\"&O$14,UNWDF2023_LookUp!$B:$R,$D29,FALSE))","v":"World Health Organization (WHO); United Nations Entity for Gender Equality and the Empowerment of Women (UN Women); Instituto Nacional de Estadística y Geografía (INEGI-México); Data-Pop Alliance"},{"$f":"IF(VLOOKUP($B29&\"_\"&$C29&\"_\"&P$14,UNWDF2023_LookUp!$B:$R,$D29,FALSE)=0,\"\",VLOOKUP($B29&\"_\"&$C29&\"_\"&P$14,UNWDF2023_LookUp!$B:$R,$D29,FALSE))","v":"Open Data Charter (ODC)"},{"$f":"IF(VLOOKUP($B29&\"_\"&$C29&\"_\"&Q$14,UNWDF2023_LookUp!$B:$R,$D29,FALSE)=0,\"\",VLOOKUP($B29&\"_\"&$C29&\"_\"&Q$14,UNWDF2023_LookUp!$B:$R,$D29,FALSE))","v":"Global Partnership for Sustainable Development Data (GPSDD); United Nations Statistics Division (UNSD-DESA)"},{"$f":"IF(VLOOKUP($B29&\"_\"&$C29&\"_\"&R$14,UNWDF2023_LookUp!$B:$R,$D29,FALSE)=0,\"\",VLOOKUP($B29&\"_\"&$C29&\"_\"&R$14,UNWDF2023_LookUp!$B:$R,$D29,FALSE))","v":"School of Statistics and Mathematics, Zhejiang Gongshang University; Beijing Normal University; School of Statistics and Mathematics, Zhongnan University of Economics and Law"},{"$f":"IF(VLOOKUP($B29&\"_\"&$C29&\"_\"&S$14,UNWDF2023_LookUp!$B:$R,$D29,FALSE)=0,\"\",VLOOKUP($B29&\"_\"&$C29&\"_\"&S$14,UNWDF2023_LookUp!$B:$R,$D29,FALSE))","v":"TBC"}]
[null,"Day1",null,null,"12:00 - 13:30 (Hangzhou time)",{"$f":"IF(ISERROR(TEXT((DATE($E$3,$E$2,$E$1+MID(B30,4,1))+TIME(MID(E30,1,2),MID(E30,4,2),0))+($C$2-$C$3),\"H:MM AM/PM\")&\" - \"&TEXT(DATE($E$3,$E$2,$E$1+MID(B30,4,1))+TIME(MID(E30,9,2),MID(E30,12,2),0)+($C$2-$C$3),\"H:MM AM/PM\")),E30,TEXT((DATE($E$3,$E$2,$E$1+MID(B30,4,1))+TIME(MID(E30,1,2),MID(E30,4,2),0))+($C$2-$C$3),\"H:MM AM/PM\")&\" - \"&TEXT(DATE($E$3,$E$2,$E$1+MID(B30,4,1))+TIME(MID(E30,9,2),MID(E30,12,2),0)+($C$2-$C$3),\"H:MM AM/PM\"))","v":"12:00 - 13:30 (Hangzhou time)"},"Break"]
["Day1Time_Slot4","Day1","Time_Slot4",15,"13:30 - 14:30 (Hangzhou time)",{"$f":"IF(ISERROR(TEXT((DATE($E$3,$E$2,$E$1+MID(B31,4,1))+TIME(MID(E31,1,2),MID(E31,4,2),0))+($C$2-$C$3),\"H:MM AM/PM\")&\" - \"&TEXT(DATE($E$3,$E$2,$E$1+MID(B31,4,1))+TIME(MID(E31,9,2),MID(E31,12,2),0)+($C$2-$C$3),\"H:MM AM/PM\")),E31,TEXT(DATE($E$3,$E$2,$E$1+MID(B31,4,1))+TIME(MID(E31,1,2),MID(E31,4,2),0)+($C$2-$C$3),\"DDDD DD MMM\")&\" : \"&TEXT((DATE($E$3,$E$2,$E$1+MID(B31,4,1))+TIME(MID(E31,1,2),MID(E31,4,2),0))+($C$2-$C$3),\"H:MM AM/PM\")&\" - \"&TEXT(DATE($E$3,$E$2,$E$1+MID(B31,4,1))+TIME(MID(E31,9,2),MID(E31,12,2),0)+($C$2-$C$3),\"H:MM AM/PM\"))","v":"13:30 - 14:30 (Hangzhou time)"},"Event_ID",{"$f":"IF(VLOOKUP($B31&\"_\"&$C31&\"_\"&H$14,UNWDF2023_LookUp!$B:$R,$D31,FALSE)=0,\"\",VLOOKUP($B31&\"_\"&$C31&\"_\"&H$14,UNWDF2023_LookUp!$B:$R,$D31,FALSE))","v":"TA2.12"},{"$f":"IF(VLOOKUP($B31&\"_\"&$C31&\"_\"&I$14,UNWDF2023_LookUp!$B:$R,$D31,FALSE)=0,\"\",VLOOKUP($B31&\"_\"&$C31&\"_\"&I$14,UNWDF2023_LookUp!$B:$R,$D31,FALSE))","v":"TA1.16"},{"$f":"IF(VLOOKUP($B31&\"_\"&$C31&\"_\"&J$14,UNWDF2023_LookUp!$B:$R,$D31,FALSE)=0,\"\",VLOOKUP($B31&\"_\"&$C31&\"_\"&J$14,UNWDF2023_LookUp!$B:$R,$D31,FALSE))","v":"TA2.35"},{"$f":"IF(VLOOKUP($B31&\"_\"&$C31&\"_\"&K$14,UNWDF2023_LookUp!$B:$R,$D31,FALSE)=0,\"\",VLOOKUP($B31&\"_\"&$C31&\"_\"&K$14,UNWDF2023_LookUp!$B:$R,$D31,FALSE))","v":"TED.207"},{"$f":"IF(VLOOKUP($B31&\"_\"&$C31&\"_\"&L$14,UNWDF2023_LookUp!$B:$R,$D31,FALSE)=0,\"\",VLOOKUP($B31&\"_\"&$C31&\"_\"&L$14,UNWDF2023_LookUp!$B:$R,$D31,FALSE))","v":"ANCE.502"},{"$f":"IF(VLOOKUP($B31&\"_\"&$C31&\"_\"&M$14,UNWDF2023_LookUp!$B:$R,$D31,FALSE)=0,\"\",VLOOKUP($B31&\"_\"&$C31&\"_\"&M$14,UNWDF2023_LookUp!$B:$R,$D31,FALSE))","v":"ANCE.501"},{"$f":"IF(VLOOKUP($B31&\"_\"&$C31&\"_\"&N$14,UNWDF2023_LookUp!$B:$R,$D31,FALSE)=0,\"\",VLOOKUP($B31&\"_\"&$C31&\"_\"&N$14,UNWDF2023_LookUp!$B:$R,$D31,FALSE))","v":"TA3.03"},{"$f":"IF(VLOOKUP($B31&\"_\"&$C31&\"_\"&O$14,UNWDF2023_LookUp!$B:$R,$D31,FALSE)=0,\"\",VLOOKUP($B31&\"_\"&$C31&\"_\"&O$14,UNWDF2023_LookUp!$B:$R,$D31,FALSE))","v":"TA4.09"},{"$f":"IF(VLOOKUP($B31&\"_\"&$C31&\"_\"&P$14,UNWDF2023_LookUp!$B:$R,$D31,FALSE)=0,\"\",VLOOKUP($B31&\"_\"&$C31&\"_\"&P$14,UNWDF2023_LookUp!$B:$R,$D31,FALSE))","v":"TA1.30"},{"$f":"IF(VLOOKUP($B31&\"_\"&$C31&\"_\"&Q$14,UNWDF2023_LookUp!$B:$R,$D31,FALSE)=0,\"\",VLOOKUP($B31&\"_\"&$C31&\"_\"&Q$14,UNWDF2023_LookUp!$B:$R,$D31,FALSE))","v":"LEARN.304"},{"$f":"IF(VLOOKUP($B31&\"_\"&$C31&\"_\"&R$14,UNWDF2023_LookUp!$B:$R,$D31,FALSE)=0,\"\",VLOOKUP($B31&\"_\"&$C31&\"_\"&R$14,UNWDF2023_LookUp!$B:$R,$D31,FALSE))","v":"NA"},{"$f":"IF(VLOOKUP($B31&\"_\"&$C31&\"_\"&S$14,UNWDF2023_LookUp!$B:$R,$D31,FALSE)=0,\"\",VLOOKUP($B31&\"_\"&$C31&\"_\"&S$14,UNWDF2023_LookUp!$B:$R,$D31,FALSE))","v":"NA"}]
["Day1Time_Slot4","Day1","Time_Slot4",13,"",null,"Thematic Area",{"$f":"IF(VLOOKUP($B32&\"_\"&$C32&\"_\"&H$14,UNWDF2023_LookUp!$B:$R,$D32,FALSE)=0,\"\",VLOOKUP($B32&\"_\"&$C32&\"_\"&H$14,UNWDF2023_LookUp!$B:$R,$D32,FALSE))","v":2},{"$f":"IF(VLOOKUP($B32&\"_\"&$C32&\"_\"&I$14,UNWDF2023_LookUp!$B:$R,$D32,FALSE)=0,\"\",VLOOKUP($B32&\"_\"&$C32&\"_\"&I$14,UNWDF2023_LookUp!$B:$R,$D32,FALSE))","v":1},{"$f":"IF(VLOOKUP($B32&\"_\"&$C32&\"_\"&J$14,UNWDF2023_LookUp!$B:$R,$D32,FALSE)=0,\"\",VLOOKUP($B32&\"_\"&$C32&\"_\"&J$14,UNWDF2023_LookUp!$B:$R,$D32,FALSE))","v":2},{"$f":"IF(VLOOKUP($B32&\"_\"&$C32&\"_\"&K$14,UNWDF2023_LookUp!$B:$R,$D32,FALSE)=0,\"\",VLOOKUP($B32&\"_\"&$C32&\"_\"&K$14,UNWDF2023_LookUp!$B:$R,$D32,FALSE))","v":7},{"$f":"IF(VLOOKUP($B32&\"_\"&$C32&\"_\"&L$14,UNWDF2023_LookUp!$B:$R,$D32,FALSE)=0,\"\",VLOOKUP($B32&\"_\"&$C32&\"_\"&L$14,UNWDF2023_LookUp!$B:$R,$D32,FALSE))","v":"NA"},{"$f":"IF(VLOOKUP($B32&\"_\"&$C32&\"_\"&M$14,UNWDF2023_LookUp!$B:$R,$D32,FALSE)=0,\"\",VLOOKUP($B32&\"_\"&$C32&\"_\"&M$14,UNWDF2023_LookUp!$B:$R,$D32,FALSE))","v":"NA"},{"$f":"IF(VLOOKUP($B32&\"_\"&$C32&\"_\"&N$14,UNWDF2023_LookUp!$B:$R,$D32,FALSE)=0,\"\",VLOOKUP($B32&\"_\"&$C32&\"_\"&N$14,UNWDF2023_LookUp!$B:$R,$D32,FALSE))","v":3},{"$f":"IF(VLOOKUP($B32&\"_\"&$C32&\"_\"&O$14,UNWDF2023_LookUp!$B:$R,$D32,FALSE)=0,\"\",VLOOKUP($B32&\"_\"&$C32&\"_\"&O$14,UNWDF2023_LookUp!$B:$R,$D32,FALSE))","v":4},{"$f":"IF(VLOOKUP($B32&\"_\"&$C32&\"_\"&P$14,UNWDF2023_LookUp!$B:$R,$D32,FALSE)=0,\"\",VLOOKUP($B32&\"_\"&$C32&\"_\"&P$14,UNWDF2023_LookUp!$B:$R,$D32,FALSE))","v":1},{"$f":"IF(VLOOKUP($B32&\"_\"&$C32&\"_\"&Q$14,UNWDF2023_LookUp!$B:$R,$D32,FALSE)=0,\"\",VLOOKUP($B32&\"_\"&$C32&\"_\"&Q$14,UNWDF2023_LookUp!$B:$R,$D32,FALSE))","v":"NA"},{"$f":"IF(VLOOKUP($B32&\"_\"&$C32&\"_\"&R$14,UNWDF2023_LookUp!$B:$R,$D32,FALSE)=0,\"\",VLOOKUP($B32&\"_\"&$C32&\"_\"&R$14,UNWDF2023_LookUp!$B:$R,$D32,FALSE))","v":"NA"},{"$f":"IF(VLOOKUP($B32&\"_\"&$C32&\"_\"&S$14,UNWDF2023_LookUp!$B:$R,$D32,FALSE)=0,\"\",VLOOKUP($B32&\"_\"&$C32&\"_\"&S$14,UNWDF2023_LookUp!$B:$R,$D32,FALSE))","v":"NA"}]
[{"$f":"B33&C33","v":"Day1Time_Slot4"},"Day1","Time_Slot4",16,"",null,"Event Title",{"$f":"IF(VLOOKUP($B33&\"_\"&$C33&\"_\"&H$14,UNWDF2023_LookUp!$B:$R,$D33,FALSE)=0,\"\",VLOOKUP($B33&\"_\"&$C33&\"_\"&H$14,UNWDF2023_LookUp!$B:$R,$D33,FALSE))","v":"Overcoming Data Graveyards: Country Insights on Advancing Data Use, Uptake, and Impact"},{"$f":"IF(VLOOKUP($B33&\"_\"&$C33&\"_\"&I$14,UNWDF2023_LookUp!$B:$R,$D33,FALSE)=0,\"\",VLOOKUP($B33&\"_\"&$C33&\"_\"&I$14,UNWDF2023_LookUp!$B:$R,$D33,FALSE))","v":"Innovative ways for increasing timeliness and coverage of SDG indicators"},{"$f":"IF(VLOOKUP($B33&\"_\"&$C33&\"_\"&J$14,UNWDF2023_LookUp!$B:$R,$D33,FALSE)=0,\"\",VLOOKUP($B33&\"_\"&$C33&\"_\"&J$14,UNWDF2023_LookUp!$B:$R,$D33,FALSE))","v":"Data integration in public sector – lessons in developing a case for national data integration systems and data use"},{"$f":"IF(VLOOKUP($B33&\"_\"&$C33&\"_\"&K$14,UNWDF2023_LookUp!$B:$R,$D33,FALSE)=0,\"\",VLOOKUP($B33&\"_\"&$C33&\"_\"&K$14,UNWDF2023_LookUp!$B:$R,$D33,FALSE))","v":"Data for the Night: Ethical Guidances for Data Use and Sharing in 24-Hour Cities / Datos Abiertos NL: local data to solve social challenges / Bringing Youth to Data Leadership: The Los Angeles Data Science Federation"},{"$f":"IF(VLOOKUP($B33&\"_\"&$C33&\"_\"&L$14,UNWDF2023_LookUp!$B:$R,$D33,FALSE)=0,\"\",VLOOKUP($B33&\"_\"&$C33&\"_\"&L$14,UNWDF2023_LookUp!$B:$R,$D33,FALSE))","v":"Data to Policy in Action: Data-Informed Policymaking in the Time of Polycrisis"},{"$f":"IF(VLOOKUP($B33&\"_\"&$C33&\"_\"&M$14,UNWDF2023_LookUp!$B:$R,$D33,FALSE)=0,\"\",VLOOKUP($B33&\"_\"&$C33&\"_\"&M$14,UNWDF2023_LookUp!$B:$R,$D33,FALSE))","v":"AIDA – Artificial Intelligence for Development Analytics"},{"$f":"IF(VLOOKUP($B33&\"_\"&$C33&\"_\"&N$14,UNWDF2023_LookUp!$B:$R,$D33,FALSE)=0,\"\",VLOOKUP($B33&\"_\"&$C33&\"_\"&N$14,UNWDF2023_LookUp!$B:$R,$D33,FALSE))","v":"The Data Values Project: Reimagining data and power (^^)"},{"$f":"IF(VLOOKUP($B33&\"_\"&$C33&\"_\"&O$14,UNWDF2023_LookUp!$B:$R,$D33,FALSE)=0,\"\",VLOOKUP($B33&\"_\"&$C33&\"_\"&O$14,UNWDF2023_LookUp!$B:$R,$D33,FALSE))","v":"The Data Spectrum in Africa’s emerging ecosystems: opportunities and challenges in opening privately produced data (^^)"},{"$f":"IF(VLOOKUP($B33&\"_\"&$C33&\"_\"&P$14,UNWDF2023_LookUp!$B:$R,$D33,FALSE)=0,\"\",VLOOKUP($B33&\"_\"&$C33&\"_\"&P$14,UNWDF2023_LookUp!$B:$R,$D33,FALSE))","v":"Maximizing the use and value of disability data and data partnerships for inclusive development (^^)"},{"$f":"IF(VLOOKUP($B33&\"_\"&$C33&\"_\"&Q$14,UNWDF2023_LookUp!$B:$R,$D33,FALSE)=0,\"\",VLOOKUP($B33&\"_\"&$C33&\"_\"&Q$14,UNWDF2023_LookUp!$B:$R,$D33,FALSE))","v":"Including refugees and IDPs in national statistical systems: Why and How?"},{"$f":"IF(VLOOKUP($B33&\"_\"&$C33&\"_\"&R$14,UNWDF2023_LookUp!$B:$R,$D33,FALSE)=0,\"\",VLOOKUP($B33&\"_\"&$C33&\"_\"&R$14,UNWDF2023_LookUp!$B:$R,$D33,FALSE))","v":"TBC"},{"$f":"IF(VLOOKUP($B33&\"_\"&$C33&\"_\"&S$14,UNWDF2023_LookUp!$B:$R,$D33,FALSE)=0,\"\",VLOOKUP($B33&\"_\"&$C33&\"_\"&S$14,UNWDF2023_LookUp!$B:$R,$D33,FALSE))","v":"TBC"}]
["Day1Time_Slot4","Day1","Time_Slot4",17,"",null,"Organiser",{"$f":"IF(VLOOKUP($B34&\"_\"&$C34&\"_\"&H$14,UNWDF2023_LookUp!$B:$R,$D34,FALSE)=0,\"\",VLOOKUP($B34&\"_\"&$C34&\"_\"&H$14,UNWDF2023_LookUp!$B:$R,$D34,FALSE))","v":"Sustainable Development Solutions Network (SDSN); Open Data Watch (ODW)"},{"$f":"IF(VLOOKUP($B34&\"_\"&$C34&\"_\"&I$14,UNWDF2023_LookUp!$B:$R,$D34,FALSE)=0,\"\",VLOOKUP($B34&\"_\"&$C34&\"_\"&I$14,UNWDF2023_LookUp!$B:$R,$D34,FALSE))","v":"International Research Center of Big Data for Sustainable Development Goals (CBAS); CAST-UN Consultative Committee on Disaster Risk Reduction (CCDRR); Environmental Systems Research Institute (Esri); PVBLIC Foundation; United Nations Conference on Trade and Development (UNCTAD)"},{"$f":"IF(VLOOKUP($B34&\"_\"&$C34&\"_\"&J$14,UNWDF2023_LookUp!$B:$R,$D34,FALSE)=0,\"\",VLOOKUP($B34&\"_\"&$C34&\"_\"&J$14,UNWDF2023_LookUp!$B:$R,$D34,FALSE))","v":"Data Innovators; Sambodhi Research & Communications; South African Department of Planning, Monitoring & Evaluation; Statistics Denmark"},{"$f":"IF(VLOOKUP($B34&\"_\"&$C34&\"_\"&K$14,UNWDF2023_LookUp!$B:$R,$D34,FALSE)=0,\"\",VLOOKUP($B34&\"_\"&$C34&\"_\"&K$14,UNWDF2023_LookUp!$B:$R,$D34,FALSE))","v":"University of Virginia / Nuevo León´s State Institute of Transparency, Access to Information and Protection of Personal Data (INFO NL) and nine municipalities / City of Los Angeles"},{"$f":"IF(VLOOKUP($B34&\"_\"&$C34&\"_\"&L$14,UNWDF2023_LookUp!$B:$R,$D34,FALSE)=0,\"\",VLOOKUP($B34&\"_\"&$C34&\"_\"&L$14,UNWDF2023_LookUp!$B:$R,$D34,FALSE))","v":"Deutsche Gesellschaft für Internationale Zusammenarbeit (GIZ); United Nations Development Programme (UNDP)"},{"$f":"IF(VLOOKUP($B34&\"_\"&$C34&\"_\"&M$14,UNWDF2023_LookUp!$B:$R,$D34,FALSE)=0,\"\",VLOOKUP($B34&\"_\"&$C34&\"_\"&M$14,UNWDF2023_LookUp!$B:$R,$D34,FALSE))","v":"United Nations Development Programme (UNDP)"},{"$f":"IF(VLOOKUP($B34&\"_\"&$C34&\"_\"&N$14,UNWDF2023_LookUp!$B:$R,$D34,FALSE)=0,\"\",VLOOKUP($B34&\"_\"&$C34&\"_\"&N$14,UNWDF2023_LookUp!$B:$R,$D34,FALSE))","v":"Global Partnership for Sustainable Development Data (GPSDD)"},{"$f":"IF(VLOOKUP($B34&\"_\"&$C34&\"_\"&O$14,UNWDF2023_LookUp!$B:$R,$D34,FALSE)=0,\"\",VLOOKUP($B34&\"_\"&$C34&\"_\"&O$14,UNWDF2023_LookUp!$B:$R,$D34,FALSE))","v":"Association of Freelance Journalists; Mobile Ghana Web; Flowminder Foundation; World Wide Web Foundation; Ghana Statistical Service (GSS); Vodafore Ghana"},{"$f":"IF(VLOOKUP($B34&\"_\"&$C34&\"_\"&P$14,UNWDF2023_LookUp!$B:$R,$D34,FALSE)=0,\"\",VLOOKUP($B34&\"_\"&$C34&\"_\"&P$14,UNWDF2023_LookUp!$B:$R,$D34,FALSE))","v":"CBM Global Disability Inclusion; International Disability Alliance; Stakeholder Group of Persons with Disabilities; Peking University; China Disabled Persons' Federation information center; Nanjing Normal University of Special Education"},{"$f":"IF(VLOOKUP($B34&\"_\"&$C34&\"_\"&Q$14,UNWDF2023_LookUp!$B:$R,$D34,FALSE)=0,\"\",VLOOKUP($B34&\"_\"&$C34&\"_\"&Q$14,UNWDF2023_LookUp!$B:$R,$D34,FALSE))","v":"United Nations High Commissioner for Refugees (UNHCR); Expert Group on Refugee, IDP and Statelessness Statistics (EGRISS); Joint IDP Profiling Service (JIPS); United Nations Statistics Division (UNSD-DESA); United Nations Statistical Institute for Asia and the Pacific (UNSIAP)"},{"$f":"IF(VLOOKUP($B34&\"_\"&$C34&\"_\"&R$14,UNWDF2023_LookUp!$B:$R,$D34,FALSE)=0,\"\",VLOOKUP($B34&\"_\"&$C34&\"_\"&R$14,UNWDF2023_LookUp!$B:$R,$D34,FALSE))","v":"TBC"},{"$f":"IF(VLOOKUP($B34&\"_\"&$C34&\"_\"&S$14,UNWDF2023_LookUp!$B:$R,$D34,FALSE)=0,\"\",VLOOKUP($B34&\"_\"&$C34&\"_\"&S$14,UNWDF2023_LookUp!$B:$R,$D34,FALSE))","v":"TBC"}]
[null,"Day1",null,null,"14:30 - 15:00 (Hangzhou time)",{"$f":"IF(ISERROR(TEXT((DATE($E$3,$E$2,$E$1+MID(B35,4,1))+TIME(MID(E35,1,2),MID(E35,4,2),0))+($C$2-$C$3),\"H:MM AM/PM\")&\" - \"&TEXT(DATE($E$3,$E$2,$E$1+MID(B35,4,1))+TIME(MID(E35,9,2),MID(E35,12,2),0)+($C$2-$C$3),\"H:MM AM/PM\")),E35,TEXT((DATE($E$3,$E$2,$E$1+MID(B35,4,1))+TIME(MID(E35,1,2),MID(E35,4,2),0))+($C$2-$C$3),\"H:MM AM/PM\")&\" - \"&TEXT(DATE($E$3,$E$2,$E$1+MID(B35,4,1))+TIME(MID(E35,9,2),MID(E35,12,2),0)+($C$2-$C$3),\"H:MM AM/PM\"))","v":"14:30 - 15:00 (Hangzhou time)"},"Break"]
["Day1Time_Slot5","Day1","Time_Slot5",15,"15:00 - 16:00 (Hangzhou time)",{"$f":"IF(ISERROR(TEXT((DATE($E$3,$E$2,$E$1+MID(B36,4,1))+TIME(MID(E36,1,2),MID(E36,4,2),0))+($C$2-$C$3),\"H:MM AM/PM\")&\" - \"&TEXT(DATE($E$3,$E$2,$E$1+MID(B36,4,1))+TIME(MID(E36,9,2),MID(E36,12,2),0)+($C$2-$C$3),\"H:MM AM/PM\")),E36,TEXT(DATE($E$3,$E$2,$E$1+MID(B36,4,1))+TIME(MID(E36,1,2),MID(E36,4,2),0)+($C$2-$C$3),\"DDDD DD MMM\")&\" : \"&TEXT((DATE($E$3,$E$2,$E$1+MID(B36,4,1))+TIME(MID(E36,1,2),MID(E36,4,2),0))+($C$2-$C$3),\"H:MM AM/PM\")&\" - \"&TEXT(DATE($E$3,$E$2,$E$1+MID(B36,4,1))+TIME(MID(E36,9,2),MID(E36,12,2),0)+($C$2-$C$3),\"H:MM AM/PM\"))","v":"15:00 - 16:00 (Hangzhou time)"},"Event_ID",null,{"$f":"IF(VLOOKUP($B36&\"_\"&$C36&\"_\"&I$14,UNWDF2023_LookUp!$B:$R,$D36,FALSE)=0,\"\",VLOOKUP($B36&\"_\"&$C36&\"_\"&I$14,UNWDF2023_LookUp!$B:$R,$D36,FALSE))","v":"TA4.37"},{"$f":"IF(VLOOKUP($B36&\"_\"&$C36&\"_\"&J$14,UNWDF2023_LookUp!$B:$R,$D36,FALSE)=0,\"\",VLOOKUP($B36&\"_\"&$C36&\"_\"&J$14,UNWDF2023_LookUp!$B:$R,$D36,FALSE))","v":"TA2.18"},{"$f":"IF(VLOOKUP($B36&\"_\"&$C36&\"_\"&K$14,UNWDF2023_LookUp!$B:$R,$D36,FALSE)=0,\"\",VLOOKUP($B36&\"_\"&$C36&\"_\"&K$14,UNWDF2023_LookUp!$B:$R,$D36,FALSE))","v":"TA1.32"},{"$f":"IF(VLOOKUP($B36&\"_\"&$C36&\"_\"&L$14,UNWDF2023_LookUp!$B:$R,$D36,FALSE)=0,\"\",VLOOKUP($B36&\"_\"&$C36&\"_\"&L$14,UNWDF2023_LookUp!$B:$R,$D36,FALSE))","v":"TA3.33"},{"$f":"IF(VLOOKUP($B36&\"_\"&$C36&\"_\"&M$14,UNWDF2023_LookUp!$B:$R,$D36,FALSE)=0,\"\",VLOOKUP($B36&\"_\"&$C36&\"_\"&M$14,UNWDF2023_LookUp!$B:$R,$D36,FALSE))","v":"TA2.08"},{"$f":"IF(VLOOKUP($B36&\"_\"&$C36&\"_\"&N$14,UNWDF2023_LookUp!$B:$R,$D36,FALSE)=0,\"\",VLOOKUP($B36&\"_\"&$C36&\"_\"&N$14,UNWDF2023_LookUp!$B:$R,$D36,FALSE))","v":"TA1.13"},{"$f":"IF(VLOOKUP($B36&\"_\"&$C36&\"_\"&O$14,UNWDF2023_LookUp!$B:$R,$D36,FALSE)=0,\"\",VLOOKUP($B36&\"_\"&$C36&\"_\"&O$14,UNWDF2023_LookUp!$B:$R,$D36,FALSE))","v":"TA4.06"},{"$f":"IF(VLOOKUP($B36&\"_\"&$C36&\"_\"&P$14,UNWDF2023_LookUp!$B:$R,$D36,FALSE)=0,\"\",VLOOKUP($B36&\"_\"&$C36&\"_\"&P$14,UNWDF2023_LookUp!$B:$R,$D36,FALSE))","v":"TA3.07"},{"$f":"IF(VLOOKUP($B36&\"_\"&$C36&\"_\"&Q$14,UNWDF2023_LookUp!$B:$R,$D36,FALSE)=0,\"\",VLOOKUP($B36&\"_\"&$C36&\"_\"&Q$14,UNWDF2023_LookUp!$B:$R,$D36,FALSE))","v":"TA1.12"},{"$f":"IF(VLOOKUP($B36&\"_\"&$C36&\"_\"&R$14,UNWDF2023_LookUp!$B:$R,$D36,FALSE)=0,\"\",VLOOKUP($B36&\"_\"&$C36&\"_\"&R$14,UNWDF2023_LookUp!$B:$R,$D36,FALSE))","v":"NA"},{"$f":"IF(VLOOKUP($B36&\"_\"&$C36&\"_\"&S$14,UNWDF2023_LookUp!$B:$R,$D36,FALSE)=0,\"\",VLOOKUP($B36&\"_\"&$C36&\"_\"&S$14,UNWDF2023_LookUp!$B:$R,$D36,FALSE))","v":"NA"}]
["Day1Time_Slot5","Day1","Time_Slot5",13,"",null,"Thematic Area",null,{"$f":"IF(VLOOKUP($B37&\"_\"&$C37&\"_\"&I$14,UNWDF2023_LookUp!$B:$R,$D37,FALSE)=0,\"\",VLOOKUP($B37&\"_\"&$C37&\"_\"&I$14,UNWDF2023_LookUp!$B:$R,$D37,FALSE))","v":4},{"$f":"IF(VLOOKUP($B37&\"_\"&$C37&\"_\"&J$14,UNWDF2023_LookUp!$B:$R,$D37,FALSE)=0,\"\",VLOOKUP($B37&\"_\"&$C37&\"_\"&J$14,UNWDF2023_LookUp!$B:$R,$D37,FALSE))","v":2},{"$f":"IF(VLOOKUP($B37&\"_\"&$C37&\"_\"&K$14,UNWDF2023_LookUp!$B:$R,$D37,FALSE)=0,\"\",VLOOKUP($B37&\"_\"&$C37&\"_\"&K$14,UNWDF2023_LookUp!$B:$R,$D37,FALSE))","v":1},{"$f":"IF(VLOOKUP($B37&\"_\"&$C37&\"_\"&L$14,UNWDF2023_LookUp!$B:$R,$D37,FALSE)=0,\"\",VLOOKUP($B37&\"_\"&$C37&\"_\"&L$14,UNWDF2023_LookUp!$B:$R,$D37,FALSE))","v":3},{"$f":"IF(VLOOKUP($B37&\"_\"&$C37&\"_\"&M$14,UNWDF2023_LookUp!$B:$R,$D37,FALSE)=0,\"\",VLOOKUP($B37&\"_\"&$C37&\"_\"&M$14,UNWDF2023_LookUp!$B:$R,$D37,FALSE))","v":2},{"$f":"IF(VLOOKUP($B37&\"_\"&$C37&\"_\"&N$14,UNWDF2023_LookUp!$B:$R,$D37,FALSE)=0,\"\",VLOOKUP($B37&\"_\"&$C37&\"_\"&N$14,UNWDF2023_LookUp!$B:$R,$D37,FALSE))","v":1},{"$f":"IF(VLOOKUP($B37&\"_\"&$C37&\"_\"&O$14,UNWDF2023_LookUp!$B:$R,$D37,FALSE)=0,\"\",VLOOKUP($B37&\"_\"&$C37&\"_\"&O$14,UNWDF2023_LookUp!$B:$R,$D37,FALSE))","v":4},{"$f":"IF(VLOOKUP($B37&\"_\"&$C37&\"_\"&P$14,UNWDF2023_LookUp!$B:$R,$D37,FALSE)=0,\"\",VLOOKUP($B37&\"_\"&$C37&\"_\"&P$14,UNWDF2023_LookUp!$B:$R,$D37,FALSE))","v":3},{"$f":"IF(VLOOKUP($B37&\"_\"&$C37&\"_\"&Q$14,UNWDF2023_LookUp!$B:$R,$D37,FALSE)=0,\"\",VLOOKUP($B37&\"_\"&$C37&\"_\"&Q$14,UNWDF2023_LookUp!$B:$R,$D37,FALSE))","v":1},{"$f":"IF(VLOOKUP($B37&\"_\"&$C37&\"_\"&R$14,UNWDF2023_LookUp!$B:$R,$D37,FALSE)=0,\"\",VLOOKUP($B37&\"_\"&$C37&\"_\"&R$14,UNWDF2023_LookUp!$B:$R,$D37,FALSE))","v":"NA"},{"$f":"IF(VLOOKUP($B37&\"_\"&$C37&\"_\"&S$14,UNWDF2023_LookUp!$B:$R,$D37,FALSE)=0,\"\",VLOOKUP($B37&\"_\"&$C37&\"_\"&S$14,UNWDF2023_LookUp!$B:$R,$D37,FALSE))","v":"NA"}]
[{"$f":"B38&C38","v":"Day1Time_Slot5"},"Day1","Time_Slot5",16,"",null,"Event Title",null,{"$f":"IF(VLOOKUP($B38&\"_\"&$C38&\"_\"&I$14,UNWDF2023_LookUp!$B:$R,$D38,FALSE)=0,\"\",VLOOKUP($B38&\"_\"&$C38&\"_\"&I$14,UNWDF2023_LookUp!$B:$R,$D38,FALSE))","v":"Together we can do more: citizen-generated data for inclusive data ecosystems"},{"$f":"IF(VLOOKUP($B38&\"_\"&$C38&\"_\"&J$14,UNWDF2023_LookUp!$B:$R,$D38,FALSE)=0,\"\",VLOOKUP($B38&\"_\"&$C38&\"_\"&J$14,UNWDF2023_LookUp!$B:$R,$D38,FALSE))","v":"GeoSpatial Data and Tools for Sustainable and Resilient Cities and Communities"},{"$f":"IF(VLOOKUP($B38&\"_\"&$C38&\"_\"&K$14,UNWDF2023_LookUp!$B:$R,$D38,FALSE)=0,\"\",VLOOKUP($B38&\"_\"&$C38&\"_\"&K$14,UNWDF2023_LookUp!$B:$R,$D38,FALSE))","v":"Data and Children: gaps, opportunities and responsibilities (^^)"},{"$f":"IF(VLOOKUP($B38&\"_\"&$C38&\"_\"&L$14,UNWDF2023_LookUp!$B:$R,$D38,FALSE)=0,\"\",VLOOKUP($B38&\"_\"&$C38&\"_\"&L$14,UNWDF2023_LookUp!$B:$R,$D38,FALSE))","v":"Maximising the public value of health data whilst protecting individual rights"},{"$f":"IF(VLOOKUP($B38&\"_\"&$C38&\"_\"&M$14,UNWDF2023_LookUp!$B:$R,$D38,FALSE)=0,\"\",VLOOKUP($B38&\"_\"&$C38&\"_\"&M$14,UNWDF2023_LookUp!$B:$R,$D38,FALSE))","v":"Building the evidence to rebuild trust in governance systems"},{"$f":"IF(VLOOKUP($B38&\"_\"&$C38&\"_\"&N$14,UNWDF2023_LookUp!$B:$R,$D38,FALSE)=0,\"\",VLOOKUP($B38&\"_\"&$C38&\"_\"&N$14,UNWDF2023_LookUp!$B:$R,$D38,FALSE))","v":"Including the excluded: better data on statelessness"},{"$f":"IF(VLOOKUP($B38&\"_\"&$C38&\"_\"&O$14,UNWDF2023_LookUp!$B:$R,$D38,FALSE)=0,\"\",VLOOKUP($B38&\"_\"&$C38&\"_\"&O$14,UNWDF2023_LookUp!$B:$R,$D38,FALSE))","v":"Data-driven Justice: A perspective on the importance of legal data (^^)"},{"$f":"IF(VLOOKUP($B38&\"_\"&$C38&\"_\"&P$14,UNWDF2023_LookUp!$B:$R,$D38,FALSE)=0,\"\",VLOOKUP($B38&\"_\"&$C38&\"_\"&P$14,UNWDF2023_LookUp!$B:$R,$D38,FALSE))","v":"Digital Health: Addressing the Interface of Development, Human Rights and Data Governance (^^)"},{"$f":"IF(VLOOKUP($B38&\"_\"&$C38&\"_\"&Q$14,UNWDF2023_LookUp!$B:$R,$D38,FALSE)=0,\"\",VLOOKUP($B38&\"_\"&$C38&\"_\"&Q$14,UNWDF2023_LookUp!$B:$R,$D38,FALSE))","v":"Key enablers towards coordinated ways to generate and use education data for stronger resilience to emergencies and crises (^^)"},{"$f":"IF(VLOOKUP($B38&\"_\"&$C38&\"_\"&R$14,UNWDF2023_LookUp!$B:$R,$D38,FALSE)=0,\"\",VLOOKUP($B38&\"_\"&$C38&\"_\"&R$14,UNWDF2023_LookUp!$B:$R,$D38,FALSE))","v":"TBC"},{"$f":"IF(VLOOKUP($B38&\"_\"&$C38&\"_\"&S$14,UNWDF2023_LookUp!$B:$R,$D38,FALSE)=0,\"\",VLOOKUP($B38&\"_\"&$C38&\"_\"&S$14,UNWDF2023_LookUp!$B:$R,$D38,FALSE))","v":"TBC"}]
["Day1Time_Slot5","Day1","Time_Slot5",17,"",null,"Organiser",null,{"$f":"IF(VLOOKUP($B39&\"_\"&$C39&\"_\"&I$14,UNWDF2023_LookUp!$B:$R,$D39,FALSE)=0,\"\",VLOOKUP($B39&\"_\"&$C39&\"_\"&I$14,UNWDF2023_LookUp!$B:$R,$D39,FALSE))","v":"Danish Institute for Human Rights (DIHR); United Nations Statistics Division (UNSD-DESA); UN Women; World Bank (WB); International Civil Society Centre (ICSC); PARIS21; GPSDD"},{"$f":"IF(VLOOKUP($B39&\"_\"&$C39&\"_\"&J$14,UNWDF2023_LookUp!$B:$R,$D39,FALSE)=0,\"\",VLOOKUP($B39&\"_\"&$C39&\"_\"&J$14,UNWDF2023_LookUp!$B:$R,$D39,FALSE))","v":"KTH Royal Institute of Technology; United Nations Human Settlements Programme (UN-Habitat); Digital Futures & GEO GUOI"},{"$f":"IF(VLOOKUP($B39&\"_\"&$C39&\"_\"&K$14,UNWDF2023_LookUp!$B:$R,$D39,FALSE)=0,\"\",VLOOKUP($B39&\"_\"&$C39&\"_\"&K$14,UNWDF2023_LookUp!$B:$R,$D39,FALSE))","v":"The Governance Lab (GovLab), International Data Alliance for Children on the Move (IDAC) and NORRAG, UCL Institute of Education"},{"$f":"IF(VLOOKUP($B39&\"_\"&$C39&\"_\"&L$14,UNWDF2023_LookUp!$B:$R,$D39,FALSE)=0,\"\",VLOOKUP($B39&\"_\"&$C39&\"_\"&L$14,UNWDF2023_LookUp!$B:$R,$D39,FALSE))","v":"Transform Health; PharmAccess Group; Baobab Institute for Health and Development; RECAINSA; John Snow, Inc.; Asia eHealth Information Network (AeHIN)"},{"$f":"IF(VLOOKUP($B39&\"_\"&$C39&\"_\"&M$14,UNWDF2023_LookUp!$B:$R,$D39,FALSE)=0,\"\",VLOOKUP($B39&\"_\"&$C39&\"_\"&M$14,UNWDF2023_LookUp!$B:$R,$D39,FALSE))","v":"Statistics Norway; Statistics Canada; Department of Justice Canada; Institut national de la statistique (INS-Tunisie); International Institute for Applied Systems Analysis (IIASA); United Nations Development Programme (UNDP), Oslo Governance Centre (OGC)"},{"$f":"IF(VLOOKUP($B39&\"_\"&$C39&\"_\"&N$14,UNWDF2023_LookUp!$B:$R,$D39,FALSE)=0,\"\",VLOOKUP($B39&\"_\"&$C39&\"_\"&N$14,UNWDF2023_LookUp!$B:$R,$D39,FALSE))","v":"United Nations High Commissioner for Refugees (UNHCR); Expert Group on Refugee, IDP and Statelessness Statistics (EGRISS); Joint Data Center on Forced Displacement; United Stateless; Philippine Statistics Authority (PSA)"},{"$f":"IF(VLOOKUP($B39&\"_\"&$C39&\"_\"&O$14,UNWDF2023_LookUp!$B:$R,$D39,FALSE)=0,\"\",VLOOKUP($B39&\"_\"&$C39&\"_\"&O$14,UNWDF2023_LookUp!$B:$R,$D39,FALSE))","v":"Massachusetts Institute of Technology (MIT)"},{"$f":"IF(VLOOKUP($B39&\"_\"&$C39&\"_\"&P$14,UNWDF2023_LookUp!$B:$R,$D39,FALSE)=0,\"\",VLOOKUP($B39&\"_\"&$C39&\"_\"&P$14,UNWDF2023_LookUp!$B:$R,$D39,FALSE))","v":"South Centre; Brazilian Institute for Consumer Rights (Idec)"},{"$f":"IF(VLOOKUP($B39&\"_\"&$C39&\"_\"&Q$14,UNWDF2023_LookUp!$B:$R,$D39,FALSE)=0,\"\",VLOOKUP($B39&\"_\"&$C39&\"_\"&Q$14,UNWDF2023_LookUp!$B:$R,$D39,FALSE))","v":"Geneva Global EIE Hub; United Nations Educational, Scientific and Cultural Organization (UNESCO); Initiative to Strengthen Education in Emergencies Coordination (ISEEC)"},{"$f":"IF(VLOOKUP($B39&\"_\"&$C39&\"_\"&R$14,UNWDF2023_LookUp!$B:$R,$D39,FALSE)=0,\"\",VLOOKUP($B39&\"_\"&$C39&\"_\"&R$14,UNWDF2023_LookUp!$B:$R,$D39,FALSE))","v":"TBC"},{"$f":"IF(VLOOKUP($B39&\"_\"&$C39&\"_\"&S$14,UNWDF2023_LookUp!$B:$R,$D39,FALSE)=0,\"\",VLOOKUP($B39&\"_\"&$C39&\"_\"&S$14,UNWDF2023_LookUp!$B:$R,$D39,FALSE))","v":"TBC"}]
[null,"Day1",null,null,"16:00 - 16:15 (Hangzhou time)",{"$f":"IF(ISERROR(TEXT((DATE($E$3,$E$2,$E$1+MID(B40,4,1))+TIME(MID(E40,1,2),MID(E40,4,2),0))+($C$2-$C$3),\"H:MM AM/PM\")&\" - \"&TEXT(DATE($E$3,$E$2,$E$1+MID(B40,4,1))+TIME(MID(E40,9,2),MID(E40,12,2),0)+($C$2-$C$3),\"H:MM AM/PM\")),E40,TEXT((DATE($E$3,$E$2,$E$1+MID(B40,4,1))+TIME(MID(E40,1,2),MID(E40,4,2),0))+($C$2-$C$3),\"H:MM AM/PM\")&\" - \"&TEXT(DATE($E$3,$E$2,$E$1+MID(B40,4,1))+TIME(MID(E40,9,2),MID(E40,12,2),0)+($C$2-$C$3),\"H:MM AM/PM\"))","v":"16:00 - 16:15 (Hangzhou time)"},"Break"]
[{"$f":"B41&C41","v":"Day1Time_Slot6"},"Day1","Time_Slot6",15,"16:15 - 17:30 (Hangzhou time)",{"$f":"IF(ISERROR(TEXT((DATE($E$3,$E$2,$E$1+MID(B41,4,1))+TIME(MID(E41,1,2),MID(E41,4,2),0))+($C$2-$C$3),\"H:MM AM/PM\")&\" - \"&TEXT(DATE($E$3,$E$2,$E$1+MID(B41,4,1))+TIME(MID(E41,9,2),MID(E41,12,2),0)+($C$2-$C$3),\"H:MM AM/PM\")),E41,TEXT(DATE($E$3,$E$2,$E$1+MID(B41,4,1))+TIME(MID(E41,1,2),MID(E41,4,2),0)+($C$2-$C$3),\"DDDD DD MMM\")&\" : \"&TEXT((DATE($E$3,$E$2,$E$1+MID(B41,4,1))+TIME(MID(E41,1,2),MID(E41,4,2),0))+($C$2-$C$3),\"H:MM AM/PM\")&\" - \"&TEXT(DATE($E$3,$E$2,$E$1+MID(B41,4,1))+TIME(MID(E41,9,2),MID(E41,12,2),0)+($C$2-$C$3),\"H:MM AM/PM\"))","v":"16:15 - 17:30 (Hangzhou time)"},"Event_ID",{"$f":"IF(VLOOKUP($B41&\"_\"&$C41&\"_\"&H$14,UNWDF2023_LookUp!$B:$R,$D41,FALSE)=0,\"\",VLOOKUP($B41&\"_\"&$C41&\"_\"&H$14,UNWDF2023_LookUp!$B:$R,$D41,FALSE))","v":"TA1.01"}]
["Day1Time_Slot6","Day1","Time_Slot6",13,"",null,"Thematic Area",{"$f":"IF(VLOOKUP($B42&\"_\"&$C42&\"_\"&H$14,UNWDF2023_LookUp!$B:$R,$D42,FALSE)=0,\"\",VLOOKUP($B42&\"_\"&$C42&\"_\"&H$14,UNWDF2023_LookUp!$B:$R,$D42,FALSE))","v":1}]
[{"$f":"B43&C43","v":"Day1Time_Slot6"},"Day1","Time_Slot6",16,"",null,"Event Title",{"$f":"IF(VLOOKUP($B43&\"_\"&$C43&\"_\"&H$14,UNWDF2023_LookUp!$B:$R,$D43,FALSE)=0,\"\",VLOOKUP($B43&\"_\"&$C43&\"_\"&H$14,UNWDF2023_LookUp!$B:$R,$D43,FALSE))","v":"Innovation and partnerships for better and more inclusive data"}]
["Day1Time_Slot6","Day1","Time_Slot6",17,"",null,"Organiser",{"$f":"IF(VLOOKUP($B44&\"_\"&$C44&\"_\"&H$14,UNWDF2023_LookUp!$B:$R,$D44,FALSE)=0,\"\",VLOOKUP($B44&\"_\"&$C44&\"_\"&H$14,UNWDF2023_LookUp!$B:$R,$D44,FALSE))","v":"UN World Data Forum Programme Committee (UNWDF PC)"}]
[null,"Day1",null,null,"17:30 - 18:30 (Hangzhou time)",{"$f":"IF(ISERROR(TEXT((DATE($E$3,$E$2,$E$1+MID(B45,4,1))+TIME(MID(E45,1,2),MID(E45,4,2),0))+($C$2-$C$3),\"H:MM AM/PM\")&\" - \"&TEXT(DATE($E$3,$E$2,$E$1+MID(B45,4,1))+TIME(MID(E45,9,2),MID(E45,12,2),0)+($C$2-$C$3),\"H:MM AM/PM\")),E45,TEXT((DATE($E$3,$E$2,$E$1+MID(B45,4,1))+TIME(MID(E45,1,2),MID(E45,4,2),0))+($C$2-$C$3),\"H:MM AM/PM\")&\" - \"&TEXT(DATE($E$3,$E$2,$E$1+MID(B45,4,1))+TIME(MID(E45,9,2),MID(E45,12,2),0)+($C$2-$C$3),\"H:MM AM/PM\"))","v":"17:30 - 18:30 (Hangzhou time)"},"Break"]
["Day1Time_Slot7","Day1","Time_Slot7",16,"18:30 - 19:15 (Hangzhou time)",{"$f":"IF(ISERROR(TEXT((DATE($E$3,$E$2,$E$1+MID(B46,4,1))+TIME(MID(E46,1,2),MID(E46,4,2),0))+($C$2-$C$3),\"H:MM AM/PM\")&\" - \"&TEXT(DATE($E$3,$E$2,$E$1+MID(B46,4,1))+TIME(MID(E46,9,2),MID(E46,12,2),0)+($C$2-$C$3),\"H:MM AM/PM\")),E46,TEXT(DATE($E$3,$E$2,$E$1+MID(B46,4,1))+TIME(MID(E46,1,2),MID(E46,4,2),0)+($C$2-$C$3),\"DDDD DD MMM\")&\" : \"&TEXT((DATE($E$3,$E$2,$E$1+MID(B46,4,1))+TIME(MID(E46,1,2),MID(E46,4,2),0))+($C$2-$C$3),\"H:MM AM/PM\")&\" - \"&TEXT(DATE($E$3,$E$2,$E$1+MID(B46,4,1))+TIME(MID(E46,9,2),MID(E46,12,2),0)+($C$2-$C$3),\"H:MM AM/PM\"))","v":"18:30 - 19:15 (Hangzhou time)"},"Event Title",{"$f":"IF(VLOOKUP($B46&\"_\"&$C46&\"_\"&H$14,UNWDF2023_LookUp!$B:$R,$D46,FALSE)=0,\"\",VLOOKUP($B46&\"_\"&$C46&\"_\"&H$14,UNWDF2023_LookUp!$B:$R,$D46,FALSE))","v":"NA"}]
[{"$f":"B47&C47","v":"Day1Time_Slot7"},"Day1","Time_Slot7",17,"",null,"Organiser",{"$f":"IF(VLOOKUP($B47&\"_\"&$C47&\"_\"&H$14,UNWDF2023_LookUp!$B:$R,$D47,FALSE)=0,\"\",VLOOKUP($B47&\"_\"&$C47&\"_\"&H$14,UNWDF2023_LookUp!$B:$R,$D47,FALSE))","v":"NA"}]
[null,null,null,null,""]
[null,null,null,null,"",null,null,null,null,null," TA 1. Innovation and partnerships for better and more inclusive data: data integration and leveraging of various data sources and methodologies to ensure visibility and voice for everyone",null,null,null," TA 3. Building trust and ethics in data: developing the principles of stewardship within the data ecosystem to balance the full value from data use with the protection of privacy and data rights"]
[null,null,null,null,""]
[null,null,null,null,"",null,null,null,null,null," TA 2. Maximizing the use and value of data for better decision making: adding value to data through better analysis and communication to ensure full use of data for bettering lives through the agency, respect, and inclusion of everyone",null,null,null," TA 4. Emerging trends and partnerships to develop the data ecosystem: supporting global, regional, national and sub-national data ecosystems in the implementation of the Cape Town Global Action Plan including sustainable finance for data and statistics programmes at all levels of organization"]
[null,null,null,null,""]
[null,null,null,null,"","(^) The high-level plenaries and parallel sessions will be available to a virtual audience with (^^) after the title to denote a completely virtual session while the other event types, such as learning labs (LEARN) and demonstrations (DEMOS), will be in-person at the venue only."]
["Day2",null,null,null,{"$f":"DATE($E$3,$E$2,$E$1+MID(B58,4,1))","v":"2023-04-26"},{"$f":"IF(ISERROR(DATE($E$3,$E$2,$E$1+MID(B58,4,1))+TIME(MID(E58,1,2),MID(E58,4,2),0)+($C$2-$C$3)),DATE($E$3,$E$2,$E$1+MID(B58,4,1)),TEXT(DATE($E$3,$E$2,$E$1+MID(B58,4,1))+TIME(MID(E58,1,2),MID(E58,4,2),0)+($C$2-$C$3),\"DDDDDD, DD MMMM YYYY\")&\" [Date changes shown on row]\")","v":"2023-04-26"}]
[null,null,"LookUp",null,"",null,"LookUp","Parallel 01","Parallel 02","Parallel 03","Parallel 04","Parallel 05","Parallel 06","Parallel 07","Parallel 08","Parallel 09","Parallel 10","Parallel 11","Parallel 12"]
[null,null,null,null,"","Time (Auto-adjusts to your local time, unless \"(Hangzhou time)\" shown)","Rm Name","Room 01","Room 02","Room 03","Room 04","Room 05","Room 06","Room 07","Room 08","Room 09","LEARNING LABS 1","LEARNING LABS 2","DEMOS SPACE"]
["DayTime_LookUp","Day_LookUp","Time_LookUp","Col_LookUp","Time (GMT/UTC time+8)",null,"Capacity",2000,200,200,200,200,200,100,100,100,100,100,100]
[{"$f":"B58&C58","v":"Day2Time_Slot1"},"Day2","Time_Slot1",15,"09:00 - 10:15 (Hangzhou time)",{"$f":"IF(ISERROR(TEXT((DATE($E$3,$E$2,$E$1+MID(B58,4,1))+TIME(MID(E58,1,2),MID(E58,4,2),0))+($C$2-$C$3),\"H:MM AM/PM\")&\" - \"&TEXT(DATE($E$3,$E$2,$E$1+MID(B58,4,1))+TIME(MID(E58,9,2),MID(E58,12,2),0)+($C$2-$C$3),\"H:MM AM/PM\")),E58,TEXT(DATE($E$3,$E$2,$E$1+MID(B58,4,1))+TIME(MID(E58,1,2),MID(E58,4,2),0)+($C$2-$C$3),\"DDDD DD MMM\")&\" : \"&TEXT((DATE($E$3,$E$2,$E$1+MID(B58,4,1))+TIME(MID(E58,1,2),MID(E58,4,2),0))+($C$2-$C$3),\"H:MM AM/PM\")&\" - \"&TEXT(DATE($E$3,$E$2,$E$1+MID(B58,4,1))+TIME(MID(E58,9,2),MID(E58,12,2),0)+($C$2-$C$3),\"H:MM AM/PM\"))","v":"09:00 - 10:15 (Hangzhou time)"},"Event_ID",{"$f":"IF(VLOOKUP($B58&\"_\"&$C58&\"_\"&H$14,UNWDF2023_LookUp!$B:$R,$D58,FALSE)=0,\"\",VLOOKUP($B58&\"_\"&$C58&\"_\"&H$14,UNWDF2023_LookUp!$B:$R,$D58,FALSE))","v":"TA2.01"}]
["Day2Time_Slot1","Day2","Time_Slot1",13,"",null,"Thematic Area",{"$f":"IF(VLOOKUP($B59&\"_\"&$C59&\"_\"&H$14,UNWDF2023_LookUp!$B:$R,$D59,FALSE)=0,\"\",VLOOKUP($B59&\"_\"&$C59&\"_\"&H$14,UNWDF2023_LookUp!$B:$R,$D59,FALSE))","v":2}]
[{"$f":"B60&C60","v":"Day2Time_Slot1"},"Day2","Time_Slot1",16,"",null,"Event Title",{"$f":"IF(VLOOKUP($B60&\"_\"&$C60&\"_\"&H$14,UNWDF2023_LookUp!$B:$R,$D60,FALSE)=0,\"\",VLOOKUP($B60&\"_\"&$C60&\"_\"&H$14,UNWDF2023_LookUp!$B:$R,$D60,FALSE))","v":"Maximizing the use and value of data for better decision making"}]
["Day2Time_Slot1","Day2","Time_Slot1",17,"",null,"Organiser",{"$f":"IF(VLOOKUP($B61&\"_\"&$C61&\"_\"&H$14,UNWDF2023_LookUp!$B:$R,$D61,FALSE)=0,\"\",VLOOKUP($B61&\"_\"&$C61&\"_\"&H$14,UNWDF2023_LookUp!$B:$R,$D61,FALSE))","v":"UN World Data Forum Programme Committee (UNWDF PC)"}]
[null,"Day2",null,null,"10:15 - 10:45 (Hangzhou time)",{"$f":"IF(ISERROR(TEXT((DATE($E$3,$E$2,$E$1+MID(B62,4,1))+TIME(MID(E62,1,2),MID(E62,4,2),0))+($C$2-$C$3),\"H:MM AM/PM\")&\" - \"&TEXT(DATE($E$3,$E$2,$E$1+MID(B62,4,1))+TIME(MID(E62,9,2),MID(E62,12,2),0)+($C$2-$C$3),\"H:MM AM/PM\")),E62,TEXT((DATE($E$3,$E$2,$E$1+MID(B62,4,1))+TIME(MID(E62,1,2),MID(E62,4,2),0))+($C$2-$C$3),\"H:MM AM/PM\")&\" - \"&TEXT(DATE($E$3,$E$2,$E$1+MID(B62,4,1))+TIME(MID(E62,9,2),MID(E62,12,2),0)+($C$2-$C$3),\"H:MM AM/PM\"))","v":"10:15 - 10:45 (Hangzhou time)"},"Break"]
[{"$f":"B63&C63","v":"Day2Time_Slot2"},"Day2","Time_Slot2",15,"10:45 - 11:45 (Hangzhou time)",{"$f":"IF(ISERROR(TEXT((DATE($E$3,$E$2,$E$1+MID(B63,4,1))+TIME(MID(E63,1,2),MID(E63,4,2),0))+($C$2-$C$3),\"H:MM AM/PM\")&\" - \"&TEXT(DATE($E$3,$E$2,$E$1+MID(B63,4,1))+TIME(MID(E63,9,2),MID(E63,12,2),0)+($C$2-$C$3),\"H:MM AM/PM\")),E63,TEXT(DATE($E$3,$E$2,$E$1+MID(B63,4,1))+TIME(MID(E63,1,2),MID(E63,4,2),0)+($C$2-$C$3),\"DDDD DD MMM\")&\" : \"&TEXT((DATE($E$3,$E$2,$E$1+MID(B63,4,1))+TIME(MID(E63,1,2),MID(E63,4,2),0))+($C$2-$C$3),\"H:MM AM/PM\")&\" - \"&TEXT(DATE($E$3,$E$2,$E$1+MID(B63,4,1))+TIME(MID(E63,9,2),MID(E63,12,2),0)+($C$2-$C$3),\"H:MM AM/PM\"))","v":"10:45 - 11:45 (Hangzhou time)"},"Event_ID",null,{"$f":"IF(VLOOKUP($B63&\"_\"&$C63&\"_\"&I$14,UNWDF2023_LookUp!$B:$R,$D63,FALSE)=0,\"\",VLOOKUP($B63&\"_\"&$C63&\"_\"&I$14,UNWDF2023_LookUp!$B:$R,$D63,FALSE))","v":"TA3.02"},{"$f":"IF(VLOOKUP($B63&\"_\"&$C63&\"_\"&J$14,UNWDF2023_LookUp!$B:$R,$D63,FALSE)=0,\"\",VLOOKUP($B63&\"_\"&$C63&\"_\"&J$14,UNWDF2023_LookUp!$B:$R,$D63,FALSE))","v":"TA4.31"},{"$f":"IF(VLOOKUP($B63&\"_\"&$C63&\"_\"&K$14,UNWDF2023_LookUp!$B:$R,$D63,FALSE)=0,\"\",VLOOKUP($B63&\"_\"&$C63&\"_\"&K$14,UNWDF2023_LookUp!$B:$R,$D63,FALSE))","v":"TA1.05"},{"$f":"IF(VLOOKUP($B63&\"_\"&$C63&\"_\"&L$14,UNWDF2023_LookUp!$B:$R,$D63,FALSE)=0,\"\",VLOOKUP($B63&\"_\"&$C63&\"_\"&L$14,UNWDF2023_LookUp!$B:$R,$D63,FALSE))","v":"TA4.03"},{"$f":"IF(VLOOKUP($B63&\"_\"&$C63&\"_\"&M$14,UNWDF2023_LookUp!$B:$R,$D63,FALSE)=0,\"\",VLOOKUP($B63&\"_\"&$C63&\"_\"&M$14,UNWDF2023_LookUp!$B:$R,$D63,FALSE))","v":"TA2.09"},{"$f":"IF(VLOOKUP($B63&\"_\"&$C63&\"_\"&N$14,UNWDF2023_LookUp!$B:$R,$D63,FALSE)=0,\"\",VLOOKUP($B63&\"_\"&$C63&\"_\"&N$14,UNWDF2023_LookUp!$B:$R,$D63,FALSE))","v":"TA2.39"},{"$f":"IF(VLOOKUP($B63&\"_\"&$C63&\"_\"&O$14,UNWDF2023_LookUp!$B:$R,$D63,FALSE)=0,\"\",VLOOKUP($B63&\"_\"&$C63&\"_\"&O$14,UNWDF2023_LookUp!$B:$R,$D63,FALSE))","v":"TA1.19"},{"$f":"IF(VLOOKUP($B63&\"_\"&$C63&\"_\"&P$14,UNWDF2023_LookUp!$B:$R,$D63,FALSE)=0,\"\",VLOOKUP($B63&\"_\"&$C63&\"_\"&P$14,UNWDF2023_LookUp!$B:$R,$D63,FALSE))","v":"TA2.05"},{"$f":"IF(VLOOKUP($B63&\"_\"&$C63&\"_\"&Q$14,UNWDF2023_LookUp!$B:$R,$D63,FALSE)=0,\"\",VLOOKUP($B63&\"_\"&$C63&\"_\"&Q$14,UNWDF2023_LookUp!$B:$R,$D63,FALSE))","v":"TA2.03"},{"$f":"IF(VLOOKUP($B63&\"_\"&$C63&\"_\"&R$14,UNWDF2023_LookUp!$B:$R,$D63,FALSE)=0,\"\",VLOOKUP($B63&\"_\"&$C63&\"_\"&R$14,UNWDF2023_LookUp!$B:$R,$D63,FALSE))","v":"LEARN.318"},{"$f":"IF(VLOOKUP($B63&\"_\"&$C63&\"_\"&S$14,UNWDF2023_LookUp!$B:$R,$D63,FALSE)=0,\"\",VLOOKUP($B63&\"_\"&$C63&\"_\"&S$14,UNWDF2023_LookUp!$B:$R,$D63,FALSE))","v":"DEMOS.409"}]
["Day2Time_Slot2","Day2","Time_Slot2",13,"",null,"Thematic Area",null,{"$f":"IF(VLOOKUP($B64&\"_\"&$C64&\"_\"&I$14,UNWDF2023_LookUp!$B:$R,$D64,FALSE)=0,\"\",VLOOKUP($B64&\"_\"&$C64&\"_\"&I$14,UNWDF2023_LookUp!$B:$R,$D64,FALSE))","v":3},{"$f":"IF(VLOOKUP($B64&\"_\"&$C64&\"_\"&J$14,UNWDF2023_LookUp!$B:$R,$D64,FALSE)=0,\"\",VLOOKUP($B64&\"_\"&$C64&\"_\"&J$14,UNWDF2023_LookUp!$B:$R,$D64,FALSE))","v":4},{"$f":"IF(VLOOKUP($B64&\"_\"&$C64&\"_\"&K$14,UNWDF2023_LookUp!$B:$R,$D64,FALSE)=0,\"\",VLOOKUP($B64&\"_\"&$C64&\"_\"&K$14,UNWDF2023_LookUp!$B:$R,$D64,FALSE))","v":1},{"$f":"IF(VLOOKUP($B64&\"_\"&$C64&\"_\"&L$14,UNWDF2023_LookUp!$B:$R,$D64,FALSE)=0,\"\",VLOOKUP($B64&\"_\"&$C64&\"_\"&L$14,UNWDF2023_LookUp!$B:$R,$D64,FALSE))","v":4},{"$f":"IF(VLOOKUP($B64&\"_\"&$C64&\"_\"&M$14,UNWDF2023_LookUp!$B:$R,$D64,FALSE)=0,\"\",VLOOKUP($B64&\"_\"&$C64&\"_\"&M$14,UNWDF2023_LookUp!$B:$R,$D64,FALSE))","v":2},{"$f":"IF(VLOOKUP($B64&\"_\"&$C64&\"_\"&N$14,UNWDF2023_LookUp!$B:$R,$D64,FALSE)=0,\"\",VLOOKUP($B64&\"_\"&$C64&\"_\"&N$14,UNWDF2023_LookUp!$B:$R,$D64,FALSE))","v":2},{"$f":"IF(VLOOKUP($B64&\"_\"&$C64&\"_\"&O$14,UNWDF2023_LookUp!$B:$R,$D64,FALSE)=0,\"\",VLOOKUP($B64&\"_\"&$C64&\"_\"&O$14,UNWDF2023_LookUp!$B:$R,$D64,FALSE))","v":1},{"$f":"IF(VLOOKUP($B64&\"_\"&$C64&\"_\"&P$14,UNWDF2023_LookUp!$B:$R,$D64,FALSE)=0,\"\",VLOOKUP($B64&\"_\"&$C64&\"_\"&P$14,UNWDF2023_LookUp!$B:$R,$D64,FALSE))","v":2},{"$f":"IF(VLOOKUP($B64&\"_\"&$C64&\"_\"&Q$14,UNWDF2023_LookUp!$B:$R,$D64,FALSE)=0,\"\",VLOOKUP($B64&\"_\"&$C64&\"_\"&Q$14,UNWDF2023_LookUp!$B:$R,$D64,FALSE))","v":2},{"$f":"IF(VLOOKUP($B64&\"_\"&$C64&\"_\"&R$14,UNWDF2023_LookUp!$B:$R,$D64,FALSE)=0,\"\",VLOOKUP($B64&\"_\"&$C64&\"_\"&R$14,UNWDF2023_LookUp!$B:$R,$D64,FALSE))","v":"NA"},{"$f":"IF(VLOOKUP($B64&\"_\"&$C64&\"_\"&S$14,UNWDF2023_LookUp!$B:$R,$D64,FALSE)=0,\"\",VLOOKUP($B64&\"_\"&$C64&\"_\"&S$14,UNWDF2023_LookUp!$B:$R,$D64,FALSE))","v":"NA"}]
[{"$f":"B65&C65","v":"Day2Time_Slot2"},"Day2","Time_Slot2",16,"",null,"Event Title",null,{"$f":"IF(VLOOKUP($B65&\"_\"&$C65&\"_\"&I$14,UNWDF2023_LookUp!$B:$R,$D65,FALSE)=0,\"\",VLOOKUP($B65&\"_\"&$C65&\"_\"&I$14,UNWDF2023_LookUp!$B:$R,$D65,FALSE))","v":"Data in the age of misinformation: Building trust by bridging communities"},{"$f":"IF(VLOOKUP($B65&\"_\"&$C65&\"_\"&J$14,UNWDF2023_LookUp!$B:$R,$D65,FALSE)=0,\"\",VLOOKUP($B65&\"_\"&$C65&\"_\"&J$14,UNWDF2023_LookUp!$B:$R,$D65,FALSE))","v":"Sector-Specific Approaches to Addressing the International Development Data Skills Gap"},{"$f":"IF(VLOOKUP($B65&\"_\"&$C65&\"_\"&K$14,UNWDF2023_LookUp!$B:$R,$D65,FALSE)=0,\"\",VLOOKUP($B65&\"_\"&$C65&\"_\"&K$14,UNWDF2023_LookUp!$B:$R,$D65,FALSE))","v":"Adding value to survey data through enhanced interoperability and data integration"},{"$f":"IF(VLOOKUP($B65&\"_\"&$C65&\"_\"&L$14,UNWDF2023_LookUp!$B:$R,$D65,FALSE)=0,\"\",VLOOKUP($B65&\"_\"&$C65&\"_\"&L$14,UNWDF2023_LookUp!$B:$R,$D65,FALSE))","v":"Unlocking data ecosystems for more effective and inclusive climate action [SDG 13]"},{"$f":"IF(VLOOKUP($B65&\"_\"&$C65&\"_\"&M$14,UNWDF2023_LookUp!$B:$R,$D65,FALSE)=0,\"\",VLOOKUP($B65&\"_\"&$C65&\"_\"&M$14,UNWDF2023_LookUp!$B:$R,$D65,FALSE))","v":"Moving Gender Data Up the Value Chain: From Production to Impact"},{"$f":"IF(VLOOKUP($B65&\"_\"&$C65&\"_\"&N$14,UNWDF2023_LookUp!$B:$R,$D65,FALSE)=0,\"\",VLOOKUP($B65&\"_\"&$C65&\"_\"&N$14,UNWDF2023_LookUp!$B:$R,$D65,FALSE))","v":"Driving impact from evidence: data that can accelerate achieving gender equality globally (^^)"},{"$f":"IF(VLOOKUP($B65&\"_\"&$C65&\"_\"&O$14,UNWDF2023_LookUp!$B:$R,$D65,FALSE)=0,\"\",VLOOKUP($B65&\"_\"&$C65&\"_\"&O$14,UNWDF2023_LookUp!$B:$R,$D65,FALSE))","v":"Closing the data gap: ethical measurement of technology-facilitated violence against women (^^)"},{"$f":"IF(VLOOKUP($B65&\"_\"&$C65&\"_\"&P$14,UNWDF2023_LookUp!$B:$R,$D65,FALSE)=0,\"\",VLOOKUP($B65&\"_\"&$C65&\"_\"&P$14,UNWDF2023_LookUp!$B:$R,$D65,FALSE))","v":"Responsible use of Artificial Intelligence to Address Data Gaps: Perspectives from Climate Change and Agriculture (^^)"},{"$f":"IF(VLOOKUP($B65&\"_\"&$C65&\"_\"&Q$14,UNWDF2023_LookUp!$B:$R,$D65,FALSE)=0,\"\",VLOOKUP($B65&\"_\"&$C65&\"_\"&Q$14,UNWDF2023_LookUp!$B:$R,$D65,FALSE))","v":"Data Innovations and Multi-Stakeholder Collaborations for Smart Cities: Case Studies from Across the Globe (^^)"},{"$f":"IF(VLOOKUP($B65&\"_\"&$C65&\"_\"&R$14,UNWDF2023_LookUp!$B:$R,$D65,FALSE)=0,\"\",VLOOKUP($B65&\"_\"&$C65&\"_\"&R$14,UNWDF2023_LookUp!$B:$R,$D65,FALSE))","v":"Learning and teaching official statistics with the help of UNSDG:Learn"},{"$f":"IF(VLOOKUP($B65&\"_\"&$C65&\"_\"&S$14,UNWDF2023_LookUp!$B:$R,$D65,FALSE)=0,\"\",VLOOKUP($B65&\"_\"&$C65&\"_\"&S$14,UNWDF2023_LookUp!$B:$R,$D65,FALSE))","v":"Social media for Data Experts: Big ideas and practical tips to improve your digital footprint / Data: Who cares? Why you should prioritize communicating the impact of your data"}]
["Day2Time_Slot2","Day2","Time_Slot2",17,"",null,"Organiser",null,{"$f":"IF(VLOOKUP($B66&\"_\"&$C66&\"_\"&I$14,UNWDF2023_LookUp!$B:$R,$D66,FALSE)=0,\"\",VLOOKUP($B66&\"_\"&$C66&\"_\"&I$14,UNWDF2023_LookUp!$B:$R,$D66,FALSE))","v":"Partnership in Statistics for Development in the 21st Century (PARIS21); Open Data Watch (ODW); Development Gateway (DG); Full Fact"},{"$f":"IF(VLOOKUP($B66&\"_\"&$C66&\"_\"&J$14,UNWDF2023_LookUp!$B:$R,$D66,FALSE)=0,\"\",VLOOKUP($B66&\"_\"&$C66&\"_\"&J$14,UNWDF2023_LookUp!$B:$R,$D66,FALSE))","v":"U.S. Census Bureau; Instituto Brasileiro de Geografia e Estatística (IBGE); African Institute for Economic Development and Planning (IDEP); Modern Scientist Global (MSG)/The Johns Hopkins University; The Sodzo Foundation"},{"$f":"IF(VLOOKUP($B66&\"_\"&$C66&\"_\"&K$14,UNWDF2023_LookUp!$B:$R,$D66,FALSE)=0,\"\",VLOOKUP($B66&\"_\"&$C66&\"_\"&K$14,UNWDF2023_LookUp!$B:$R,$D66,FALSE))","v":"United Nations Statistics Division (UNSD-DESA); United Nations Economic Commission for Latin America and the Caribbean (UNECLAC / CEPAL); World Bank (WB); United Nations Population Fund (UNFPA)"},{"$f":"IF(VLOOKUP($B66&\"_\"&$C66&\"_\"&L$14,UNWDF2023_LookUp!$B:$R,$D66,FALSE)=0,\"\",VLOOKUP($B66&\"_\"&$C66&\"_\"&L$14,UNWDF2023_LookUp!$B:$R,$D66,FALSE))","v":"Partnership in Statistics for Development in the 21st Century (PARIS21)"},{"$f":"IF(VLOOKUP($B66&\"_\"&$C66&\"_\"&M$14,UNWDF2023_LookUp!$B:$R,$D66,FALSE)=0,\"\",VLOOKUP($B66&\"_\"&$C66&\"_\"&M$14,UNWDF2023_LookUp!$B:$R,$D66,FALSE))","v":"Open Data Watch (ODW); World Bank (WB); Ghana Statistical Service (GSS); Data2X; GEH UC San Diego"},{"$f":"IF(VLOOKUP($B66&\"_\"&$C66&\"_\"&N$14,UNWDF2023_LookUp!$B:$R,$D66,FALSE)=0,\"\",VLOOKUP($B66&\"_\"&$C66&\"_\"&N$14,UNWDF2023_LookUp!$B:$R,$D66,FALSE))","v":"United Nations Entity for Gender Equality and the Empowerment of Women (UN Women); Partnership in Statistics for Development in the 21st Century (PARIS21); WORLD Policy Analysis Center; Time's Up; University of California, Los Angeles; Open Data Collaboratives"},{"$f":"IF(VLOOKUP($B66&\"_\"&$C66&\"_\"&O$14,UNWDF2023_LookUp!$B:$R,$D66,FALSE)=0,\"\",VLOOKUP($B66&\"_\"&$C66&\"_\"&O$14,UNWDF2023_LookUp!$B:$R,$D66,FALSE))","v":"United Nations Entity for Gender Equality and the Empowerment of Women (UN Women); World Health Organization (WHO); Ladysmith; Open Data Collaboratives"},{"$f":"IF(VLOOKUP($B66&\"_\"&$C66&\"_\"&P$14,UNWDF2023_LookUp!$B:$R,$D66,FALSE)=0,\"\",VLOOKUP($B66&\"_\"&$C66&\"_\"&P$14,UNWDF2023_LookUp!$B:$R,$D66,FALSE))","v":"Development Gateway (DG); International Fertilizer Development Center; Quantitative Engineering Design"},{"$f":"IF(VLOOKUP($B66&\"_\"&$C66&\"_\"&Q$14,UNWDF2023_LookUp!$B:$R,$D66,FALSE)=0,\"\",VLOOKUP($B66&\"_\"&$C66&\"_\"&Q$14,UNWDF2023_LookUp!$B:$R,$D66,FALSE))","v":"Sustainable Development Solutions Network (SDSN); Zhejiang University; eThekwini Municipality; GEO EO4SDG & Human Planet Initiative"},{"$f":"IF(VLOOKUP($B66&\"_\"&$C66&\"_\"&R$14,UNWDF2023_LookUp!$B:$R,$D66,FALSE)=0,\"\",VLOOKUP($B66&\"_\"&$C66&\"_\"&R$14,UNWDF2023_LookUp!$B:$R,$D66,FALSE))","v":"United Nations Institute for Training and Research (UNITAR); United Nations Statistics Division (UNSD-DESA); Statistics Norway; United Nations Statistical Institute for Asia and the Pacific (UNSIAP); DHS Program; Haut-Commissariat au Plan (HCP-Maroc)"},{"$f":"IF(VLOOKUP($B66&\"_\"&$C66&\"_\"&S$14,UNWDF2023_LookUp!$B:$R,$D66,FALSE)=0,\"\",VLOOKUP($B66&\"_\"&$C66&\"_\"&S$14,UNWDF2023_LookUp!$B:$R,$D66,FALSE))","v":"Digimentors / United Nations Information Centre (UNIC) Jakarta"}]
["Day2Time_Slot2B","Day2","Time_Slot2B",14,"11:45 - 13:30 (Hangzhou time)",{"$f":"IF(ISERROR(TEXT((DATE($E$3,$E$2,$E$1+MID(B67,4,1))+TIME(MID(E67,1,2),MID(E67,4,2),0))+($C$2-$C$3),\"H:MM AM/PM\")&\" - \"&TEXT(DATE($E$3,$E$2,$E$1+MID(B67,4,1))+TIME(MID(E67,9,2),MID(E67,12,2),0)+($C$2-$C$3),\"H:MM AM/PM\")),E67,TEXT((DATE($E$3,$E$2,$E$1+MID(B67,4,1))+TIME(MID(E67,1,2),MID(E67,4,2),0))+($C$2-$C$3),\"H:MM AM/PM\")&\" - \"&TEXT(DATE($E$3,$E$2,$E$1+MID(B67,4,1))+TIME(MID(E67,9,2),MID(E67,12,2),0)+($C$2-$C$3),\"H:MM AM/PM\"))","v":"11:45 - 13:30 (Hangzhou time)"},"Break"]
["Day2Time_Slot3","Day2","Time_Slot3",15,"13:30 - 14:30 (Hangzhou time)",{"$f":"IF(ISERROR(TEXT((DATE($E$3,$E$2,$E$1+MID(B68,4,1))+TIME(MID(E68,1,2),MID(E68,4,2),0))+($C$2-$C$3),\"H:MM AM/PM\")&\" - \"&TEXT(DATE($E$3,$E$2,$E$1+MID(B68,4,1))+TIME(MID(E68,9,2),MID(E68,12,2),0)+($C$2-$C$3),\"H:MM AM/PM\")),E68,TEXT(DATE($E$3,$E$2,$E$1+MID(B68,4,1))+TIME(MID(E68,1,2),MID(E68,4,2),0)+($C$2-$C$3),\"DDDD DD MMM\")&\" : \"&TEXT((DATE($E$3,$E$2,$E$1+MID(B68,4,1))+TIME(MID(E68,1,2),MID(E68,4,2),0))+($C$2-$C$3),\"H:MM AM/PM\")&\" - \"&TEXT(DATE($E$3,$E$2,$E$1+MID(B68,4,1))+TIME(MID(E68,9,2),MID(E68,12,2),0)+($C$2-$C$3),\"H:MM AM/PM\"))","v":"13:30 - 14:30 (Hangzhou time)"},"Event_ID",null,{"$f":"IF(VLOOKUP($B68&\"_\"&$C68&\"_\"&I$14,UNWDF2023_LookUp!$B:$R,$D68,FALSE)=0,\"\",VLOOKUP($B68&\"_\"&$C68&\"_\"&I$14,UNWDF2023_LookUp!$B:$R,$D68,FALSE))","v":"TA2.04"},{"$f":"IF(VLOOKUP($B68&\"_\"&$C68&\"_\"&J$14,UNWDF2023_LookUp!$B:$R,$D68,FALSE)=0,\"\",VLOOKUP($B68&\"_\"&$C68&\"_\"&J$14,UNWDF2023_LookUp!$B:$R,$D68,FALSE))","v":"TA1.38"},{"$f":"IF(VLOOKUP($B68&\"_\"&$C68&\"_\"&K$14,UNWDF2023_LookUp!$B:$R,$D68,FALSE)=0,\"\",VLOOKUP($B68&\"_\"&$C68&\"_\"&K$14,UNWDF2023_LookUp!$B:$R,$D68,FALSE))","v":"TA1.11"},{"$f":"IF(VLOOKUP($B68&\"_\"&$C68&\"_\"&L$14,UNWDF2023_LookUp!$B:$R,$D68,FALSE)=0,\"\",VLOOKUP($B68&\"_\"&$C68&\"_\"&L$14,UNWDF2023_LookUp!$B:$R,$D68,FALSE))","v":"TA2.10"},{"$f":"IF(VLOOKUP($B68&\"_\"&$C68&\"_\"&M$14,UNWDF2023_LookUp!$B:$R,$D68,FALSE)=0,\"\",VLOOKUP($B68&\"_\"&$C68&\"_\"&M$14,UNWDF2023_LookUp!$B:$R,$D68,FALSE))","v":"TA2.02"},{"$f":"IF(VLOOKUP($B68&\"_\"&$C68&\"_\"&N$14,UNWDF2023_LookUp!$B:$R,$D68,FALSE)=0,\"\",VLOOKUP($B68&\"_\"&$C68&\"_\"&N$14,UNWDF2023_LookUp!$B:$R,$D68,FALSE))","v":"NA"},{"$f":"IF(VLOOKUP($B68&\"_\"&$C68&\"_\"&O$14,UNWDF2023_LookUp!$B:$R,$D68,FALSE)=0,\"\",VLOOKUP($B68&\"_\"&$C68&\"_\"&O$14,UNWDF2023_LookUp!$B:$R,$D68,FALSE))","v":"TA3.08"},{"$f":"IF(VLOOKUP($B68&\"_\"&$C68&\"_\"&P$14,UNWDF2023_LookUp!$B:$R,$D68,FALSE)=0,\"\",VLOOKUP($B68&\"_\"&$C68&\"_\"&P$14,UNWDF2023_LookUp!$B:$R,$D68,FALSE))","v":"TA4.04"},{"$f":"IF(VLOOKUP($B68&\"_\"&$C68&\"_\"&Q$14,UNWDF2023_LookUp!$B:$R,$D68,FALSE)=0,\"\",VLOOKUP($B68&\"_\"&$C68&\"_\"&Q$14,UNWDF2023_LookUp!$B:$R,$D68,FALSE))","v":"LEARN.309"},{"$f":"IF(VLOOKUP($B68&\"_\"&$C68&\"_\"&R$14,UNWDF2023_LookUp!$B:$R,$D68,FALSE)=0,\"\",VLOOKUP($B68&\"_\"&$C68&\"_\"&R$14,UNWDF2023_LookUp!$B:$R,$D68,FALSE))","v":"LEARN.310"},{"$f":"IF(VLOOKUP($B68&\"_\"&$C68&\"_\"&S$14,UNWDF2023_LookUp!$B:$R,$D68,FALSE)=0,\"\",VLOOKUP($B68&\"_\"&$C68&\"_\"&S$14,UNWDF2023_LookUp!$B:$R,$D68,FALSE))","v":"DEMOS.404"}]
["Day2Time_Slot3","Day2","Time_Slot3",13,"",null,"Thematic Area",null,{"$f":"IF(VLOOKUP($B69&\"_\"&$C69&\"_\"&I$14,UNWDF2023_LookUp!$B:$R,$D69,FALSE)=0,\"\",VLOOKUP($B69&\"_\"&$C69&\"_\"&I$14,UNWDF2023_LookUp!$B:$R,$D69,FALSE))","v":2},{"$f":"IF(VLOOKUP($B69&\"_\"&$C69&\"_\"&J$14,UNWDF2023_LookUp!$B:$R,$D69,FALSE)=0,\"\",VLOOKUP($B69&\"_\"&$C69&\"_\"&J$14,UNWDF2023_LookUp!$B:$R,$D69,FALSE))","v":1},{"$f":"IF(VLOOKUP($B69&\"_\"&$C69&\"_\"&K$14,UNWDF2023_LookUp!$B:$R,$D69,FALSE)=0,\"\",VLOOKUP($B69&\"_\"&$C69&\"_\"&K$14,UNWDF2023_LookUp!$B:$R,$D69,FALSE))","v":1},{"$f":"IF(VLOOKUP($B69&\"_\"&$C69&\"_\"&L$14,UNWDF2023_LookUp!$B:$R,$D69,FALSE)=0,\"\",VLOOKUP($B69&\"_\"&$C69&\"_\"&L$14,UNWDF2023_LookUp!$B:$R,$D69,FALSE))","v":2},{"$f":"IF(VLOOKUP($B69&\"_\"&$C69&\"_\"&M$14,UNWDF2023_LookUp!$B:$R,$D69,FALSE)=0,\"\",VLOOKUP($B69&\"_\"&$C69&\"_\"&M$14,UNWDF2023_LookUp!$B:$R,$D69,FALSE))","v":2},{"$f":"IF(VLOOKUP($B69&\"_\"&$C69&\"_\"&N$14,UNWDF2023_LookUp!$B:$R,$D69,FALSE)=0,\"\",VLOOKUP($B69&\"_\"&$C69&\"_\"&N$14,UNWDF2023_LookUp!$B:$R,$D69,FALSE))","v":"NA"},{"$f":"IF(VLOOKUP($B69&\"_\"&$C69&\"_\"&O$14,UNWDF2023_LookUp!$B:$R,$D69,FALSE)=0,\"\",VLOOKUP($B69&\"_\"&$C69&\"_\"&O$14,UNWDF2023_LookUp!$B:$R,$D69,FALSE))","v":3},{"$f":"IF(VLOOKUP($B69&\"_\"&$C69&\"_\"&P$14,UNWDF2023_LookUp!$B:$R,$D69,FALSE)=0,\"\",VLOOKUP($B69&\"_\"&$C69&\"_\"&P$14,UNWDF2023_LookUp!$B:$R,$D69,FALSE))","v":4},{"$f":"IF(VLOOKUP($B69&\"_\"&$C69&\"_\"&Q$14,UNWDF2023_LookUp!$B:$R,$D69,FALSE)=0,\"\",VLOOKUP($B69&\"_\"&$C69&\"_\"&Q$14,UNWDF2023_LookUp!$B:$R,$D69,FALSE))","v":"NA"},{"$f":"IF(VLOOKUP($B69&\"_\"&$C69&\"_\"&R$14,UNWDF2023_LookUp!$B:$R,$D69,FALSE)=0,\"\",VLOOKUP($B69&\"_\"&$C69&\"_\"&R$14,UNWDF2023_LookUp!$B:$R,$D69,FALSE))","v":"NA"},{"$f":"IF(VLOOKUP($B69&\"_\"&$C69&\"_\"&S$14,UNWDF2023_LookUp!$B:$R,$D69,FALSE)=0,\"\",VLOOKUP($B69&\"_\"&$C69&\"_\"&S$14,UNWDF2023_LookUp!$B:$R,$D69,FALSE))","v":"NA"}]
[{"$f":"B70&C70","v":"Day2Time_Slot3"},"Day2","Time_Slot3",16,"",null,"Event Title",null,{"$f":"IF(VLOOKUP($B70&\"_\"&$C70&\"_\"&I$14,UNWDF2023_LookUp!$B:$R,$D70,FALSE)=0,\"\",VLOOKUP($B70&\"_\"&$C70&\"_\"&I$14,UNWDF2023_LookUp!$B:$R,$D70,FALSE))","v":"Engaging Parliamentarians in development data – what is new for National Statistical Offices?"},{"$f":"IF(VLOOKUP($B70&\"_\"&$C70&\"_\"&J$14,UNWDF2023_LookUp!$B:$R,$D70,FALSE)=0,\"\",VLOOKUP($B70&\"_\"&$C70&\"_\"&J$14,UNWDF2023_LookUp!$B:$R,$D70,FALSE))","v":"Keys to successful health information systems strengthening -  Multi Stakeholder engagement and gender integration: experiences and lessons from Serbia, Niger and Indonesia"},{"$f":"IF(VLOOKUP($B70&\"_\"&$C70&\"_\"&K$14,UNWDF2023_LookUp!$B:$R,$D70,FALSE)=0,\"\",VLOOKUP($B70&\"_\"&$C70&\"_\"&K$14,UNWDF2023_LookUp!$B:$R,$D70,FALSE))","v":"Leveraging innovations to measure and understand poverty and inequities, including the impact of crises on women, men, girls and boys"},{"$f":"IF(VLOOKUP($B70&\"_\"&$C70&\"_\"&L$14,UNWDF2023_LookUp!$B:$R,$D70,FALSE)=0,\"\",VLOOKUP($B70&\"_\"&$C70&\"_\"&L$14,UNWDF2023_LookUp!$B:$R,$D70,FALSE))","v":"Strengthening local data ecosystems to support devolved decision making: Challenges and opportunities"},{"$f":"IF(VLOOKUP($B70&\"_\"&$C70&\"_\"&M$14,UNWDF2023_LookUp!$B:$R,$D70,FALSE)=0,\"\",VLOOKUP($B70&\"_\"&$C70&\"_\"&M$14,UNWDF2023_LookUp!$B:$R,$D70,FALSE))","v":"Inclusion of the citizen, children, families, disabled persons and primary care team in the world data cycle and asking the UN to support a global personal health data processing standard"},{"$f":"IF(VLOOKUP($B70&\"_\"&$C70&\"_\"&N$14,UNWDF2023_LookUp!$B:$R,$D70,FALSE)=0,\"\",VLOOKUP($B70&\"_\"&$C70&\"_\"&N$14,UNWDF2023_LookUp!$B:$R,$D70,FALSE))","v":"TBC"},{"$f":"IF(VLOOKUP($B70&\"_\"&$C70&\"_\"&O$14,UNWDF2023_LookUp!$B:$R,$D70,FALSE)=0,\"\",VLOOKUP($B70&\"_\"&$C70&\"_\"&O$14,UNWDF2023_LookUp!$B:$R,$D70,FALSE))","v":"Data ethics: From principles to real-world implementation (^^)"},{"$f":"IF(VLOOKUP($B70&\"_\"&$C70&\"_\"&P$14,UNWDF2023_LookUp!$B:$R,$D70,FALSE)=0,\"\",VLOOKUP($B70&\"_\"&$C70&\"_\"&P$14,UNWDF2023_LookUp!$B:$R,$D70,FALSE))","v":"The Racial Justice Dashboard: Pursuing Racial Justice through Data in Europe and Latin America (^^)"},{"$f":"IF(VLOOKUP($B70&\"_\"&$C70&\"_\"&Q$14,UNWDF2023_LookUp!$B:$R,$D70,FALSE)=0,\"\",VLOOKUP($B70&\"_\"&$C70&\"_\"&Q$14,UNWDF2023_LookUp!$B:$R,$D70,FALSE))","v":"Use the Payment data of the Third Party Payment Platform in Retail Statistics"},{"$f":"IF(VLOOKUP($B70&\"_\"&$C70&\"_\"&R$14,UNWDF2023_LookUp!$B:$R,$D70,FALSE)=0,\"\",VLOOKUP($B70&\"_\"&$C70&\"_\"&R$14,UNWDF2023_LookUp!$B:$R,$D70,FALSE))","v":"Interactive learning: Data driven decision making using a rapid optimal service placement solution"},{"$f":"IF(VLOOKUP($B70&\"_\"&$C70&\"_\"&S$14,UNWDF2023_LookUp!$B:$R,$D70,FALSE)=0,\"\",VLOOKUP($B70&\"_\"&$C70&\"_\"&S$14,UNWDF2023_LookUp!$B:$R,$D70,FALSE))","v":"Population Data for Action: Population Data Portal 2.0 / Demographic, Gender and SDG Data for better decisionmaking"}]
["Day2Time_Slot3","Day2","Time_Slot3",17,"",null,"Organiser",null,{"$f":"IF(VLOOKUP($B71&\"_\"&$C71&\"_\"&I$14,UNWDF2023_LookUp!$B:$R,$D71,FALSE)=0,\"\",VLOOKUP($B71&\"_\"&$C71&\"_\"&I$14,UNWDF2023_LookUp!$B:$R,$D71,FALSE))","v":"Partnership in Statistics for Development in the 21st Century (PARIS21); National Statistics Office (NSO-Mongolia); National Statistics Office (NSO-Vanuatu)"},{"$f":"IF(VLOOKUP($B71&\"_\"&$C71&\"_\"&J$14,UNWDF2023_LookUp!$B:$R,$D71,FALSE)=0,\"\",VLOOKUP($B71&\"_\"&$C71&\"_\"&J$14,UNWDF2023_LookUp!$B:$R,$D71,FALSE))","v":"Country Health Information Systems and Data Use (CHISU) Program"},{"$f":"IF(VLOOKUP($B71&\"_\"&$C71&\"_\"&K$14,UNWDF2023_LookUp!$B:$R,$D71,FALSE)=0,\"\",VLOOKUP($B71&\"_\"&$C71&\"_\"&K$14,UNWDF2023_LookUp!$B:$R,$D71,FALSE))","v":"Save the Children; United Nations Children's Fund (UNICEF); World Bank (WB); United Nations Entity for Gender Equality and the Empowerment of Women (UN Women); Asian Development Bank (ADB)"},{"$f":"IF(VLOOKUP($B71&\"_\"&$C71&\"_\"&L$14,UNWDF2023_LookUp!$B:$R,$D71,FALSE)=0,\"\",VLOOKUP($B71&\"_\"&$C71&\"_\"&L$14,UNWDF2023_LookUp!$B:$R,$D71,FALSE))","v":"Development Initiatives (DI); NITA-U; The Asia Foundation"},{"$f":"IF(VLOOKUP($B71&\"_\"&$C71&\"_\"&M$14,UNWDF2023_LookUp!$B:$R,$D71,FALSE)=0,\"\",VLOOKUP($B71&\"_\"&$C71&\"_\"&M$14,UNWDF2023_LookUp!$B:$R,$D71,FALSE))","v":"Albrecht Federal Scientific Centre of Rehabilitation of the  disabled, Federal State Budgetary Institute, Research Centre Country or area of residence Russian Federation; AHRO review of nursing and midwifery journal; Pan-African Institute for Development Cameroon; Pushpagiri Institute of Medical Sciences and Research Centre, Kerala, India"},{"$f":"IF(VLOOKUP($B71&\"_\"&$C71&\"_\"&N$14,UNWDF2023_LookUp!$B:$R,$D71,FALSE)=0,\"\",VLOOKUP($B71&\"_\"&$C71&\"_\"&N$14,UNWDF2023_LookUp!$B:$R,$D71,FALSE))","v":"TBC"},{"$f":"IF(VLOOKUP($B71&\"_\"&$C71&\"_\"&O$14,UNWDF2023_LookUp!$B:$R,$D71,FALSE)=0,\"\",VLOOKUP($B71&\"_\"&$C71&\"_\"&O$14,UNWDF2023_LookUp!$B:$R,$D71,FALSE))","v":"Organisation for Economic Co-operation and Development (OECD)"},{"$f":"IF(VLOOKUP($B71&\"_\"&$C71&\"_\"&P$14,UNWDF2023_LookUp!$B:$R,$D71,FALSE)=0,\"\",VLOOKUP($B71&\"_\"&$C71&\"_\"&P$14,UNWDF2023_LookUp!$B:$R,$D71,FALSE))","v":"Data-Pop Alliance; African Futures Action Lab"},{"$f":"IF(VLOOKUP($B71&\"_\"&$C71&\"_\"&Q$14,UNWDF2023_LookUp!$B:$R,$D71,FALSE)=0,\"\",VLOOKUP($B71&\"_\"&$C71&\"_\"&Q$14,UNWDF2023_LookUp!$B:$R,$D71,FALSE))","v":"National Bureau of Statistics (NBS-China)"},{"$f":"IF(VLOOKUP($B71&\"_\"&$C71&\"_\"&R$14,UNWDF2023_LookUp!$B:$R,$D71,FALSE)=0,\"\",VLOOKUP($B71&\"_\"&$C71&\"_\"&R$14,UNWDF2023_LookUp!$B:$R,$D71,FALSE))","v":"Flowminder Foundation; United States Centers for Disease Control and Prevention (CDC)"},{"$f":"IF(VLOOKUP($B71&\"_\"&$C71&\"_\"&S$14,UNWDF2023_LookUp!$B:$R,$D71,FALSE)=0,\"\",VLOOKUP($B71&\"_\"&$C71&\"_\"&S$14,UNWDF2023_LookUp!$B:$R,$D71,FALSE))","v":"United Nations Population Fund (UNFPA) / Environmental Systems Research Institute (Esri); United Nations Department of Economic and Social Affairs (UNDESA)"}]
[{"$f":"B72&C72","v":"Day2Time_Slot2B"},"Day2","Time_Slot2B",14,"14:30 - 14:45 (Hangzhou time)",{"$f":"IF(ISERROR(TEXT((DATE($E$3,$E$2,$E$1+MID(B72,4,1))+TIME(MID(E72,1,2),MID(E72,4,2),0))+($C$2-$C$3),\"H:MM AM/PM\")&\" - \"&TEXT(DATE($E$3,$E$2,$E$1+MID(B72,4,1))+TIME(MID(E72,9,2),MID(E72,12,2),0)+($C$2-$C$3),\"H:MM AM/PM\")),E72,TEXT((DATE($E$3,$E$2,$E$1+MID(B72,4,1))+TIME(MID(E72,1,2),MID(E72,4,2),0))+($C$2-$C$3),\"H:MM AM/PM\")&\" - \"&TEXT(DATE($E$3,$E$2,$E$1+MID(B72,4,1))+TIME(MID(E72,9,2),MID(E72,12,2),0)+($C$2-$C$3),\"H:MM AM/PM\"))","v":"14:30 - 14:45 (Hangzhou time)"},"Break"]
["Day2Time_Slot4","Day2","Time_Slot4",15,"14:45 - 15:45 (Hangzhou time)",{"$f":"IF(ISERROR(TEXT((DATE($E$3,$E$2,$E$1+MID(B73,4,1))+TIME(MID(E73,1,2),MID(E73,4,2),0))+($C$2-$C$3),\"H:MM AM/PM\")&\" - \"&TEXT(DATE($E$3,$E$2,$E$1+MID(B73,4,1))+TIME(MID(E73,9,2),MID(E73,12,2),0)+($C$2-$C$3),\"H:MM AM/PM\")),E73,TEXT(DATE($E$3,$E$2,$E$1+MID(B73,4,1))+TIME(MID(E73,1,2),MID(E73,4,2),0)+($C$2-$C$3),\"DDDD DD MMM\")&\" : \"&TEXT((DATE($E$3,$E$2,$E$1+MID(B73,4,1))+TIME(MID(E73,1,2),MID(E73,4,2),0))+($C$2-$C$3),\"H:MM AM/PM\")&\" - \"&TEXT(DATE($E$3,$E$2,$E$1+MID(B73,4,1))+TIME(MID(E73,9,2),MID(E73,12,2),0)+($C$2-$C$3),\"H:MM AM/PM\"))","v":"14:45 - 15:45 (Hangzhou time)"},"Event_ID",null,{"$f":"IF(VLOOKUP($B73&\"_\"&$C73&\"_\"&I$14,UNWDF2023_LookUp!$B:$R,$D73,FALSE)=0,\"\",VLOOKUP($B73&\"_\"&$C73&\"_\"&I$14,UNWDF2023_LookUp!$B:$R,$D73,FALSE))","v":"TA1.04"},{"$f":"IF(VLOOKUP($B73&\"_\"&$C73&\"_\"&J$14,UNWDF2023_LookUp!$B:$R,$D73,FALSE)=0,\"\",VLOOKUP($B73&\"_\"&$C73&\"_\"&J$14,UNWDF2023_LookUp!$B:$R,$D73,FALSE))","v":"TA2.17"},{"$f":"IF(VLOOKUP($B73&\"_\"&$C73&\"_\"&K$14,UNWDF2023_LookUp!$B:$R,$D73,FALSE)=0,\"\",VLOOKUP($B73&\"_\"&$C73&\"_\"&K$14,UNWDF2023_LookUp!$B:$R,$D73,FALSE))","v":"TA1.10"},{"$f":"IF(VLOOKUP($B73&\"_\"&$C73&\"_\"&L$14,UNWDF2023_LookUp!$B:$R,$D73,FALSE)=0,\"\",VLOOKUP($B73&\"_\"&$C73&\"_\"&L$14,UNWDF2023_LookUp!$B:$R,$D73,FALSE))","v":"TA3.05"},{"$f":"IF(VLOOKUP($B73&\"_\"&$C73&\"_\"&M$14,UNWDF2023_LookUp!$B:$R,$D73,FALSE)=0,\"\",VLOOKUP($B73&\"_\"&$C73&\"_\"&M$14,UNWDF2023_LookUp!$B:$R,$D73,FALSE))","v":"TA1.14"},{"$f":"IF(VLOOKUP($B73&\"_\"&$C73&\"_\"&N$14,UNWDF2023_LookUp!$B:$R,$D73,FALSE)=0,\"\",VLOOKUP($B73&\"_\"&$C73&\"_\"&N$14,UNWDF2023_LookUp!$B:$R,$D73,FALSE))","v":"TA1.15"},{"$f":"IF(VLOOKUP($B73&\"_\"&$C73&\"_\"&O$14,UNWDF2023_LookUp!$B:$R,$D73,FALSE)=0,\"\",VLOOKUP($B73&\"_\"&$C73&\"_\"&O$14,UNWDF2023_LookUp!$B:$R,$D73,FALSE))","v":"TA3.36"},{"$f":"IF(VLOOKUP($B73&\"_\"&$C73&\"_\"&P$14,UNWDF2023_LookUp!$B:$R,$D73,FALSE)=0,\"\",VLOOKUP($B73&\"_\"&$C73&\"_\"&P$14,UNWDF2023_LookUp!$B:$R,$D73,FALSE))","v":"TA1.39"},{"$f":"IF(VLOOKUP($B73&\"_\"&$C73&\"_\"&Q$14,UNWDF2023_LookUp!$B:$R,$D73,FALSE)=0,\"\",VLOOKUP($B73&\"_\"&$C73&\"_\"&Q$14,UNWDF2023_LookUp!$B:$R,$D73,FALSE))","v":"TA3.06"},{"$f":"IF(VLOOKUP($B73&\"_\"&$C73&\"_\"&R$14,UNWDF2023_LookUp!$B:$R,$D73,FALSE)=0,\"\",VLOOKUP($B73&\"_\"&$C73&\"_\"&R$14,UNWDF2023_LookUp!$B:$R,$D73,FALSE))","v":"LEARN.308"},{"$f":"IF(VLOOKUP($B73&\"_\"&$C73&\"_\"&S$14,UNWDF2023_LookUp!$B:$R,$D73,FALSE)=0,\"\",VLOOKUP($B73&\"_\"&$C73&\"_\"&S$14,UNWDF2023_LookUp!$B:$R,$D73,FALSE))","v":"DEMOS.405"}]
["Day2Time_Slot4","Day2","Time_Slot4",13,"",null,"Thematic Area",null,{"$f":"IF(VLOOKUP($B74&\"_\"&$C74&\"_\"&I$14,UNWDF2023_LookUp!$B:$R,$D74,FALSE)=0,\"\",VLOOKUP($B74&\"_\"&$C74&\"_\"&I$14,UNWDF2023_LookUp!$B:$R,$D74,FALSE))","v":1},{"$f":"IF(VLOOKUP($B74&\"_\"&$C74&\"_\"&J$14,UNWDF2023_LookUp!$B:$R,$D74,FALSE)=0,\"\",VLOOKUP($B74&\"_\"&$C74&\"_\"&J$14,UNWDF2023_LookUp!$B:$R,$D74,FALSE))","v":2},{"$f":"IF(VLOOKUP($B74&\"_\"&$C74&\"_\"&K$14,UNWDF2023_LookUp!$B:$R,$D74,FALSE)=0,\"\",VLOOKUP($B74&\"_\"&$C74&\"_\"&K$14,UNWDF2023_LookUp!$B:$R,$D74,FALSE))","v":1},{"$f":"IF(VLOOKUP($B74&\"_\"&$C74&\"_\"&L$14,UNWDF2023_LookUp!$B:$R,$D74,FALSE)=0,\"\",VLOOKUP($B74&\"_\"&$C74&\"_\"&L$14,UNWDF2023_LookUp!$B:$R,$D74,FALSE))","v":3},{"$f":"IF(VLOOKUP($B74&\"_\"&$C74&\"_\"&M$14,UNWDF2023_LookUp!$B:$R,$D74,FALSE)=0,\"\",VLOOKUP($B74&\"_\"&$C74&\"_\"&M$14,UNWDF2023_LookUp!$B:$R,$D74,FALSE))","v":1},{"$f":"IF(VLOOKUP($B74&\"_\"&$C74&\"_\"&N$14,UNWDF2023_LookUp!$B:$R,$D74,FALSE)=0,\"\",VLOOKUP($B74&\"_\"&$C74&\"_\"&N$14,UNWDF2023_LookUp!$B:$R,$D74,FALSE))","v":1},{"$f":"IF(VLOOKUP($B74&\"_\"&$C74&\"_\"&O$14,UNWDF2023_LookUp!$B:$R,$D74,FALSE)=0,\"\",VLOOKUP($B74&\"_\"&$C74&\"_\"&O$14,UNWDF2023_LookUp!$B:$R,$D74,FALSE))","v":3},{"$f":"IF(VLOOKUP($B74&\"_\"&$C74&\"_\"&P$14,UNWDF2023_LookUp!$B:$R,$D74,FALSE)=0,\"\",VLOOKUP($B74&\"_\"&$C74&\"_\"&P$14,UNWDF2023_LookUp!$B:$R,$D74,FALSE))","v":1},{"$f":"IF(VLOOKUP($B74&\"_\"&$C74&\"_\"&Q$14,UNWDF2023_LookUp!$B:$R,$D74,FALSE)=0,\"\",VLOOKUP($B74&\"_\"&$C74&\"_\"&Q$14,UNWDF2023_LookUp!$B:$R,$D74,FALSE))","v":3},{"$f":"IF(VLOOKUP($B74&\"_\"&$C74&\"_\"&R$14,UNWDF2023_LookUp!$B:$R,$D74,FALSE)=0,\"\",VLOOKUP($B74&\"_\"&$C74&\"_\"&R$14,UNWDF2023_LookUp!$B:$R,$D74,FALSE))","v":"NA"},{"$f":"IF(VLOOKUP($B74&\"_\"&$C74&\"_\"&S$14,UNWDF2023_LookUp!$B:$R,$D74,FALSE)=0,\"\",VLOOKUP($B74&\"_\"&$C74&\"_\"&S$14,UNWDF2023_LookUp!$B:$R,$D74,FALSE))","v":"NA"}]
[{"$f":"B75&C75","v":"Day2Time_Slot4"},"Day2","Time_Slot4",16,"",null,"Event Title",null,{"$f":"IF(VLOOKUP($B75&\"_\"&$C75&\"_\"&I$14,UNWDF2023_LookUp!$B:$R,$D75,FALSE)=0,\"\",VLOOKUP($B75&\"_\"&$C75&\"_\"&I$14,UNWDF2023_LookUp!$B:$R,$D75,FALSE))","v":"Partnership Innovation for Inclusive Ocean Data"},{"$f":"IF(VLOOKUP($B75&\"_\"&$C75&\"_\"&J$14,UNWDF2023_LookUp!$B:$R,$D75,FALSE)=0,\"\",VLOOKUP($B75&\"_\"&$C75&\"_\"&J$14,UNWDF2023_LookUp!$B:$R,$D75,FALSE))","v":"New possibilities for measuring deaths in conflict settings"},{"$f":"IF(VLOOKUP($B75&\"_\"&$C75&\"_\"&K$14,UNWDF2023_LookUp!$B:$R,$D75,FALSE)=0,\"\",VLOOKUP($B75&\"_\"&$C75&\"_\"&K$14,UNWDF2023_LookUp!$B:$R,$D75,FALSE))","v":"Data as a Tool for Grassroot Citizen Engagement at Municipal Level a Case for Sub Saharan Africa"},{"$f":"IF(VLOOKUP($B75&\"_\"&$C75&\"_\"&L$14,UNWDF2023_LookUp!$B:$R,$D75,FALSE)=0,\"\",VLOOKUP($B75&\"_\"&$C75&\"_\"&L$14,UNWDF2023_LookUp!$B:$R,$D75,FALSE))","v":"Preparing for the next pandemic: Applying a system-wide approach to health data"},{"$f":"IF(VLOOKUP($B75&\"_\"&$C75&\"_\"&M$14,UNWDF2023_LookUp!$B:$R,$D75,FALSE)=0,\"\",VLOOKUP($B75&\"_\"&$C75&\"_\"&M$14,UNWDF2023_LookUp!$B:$R,$D75,FALSE))","v":"Diverse partnerships for inclusive data on migration (^^)"},{"$f":"IF(VLOOKUP($B75&\"_\"&$C75&\"_\"&N$14,UNWDF2023_LookUp!$B:$R,$D75,FALSE)=0,\"\",VLOOKUP($B75&\"_\"&$C75&\"_\"&N$14,UNWDF2023_LookUp!$B:$R,$D75,FALSE))","v":"Inclusive Data, Partnerships & Decision-Making: What Works? (^^)"},{"$f":"IF(VLOOKUP($B75&\"_\"&$C75&\"_\"&O$14,UNWDF2023_LookUp!$B:$R,$D75,FALSE)=0,\"\",VLOOKUP($B75&\"_\"&$C75&\"_\"&O$14,UNWDF2023_LookUp!$B:$R,$D75,FALSE))","v":"Challenges to data privacy and misuse (^^)"},{"$f":"IF(VLOOKUP($B75&\"_\"&$C75&\"_\"&P$14,UNWDF2023_LookUp!$B:$R,$D75,FALSE)=0,\"\",VLOOKUP($B75&\"_\"&$C75&\"_\"&P$14,UNWDF2023_LookUp!$B:$R,$D75,FALSE))","v":"The System of Environmental-Economic Accounting (SEEA) Ecosystem Accounts as enabler of data and model integration to improve decision-making (^^)"},{"$f":"IF(VLOOKUP($B75&\"_\"&$C75&\"_\"&Q$14,UNWDF2023_LookUp!$B:$R,$D75,FALSE)=0,\"\",VLOOKUP($B75&\"_\"&$C75&\"_\"&Q$14,UNWDF2023_LookUp!$B:$R,$D75,FALSE))","v":"Fostering collective approaches to data responsibility in humanitarian action (^^)"},{"$f":"IF(VLOOKUP($B75&\"_\"&$C75&\"_\"&R$14,UNWDF2023_LookUp!$B:$R,$D75,FALSE)=0,\"\",VLOOKUP($B75&\"_\"&$C75&\"_\"&R$14,UNWDF2023_LookUp!$B:$R,$D75,FALSE))","v":"Cogenerating learnings for Evidence Based Planning and data use in governance"},{"$f":"IF(VLOOKUP($B75&\"_\"&$C75&\"_\"&S$14,UNWDF2023_LookUp!$B:$R,$D75,FALSE)=0,\"\",VLOOKUP($B75&\"_\"&$C75&\"_\"&S$14,UNWDF2023_LookUp!$B:$R,$D75,FALSE))","v":"Empowering SDG policy makers with spatial data and analytics / Using the World Risk Poll to improve global safety"}]
["Day2Time_Slot4","Day2","Time_Slot4",17,"",null,"Organiser",null,{"$f":"IF(VLOOKUP($B76&\"_\"&$C76&\"_\"&I$14,UNWDF2023_LookUp!$B:$R,$D76,FALSE)=0,\"\",VLOOKUP($B76&\"_\"&$C76&\"_\"&I$14,UNWDF2023_LookUp!$B:$R,$D76,FALSE))","v":"United Nations Economic and Social Commission for Asia and the Pacific (UNESCAP); Global Ocean Accounts Partnership (GOAP); Statistics Canada; Ministry of Marine Affairs and Fisheries (MMAF); Ministry of Environment, Climate Change and Technology (MECCT); Institute of Strategy and Policy on Natural Resources and Environment (ISPONRE); Cape Peninsula University of Technology (CPUT)"},{"$f":"IF(VLOOKUP($B76&\"_\"&$C76&\"_\"&J$14,UNWDF2023_LookUp!$B:$R,$D76,FALSE)=0,\"\",VLOOKUP($B76&\"_\"&$C76&\"_\"&J$14,UNWDF2023_LookUp!$B:$R,$D76,FALSE))","v":"United Nations Office for the High Commissioner for Human Rights (UNOHCHR); Commission on Human Rights of the Philippines"},{"$f":"IF(VLOOKUP($B76&\"_\"&$C76&\"_\"&K$14,UNWDF2023_LookUp!$B:$R,$D76,FALSE)=0,\"\",VLOOKUP($B76&\"_\"&$C76&\"_\"&K$14,UNWDF2023_LookUp!$B:$R,$D76,FALSE))","v":"Jokkolabs Banjul"},{"$f":"IF(VLOOKUP($B76&\"_\"&$C76&\"_\"&L$14,UNWDF2023_LookUp!$B:$R,$D76,FALSE)=0,\"\",VLOOKUP($B76&\"_\"&$C76&\"_\"&L$14,UNWDF2023_LookUp!$B:$R,$D76,FALSE))","v":"Open Data Watch (ODW); World Health Organization (WHO); Partnership in Statistics for Development in the 21st Century (PARIS21)"},{"$f":"IF(VLOOKUP($B76&\"_\"&$C76&\"_\"&M$14,UNWDF2023_LookUp!$B:$R,$D76,FALSE)=0,\"\",VLOOKUP($B76&\"_\"&$C76&\"_\"&M$14,UNWDF2023_LookUp!$B:$R,$D76,FALSE))","v":"International Organisation for Migration (IOM); United Nations Statistics Division (UNSD-DESA)"},{"$f":"IF(VLOOKUP($B76&\"_\"&$C76&\"_\"&N$14,UNWDF2023_LookUp!$B:$R,$D76,FALSE)=0,\"\",VLOOKUP($B76&\"_\"&$C76&\"_\"&N$14,UNWDF2023_LookUp!$B:$R,$D76,FALSE))","v":"Global Partnership for Sustainable Development Data (GPSDD); Internation Research and Exchange Board (IREX)"},{"$f":"IF(VLOOKUP($B76&\"_\"&$C76&\"_\"&O$14,UNWDF2023_LookUp!$B:$R,$D76,FALSE)=0,\"\",VLOOKUP($B76&\"_\"&$C76&\"_\"&O$14,UNWDF2023_LookUp!$B:$R,$D76,FALSE))","v":"International Association for Official Statistics (IAOS); Krakow Working Group; Statistics Poland; Full Fact"},{"$f":"IF(VLOOKUP($B76&\"_\"&$C76&\"_\"&P$14,UNWDF2023_LookUp!$B:$R,$D76,FALSE)=0,\"\",VLOOKUP($B76&\"_\"&$C76&\"_\"&P$14,UNWDF2023_LookUp!$B:$R,$D76,FALSE))","v":"Basque Center for Climate Change (BC3); South African National Biodiversity Institute (SANBI); European Space Agency (ESA); GEO Secretariat; United Nations Statistics Division (UNSD-DESA)"},{"$f":"IF(VLOOKUP($B76&\"_\"&$C76&\"_\"&Q$14,UNWDF2023_LookUp!$B:$R,$D76,FALSE)=0,\"\",VLOOKUP($B76&\"_\"&$C76&\"_\"&Q$14,UNWDF2023_LookUp!$B:$R,$D76,FALSE))","v":"Danish Refugee Council (DRC); International Organisation for Migration (IOM); United Nations High Commissioner for Refugees (UNHCR); UN Office for the Coordination of Humanitarian Affairs (OCHA) Centre for Humanitarian Data"},{"$f":"IF(VLOOKUP($B76&\"_\"&$C76&\"_\"&R$14,UNWDF2023_LookUp!$B:$R,$D76,FALSE)=0,\"\",VLOOKUP($B76&\"_\"&$C76&\"_\"&R$14,UNWDF2023_LookUp!$B:$R,$D76,FALSE))","v":"The Asia Foundation"},{"$f":"IF(VLOOKUP($B76&\"_\"&$C76&\"_\"&S$14,UNWDF2023_LookUp!$B:$R,$D76,FALSE)=0,\"\",VLOOKUP($B76&\"_\"&$C76&\"_\"&S$14,UNWDF2023_LookUp!$B:$R,$D76,FALSE))","v":"United Nations Development Programme (UNDP) / Lloyd's Register Foundation"}]
[{"$f":"B77&C77","v":"Day2Time_Slot2C"},"Day2","Time_Slot2C",14,"15:45 - 16:15 (Hangzhou time)",{"$f":"IF(ISERROR(TEXT((DATE($E$3,$E$2,$E$1+MID(B77,4,1))+TIME(MID(E77,1,2),MID(E77,4,2),0))+($C$2-$C$3),\"H:MM AM/PM\")&\" - \"&TEXT(DATE($E$3,$E$2,$E$1+MID(B77,4,1))+TIME(MID(E77,9,2),MID(E77,12,2),0)+($C$2-$C$3),\"H:MM AM/PM\")),E77,TEXT((DATE($E$3,$E$2,$E$1+MID(B77,4,1))+TIME(MID(E77,1,2),MID(E77,4,2),0))+($C$2-$C$3),\"H:MM AM/PM\")&\" - \"&TEXT(DATE($E$3,$E$2,$E$1+MID(B77,4,1))+TIME(MID(E77,9,2),MID(E77,12,2),0)+($C$2-$C$3),\"H:MM AM/PM\"))","v":"15:45 - 16:15 (Hangzhou time)"},"Break"]
["Day2Time_Slot5","Day2","Time_Slot5",15,"16:15 - 17:30 (Hangzhou time)",{"$f":"IF(ISERROR(TEXT((DATE($E$3,$E$2,$E$1+MID(B78,4,1))+TIME(MID(E78,1,2),MID(E78,4,2),0))+($C$2-$C$3),\"H:MM AM/PM\")&\" - \"&TEXT(DATE($E$3,$E$2,$E$1+MID(B78,4,1))+TIME(MID(E78,9,2),MID(E78,12,2),0)+($C$2-$C$3),\"H:MM AM/PM\")),E78,TEXT(DATE($E$3,$E$2,$E$1+MID(B78,4,1))+TIME(MID(E78,1,2),MID(E78,4,2),0)+($C$2-$C$3),\"DDDD DD MMM\")&\" : \"&TEXT((DATE($E$3,$E$2,$E$1+MID(B78,4,1))+TIME(MID(E78,1,2),MID(E78,4,2),0))+($C$2-$C$3),\"H:MM AM/PM\")&\" - \"&TEXT(DATE($E$3,$E$2,$E$1+MID(B78,4,1))+TIME(MID(E78,9,2),MID(E78,12,2),0)+($C$2-$C$3),\"H:MM AM/PM\"))","v":"16:15 - 17:30 (Hangzhou time)"},"Event_ID",{"$f":"IF(VLOOKUP($B78&\"_\"&$C78&\"_\"&H$14,UNWDF2023_LookUp!$B:$R,$D78,FALSE)=0,\"\",VLOOKUP($B78&\"_\"&$C78&\"_\"&H$14,UNWDF2023_LookUp!$B:$R,$D78,FALSE))","v":"TA3.01"}]
["Day2Time_Slot5","Day2","Time_Slot5",13,"",null,"Thematic Area",{"$f":"IF(VLOOKUP($B79&\"_\"&$C79&\"_\"&H$14,UNWDF2023_LookUp!$B:$R,$D79,FALSE)=0,\"\",VLOOKUP($B79&\"_\"&$C79&\"_\"&H$14,UNWDF2023_LookUp!$B:$R,$D79,FALSE))","v":3}]
[{"$f":"B80&C80","v":"Day2Time_Slot5"},"Day2","Time_Slot5",16,"",null,"Event Title",{"$f":"IF(VLOOKUP($B80&\"_\"&$C80&\"_\"&H$14,UNWDF2023_LookUp!$B:$R,$D80,FALSE)=0,\"\",VLOOKUP($B80&\"_\"&$C80&\"_\"&H$14,UNWDF2023_LookUp!$B:$R,$D80,FALSE))","v":"Building trust and ethics in data"}]
["Day2Time_Slot5","Day2","Time_Slot5",17,"",null,"Organiser",{"$f":"IF(VLOOKUP($B81&\"_\"&$C81&\"_\"&H$14,UNWDF2023_LookUp!$B:$R,$D81,FALSE)=0,\"\",VLOOKUP($B81&\"_\"&$C81&\"_\"&H$14,UNWDF2023_LookUp!$B:$R,$D81,FALSE))","v":"UN World Data Forum Programme Committee (UNWDF PC)"}]
[{"$f":"B82&C82","v":"Day2Time_Slot2C"},"Day2","Time_Slot2C",14,"17:30 - 19:30 (Hangzhou time)",{"$f":"IF(ISERROR(TEXT((DATE($E$3,$E$2,$E$1+MID(B82,4,1))+TIME(MID(E82,1,2),MID(E82,4,2),0))+($C$2-$C$3),\"H:MM AM/PM\")&\" - \"&TEXT(DATE($E$3,$E$2,$E$1+MID(B82,4,1))+TIME(MID(E82,9,2),MID(E82,12,2),0)+($C$2-$C$3),\"H:MM AM/PM\")),E82,TEXT((DATE($E$3,$E$2,$E$1+MID(B82,4,1))+TIME(MID(E82,1,2),MID(E82,4,2),0))+($C$2-$C$3),\"H:MM AM/PM\")&\" - \"&TEXT(DATE($E$3,$E$2,$E$1+MID(B82,4,1))+TIME(MID(E82,9,2),MID(E82,12,2),0)+($C$2-$C$3),\"H:MM AM/PM\"))","v":"17:30 - 19:30 (Hangzhou time)"},"Break"]
["Day2Time_Slot6","Day2","Time_Slot6",16,"19:30 - 23:59 (Hangzhou time)",{"$f":"IF(ISERROR(TEXT((DATE($E$3,$E$2,$E$1+MID(B83,4,1))+TIME(MID(E83,1,2),MID(E83,4,2),0))+($C$2-$C$3),\"H:MM AM/PM\")&\" - \"&TEXT(DATE($E$3,$E$2,$E$1+MID(B83,4,1))+TIME(MID(E83,9,2),MID(E83,12,2),0)+($C$2-$C$3),\"H:MM AM/PM\")),E83,TEXT(DATE($E$3,$E$2,$E$1+MID(B83,4,1))+TIME(MID(E83,1,2),MID(E83,4,2),0)+($C$2-$C$3),\"DDDD DD MMM\")&\" : \"&TEXT((DATE($E$3,$E$2,$E$1+MID(B83,4,1))+TIME(MID(E83,1,2),MID(E83,4,2),0))+($C$2-$C$3),\"H:MM AM/PM\")&\" - \"&TEXT(DATE($E$3,$E$2,$E$1+MID(B83,4,1))+TIME(MID(E83,9,2),MID(E83,12,2),0)+($C$2-$C$3),\"H:MM AM/PM\"))","v":"19:30 - 23:59 (Hangzhou time)"},"Event Title",{"$f":"IF(VLOOKUP($B83&\"_\"&$C83&\"_\"&H$14,UNWDF2023_LookUp!$B:$R,$D83,FALSE)=0,\"\",VLOOKUP($B83&\"_\"&$C83&\"_\"&H$14,UNWDF2023_LookUp!$B:$R,$D83,FALSE))","v":"NA"}]
[{"$f":"B84&C84","v":"Day2Time_Slot6"},"Day2","Time_Slot6",17,"",null,"Organiser",{"$f":"IF(VLOOKUP($B84&\"_\"&$C84&\"_\"&H$14,UNWDF2023_LookUp!$B:$R,$D84,FALSE)=0,\"\",VLOOKUP($B84&\"_\"&$C84&\"_\"&H$14,UNWDF2023_LookUp!$B:$R,$D84,FALSE))","v":"NA"}]
[null,null,null,null,""]
[null,null,null,null,"",null,null,null,null,null," TA 1. Innovation and partnerships for better and more inclusive data: data integration and leveraging of various data sources and methodologies to ensure visibility and voice for everyone",null,null,null," TA 3. Building trust and ethics in data: developing the principles of stewardship within the data ecosystem to balance the full value from data use with the protection of privacy and data rights"]
[null,null,null,null,""]
[null,null,null,null,"",null,null,null,null,null," TA 2. Maximizing the use and value of data for better decision making: adding value to data through better analysis and communication to ensure full use of data for bettering lives through the agency, respect, and inclusion of everyone",null,null,null," TA 4. Emerging trends and partnerships to develop the data ecosystem: supporting global, regional, national and sub-national data ecosystems in the implementation of the Cape Town Global Action Plan including sustainable finance for data and statistics programmes at all levels of organization"]
[null,null,null,null,""]
[null,null,null,null,"","(^) The high-level plenaries and parallel sessions will be available to a virtual audience with (^^) after the title to denote a completely virtual session while the other event types, such as learning labs (LEARN) and demonstrations (DEMOS), will be in-person at the venue only."]
["Day3",null,null,null,{"$f":"DATE($E$3,$E$2,$E$1+MID(B95,4,1))","v":"2023-04-27"},{"$f":"IF(ISERROR(DATE($E$3,$E$2,$E$1+MID(B95,4,1))+TIME(MID(E95,1,2),MID(E95,4,2),0)+($C$2-$C$3)),DATE($E$3,$E$2,$E$1+MID(B95,4,1)),TEXT(DATE($E$3,$E$2,$E$1+MID(B95,4,1))+TIME(MID(E95,1,2),MID(E95,4,2),0)+($C$2-$C$3),\"DDDDDD, DD MMMM YYYY\")&\" [Date changes shown on row]\")","v":"2023-04-27"}]
[null,null,"LookUp",null,"",null,"LookUp","Parallel 01","Parallel 02","Parallel 03","Parallel 04","Parallel 05","Parallel 06","Parallel 07","Parallel 08","Parallel 09","Parallel 10","Parallel 11","Parallel 12"]
[null,null,null,null,"","Time (Auto-adjusts to your local time, unless \"(Hangzhou time)\" shown)","Rm Name","Room 01","Room 02","Room 03","Room 04","Room 05","Room 06","Room 07","Room 08","Room 09","LEARNING LABS 1","LEARNING LABS 2","DEMOS SPACE"]
["DayTime_LookUp","Day_LookUp","Time_LookUp","Col_LookUp","Time (GMT/UTC time+8)",null,"Capacity",2000,200,200,200,200,200,100,100,100,100,100,100]
[{"$f":"B95&C95","v":"Day3Time_Slot1"},"Day3","Time_Slot1",15,"09:00 - 10:15 (Hangzhou time)",{"$f":"IF(ISERROR(TEXT((DATE($E$3,$E$2,$E$1+MID(B95,4,1))+TIME(MID(E95,1,2),MID(E95,4,2),0))+($C$2-$C$3),\"H:MM AM/PM\")&\" - \"&TEXT(DATE($E$3,$E$2,$E$1+MID(B95,4,1))+TIME(MID(E95,9,2),MID(E95,12,2),0)+($C$2-$C$3),\"H:MM AM/PM\")),E95,TEXT(DATE($E$3,$E$2,$E$1+MID(B95,4,1))+TIME(MID(E95,1,2),MID(E95,4,2),0)+($C$2-$C$3),\"DDDD DD MMM\")&\" : \"&TEXT((DATE($E$3,$E$2,$E$1+MID(B95,4,1))+TIME(MID(E95,1,2),MID(E95,4,2),0))+($C$2-$C$3),\"H:MM AM/PM\")&\" - \"&TEXT(DATE($E$3,$E$2,$E$1+MID(B95,4,1))+TIME(MID(E95,9,2),MID(E95,12,2),0)+($C$2-$C$3),\"H:MM AM/PM\"))","v":"09:00 - 10:15 (Hangzhou time)"},"Event_ID",{"$f":"IF(VLOOKUP($B95&\"_\"&$C95&\"_\"&H$14,UNWDF2023_LookUp!$B:$R,$D95,FALSE)=0,\"\",VLOOKUP($B95&\"_\"&$C95&\"_\"&H$14,UNWDF2023_LookUp!$B:$R,$D95,FALSE))","v":"TA6.01"}]
[{"$f":"B96&C96","v":"Day3Time_Slot1"},"Day3","Time_Slot1",13,"",null,"Thematic Area",{"$f":"IF(VLOOKUP($B96&\"_\"&$C96&\"_\"&H$14,UNWDF2023_LookUp!$B:$R,$D96,FALSE)=0,\"\",VLOOKUP($B96&\"_\"&$C96&\"_\"&H$14,UNWDF2023_LookUp!$B:$R,$D96,FALSE))","v":6}]
[{"$f":"B97&C97","v":"Day3Time_Slot1"},"Day3","Time_Slot1",16,"",null,"Event Title",{"$f":"IF(VLOOKUP($B97&\"_\"&$C97&\"_\"&H$14,UNWDF2023_LookUp!$B:$R,$D97,FALSE)=0,\"\",VLOOKUP($B97&\"_\"&$C97&\"_\"&H$14,UNWDF2023_LookUp!$B:$R,$D97,FALSE))","v":"Programme Committee plenary"}]
["Day3Time_Slot1","Day3","Time_Slot1",17,"",null,"Organiser",{"$f":"IF(VLOOKUP($B98&\"_\"&$C98&\"_\"&H$14,UNWDF2023_LookUp!$B:$R,$D98,FALSE)=0,\"\",VLOOKUP($B98&\"_\"&$C98&\"_\"&H$14,UNWDF2023_LookUp!$B:$R,$D98,FALSE))","v":"UN World Data Forum Programme Committee (UNWDF PC)"}]
[null,"Day3",null,null,"10:15 - 10:45 (Hangzhou time)",{"$f":"IF(ISERROR(TEXT((DATE($E$3,$E$2,$E$1+MID(B99,4,1))+TIME(MID(E99,1,2),MID(E99,4,2),0))+($C$2-$C$3),\"H:MM AM/PM\")&\" - \"&TEXT(DATE($E$3,$E$2,$E$1+MID(B99,4,1))+TIME(MID(E99,9,2),MID(E99,12,2),0)+($C$2-$C$3),\"H:MM AM/PM\")),E99,TEXT((DATE($E$3,$E$2,$E$1+MID(B99,4,1))+TIME(MID(E99,1,2),MID(E99,4,2),0))+($C$2-$C$3),\"H:MM AM/PM\")&\" - \"&TEXT(DATE($E$3,$E$2,$E$1+MID(B99,4,1))+TIME(MID(E99,9,2),MID(E99,12,2),0)+($C$2-$C$3),\"H:MM AM/PM\"))","v":"10:15 - 10:45 (Hangzhou time)"},"Break"]
[{"$f":"B100&C100","v":"Day3Time_Slot2"},"Day3","Time_Slot2",15,"10:45 - 11:45 (Hangzhou time)",{"$f":"IF(ISERROR(TEXT((DATE($E$3,$E$2,$E$1+MID(B100,4,1))+TIME(MID(E100,1,2),MID(E100,4,2),0))+($C$2-$C$3),\"H:MM AM/PM\")&\" - \"&TEXT(DATE($E$3,$E$2,$E$1+MID(B100,4,1))+TIME(MID(E100,9,2),MID(E100,12,2),0)+($C$2-$C$3),\"H:MM AM/PM\")),E100,TEXT(DATE($E$3,$E$2,$E$1+MID(B100,4,1))+TIME(MID(E100,1,2),MID(E100,4,2),0)+($C$2-$C$3),\"DDDD DD MMM\")&\" : \"&TEXT((DATE($E$3,$E$2,$E$1+MID(B100,4,1))+TIME(MID(E100,1,2),MID(E100,4,2),0))+($C$2-$C$3),\"H:MM AM/PM\")&\" - \"&TEXT(DATE($E$3,$E$2,$E$1+MID(B100,4,1))+TIME(MID(E100,9,2),MID(E100,12,2),0)+($C$2-$C$3),\"H:MM AM/PM\"))","v":"10:45 - 11:45 (Hangzhou time)"},"Event_ID",null,{"$f":"IF(VLOOKUP($B100&\"_\"&$C100&\"_\"&I$14,UNWDF2023_LookUp!$B:$R,$D100,FALSE)=0,\"\",VLOOKUP($B100&\"_\"&$C100&\"_\"&I$14,UNWDF2023_LookUp!$B:$R,$D100,FALSE))","v":"TA1.09"},{"$f":"IF(VLOOKUP($B100&\"_\"&$C100&\"_\"&J$14,UNWDF2023_LookUp!$B:$R,$D100,FALSE)=0,\"\",VLOOKUP($B100&\"_\"&$C100&\"_\"&J$14,UNWDF2023_LookUp!$B:$R,$D100,FALSE))","v":"TA4.07"},{"$f":"IF(VLOOKUP($B100&\"_\"&$C100&\"_\"&K$14,UNWDF2023_LookUp!$B:$R,$D100,FALSE)=0,\"\",VLOOKUP($B100&\"_\"&$C100&\"_\"&K$14,UNWDF2023_LookUp!$B:$R,$D100,FALSE))","v":"TA4.08"},{"$f":"IF(VLOOKUP($B100&\"_\"&$C100&\"_\"&L$14,UNWDF2023_LookUp!$B:$R,$D100,FALSE)=0,\"\",VLOOKUP($B100&\"_\"&$C100&\"_\"&L$14,UNWDF2023_LookUp!$B:$R,$D100,FALSE))","v":"TED.205"},{"$f":"IF(VLOOKUP($B100&\"_\"&$C100&\"_\"&M$14,UNWDF2023_LookUp!$B:$R,$D100,FALSE)=0,\"\",VLOOKUP($B100&\"_\"&$C100&\"_\"&M$14,UNWDF2023_LookUp!$B:$R,$D100,FALSE))","v":"TA2.22"},{"$f":"IF(VLOOKUP($B100&\"_\"&$C100&\"_\"&N$14,UNWDF2023_LookUp!$B:$R,$D100,FALSE)=0,\"\",VLOOKUP($B100&\"_\"&$C100&\"_\"&N$14,UNWDF2023_LookUp!$B:$R,$D100,FALSE))","v":"TA2.41"},{"$f":"IF(VLOOKUP($B100&\"_\"&$C100&\"_\"&O$14,UNWDF2023_LookUp!$B:$R,$D100,FALSE)=0,\"\",VLOOKUP($B100&\"_\"&$C100&\"_\"&O$14,UNWDF2023_LookUp!$B:$R,$D100,FALSE))","v":"TA1.08"},{"$f":"IF(VLOOKUP($B100&\"_\"&$C100&\"_\"&P$14,UNWDF2023_LookUp!$B:$R,$D100,FALSE)=0,\"\",VLOOKUP($B100&\"_\"&$C100&\"_\"&P$14,UNWDF2023_LookUp!$B:$R,$D100,FALSE))","v":"TED.204"},{"$f":"IF(VLOOKUP($B100&\"_\"&$C100&\"_\"&Q$14,UNWDF2023_LookUp!$B:$R,$D100,FALSE)=0,\"\",VLOOKUP($B100&\"_\"&$C100&\"_\"&Q$14,UNWDF2023_LookUp!$B:$R,$D100,FALSE))","v":"LEARN.315"},{"$f":"IF(VLOOKUP($B100&\"_\"&$C100&\"_\"&R$14,UNWDF2023_LookUp!$B:$R,$D100,FALSE)=0,\"\",VLOOKUP($B100&\"_\"&$C100&\"_\"&R$14,UNWDF2023_LookUp!$B:$R,$D100,FALSE))","v":"LEARN.312"},{"$f":"IF(VLOOKUP($B100&\"_\"&$C100&\"_\"&S$14,UNWDF2023_LookUp!$B:$R,$D100,FALSE)=0,\"\",VLOOKUP($B100&\"_\"&$C100&\"_\"&S$14,UNWDF2023_LookUp!$B:$R,$D100,FALSE))","v":"NA"}]
["Day3Time_Slot2","Day3","Time_Slot2",13,"",null,"Thematic Area",null,{"$f":"IF(VLOOKUP($B101&\"_\"&$C101&\"_\"&I$14,UNWDF2023_LookUp!$B:$R,$D101,FALSE)=0,\"\",VLOOKUP($B101&\"_\"&$C101&\"_\"&I$14,UNWDF2023_LookUp!$B:$R,$D101,FALSE))","v":1},{"$f":"IF(VLOOKUP($B101&\"_\"&$C101&\"_\"&J$14,UNWDF2023_LookUp!$B:$R,$D101,FALSE)=0,\"\",VLOOKUP($B101&\"_\"&$C101&\"_\"&J$14,UNWDF2023_LookUp!$B:$R,$D101,FALSE))","v":4},{"$f":"IF(VLOOKUP($B101&\"_\"&$C101&\"_\"&K$14,UNWDF2023_LookUp!$B:$R,$D101,FALSE)=0,\"\",VLOOKUP($B101&\"_\"&$C101&\"_\"&K$14,UNWDF2023_LookUp!$B:$R,$D101,FALSE))","v":4},{"$f":"IF(VLOOKUP($B101&\"_\"&$C101&\"_\"&L$14,UNWDF2023_LookUp!$B:$R,$D101,FALSE)=0,\"\",VLOOKUP($B101&\"_\"&$C101&\"_\"&L$14,UNWDF2023_LookUp!$B:$R,$D101,FALSE))","v":7},{"$f":"IF(VLOOKUP($B101&\"_\"&$C101&\"_\"&M$14,UNWDF2023_LookUp!$B:$R,$D101,FALSE)=0,\"\",VLOOKUP($B101&\"_\"&$C101&\"_\"&M$14,UNWDF2023_LookUp!$B:$R,$D101,FALSE))","v":2},{"$f":"IF(VLOOKUP($B101&\"_\"&$C101&\"_\"&N$14,UNWDF2023_LookUp!$B:$R,$D101,FALSE)=0,\"\",VLOOKUP($B101&\"_\"&$C101&\"_\"&N$14,UNWDF2023_LookUp!$B:$R,$D101,FALSE))","v":2},{"$f":"IF(VLOOKUP($B101&\"_\"&$C101&\"_\"&O$14,UNWDF2023_LookUp!$B:$R,$D101,FALSE)=0,\"\",VLOOKUP($B101&\"_\"&$C101&\"_\"&O$14,UNWDF2023_LookUp!$B:$R,$D101,FALSE))","v":1},{"$f":"IF(VLOOKUP($B101&\"_\"&$C101&\"_\"&P$14,UNWDF2023_LookUp!$B:$R,$D101,FALSE)=0,\"\",VLOOKUP($B101&\"_\"&$C101&\"_\"&P$14,UNWDF2023_LookUp!$B:$R,$D101,FALSE))","v":7},{"$f":"IF(VLOOKUP($B101&\"_\"&$C101&\"_\"&Q$14,UNWDF2023_LookUp!$B:$R,$D101,FALSE)=0,\"\",VLOOKUP($B101&\"_\"&$C101&\"_\"&Q$14,UNWDF2023_LookUp!$B:$R,$D101,FALSE))","v":"NA"},{"$f":"IF(VLOOKUP($B101&\"_\"&$C101&\"_\"&R$14,UNWDF2023_LookUp!$B:$R,$D101,FALSE)=0,\"\",VLOOKUP($B101&\"_\"&$C101&\"_\"&R$14,UNWDF2023_LookUp!$B:$R,$D101,FALSE))","v":"NA"},{"$f":"IF(VLOOKUP($B101&\"_\"&$C101&\"_\"&S$14,UNWDF2023_LookUp!$B:$R,$D101,FALSE)=0,\"\",VLOOKUP($B101&\"_\"&$C101&\"_\"&S$14,UNWDF2023_LookUp!$B:$R,$D101,FALSE))","v":"NA"}]
[{"$f":"B102&C102","v":"Day3Time_Slot2"},"Day3","Time_Slot2",16,"",null,"Event Title",null,{"$f":"IF(VLOOKUP($B102&\"_\"&$C102&\"_\"&I$14,UNWDF2023_LookUp!$B:$R,$D102,FALSE)=0,\"\",VLOOKUP($B102&\"_\"&$C102&\"_\"&I$14,UNWDF2023_LookUp!$B:$R,$D102,FALSE))","v":"New Human Rights Data Partnerships: Making the Invisible Visible in Official Statistics"},{"$f":"IF(VLOOKUP($B102&\"_\"&$C102&\"_\"&J$14,UNWDF2023_LookUp!$B:$R,$D102,FALSE)=0,\"\",VLOOKUP($B102&\"_\"&$C102&\"_\"&J$14,UNWDF2023_LookUp!$B:$R,$D102,FALSE))","v":"Data stewardship – comparing country developments"},{"$f":"IF(VLOOKUP($B102&\"_\"&$C102&\"_\"&K$14,UNWDF2023_LookUp!$B:$R,$D102,FALSE)=0,\"\",VLOOKUP($B102&\"_\"&$C102&\"_\"&K$14,UNWDF2023_LookUp!$B:$R,$D102,FALSE))","v":"SDG 16: Measuring progress and reporting challenges. Different approaches to the cooperation between the international and national level"},{"$f":"IF(VLOOKUP($B102&\"_\"&$C102&\"_\"&L$14,UNWDF2023_LookUp!$B:$R,$D102,FALSE)=0,\"\",VLOOKUP($B102&\"_\"&$C102&\"_\"&L$14,UNWDF2023_LookUp!$B:$R,$D102,FALSE))","v":"Automatically  high-precision and intelligent  extracttion of the area and number of greenhouses  based on satellite remote sensing images / Lectures Series on the Statistics Application of Big Data in China -- Satellite Remote Sensing / Why we need data solidarity: Strengthening collective oversight and control in the digital era (^^)"},{"$f":"IF(VLOOKUP($B102&\"_\"&$C102&\"_\"&M$14,UNWDF2023_LookUp!$B:$R,$D102,FALSE)=0,\"\",VLOOKUP($B102&\"_\"&$C102&\"_\"&M$14,UNWDF2023_LookUp!$B:$R,$D102,FALSE))","v":"Global Data Barometer: Measuring the state of data for public good and the achievement of the SDGs"},{"$f":"IF(VLOOKUP($B102&\"_\"&$C102&\"_\"&N$14,UNWDF2023_LookUp!$B:$R,$D102,FALSE)=0,\"\",VLOOKUP($B102&\"_\"&$C102&\"_\"&N$14,UNWDF2023_LookUp!$B:$R,$D102,FALSE))","v":"Beyond income, averages and today: redefining human development in the anthropocene era with people-centered metrics and hyperlocal data"},{"$f":"IF(VLOOKUP($B102&\"_\"&$C102&\"_\"&O$14,UNWDF2023_LookUp!$B:$R,$D102,FALSE)=0,\"\",VLOOKUP($B102&\"_\"&$C102&\"_\"&O$14,UNWDF2023_LookUp!$B:$R,$D102,FALSE))","v":"Boosting data availability on agricultural land ownership from a gender perspective: Balancing inclusion and quantity (^^)"},{"$f":"IF(VLOOKUP($B102&\"_\"&$C102&\"_\"&P$14,UNWDF2023_LookUp!$B:$R,$D102,FALSE)=0,\"\",VLOOKUP($B102&\"_\"&$C102&\"_\"&P$14,UNWDF2023_LookUp!$B:$R,$D102,FALSE))","v":"A Global Data Infrastructure for Evidence-based Policies and Decision Making on Demographic Issues: Implementing the Generations and Gender Programme in Europe, Asia and South America / Using assessment tools and data in supply chains to understand challenges of, and solutions for, bringing women’s voices into the compliance system and to drive gender-inclusive, data-driven sourcing decisions (^^) / Using AI and social media analysis to counter backlash against gender equality (^^)"},{"$f":"IF(VLOOKUP($B102&\"_\"&$C102&\"_\"&Q$14,UNWDF2023_LookUp!$B:$R,$D102,FALSE)=0,\"\",VLOOKUP($B102&\"_\"&$C102&\"_\"&Q$14,UNWDF2023_LookUp!$B:$R,$D102,FALSE))","v":"Trust: Blockchain for Statistics and Geospatial"},{"$f":"IF(VLOOKUP($B102&\"_\"&$C102&\"_\"&R$14,UNWDF2023_LookUp!$B:$R,$D102,FALSE)=0,\"\",VLOOKUP($B102&\"_\"&$C102&\"_\"&R$14,UNWDF2023_LookUp!$B:$R,$D102,FALSE))","v":"The Five “Ws” of citizen science or citizen generated data"},{"$f":"IF(VLOOKUP($B102&\"_\"&$C102&\"_\"&S$14,UNWDF2023_LookUp!$B:$R,$D102,FALSE)=0,\"\",VLOOKUP($B102&\"_\"&$C102&\"_\"&S$14,UNWDF2023_LookUp!$B:$R,$D102,FALSE))","v":"TBC"}]
["Day3Time_Slot2","Day3","Time_Slot2",17,"",null,"Organiser",null,{"$f":"IF(VLOOKUP($B103&\"_\"&$C103&\"_\"&I$14,UNWDF2023_LookUp!$B:$R,$D103,FALSE)=0,\"\",VLOOKUP($B103&\"_\"&$C103&\"_\"&I$14,UNWDF2023_LookUp!$B:$R,$D103,FALSE))","v":"Kenya National Bureau of Statistics (KNBS); Commission on Human Rights of the Philippines; United Nations Office for the High Commissioner for Human Rights (UNOHCHR)"},{"$f":"IF(VLOOKUP($B103&\"_\"&$C103&\"_\"&J$14,UNWDF2023_LookUp!$B:$R,$D103,FALSE)=0,\"\",VLOOKUP($B103&\"_\"&$C103&\"_\"&J$14,UNWDF2023_LookUp!$B:$R,$D103,FALSE))","v":"Statistics Denmark; United Nations Statistics Division (UNSD-DESA); Instituto Nacional de Estadística y Geografía (INEGI-México); Statistics Canada"},{"$f":"IF(VLOOKUP($B103&\"_\"&$C103&\"_\"&K$14,UNWDF2023_LookUp!$B:$R,$D103,FALSE)=0,\"\",VLOOKUP($B103&\"_\"&$C103&\"_\"&K$14,UNWDF2023_LookUp!$B:$R,$D103,FALSE))","v":"Italian National Institute of Statistics (Istat); United Nations Office on Drugs and Crime (UNODC); United Nations Development Programme (UNDP); UNODC-INEGI Centre of Excellence"},{"$f":"IF(VLOOKUP($B103&\"_\"&$C103&\"_\"&L$14,UNWDF2023_LookUp!$B:$R,$D103,FALSE)=0,\"\",VLOOKUP($B103&\"_\"&$C103&\"_\"&L$14,UNWDF2023_LookUp!$B:$R,$D103,FALSE))","v":"National Bureau of Statistics (NBS-China), Zhejiang; Beijing Normal University / National Bureau of Statistics (NBS-China) - Zhejiang; Guangxi; Henan / Governing Health Futures 2030; University of Vienna"},{"$f":"IF(VLOOKUP($B103&\"_\"&$C103&\"_\"&M$14,UNWDF2023_LookUp!$B:$R,$D103,FALSE)=0,\"\",VLOOKUP($B103&\"_\"&$C103&\"_\"&M$14,UNWDF2023_LookUp!$B:$R,$D103,FALSE))","v":"Open Government Partnership (OGP); Land Portal Foundation; Open Contracting Partnership; Open Data Watch (ODW)"},{"$f":"IF(VLOOKUP($B103&\"_\"&$C103&\"_\"&N$14,UNWDF2023_LookUp!$B:$R,$D103,FALSE)=0,\"\",VLOOKUP($B103&\"_\"&$C103&\"_\"&N$14,UNWDF2023_LookUp!$B:$R,$D103,FALSE))","v":"United Nations Development Programme (UNDP)"},{"$f":"IF(VLOOKUP($B103&\"_\"&$C103&\"_\"&O$14,UNWDF2023_LookUp!$B:$R,$D103,FALSE)=0,\"\",VLOOKUP($B103&\"_\"&$C103&\"_\"&O$14,UNWDF2023_LookUp!$B:$R,$D103,FALSE))","v":"Food and Agriculture Organization of the United Nations (FAO); United Nations Entity for Gender Equality and the Empowerment of Women (UN Women); Central Bureau of Statistics (CBS-Nepal); Philippine Statistics Authority (PSA); DHS Program"},{"$f":"IF(VLOOKUP($B103&\"_\"&$C103&\"_\"&P$14,UNWDF2023_LookUp!$B:$R,$D103,FALSE)=0,\"\",VLOOKUP($B103&\"_\"&$C103&\"_\"&P$14,UNWDF2023_LookUp!$B:$R,$D103,FALSE))","v":"United Nations Economic Commission for Europe (UNECE); United Nations Population Fund (UNFPA); The Center for Aging Science, Hong Kong University of Science and Technology; Programa de Población Facultad de Ciencias Sociales Universidad de la República; Statistics Norway; Government of the City of Buenos Aires / Sedex / United Nations Development Programme (UNDP)"},{"$f":"IF(VLOOKUP($B103&\"_\"&$C103&\"_\"&Q$14,UNWDF2023_LookUp!$B:$R,$D103,FALSE)=0,\"\",VLOOKUP($B103&\"_\"&$C103&\"_\"&Q$14,UNWDF2023_LookUp!$B:$R,$D103,FALSE))","v":"National Bureau of Statistics (NBS-China); Environmental Systems Research Institute (Esri)"},{"$f":"IF(VLOOKUP($B103&\"_\"&$C103&\"_\"&R$14,UNWDF2023_LookUp!$B:$R,$D103,FALSE)=0,\"\",VLOOKUP($B103&\"_\"&$C103&\"_\"&R$14,UNWDF2023_LookUp!$B:$R,$D103,FALSE))","v":"United Nations Institute for Training and Research (UNITAR); United Nations Statistics Division (UNSD-DESA); Spanish Council for Scientific Research (CSIC); Politecnico di Milano; Instituto Nacional de Estadística y Geografía (INEGI-México); Citizen Science Center Zurich"},{"$f":"IF(VLOOKUP($B103&\"_\"&$C103&\"_\"&S$14,UNWDF2023_LookUp!$B:$R,$D103,FALSE)=0,\"\",VLOOKUP($B103&\"_\"&$C103&\"_\"&S$14,UNWDF2023_LookUp!$B:$R,$D103,FALSE))","v":"TBC"}]
[null,"Day3",null,null,"11:45 - 13:15 (Hangzhou time)",{"$f":"IF(ISERROR(TEXT((DATE($E$3,$E$2,$E$1+MID(B104,4,1))+TIME(MID(E104,1,2),MID(E104,4,2),0))+($C$2-$C$3),\"H:MM AM/PM\")&\" - \"&TEXT(DATE($E$3,$E$2,$E$1+MID(B104,4,1))+TIME(MID(E104,9,2),MID(E104,12,2),0)+($C$2-$C$3),\"H:MM AM/PM\")),E104,TEXT((DATE($E$3,$E$2,$E$1+MID(B104,4,1))+TIME(MID(E104,1,2),MID(E104,4,2),0))+($C$2-$C$3),\"H:MM AM/PM\")&\" - \"&TEXT(DATE($E$3,$E$2,$E$1+MID(B104,4,1))+TIME(MID(E104,9,2),MID(E104,12,2),0)+($C$2-$C$3),\"H:MM AM/PM\"))","v":"11:45 - 13:15 (Hangzhou time)"},"Break"]
[{"$f":"B105&C105","v":"Day3Time_Slot3"},"Day3","Time_Slot3",15,"13:15 - 14:15 (Hangzhou time)",{"$f":"IF(ISERROR(TEXT((DATE($E$3,$E$2,$E$1+MID(B105,4,1))+TIME(MID(E105,1,2),MID(E105,4,2),0))+($C$2-$C$3),\"H:MM AM/PM\")&\" - \"&TEXT(DATE($E$3,$E$2,$E$1+MID(B105,4,1))+TIME(MID(E105,9,2),MID(E105,12,2),0)+($C$2-$C$3),\"H:MM AM/PM\")),E105,TEXT(DATE($E$3,$E$2,$E$1+MID(B105,4,1))+TIME(MID(E105,1,2),MID(E105,4,2),0)+($C$2-$C$3),\"DDDD DD MMM\")&\" : \"&TEXT((DATE($E$3,$E$2,$E$1+MID(B105,4,1))+TIME(MID(E105,1,2),MID(E105,4,2),0))+($C$2-$C$3),\"H:MM AM/PM\")&\" - \"&TEXT(DATE($E$3,$E$2,$E$1+MID(B105,4,1))+TIME(MID(E105,9,2),MID(E105,12,2),0)+($C$2-$C$3),\"H:MM AM/PM\"))","v":"13:15 - 14:15 (Hangzhou time)"},"Event_ID",null,{"$f":"IF(VLOOKUP($B105&\"_\"&$C105&\"_\"&I$14,UNWDF2023_LookUp!$B:$R,$D105,FALSE)=0,\"\",VLOOKUP($B105&\"_\"&$C105&\"_\"&I$14,UNWDF2023_LookUp!$B:$R,$D105,FALSE))","v":"TA2.21"},{"$f":"IF(VLOOKUP($B105&\"_\"&$C105&\"_\"&J$14,UNWDF2023_LookUp!$B:$R,$D105,FALSE)=0,\"\",VLOOKUP($B105&\"_\"&$C105&\"_\"&J$14,UNWDF2023_LookUp!$B:$R,$D105,FALSE))","v":"TA2.14"},{"$f":"IF(VLOOKUP($B105&\"_\"&$C105&\"_\"&K$14,UNWDF2023_LookUp!$B:$R,$D105,FALSE)=0,\"\",VLOOKUP($B105&\"_\"&$C105&\"_\"&K$14,UNWDF2023_LookUp!$B:$R,$D105,FALSE))","v":"TA3.04"},{"$f":"IF(VLOOKUP($B105&\"_\"&$C105&\"_\"&L$14,UNWDF2023_LookUp!$B:$R,$D105,FALSE)=0,\"\",VLOOKUP($B105&\"_\"&$C105&\"_\"&L$14,UNWDF2023_LookUp!$B:$R,$D105,FALSE))","v":"TA2.06"},{"$f":"IF(VLOOKUP($B105&\"_\"&$C105&\"_\"&M$14,UNWDF2023_LookUp!$B:$R,$D105,FALSE)=0,\"\",VLOOKUP($B105&\"_\"&$C105&\"_\"&M$14,UNWDF2023_LookUp!$B:$R,$D105,FALSE))","v":"TA2.07"},{"$f":"IF(VLOOKUP($B105&\"_\"&$C105&\"_\"&N$14,UNWDF2023_LookUp!$B:$R,$D105,FALSE)=0,\"\",VLOOKUP($B105&\"_\"&$C105&\"_\"&N$14,UNWDF2023_LookUp!$B:$R,$D105,FALSE))","v":"TED.206"},{"$f":"IF(VLOOKUP($B105&\"_\"&$C105&\"_\"&O$14,UNWDF2023_LookUp!$B:$R,$D105,FALSE)=0,\"\",VLOOKUP($B105&\"_\"&$C105&\"_\"&O$14,UNWDF2023_LookUp!$B:$R,$D105,FALSE))","v":"NA"},{"$f":"IF(VLOOKUP($B105&\"_\"&$C105&\"_\"&P$14,UNWDF2023_LookUp!$B:$R,$D105,FALSE)=0,\"\",VLOOKUP($B105&\"_\"&$C105&\"_\"&P$14,UNWDF2023_LookUp!$B:$R,$D105,FALSE))","v":"TA1.02"},{"$f":"IF(VLOOKUP($B105&\"_\"&$C105&\"_\"&Q$14,UNWDF2023_LookUp!$B:$R,$D105,FALSE)=0,\"\",VLOOKUP($B105&\"_\"&$C105&\"_\"&Q$14,UNWDF2023_LookUp!$B:$R,$D105,FALSE))","v":"NA"},{"$f":"IF(VLOOKUP($B105&\"_\"&$C105&\"_\"&R$14,UNWDF2023_LookUp!$B:$R,$D105,FALSE)=0,\"\",VLOOKUP($B105&\"_\"&$C105&\"_\"&R$14,UNWDF2023_LookUp!$B:$R,$D105,FALSE))","v":"LEARN.314"},{"$f":"IF(VLOOKUP($B105&\"_\"&$C105&\"_\"&S$14,UNWDF2023_LookUp!$B:$R,$D105,FALSE)=0,\"\",VLOOKUP($B105&\"_\"&$C105&\"_\"&S$14,UNWDF2023_LookUp!$B:$R,$D105,FALSE))","v":"NA"}]
["Day3Time_Slot3","Day3","Time_Slot3",13,null,null,"Thematic Area",null,{"$f":"IF(VLOOKUP($B106&\"_\"&$C106&\"_\"&I$14,UNWDF2023_LookUp!$B:$R,$D106,FALSE)=0,\"\",VLOOKUP($B106&\"_\"&$C106&\"_\"&I$14,UNWDF2023_LookUp!$B:$R,$D106,FALSE))","v":2},{"$f":"IF(VLOOKUP($B106&\"_\"&$C106&\"_\"&J$14,UNWDF2023_LookUp!$B:$R,$D106,FALSE)=0,\"\",VLOOKUP($B106&\"_\"&$C106&\"_\"&J$14,UNWDF2023_LookUp!$B:$R,$D106,FALSE))","v":2},{"$f":"IF(VLOOKUP($B106&\"_\"&$C106&\"_\"&K$14,UNWDF2023_LookUp!$B:$R,$D106,FALSE)=0,\"\",VLOOKUP($B106&\"_\"&$C106&\"_\"&K$14,UNWDF2023_LookUp!$B:$R,$D106,FALSE))","v":3},{"$f":"IF(VLOOKUP($B106&\"_\"&$C106&\"_\"&L$14,UNWDF2023_LookUp!$B:$R,$D106,FALSE)=0,\"\",VLOOKUP($B106&\"_\"&$C106&\"_\"&L$14,UNWDF2023_LookUp!$B:$R,$D106,FALSE))","v":2},{"$f":"IF(VLOOKUP($B106&\"_\"&$C106&\"_\"&M$14,UNWDF2023_LookUp!$B:$R,$D106,FALSE)=0,\"\",VLOOKUP($B106&\"_\"&$C106&\"_\"&M$14,UNWDF2023_LookUp!$B:$R,$D106,FALSE))","v":2},{"$f":"IF(VLOOKUP($B106&\"_\"&$C106&\"_\"&N$14,UNWDF2023_LookUp!$B:$R,$D106,FALSE)=0,\"\",VLOOKUP($B106&\"_\"&$C106&\"_\"&N$14,UNWDF2023_LookUp!$B:$R,$D106,FALSE))","v":7},{"$f":"IF(VLOOKUP($B106&\"_\"&$C106&\"_\"&O$14,UNWDF2023_LookUp!$B:$R,$D106,FALSE)=0,\"\",VLOOKUP($B106&\"_\"&$C106&\"_\"&O$14,UNWDF2023_LookUp!$B:$R,$D106,FALSE))","v":"NA"},{"$f":"IF(VLOOKUP($B106&\"_\"&$C106&\"_\"&P$14,UNWDF2023_LookUp!$B:$R,$D106,FALSE)=0,\"\",VLOOKUP($B106&\"_\"&$C106&\"_\"&P$14,UNWDF2023_LookUp!$B:$R,$D106,FALSE))","v":1},{"$f":"IF(VLOOKUP($B106&\"_\"&$C106&\"_\"&Q$14,UNWDF2023_LookUp!$B:$R,$D106,FALSE)=0,\"\",VLOOKUP($B106&\"_\"&$C106&\"_\"&Q$14,UNWDF2023_LookUp!$B:$R,$D106,FALSE))","v":"NA"},{"$f":"IF(VLOOKUP($B106&\"_\"&$C106&\"_\"&R$14,UNWDF2023_LookUp!$B:$R,$D106,FALSE)=0,\"\",VLOOKUP($B106&\"_\"&$C106&\"_\"&R$14,UNWDF2023_LookUp!$B:$R,$D106,FALSE))","v":"NA"},{"$f":"IF(VLOOKUP($B106&\"_\"&$C106&\"_\"&S$14,UNWDF2023_LookUp!$B:$R,$D106,FALSE)=0,\"\",VLOOKUP($B106&\"_\"&$C106&\"_\"&S$14,UNWDF2023_LookUp!$B:$R,$D106,FALSE))","v":"NA"}]
[{"$f":"B107&C107","v":"Day3Time_Slot3"},"Day3","Time_Slot3",16,null,null,"Event Title",null,{"$f":"IF(VLOOKUP($B107&\"_\"&$C107&\"_\"&I$14,UNWDF2023_LookUp!$B:$R,$D107,FALSE)=0,\"\",VLOOKUP($B107&\"_\"&$C107&\"_\"&I$14,UNWDF2023_LookUp!$B:$R,$D107,FALSE))","v":"Mainstreaming Data Science and Artificial Intelligence in Public Policy Innovation"},{"$f":"IF(VLOOKUP($B107&\"_\"&$C107&\"_\"&J$14,UNWDF2023_LookUp!$B:$R,$D107,FALSE)=0,\"\",VLOOKUP($B107&\"_\"&$C107&\"_\"&J$14,UNWDF2023_LookUp!$B:$R,$D107,FALSE))","v":"Possibilities are limitless: how modernized time-use statistics can inform a myriad of policies about people’s wellbeing, what they do and when they do it"},{"$f":"IF(VLOOKUP($B107&\"_\"&$C107&\"_\"&K$14,UNWDF2023_LookUp!$B:$R,$D107,FALSE)=0,\"\",VLOOKUP($B107&\"_\"&$C107&\"_\"&K$14,UNWDF2023_LookUp!$B:$R,$D107,FALSE))","v":"Is the SDG monitoring framework broken?"},{"$f":"IF(VLOOKUP($B107&\"_\"&$C107&\"_\"&L$14,UNWDF2023_LookUp!$B:$R,$D107,FALSE)=0,\"\",VLOOKUP($B107&\"_\"&$C107&\"_\"&L$14,UNWDF2023_LookUp!$B:$R,$D107,FALSE))","v":"A Seat at the Table: Engaging With Decision-Makers to Better Understand and Address Data Needs for Evidence-based Policymaking"},{"$f":"IF(VLOOKUP($B107&\"_\"&$C107&\"_\"&M$14,UNWDF2023_LookUp!$B:$R,$D107,FALSE)=0,\"\",VLOOKUP($B107&\"_\"&$C107&\"_\"&M$14,UNWDF2023_LookUp!$B:$R,$D107,FALSE))","v":"Rethinking data: listening to government's experiences"},{"$f":"IF(VLOOKUP($B107&\"_\"&$C107&\"_\"&N$14,UNWDF2023_LookUp!$B:$R,$D107,FALSE)=0,\"\",VLOOKUP($B107&\"_\"&$C107&\"_\"&N$14,UNWDF2023_LookUp!$B:$R,$D107,FALSE))","v":"For The Better Life,How to Provide Good  Environment Statistics for Policymaking / Inheritance and Innovation: The Way of Big Data application in China / Lectures Series on the Statistics Application of Big Data in China -- Application Research"},{"$f":"IF(VLOOKUP($B107&\"_\"&$C107&\"_\"&O$14,UNWDF2023_LookUp!$B:$R,$D107,FALSE)=0,\"\",VLOOKUP($B107&\"_\"&$C107&\"_\"&O$14,UNWDF2023_LookUp!$B:$R,$D107,FALSE))","v":"TBC"},{"$f":"IF(VLOOKUP($B107&\"_\"&$C107&\"_\"&P$14,UNWDF2023_LookUp!$B:$R,$D107,FALSE)=0,\"\",VLOOKUP($B107&\"_\"&$C107&\"_\"&P$14,UNWDF2023_LookUp!$B:$R,$D107,FALSE))","v":"Data Cooperatives: A Real-World Roadmap for Social Impact (^^)"},{"$f":"IF(VLOOKUP($B107&\"_\"&$C107&\"_\"&Q$14,UNWDF2023_LookUp!$B:$R,$D107,FALSE)=0,\"\",VLOOKUP($B107&\"_\"&$C107&\"_\"&Q$14,UNWDF2023_LookUp!$B:$R,$D107,FALSE))","v":"TBC"},{"$f":"IF(VLOOKUP($B107&\"_\"&$C107&\"_\"&R$14,UNWDF2023_LookUp!$B:$R,$D107,FALSE)=0,\"\",VLOOKUP($B107&\"_\"&$C107&\"_\"&R$14,UNWDF2023_LookUp!$B:$R,$D107,FALSE))","v":"My School Today: ​​Crowdsourcing geospatial data for mapping school locations"},{"$f":"IF(VLOOKUP($B107&\"_\"&$C107&\"_\"&S$14,UNWDF2023_LookUp!$B:$R,$D107,FALSE)=0,\"\",VLOOKUP($B107&\"_\"&$C107&\"_\"&S$14,UNWDF2023_LookUp!$B:$R,$D107,FALSE))","v":"TBC"}]
[{"$f":"B108&C108","v":"Day3Time_Slot3"},"Day3","Time_Slot3",17,"`",null,"Organiser",null,{"$f":"IF(VLOOKUP($B108&\"_\"&$C108&\"_\"&I$14,UNWDF2023_LookUp!$B:$R,$D108,FALSE)=0,\"\",VLOOKUP($B108&\"_\"&$C108&\"_\"&I$14,UNWDF2023_LookUp!$B:$R,$D108,FALSE))","v":"SDG Innovation Lab; Departamento Administrativo Nacional de Estadística (DANE-Colombia); United Nations Statistics Division (UNSD-DESA); Ministry of Education, Culture, and Sport; Statistical Committee of the Republic of Armenia; National Tourism Committee of Armenia; National Center for Career Orientation and Capacity Building, Ministry of Labour and Social Affairs"},{"$f":"IF(VLOOKUP($B108&\"_\"&$C108&\"_\"&J$14,UNWDF2023_LookUp!$B:$R,$D108,FALSE)=0,\"\",VLOOKUP($B108&\"_\"&$C108&\"_\"&J$14,UNWDF2023_LookUp!$B:$R,$D108,FALSE))","v":"United Nations Statistics Division (UNSD-DESA); Statistics Canada; Instituto Nacional de Estadística y Geografía (INEGI-México)"},{"$f":"IF(VLOOKUP($B108&\"_\"&$C108&\"_\"&K$14,UNWDF2023_LookUp!$B:$R,$D108,FALSE)=0,\"\",VLOOKUP($B108&\"_\"&$C108&\"_\"&K$14,UNWDF2023_LookUp!$B:$R,$D108,FALSE))","v":"Development Initiatives (DI)"},{"$f":"IF(VLOOKUP($B108&\"_\"&$C108&\"_\"&L$14,UNWDF2023_LookUp!$B:$R,$D108,FALSE)=0,\"\",VLOOKUP($B108&\"_\"&$C108&\"_\"&L$14,UNWDF2023_LookUp!$B:$R,$D108,FALSE))","v":"United Nations Statistics Division (UNSD-DESA); Global Partnership for Sustainable Development Data (GPSDD); Sustainable Development Solutions Network (SDSN); World Bank (WB)"},{"$f":"IF(VLOOKUP($B108&\"_\"&$C108&\"_\"&M$14,UNWDF2023_LookUp!$B:$R,$D108,FALSE)=0,\"\",VLOOKUP($B108&\"_\"&$C108&\"_\"&M$14,UNWDF2023_LookUp!$B:$R,$D108,FALSE))","v":"United Nations Development Programme (UNDP); Green Climate Fund; Government of Malawi; Government of Bangladesh - Ministry of Women and Children Affairs and the Bangladesh Bureau of Statistics; Government of Bhutan - Gross National Happiness Commission Secretariat"},{"$f":"IF(VLOOKUP($B108&\"_\"&$C108&\"_\"&N$14,UNWDF2023_LookUp!$B:$R,$D108,FALSE)=0,\"\",VLOOKUP($B108&\"_\"&$C108&\"_\"&N$14,UNWDF2023_LookUp!$B:$R,$D108,FALSE))","v":"National Bureau of Statistics (NBS-China) - Beijing Municipal; Guangdong Province; Shanghai Municipal / National Bureau of Statistics (NBS-China) - Beijing Municipal; Guangdong Province; Shanghai Municipal / National Bureau of Statistics (NBS-China) - Beijing Municipal; Guangdong Province; Shanghai Municipal"},{"$f":"IF(VLOOKUP($B108&\"_\"&$C108&\"_\"&O$14,UNWDF2023_LookUp!$B:$R,$D108,FALSE)=0,\"\",VLOOKUP($B108&\"_\"&$C108&\"_\"&O$14,UNWDF2023_LookUp!$B:$R,$D108,FALSE))","v":"TBC"},{"$f":"IF(VLOOKUP($B108&\"_\"&$C108&\"_\"&P$14,UNWDF2023_LookUp!$B:$R,$D108,FALSE)=0,\"\",VLOOKUP($B108&\"_\"&$C108&\"_\"&P$14,UNWDF2023_LookUp!$B:$R,$D108,FALSE))","v":"Data2X; Aapti Institute"},{"$f":"IF(VLOOKUP($B108&\"_\"&$C108&\"_\"&Q$14,UNWDF2023_LookUp!$B:$R,$D108,FALSE)=0,\"\",VLOOKUP($B108&\"_\"&$C108&\"_\"&Q$14,UNWDF2023_LookUp!$B:$R,$D108,FALSE))","v":"TBC"},{"$f":"IF(VLOOKUP($B108&\"_\"&$C108&\"_\"&R$14,UNWDF2023_LookUp!$B:$R,$D108,FALSE)=0,\"\",VLOOKUP($B108&\"_\"&$C108&\"_\"&R$14,UNWDF2023_LookUp!$B:$R,$D108,FALSE))","v":"Sustainable Development Solutions Network (SDSN); Humanitarian OpenStreetMap (HOTOSM)"},{"$f":"IF(VLOOKUP($B108&\"_\"&$C108&\"_\"&S$14,UNWDF2023_LookUp!$B:$R,$D108,FALSE)=0,\"\",VLOOKUP($B108&\"_\"&$C108&\"_\"&S$14,UNWDF2023_LookUp!$B:$R,$D108,FALSE))","v":"TBC"}]
[null,"Day3",null,null,"14:15 - 14:30 (Hangzhou time)",{"$f":"IF(ISERROR(TEXT((DATE($E$3,$E$2,$E$1+MID(B109,4,1))+TIME(MID(E109,1,2),MID(E109,4,2),0))+($C$2-$C$3),\"H:MM AM/PM\")&\" - \"&TEXT(DATE($E$3,$E$2,$E$1+MID(B109,4,1))+TIME(MID(E109,9,2),MID(E109,12,2),0)+($C$2-$C$3),\"H:MM AM/PM\")),E109,TEXT((DATE($E$3,$E$2,$E$1+MID(B109,4,1))+TIME(MID(E109,1,2),MID(E109,4,2),0))+($C$2-$C$3),\"H:MM AM/PM\")&\" - \"&TEXT(DATE($E$3,$E$2,$E$1+MID(B109,4,1))+TIME(MID(E109,9,2),MID(E109,12,2),0)+($C$2-$C$3),\"H:MM AM/PM\"))","v":"14:15 - 14:30 (Hangzhou time)"},"Break"]
[{"$f":"B110&C110","v":"Day3Time_Slot4"},"Day3","Time_Slot4",15,"14:30 - 15:30 (Hangzhou time)",{"$f":"IF(ISERROR(TEXT((DATE($E$3,$E$2,$E$1+MID(B110,4,1))+TIME(MID(E110,1,2),MID(E110,4,2),0))+($C$2-$C$3),\"H:MM AM/PM\")&\" - \"&TEXT(DATE($E$3,$E$2,$E$1+MID(B110,4,1))+TIME(MID(E110,9,2),MID(E110,12,2),0)+($C$2-$C$3),\"H:MM AM/PM\")),E110,TEXT(DATE($E$3,$E$2,$E$1+MID(B110,4,1))+TIME(MID(E110,1,2),MID(E110,4,2),0)+($C$2-$C$3),\"DDDD DD MMM\")&\" : \"&TEXT((DATE($E$3,$E$2,$E$1+MID(B110,4,1))+TIME(MID(E110,1,2),MID(E110,4,2),0))+($C$2-$C$3),\"H:MM AM/PM\")&\" - \"&TEXT(DATE($E$3,$E$2,$E$1+MID(B110,4,1))+TIME(MID(E110,9,2),MID(E110,12,2),0)+($C$2-$C$3),\"H:MM AM/PM\"))","v":"14:30 - 15:30 (Hangzhou time)"},"Event_ID",null,{"$f":"IF(VLOOKUP($B110&\"_\"&$C110&\"_\"&I$14,UNWDF2023_LookUp!$B:$R,$D110,FALSE)=0,\"\",VLOOKUP($B110&\"_\"&$C110&\"_\"&I$14,UNWDF2023_LookUp!$B:$R,$D110,FALSE))","v":"TA1.17"},{"$f":"IF(VLOOKUP($B110&\"_\"&$C110&\"_\"&J$14,UNWDF2023_LookUp!$B:$R,$D110,FALSE)=0,\"\",VLOOKUP($B110&\"_\"&$C110&\"_\"&J$14,UNWDF2023_LookUp!$B:$R,$D110,FALSE))","v":"TA1.18"},{"$f":"IF(VLOOKUP($B110&\"_\"&$C110&\"_\"&K$14,UNWDF2023_LookUp!$B:$R,$D110,FALSE)=0,\"\",VLOOKUP($B110&\"_\"&$C110&\"_\"&K$14,UNWDF2023_LookUp!$B:$R,$D110,FALSE))","v":"TA1.06"},{"$f":"IF(VLOOKUP($B110&\"_\"&$C110&\"_\"&L$14,UNWDF2023_LookUp!$B:$R,$D110,FALSE)=0,\"\",VLOOKUP($B110&\"_\"&$C110&\"_\"&L$14,UNWDF2023_LookUp!$B:$R,$D110,FALSE))","v":"TED.202"},{"$f":"IF(VLOOKUP($B110&\"_\"&$C110&\"_\"&M$14,UNWDF2023_LookUp!$B:$R,$D110,FALSE)=0,\"\",VLOOKUP($B110&\"_\"&$C110&\"_\"&M$14,UNWDF2023_LookUp!$B:$R,$D110,FALSE))","v":"ANCE.503"},{"$f":"IF(VLOOKUP($B110&\"_\"&$C110&\"_\"&N$14,UNWDF2023_LookUp!$B:$R,$D110,FALSE)=0,\"\",VLOOKUP($B110&\"_\"&$C110&\"_\"&N$14,UNWDF2023_LookUp!$B:$R,$D110,FALSE))","v":"TA1.07"},{"$f":"IF(VLOOKUP($B110&\"_\"&$C110&\"_\"&O$14,UNWDF2023_LookUp!$B:$R,$D110,FALSE)=0,\"\",VLOOKUP($B110&\"_\"&$C110&\"_\"&O$14,UNWDF2023_LookUp!$B:$R,$D110,FALSE))","v":"TA2.16"},{"$f":"IF(VLOOKUP($B110&\"_\"&$C110&\"_\"&P$14,UNWDF2023_LookUp!$B:$R,$D110,FALSE)=0,\"\",VLOOKUP($B110&\"_\"&$C110&\"_\"&P$14,UNWDF2023_LookUp!$B:$R,$D110,FALSE))","v":"TED.203"},{"$f":"IF(VLOOKUP($B110&\"_\"&$C110&\"_\"&Q$14,UNWDF2023_LookUp!$B:$R,$D110,FALSE)=0,\"\",VLOOKUP($B110&\"_\"&$C110&\"_\"&Q$14,UNWDF2023_LookUp!$B:$R,$D110,FALSE))","v":"LEARN.317"},{"$f":"IF(VLOOKUP($B110&\"_\"&$C110&\"_\"&R$14,UNWDF2023_LookUp!$B:$R,$D110,FALSE)=0,\"\",VLOOKUP($B110&\"_\"&$C110&\"_\"&R$14,UNWDF2023_LookUp!$B:$R,$D110,FALSE))","v":"NA"},{"$f":"IF(VLOOKUP($B110&\"_\"&$C110&\"_\"&S$14,UNWDF2023_LookUp!$B:$R,$D110,FALSE)=0,\"\",VLOOKUP($B110&\"_\"&$C110&\"_\"&S$14,UNWDF2023_LookUp!$B:$R,$D110,FALSE))","v":"NA"}]
["Day3Time_Slot4","Day3","Time_Slot4",13,"",null,"Thematic Area",null,{"$f":"IF(VLOOKUP($B111&\"_\"&$C111&\"_\"&I$14,UNWDF2023_LookUp!$B:$R,$D111,FALSE)=0,\"\",VLOOKUP($B111&\"_\"&$C111&\"_\"&I$14,UNWDF2023_LookUp!$B:$R,$D111,FALSE))","v":1},{"$f":"IF(VLOOKUP($B111&\"_\"&$C111&\"_\"&J$14,UNWDF2023_LookUp!$B:$R,$D111,FALSE)=0,\"\",VLOOKUP($B111&\"_\"&$C111&\"_\"&J$14,UNWDF2023_LookUp!$B:$R,$D111,FALSE))","v":1},{"$f":"IF(VLOOKUP($B111&\"_\"&$C111&\"_\"&K$14,UNWDF2023_LookUp!$B:$R,$D111,FALSE)=0,\"\",VLOOKUP($B111&\"_\"&$C111&\"_\"&K$14,UNWDF2023_LookUp!$B:$R,$D111,FALSE))","v":1},{"$f":"IF(VLOOKUP($B111&\"_\"&$C111&\"_\"&L$14,UNWDF2023_LookUp!$B:$R,$D111,FALSE)=0,\"\",VLOOKUP($B111&\"_\"&$C111&\"_\"&L$14,UNWDF2023_LookUp!$B:$R,$D111,FALSE))","v":7},{"$f":"IF(VLOOKUP($B111&\"_\"&$C111&\"_\"&M$14,UNWDF2023_LookUp!$B:$R,$D111,FALSE)=0,\"\",VLOOKUP($B111&\"_\"&$C111&\"_\"&M$14,UNWDF2023_LookUp!$B:$R,$D111,FALSE))","v":"NA"},{"$f":"IF(VLOOKUP($B111&\"_\"&$C111&\"_\"&N$14,UNWDF2023_LookUp!$B:$R,$D111,FALSE)=0,\"\",VLOOKUP($B111&\"_\"&$C111&\"_\"&N$14,UNWDF2023_LookUp!$B:$R,$D111,FALSE))","v":1},{"$f":"IF(VLOOKUP($B111&\"_\"&$C111&\"_\"&O$14,UNWDF2023_LookUp!$B:$R,$D111,FALSE)=0,\"\",VLOOKUP($B111&\"_\"&$C111&\"_\"&O$14,UNWDF2023_LookUp!$B:$R,$D111,FALSE))","v":2},{"$f":"IF(VLOOKUP($B111&\"_\"&$C111&\"_\"&P$14,UNWDF2023_LookUp!$B:$R,$D111,FALSE)=0,\"\",VLOOKUP($B111&\"_\"&$C111&\"_\"&P$14,UNWDF2023_LookUp!$B:$R,$D111,FALSE))","v":7},{"$f":"IF(VLOOKUP($B111&\"_\"&$C111&\"_\"&Q$14,UNWDF2023_LookUp!$B:$R,$D111,FALSE)=0,\"\",VLOOKUP($B111&\"_\"&$C111&\"_\"&Q$14,UNWDF2023_LookUp!$B:$R,$D111,FALSE))","v":"NA"},{"$f":"IF(VLOOKUP($B111&\"_\"&$C111&\"_\"&R$14,UNWDF2023_LookUp!$B:$R,$D111,FALSE)=0,\"\",VLOOKUP($B111&\"_\"&$C111&\"_\"&R$14,UNWDF2023_LookUp!$B:$R,$D111,FALSE))","v":"NA"},{"$f":"IF(VLOOKUP($B111&\"_\"&$C111&\"_\"&S$14,UNWDF2023_LookUp!$B:$R,$D111,FALSE)=0,\"\",VLOOKUP($B111&\"_\"&$C111&\"_\"&S$14,UNWDF2023_LookUp!$B:$R,$D111,FALSE))","v":"NA"}]
[{"$f":"B112&C112","v":"Day3Time_Slot4"},"Day3","Time_Slot4",16,"",null,"Event Title",null,{"$f":"IF(VLOOKUP($B112&\"_\"&$C112&\"_\"&I$14,UNWDF2023_LookUp!$B:$R,$D112,FALSE)=0,\"\",VLOOKUP($B112&\"_\"&$C112&\"_\"&I$14,UNWDF2023_LookUp!$B:$R,$D112,FALSE))","v":"How can we build trust in citizen science data to inform  policy decisions and action?"},{"$f":"IF(VLOOKUP($B112&\"_\"&$C112&\"_\"&J$14,UNWDF2023_LookUp!$B:$R,$D112,FALSE)=0,\"\",VLOOKUP($B112&\"_\"&$C112&\"_\"&J$14,UNWDF2023_LookUp!$B:$R,$D112,FALSE))","v":"Leaving no-one behind in official statistics: Inclusion of forcibly displaced in national surveys"},{"$f":"IF(VLOOKUP($B112&\"_\"&$C112&\"_\"&K$14,UNWDF2023_LookUp!$B:$R,$D112,FALSE)=0,\"\",VLOOKUP($B112&\"_\"&$C112&\"_\"&K$14,UNWDF2023_LookUp!$B:$R,$D112,FALSE))","v":"Surveys and censuses in building a stronger statistical foundation to understand the true death toll of the pandemic"},{"$f":"IF(VLOOKUP($B112&\"_\"&$C112&\"_\"&L$14,UNWDF2023_LookUp!$B:$R,$D112,FALSE)=0,\"\",VLOOKUP($B112&\"_\"&$C112&\"_\"&L$14,UNWDF2023_LookUp!$B:$R,$D112,FALSE))","v":"IFC’s Machine Learning ESG Analyst: Harnessing Artificial Intelligence to deliver critical environmental, social and governance data for emerging markets / Monitoring new and old basic services: a Twitter approach / Enhancing the Global Data Ecosystem Through Machine Learning for Official Statistics (^^) "},{"$f":"IF(VLOOKUP($B112&\"_\"&$C112&\"_\"&M$14,UNWDF2023_LookUp!$B:$R,$D112,FALSE)=0,\"\",VLOOKUP($B112&\"_\"&$C112&\"_\"&M$14,UNWDF2023_LookUp!$B:$R,$D112,FALSE))","v":"Creative Data Communities brainstorm"},{"$f":"IF(VLOOKUP($B112&\"_\"&$C112&\"_\"&N$14,UNWDF2023_LookUp!$B:$R,$D112,FALSE)=0,\"\",VLOOKUP($B112&\"_\"&$C112&\"_\"&N$14,UNWDF2023_LookUp!$B:$R,$D112,FALSE))","v":"Integrating population, displacement and geospatial data in humanitarian emergencies: Challenges, opportunities and lessons (^^)"},{"$f":"IF(VLOOKUP($B112&\"_\"&$C112&\"_\"&O$14,UNWDF2023_LookUp!$B:$R,$D112,FALSE)=0,\"\",VLOOKUP($B112&\"_\"&$C112&\"_\"&O$14,UNWDF2023_LookUp!$B:$R,$D112,FALSE))","v":"Improving decision-making by integrating multidimensional data (^^)"},{"$f":"IF(VLOOKUP($B112&\"_\"&$C112&\"_\"&P$14,UNWDF2023_LookUp!$B:$R,$D112,FALSE)=0,\"\",VLOOKUP($B112&\"_\"&$C112&\"_\"&P$14,UNWDF2023_LookUp!$B:$R,$D112,FALSE))","v":"Nowcasting and forecasting of the forcibly displaced: data science's role in improving UNHCR's population statistics (^^) / Strengthening global statistical Systems though the UN Global Platform and Regional Hubs (^^) / D4WN: Partnership Case Study Leveraging the Power of Data to Improve Informal Workers’ Livelihoods in Mozambique (^^)"},{"$f":"IF(VLOOKUP($B112&\"_\"&$C112&\"_\"&Q$14,UNWDF2023_LookUp!$B:$R,$D112,FALSE)=0,\"\",VLOOKUP($B112&\"_\"&$C112&\"_\"&Q$14,UNWDF2023_LookUp!$B:$R,$D112,FALSE))","v":"Geospatial and digital data or SDG3 – achieving universal health coverage"},{"$f":"IF(VLOOKUP($B112&\"_\"&$C112&\"_\"&R$14,UNWDF2023_LookUp!$B:$R,$D112,FALSE)=0,\"\",VLOOKUP($B112&\"_\"&$C112&\"_\"&R$14,UNWDF2023_LookUp!$B:$R,$D112,FALSE))","v":"TBC"},{"$f":"IF(VLOOKUP($B112&\"_\"&$C112&\"_\"&S$14,UNWDF2023_LookUp!$B:$R,$D112,FALSE)=0,\"\",VLOOKUP($B112&\"_\"&$C112&\"_\"&S$14,UNWDF2023_LookUp!$B:$R,$D112,FALSE))","v":"TBC"}]
["Day3Time_Slot4","Day3","Time_Slot4",17,"",null,"Organiser",null,{"$f":"IF(VLOOKUP($B113&\"_\"&$C113&\"_\"&I$14,UNWDF2023_LookUp!$B:$R,$D113,FALSE)=0,\"\",VLOOKUP($B113&\"_\"&$C113&\"_\"&I$14,UNWDF2023_LookUp!$B:$R,$D113,FALSE))","v":"International Institute for Applied Systems Analysis (IIASA); United Nations Development Programme (UNDP), Oslo Governance Center (OGC); United Nations University (UNU); Fundación GeoCensos"},{"$f":"IF(VLOOKUP($B113&\"_\"&$C113&\"_\"&J$14,UNWDF2023_LookUp!$B:$R,$D113,FALSE)=0,\"\",VLOOKUP($B113&\"_\"&$C113&\"_\"&J$14,UNWDF2023_LookUp!$B:$R,$D113,FALSE))","v":"World Bank - UNHCR Joint Data Center on Forced Displacement; Expert Group on Refugee, IDP and Statelessness Statistics (EGRISS); United Nations High Commissioner for Refugees (UNHCR)"},{"$f":"IF(VLOOKUP($B113&\"_\"&$C113&\"_\"&K$14,UNWDF2023_LookUp!$B:$R,$D113,FALSE)=0,\"\",VLOOKUP($B113&\"_\"&$C113&\"_\"&K$14,UNWDF2023_LookUp!$B:$R,$D113,FALSE))","v":"United Nations Statistics Division (UNSD-DESA); New York University (NYU); Central Statistics Office (CSO-Ireland); World Health Organization (WHO); United Nations Population Division (UNPD-DESA)"},{"$f":"IF(VLOOKUP($B113&\"_\"&$C113&\"_\"&L$14,UNWDF2023_LookUp!$B:$R,$D113,FALSE)=0,\"\",VLOOKUP($B113&\"_\"&$C113&\"_\"&L$14,UNWDF2023_LookUp!$B:$R,$D113,FALSE))","v":"International Finance Corporation (IFC) / United Nations Development Programme (UNDP) / Office for National Statistics (ONS-UK)"},{"$f":"IF(VLOOKUP($B113&\"_\"&$C113&\"_\"&M$14,UNWDF2023_LookUp!$B:$R,$D113,FALSE)=0,\"\",VLOOKUP($B113&\"_\"&$C113&\"_\"&M$14,UNWDF2023_LookUp!$B:$R,$D113,FALSE))","v":"Global Partnership for Sustainable Development Data (GPSDD)"},{"$f":"IF(VLOOKUP($B113&\"_\"&$C113&\"_\"&N$14,UNWDF2023_LookUp!$B:$R,$D113,FALSE)=0,\"\",VLOOKUP($B113&\"_\"&$C113&\"_\"&N$14,UNWDF2023_LookUp!$B:$R,$D113,FALSE))","v":"Worldpop, University of Southampton; United Nations Office for the Coordination of Humanitarian Affairs (UNOCHA); United Nations High Commissioner for Refugees (UNHCR); United Nations Population Fund (UNFPA)"},{"$f":"IF(VLOOKUP($B113&\"_\"&$C113&\"_\"&O$14,UNWDF2023_LookUp!$B:$R,$D113,FALSE)=0,\"\",VLOOKUP($B113&\"_\"&$C113&\"_\"&O$14,UNWDF2023_LookUp!$B:$R,$D113,FALSE))","v":"United Nations Development Programme (UNDP); World Health Organization (WHO); Blavatnik School of Government University of Oxford"},{"$f":"IF(VLOOKUP($B113&\"_\"&$C113&\"_\"&P$14,UNWDF2023_LookUp!$B:$R,$D113,FALSE)=0,\"\",VLOOKUP($B113&\"_\"&$C113&\"_\"&P$14,UNWDF2023_LookUp!$B:$R,$D113,FALSE))","v":"United Nations High Commissioner for Refugees (UNHCR) / Office for National Statistics (ONS-UK) / Fundación Capital; Data Elevates; UX IT"},{"$f":"IF(VLOOKUP($B113&\"_\"&$C113&\"_\"&Q$14,UNWDF2023_LookUp!$B:$R,$D113,FALSE)=0,\"\",VLOOKUP($B113&\"_\"&$C113&\"_\"&Q$14,UNWDF2023_LookUp!$B:$R,$D113,FALSE))","v":"United Nations Population Fund (UNFPA); World Health Organization (WHO); National Statistical Office (NSO-Malawi)"},{"$f":"IF(VLOOKUP($B113&\"_\"&$C113&\"_\"&R$14,UNWDF2023_LookUp!$B:$R,$D113,FALSE)=0,\"\",VLOOKUP($B113&\"_\"&$C113&\"_\"&R$14,UNWDF2023_LookUp!$B:$R,$D113,FALSE))","v":"TBC"},{"$f":"IF(VLOOKUP($B113&\"_\"&$C113&\"_\"&S$14,UNWDF2023_LookUp!$B:$R,$D113,FALSE)=0,\"\",VLOOKUP($B113&\"_\"&$C113&\"_\"&S$14,UNWDF2023_LookUp!$B:$R,$D113,FALSE))","v":"TBC"}]
[null,"Day3",null,null,"15:30 - 15:45 (Hangzhou time)",{"$f":"IF(ISERROR(TEXT((DATE($E$3,$E$2,$E$1+MID(B114,4,1))+TIME(MID(E114,1,2),MID(E114,4,2),0))+($C$2-$C$3),\"H:MM AM/PM\")&\" - \"&TEXT(DATE($E$3,$E$2,$E$1+MID(B114,4,1))+TIME(MID(E114,9,2),MID(E114,12,2),0)+($C$2-$C$3),\"H:MM AM/PM\")),E114,TEXT((DATE($E$3,$E$2,$E$1+MID(B114,4,1))+TIME(MID(E114,1,2),MID(E114,4,2),0))+($C$2-$C$3),\"H:MM AM/PM\")&\" - \"&TEXT(DATE($E$3,$E$2,$E$1+MID(B114,4,1))+TIME(MID(E114,9,2),MID(E114,12,2),0)+($C$2-$C$3),\"H:MM AM/PM\"))","v":"15:30 - 15:45 (Hangzhou time)"},"Break"]
[{"$f":"B115&C115","v":"Day3Time_Slot5"},"Day3","Time_Slot5",15,"15:45 - 17:00 (Hangzhou time)",{"$f":"IF(ISERROR(TEXT((DATE($E$3,$E$2,$E$1+MID(B115,4,1))+TIME(MID(E115,1,2),MID(E115,4,2),0))+($C$2-$C$3),\"H:MM AM/PM\")&\" - \"&TEXT(DATE($E$3,$E$2,$E$1+MID(B115,4,1))+TIME(MID(E115,9,2),MID(E115,12,2),0)+($C$2-$C$3),\"H:MM AM/PM\")),E115,TEXT(DATE($E$3,$E$2,$E$1+MID(B115,4,1))+TIME(MID(E115,1,2),MID(E115,4,2),0)+($C$2-$C$3),\"DDDD DD MMM\")&\" : \"&TEXT((DATE($E$3,$E$2,$E$1+MID(B115,4,1))+TIME(MID(E115,1,2),MID(E115,4,2),0))+($C$2-$C$3),\"H:MM AM/PM\")&\" - \"&TEXT(DATE($E$3,$E$2,$E$1+MID(B115,4,1))+TIME(MID(E115,9,2),MID(E115,12,2),0)+($C$2-$C$3),\"H:MM AM/PM\"))","v":"15:45 - 17:00 (Hangzhou time)"},"Event_ID",{"$f":"IF(VLOOKUP($B115&\"_\"&$C115&\"_\"&H$14,UNWDF2023_LookUp!$B:$R,$D115,FALSE)=0,\"\",VLOOKUP($B115&\"_\"&$C115&\"_\"&H$14,UNWDF2023_LookUp!$B:$R,$D115,FALSE))","v":"TA4.01"}]
["Day3Time_Slot5","Day3","Time_Slot5",13,"",null,"Thematic Area",{"$f":"IF(VLOOKUP($B116&\"_\"&$C116&\"_\"&H$14,UNWDF2023_LookUp!$B:$R,$D116,FALSE)=0,\"\",VLOOKUP($B116&\"_\"&$C116&\"_\"&H$14,UNWDF2023_LookUp!$B:$R,$D116,FALSE))","v":4}]
[{"$f":"B117&C117","v":"Day3Time_Slot5"},"Day3","Time_Slot5",16,"",null,"Event Title",{"$f":"IF(VLOOKUP($B117&\"_\"&$C117&\"_\"&H$14,UNWDF2023_LookUp!$B:$R,$D117,FALSE)=0,\"\",VLOOKUP($B117&\"_\"&$C117&\"_\"&H$14,UNWDF2023_LookUp!$B:$R,$D117,FALSE))","v":"Emerging trends and partnerships to develop the data ecosystem"}]
["Day3Time_Slot5","Day3","Time_Slot5",17,"",null,"Organiser",{"$f":"IF(VLOOKUP($B118&\"_\"&$C118&\"_\"&H$14,UNWDF2023_LookUp!$B:$R,$D118,FALSE)=0,\"\",VLOOKUP($B118&\"_\"&$C118&\"_\"&H$14,UNWDF2023_LookUp!$B:$R,$D118,FALSE))","v":"UN World Data Forum Programme Committee (UNWDF PC)"}]
[null,"Day3",null,null,"17:00 - 17:15 (Hangzhou time)",{"$f":"IF(ISERROR(TEXT((DATE($E$3,$E$2,$E$1+MID(B119,4,1))+TIME(MID(E119,1,2),MID(E119,4,2),0))+($C$2-$C$3),\"H:MM AM/PM\")&\" - \"&TEXT(DATE($E$3,$E$2,$E$1+MID(B119,4,1))+TIME(MID(E119,9,2),MID(E119,12,2),0)+($C$2-$C$3),\"H:MM AM/PM\")),E119,TEXT((DATE($E$3,$E$2,$E$1+MID(B119,4,1))+TIME(MID(E119,1,2),MID(E119,4,2),0))+($C$2-$C$3),\"H:MM AM/PM\")&\" - \"&TEXT(DATE($E$3,$E$2,$E$1+MID(B119,4,1))+TIME(MID(E119,9,2),MID(E119,12,2),0)+($C$2-$C$3),\"H:MM AM/PM\"))","v":"17:00 - 17:15 (Hangzhou time)"},"Break"]
[{"$f":"B120&C120","v":"Day3Time_Slot6"},"Day3","Time_Slot6",16,"17:15 - 18:00 (Hangzhou time)",{"$f":"IF(ISERROR(TEXT((DATE($E$3,$E$2,$E$1+MID(B120,4,1))+TIME(MID(E120,1,2),MID(E120,4,2),0))+($C$2-$C$3),\"H:MM AM/PM\")&\" - \"&TEXT(DATE($E$3,$E$2,$E$1+MID(B120,4,1))+TIME(MID(E120,9,2),MID(E120,12,2),0)+($C$2-$C$3),\"H:MM AM/PM\")),E120,TEXT(DATE($E$3,$E$2,$E$1+MID(B120,4,1))+TIME(MID(E120,1,2),MID(E120,4,2),0)+($C$2-$C$3),\"DDDD DD MMM\")&\" : \"&TEXT((DATE($E$3,$E$2,$E$1+MID(B120,4,1))+TIME(MID(E120,1,2),MID(E120,4,2),0))+($C$2-$C$3),\"H:MM AM/PM\")&\" - \"&TEXT(DATE($E$3,$E$2,$E$1+MID(B120,4,1))+TIME(MID(E120,9,2),MID(E120,12,2),0)+($C$2-$C$3),\"H:MM AM/PM\"))","v":"17:15 - 18:00 (Hangzhou time)"},"Event Title",{"$f":"IF(VLOOKUP($B120&\"_\"&$C120&\"_\"&H$14,UNWDF2023_LookUp!$B:$R,$D120,FALSE)=0,\"\",VLOOKUP($B120&\"_\"&$C120&\"_\"&H$14,UNWDF2023_LookUp!$B:$R,$D120,FALSE))","v":"Closing ceremony"}]
[{"$f":"B121&C121","v":"Day3Time_Slot6"},"Day3","Time_Slot6",17,"",null,"Organiser",{"$f":"IF(VLOOKUP($B121&\"_\"&$C121&\"_\"&H$14,UNWDF2023_LookUp!$B:$R,$D121,FALSE)=0,\"\",VLOOKUP($B121&\"_\"&$C121&\"_\"&H$14,UNWDF2023_LookUp!$B:$R,$D121,FALSE))","v":"National Bureau of Statistics (NBS-China); United Nations Statistics Division (UNSD-DESA)"}]
[null,"Day3",null,null,"17:15 - 17:45 (Hangzhou time)",{"$f":"IF(ISERROR(TEXT((DATE($E$3,$E$2,$E$1+MID(B122,4,1))+TIME(MID(E122,1,2),MID(E122,4,2),0))+($C$2-$C$3),\"H:MM AM/PM\")&\" - \"&TEXT(DATE($E$3,$E$2,$E$1+MID(B122,4,1))+TIME(MID(E122,9,2),MID(E122,12,2),0)+($C$2-$C$3),\"H:MM AM/PM\")),E122,TEXT((DATE($E$3,$E$2,$E$1+MID(B122,4,1))+TIME(MID(E122,1,2),MID(E122,4,2),0))+($C$2-$C$3),\"H:MM AM/PM\")&\" - \"&TEXT(DATE($E$3,$E$2,$E$1+MID(B122,4,1))+TIME(MID(E122,9,2),MID(E122,12,2),0)+($C$2-$C$3),\"H:MM AM/PM\"))","v":"17:15 - 17:45 (Hangzhou time)"},"Break"]
["Day3Time_Slot7","Day3","Time_Slot7",16,"17:45 - 19:15 (Hangzhou time)",{"$f":"IF(ISERROR(TEXT((DATE($E$3,$E$2,$E$1+MID(B123,4,1))+TIME(MID(E123,1,2),MID(E123,4,2),0))+($C$2-$C$3),\"H:MM AM/PM\")&\" - \"&TEXT(DATE($E$3,$E$2,$E$1+MID(B123,4,1))+TIME(MID(E123,9,2),MID(E123,12,2),0)+($C$2-$C$3),\"H:MM AM/PM\")),E123,TEXT(DATE($E$3,$E$2,$E$1+MID(B123,4,1))+TIME(MID(E123,1,2),MID(E123,4,2),0)+($C$2-$C$3),\"DDDD DD MMM\")&\" : \"&TEXT((DATE($E$3,$E$2,$E$1+MID(B123,4,1))+TIME(MID(E123,1,2),MID(E123,4,2),0))+($C$2-$C$3),\"H:MM AM/PM\")&\" - \"&TEXT(DATE($E$3,$E$2,$E$1+MID(B123,4,1))+TIME(MID(E123,9,2),MID(E123,12,2),0)+($C$2-$C$3),\"H:MM AM/PM\"))","v":"17:45 - 19:15 (Hangzhou time)"},"Event Title",{"$f":"IF(VLOOKUP($B123&\"_\"&$C123&\"_\"&H$14,UNWDF2023_LookUp!$B:$R,$D123,FALSE)=0,\"\",VLOOKUP($B123&\"_\"&$C123&\"_\"&H$14,UNWDF2023_LookUp!$B:$R,$D123,FALSE))","v":"NA"}]
[{"$f":"B124&C124","v":"Day3Time_Slot7"},"Day3","Time_Slot7",17,"",null,"Organiser",{"$f":"IF(VLOOKUP($B124&\"_\"&$C124&\"_\"&H$14,UNWDF2023_LookUp!$B:$R,$D124,FALSE)=0,\"\",VLOOKUP($B124&\"_\"&$C124&\"_\"&H$14,UNWDF2023_LookUp!$B:$R,$D124,FALSE))","v":"NA"}]
[]
[null,null,null,null,null,null,null,null,null,null," TA 1. Innovation and partnerships for better and more inclusive data: data integration and leveraging of various data sources and methodologies to ensure visibility and voice for everyone",null,null,null," TA 3. Building trust and ethics in data: developing the principles of stewardship within the data ecosystem to balance the full value from data use with the protection of privacy and data rights"]
[]
[null,null,null,null,null,null,null,null,null,null," TA 2. Maximizing the use and value of data for better decision making: adding value to data through better analysis and communication to ensure full use of data for bettering lives through the agency, respect, and inclusion of everyone",null,null,null," TA 4. Emerging trends and partnerships to develop the data ecosystem: supporting global, regional, national and sub-national data ecosystems in the implementation of the Cape Town Global Action Plan including sustainable finance for data and statistics programmes at all levels of organization"]
[]
[null,null,null,null,null,"(^) The high-level plenaries and parallel sessions will be available to a virtual audience with (^^) after the title to denote a completely virtual session while the other event types, such as learning labs (LEARN) and demonstrations (DEMOS), will be in-person at the venue only."]

{"sheet":"UNWDF2023_LookUp","index":1,"n_rows":245,"n_cols":33,"rows_kept":245,"cut":false,"hidden":true,"merged":[]}
["ID","LookUp","Day/Time","Day","Time_Slot","Location","Date","Time","Duration","Room_Name","Room_Capacity","UNWDF2023_Plenary","UNWDF2023_ProposalID","UNWDF2023_TA","UNWDF2023_Session","UNWDF2023_ProgrammeID","UNWDF2023_SessionTitle","UNWDF2023_SessionOrg","LookUp","Comment"]
[1,{"$f":"C2&\"_\"&F2","v":"Day0_Time_Slot1_Parallel 01"},{"$f":"$D$1&D2&\"_\"&$E$1&E2","v":"Day0_Time_Slot1"},0,1,"Parallel 01",{"$f":"VLOOKUP($D$1&D2,UNWDF_Hangzhou_2023!A:F,5,FALSE)","v":"2023-04-24"},{"$f":"MID(VLOOKUP($D$1&D2&$E$1&E2,UNWDF_Hangzhou_2023!A:F,5,FALSE),1,SEARCH(\"(\",VLOOKUP($D$1&D2&$E$1&E2,UNWDF_Hangzhou_2023!A:F,5,FALSE))-2)","v":"10:00 - 11:00"},{"$f":"TEXT(MID(H2,SEARCH(\"-\",H2)+2,LEN(H2)-SEARCH(\"-\",H2)-1)-MID(H2,1,SEARCH(\"-\",H2)-1),\"h:mm\")","v":"1:00"},{"$f":"HLOOKUP($F2,UNWDF_Hangzhou_2023!$H$14:$S$16,2,FALSE)","v":"Room 01"},{"$f":"HLOOKUP($F2,UNWDF_Hangzhou_2023!$H$14:$S$16,3,FALSE)","v":2000},"Y","NA","_P",{"$f":"IF(OR(L2=\"NA\",L2=\"E\"),\"NA\",IF(L2=\"Y\",COUNTIF($M$1:N1,N2)+1,COUNTIF($M$1:N1,N2)+1))","v":1},{"$f":"IF(N2=\"NA\",\"NA\",\"TA\"&N2&\".\"&TEXT(O2,\"0#\"))","v":"TA_P.01"},"Opening press conference (LOCATION: MEDIA AREA)","National Bureau of Statistics (NBS-China); United Nations Statistics Division (UNSD-DESA)",{"$f":"B2","v":"Day0_Time_Slot1_Parallel 01"}]
[2,"Day0_Time_Slot2_Parallel 01","Day0_Time_Slot2",0,2,"Parallel 01",{"$f":"VLOOKUP($D$1&D3,UNWDF_Hangzhou_2023!A:F,5,FALSE)","v":"2023-04-24"},{"$f":"MID(VLOOKUP($D$1&D3&$E$1&E3,UNWDF_Hangzhou_2023!A:F,5,FALSE),1,SEARCH(\"(\",VLOOKUP($D$1&D3&$E$1&E3,UNWDF_Hangzhou_2023!A:F,5,FALSE))-2)","v":"15:30 - 16:15"},{"$f":"TEXT(MID(H3,SEARCH(\"-\",H3)+2,LEN(H3)-SEARCH(\"-\",H3)-1)-MID(H3,1,SEARCH(\"-\",H3)-1),\"h:mm\")","v":"0:45"},{"$f":"HLOOKUP($F3,UNWDF_Hangzhou_2023!$H$14:$S$16,2,FALSE)","v":"Room 01"},{"$f":"HLOOKUP($F3,UNWDF_Hangzhou_2023!$H$14:$S$16,3,FALSE)","v":2000},"Y","NA","_O",{"$f":"IF(OR(L3=\"NA\",L3=\"E\"),\"NA\",IF(L3=\"Y\",COUNTIF($M$1:N2,N3)+1,COUNTIF($M$1:N2,N3)+1))","v":1},"TA_O.01","Opening ceremony","National Bureau of Statistics (NBS-China)","Day0_Time_Slot2_Parallel 01"]
[3,"Day1_Time_Slot1_Parallel 01","Day1_Time_Slot1",1,1,"Parallel 01",{"$f":"VLOOKUP($D$1&D4,UNWDF_Hangzhou_2023!A:F,5,FALSE)","v":"2023-04-25"},{"$f":"MID(VLOOKUP($D$1&D4&$E$1&E4,UNWDF_Hangzhou_2023!A:F,5,FALSE),1,SEARCH(\"(\",VLOOKUP($D$1&D4&$E$1&E4,UNWDF_Hangzhou_2023!A:F,5,FALSE))-2)","v":"08:45 - 08:55"},"0:10",{"$f":"HLOOKUP($F4,UNWDF_Hangzhou_2023!$H$14:$S$16,2,FALSE)","v":"Room 01"},{"$f":"HLOOKUP($F4,UNWDF_Hangzhou_2023!$H$14:$S$16,3,FALSE)","v":2000},"Y","NA","_O",3,"TA_O.03","Welcome and introduction","National Bureau of Statistics (NBS-China) / United Nations Statistics Division (UNSD-DESA)","Day1_Time_Slot1_Parallel 01"]
[4,"Day1_Time_Slot2_Parallel 01","Day1_Time_Slot2",1,2,"Parallel 01",{"$f":"VLOOKUP($D$1&D5,UNWDF_Hangzhou_2023!A:F,5,FALSE)","v":"2023-04-25"},{"$f":"MID(VLOOKUP($D$1&D5&$E$1&E5,UNWDF_Hangzhou_2023!A:F,5,FALSE),1,SEARCH(\"(\",VLOOKUP($D$1&D5&$E$1&E5,UNWDF_Hangzhou_2023!A:F,5,FALSE))-2)","v":"09:00 - 10:30"},"1:30",{"$f":"HLOOKUP($F5,UNWDF_Hangzhou_2023!$H$14:$S$16,2,FALSE)","v":"Room 01"},{"$f":"HLOOKUP($F5,UNWDF_Hangzhou_2023!$H$14:$S$16,3,FALSE)","v":2000},"Y","NA",5,1,"TA5.01","Host country plenary session","National Bureau of Statistics (NBS-China)","Day1_Time_Slot2_Parallel 01",""]
[5,"Day1_Time_Slot6_Parallel 01","Day1_Time_Slot6",1,6,"Parallel 01",{"$f":"VLOOKUP($D$1&D6,UNWDF_Hangzhou_2023!A:F,5,FALSE)","v":"2023-04-25"},{"$f":"MID(VLOOKUP($D$1&D6&$E$1&E6,UNWDF_Hangzhou_2023!A:F,5,FALSE),1,SEARCH(\"(\",VLOOKUP($D$1&D6&$E$1&E6,UNWDF_Hangzhou_2023!A:F,5,FALSE))-2)","v":"16:15 - 17:30"},"1:15",{"$f":"HLOOKUP($F6,UNWDF_Hangzhou_2023!$H$14:$S$16,2,FALSE)","v":"Room 01"},{"$f":"HLOOKUP($F6,UNWDF_Hangzhou_2023!$H$14:$S$16,3,FALSE)","v":2000},"Y","NA",1,{"$f":"IF(OR(L6=\"NA\",L6=\"E\"),\"NA\",IF(L6=\"Y\",COUNTIF($M$1:N5,N6)+1,COUNTIF($M$1:N5,N6)+1))","v":1},"TA1.01","Innovation and partnerships for better and more inclusive data","UN World Data Forum Programme Committee (UNWDF PC)","Day1_Time_Slot6_Parallel 01",""]
[6,"Day1_Time_Slot7_Parallel 01","Day1_Time_Slot7",1,7,"Parallel 01",{"$f":"VLOOKUP($D$1&D7,UNWDF_Hangzhou_2023!A:F,5,FALSE)","v":"2023-04-25"},{"$f":"MID(VLOOKUP($D$1&D7&$E$1&E7,UNWDF_Hangzhou_2023!A:F,5,FALSE),1,SEARCH(\"(\",VLOOKUP($D$1&D7&$E$1&E7,UNWDF_Hangzhou_2023!A:F,5,FALSE))-2)","v":"18:30 - 19:15"},"0:45",{"$f":"HLOOKUP($F7,UNWDF_Hangzhou_2023!$H$14:$S$16,2,FALSE)","v":"Room 01"},{"$f":"HLOOKUP($F7,UNWDF_Hangzhou_2023!$H$14:$S$16,3,FALSE)","v":2000},"Y","NA","_S",{"$f":"IF(OR(L7=\"NA\",L7=\"E\"),\"NA\",IF(L7=\"Y\",COUNTIF($M$1:N6,N7)+1,COUNTIF($M$1:N6,N7)+1))","v":1},"TA_S.01","NA","NA","Day1_Time_Slot7_Parallel 01",""]
[7,"Day2_Time_Slot1_Parallel 01","Day2_Time_Slot1",2,1,"Parallel 01",{"$f":"VLOOKUP($D$1&D8,UNWDF_Hangzhou_2023!A:F,5,FALSE)","v":"2023-04-26"},{"$f":"MID(VLOOKUP($D$1&D8&$E$1&E8,UNWDF_Hangzhou_2023!A:F,5,FALSE),1,SEARCH(\"(\",VLOOKUP($D$1&D8&$E$1&E8,UNWDF_Hangzhou_2023!A:F,5,FALSE))-2)","v":"09:00 - 10:15"},"1:15",{"$f":"HLOOKUP($F8,UNWDF_Hangzhou_2023!$H$14:$S$16,2,FALSE)","v":"Room 01"},{"$f":"HLOOKUP($F8,UNWDF_Hangzhou_2023!$H$14:$S$16,3,FALSE)","v":2000},"Y","NA",2,{"$f":"IF(OR(L8=\"NA\",L8=\"E\"),\"NA\",IF(L8=\"Y\",COUNTIF($M$1:N7,N8)+1,COUNTIF($M$1:N7,N8)+1))","v":1},"TA2.01","Maximizing the use and value of data for better decision making","UN World Data Forum Programme Committee (UNWDF PC)","Day2_Time_Slot1_Parallel 01",""]
[8,"Day2_Time_Slot5_Parallel 01","Day2_Time_Slot5",2,5,"Parallel 01",{"$f":"VLOOKUP($D$1&D9,UNWDF_Hangzhou_2023!A:F,5,FALSE)","v":"2023-04-26"},{"$f":"MID(VLOOKUP($D$1&D9&$E$1&E9,UNWDF_Hangzhou_2023!A:F,5,FALSE),1,SEARCH(\"(\",VLOOKUP($D$1&D9&$E$1&E9,UNWDF_Hangzhou_2023!A:F,5,FALSE))-2)","v":"16:15 - 17:30"},"1:15",{"$f":"HLOOKUP($F9,UNWDF_Hangzhou_2023!$H$14:$S$16,2,FALSE)","v":"Room 01"},{"$f":"HLOOKUP($F9,UNWDF_Hangzhou_2023!$H$14:$S$16,3,FALSE)","v":2000},"Y","NA",3,{"$f":"IF(OR(L9=\"NA\",L9=\"E\"),\"NA\",IF(L9=\"Y\",COUNTIF($M$1:N8,N9)+1,COUNTIF($M$1:N8,N9)+1))","v":1},"TA3.01","Building trust and ethics in data","UN World Data Forum Programme Committee (UNWDF PC)","Day2_Time_Slot5_Parallel 01",""]
[9,"Day2_Time_Slot6_Parallel 01","Day2_Time_Slot6",2,6,"Parallel 01",{"$f":"VLOOKUP($D$1&D10,UNWDF_Hangzhou_2023!A:F,5,FALSE)","v":"2023-04-26"},{"$f":"MID(VLOOKUP($D$1&D10&$E$1&E10,UNWDF_Hangzhou_2023!A:F,5,FALSE),1,SEARCH(\"(\",VLOOKUP($D$1&D10&$E$1&E10,UNWDF_Hangzhou_2023!A:F,5,FALSE))-2)","v":"19:30 - 23:59"},"4:29",{"$f":"HLOOKUP($F10,UNWDF_Hangzhou_2023!$H$14:$S$16,2,FALSE)","v":"Room 01"},{"$f":"HLOOKUP($F10,UNWDF_Hangzhou_2023!$H$14:$S$16,3,FALSE)","v":2000},"Y","NA","_S",{"$f":"IF(OR(L10=\"NA\",L10=\"E\"),\"NA\",IF(L10=\"Y\",COUNTIF($M$1:N9,N10)+1,COUNTIF($M$1:N9,N10)+1))","v":2},"TA_S.02","NA","NA","Day2_Time_Slot6_Parallel 01",""]
[10,"Day3_Time_Slot1_Parallel 01","Day3_Time_Slot1",3,1,"Parallel 01",{"$f":"VLOOKUP($D$1&D11,UNWDF_Hangzhou_2023!A:F,5,FALSE)","v":"2023-04-27"},{"$f":"MID(VLOOKUP($D$1&D11&$E$1&E11,UNWDF_Hangzhou_2023!A:F,5,FALSE),1,SEARCH(\"(\",VLOOKUP($D$1&D11&$E$1&E11,UNWDF_Hangzhou_2023!A:F,5,FALSE))-2)","v":"09:00 - 10:15"},"1:15",{"$f":"HLOOKUP($F11,UNWDF_Hangzhou_2023!$H$14:$S$16,2,FALSE)","v":"Room 01"},{"$f":"HLOOKUP($F11,UNWDF_Hangzhou_2023!$H$14:$S$16,3,FALSE)","v":2000},"Y","NA",6,{"$f":"IF(OR(L11=\"NA\",L11=\"E\"),\"NA\",IF(L11=\"Y\",COUNTIF($M$1:N10,N11)+1,COUNTIF($M$1:N10,N11)+1))","v":1},"TA6.01","Programme Committee plenary","UN World Data Forum Programme Committee (UNWDF PC)","Day3_Time_Slot1_Parallel 01",""]
[11,"Day3_Time_Slot5_Parallel 01","Day3_Time_Slot5",3,5,"Parallel 01",{"$f":"VLOOKUP($D$1&D12,UNWDF_Hangzhou_2023!A:F,5,FALSE)","v":"2023-04-27"},{"$f":"MID(VLOOKUP($D$1&D12&$E$1&E12,UNWDF_Hangzhou_2023!A:F,5,FALSE),1,SEARCH(\"(\",VLOOKUP($D$1&D12&$E$1&E12,UNWDF_Hangzhou_2023!A:F,5,FALSE))-2)","v":"15:45 - 17:00"},"1:15",{"$f":"HLOOKUP($F12,UNWDF_Hangzhou_2023!$H$14:$S$16,2,FALSE)","v":"Room 01"},{"$f":"HLOOKUP($F12,UNWDF_Hangzhou_2023!$H$14:$S$16,3,FALSE)","v":2000},"Y","NA",4,{"$f":"IF(OR(L12=\"NA\",L12=\"E\"),\"NA\",IF(L12=\"Y\",COUNTIF($M$1:N11,N12)+1,COUNTIF($M$1:N11,N12)+1))","v":1},"TA4.01","Emerging trends and partnerships to develop the data ecosystem","UN World Data Forum Programme Committee (UNWDF PC)","Day3_Time_Slot5_Parallel 01",""]
[12,"Day3_Time_Slot6_Parallel 01","Day3_Time_Slot6",3,6,"Parallel 01",{"$f":"VLOOKUP($D$1&D13,UNWDF_Hangzhou_2023!A:F,5,FALSE)","v":"2023-04-27"},{"$f":"MID(VLOOKUP($D$1&D13&$E$1&E13,UNWDF_Hangzhou_2023!A:F,5,FALSE),1,SEARCH(\"(\",VLOOKUP($D$1&D13&$E$1&E13,UNWDF_Hangzhou_2023!A:F,5,FALSE))-2)","v":"17:15 - 18:00"},"0:45",{"$f":"HLOOKUP($F13,UNWDF_Hangzhou_2023!$H$14:$S$16,2,FALSE)","v":"Room 01"},{"$f":"HLOOKUP($F13,UNWDF_Hangzhou_2023!$H$14:$S$16,3,FALSE)","v":2000},"Y","NA","_C",{"$f":"IF(OR(L13=\"NA\",L13=\"E\"),\"NA\",IF(L13=\"Y\",COUNTIF($M$1:N12,N13)+1,COUNTIF($M$1:N12,N13)+1))","v":1},"TA_C.01","Closing ceremony","National Bureau of Statistics (NBS-China); United Nations Statistics Division (UNSD-DESA)","Day3_Time_Slot6_Parallel 01",""]
[13,"Day3_Time_Slot7_Parallel 01","Day3_Time_Slot7",3,7,"Parallel 01",{"$f":"VLOOKUP($D$1&D14,UNWDF_Hangzhou_2023!A:F,5,FALSE)","v":"2023-04-27"},{"$f":"MID(VLOOKUP($D$1&D14&$E$1&E14,UNWDF_Hangzhou_2023!A:F,5,FALSE),1,SEARCH(\"(\",VLOOKUP($D$1&D14&$E$1&E14,UNWDF_Hangzhou_2023!A:F,5,FALSE))-2)","v":"17:45 - 19:15"},"1:30",{"$f":"HLOOKUP($F14,UNWDF_Hangzhou_2023!$H$14:$S$16,2,FALSE)","v":"Room 01"},{"$f":"HLOOKUP($F14,UNWDF_Hangzhou_2023!$H$14:$S$16,3,FALSE)","v":2000},"Y","NA","_S",{"$f":"IF(OR(L14=\"NA\",L14=\"E\"),\"NA\",IF(L14=\"Y\",COUNTIF($M$1:N13,N14)+1,COUNTIF($M$1:N13,N14)+1))","v":3},"TA_S.03","NA","NA","Day3_Time_Slot7_Parallel 01",""]
[14,"Day0_Time_Slot1_Parallel 02","Day0_Time_Slot1",0,1,"Parallel 02",{"$f":"VLOOKUP($D$1&D15,UNWDF_Hangzhou_2023!A:F,5,FALSE)","v":"2023-04-24"},{"$f":"MID(VLOOKUP($D$1&D15&$E$1&E15,UNWDF_Hangzhou_2023!A:F,5,FALSE),1,SEARCH(\"(\",VLOOKUP($D$1&D15&$E$1&E15,UNWDF_Hangzhou_2023!A:F,5,FALSE))-2)","v":"10:00 - 11:00"},"1:00",{"$f":"HLOOKUP($F15,UNWDF_Hangzhou_2023!$H$14:$S$16,2,FALSE)","v":"Room 02"},{"$f":"HLOOKUP($F15,UNWDF_Hangzhou_2023!$H$14:$S$16,3,FALSE)","v":200},"NA","NA","NA",{"$f":"IF(OR(L15=\"NA\",L15=\"E\"),\"NA\",IF(L15=\"Y\",COUNTIF($M$1:N14,N15)+1,COUNTIF($M$1:N14,N15)+1))","v":"NA"},"NA","NA","NA","Day0_Time_Slot1_Parallel 02"]
[15,"Day0_Time_Slot1_Parallel 03","Day0_Time_Slot1",0,1,"Parallel 03",{"$f":"VLOOKUP($D$1&D16,UNWDF_Hangzhou_2023!A:F,5,FALSE)","v":"2023-04-24"},{"$f":"MID(VLOOKUP($D$1&D16&$E$1&E16,UNWDF_Hangzhou_2023!A:F,5,FALSE),1,SEARCH(\"(\",VLOOKUP($D$1&D16&$E$1&E16,UNWDF_Hangzhou_2023!A:F,5,FALSE))-2)","v":"10:00 - 11:00"},"1:00",{"$f":"HLOOKUP($F16,UNWDF_Hangzhou_2023!$H$14:$S$16,2,FALSE)","v":"Room 03"},{"$f":"HLOOKUP($F16,UNWDF_Hangzhou_2023!$H$14:$S$16,3,FALSE)","v":200},"NA","NA","NA",{"$f":"IF(OR(L16=\"NA\",L16=\"E\"),\"NA\",IF(L16=\"Y\",COUNTIF($M$1:N15,N16)+1,COUNTIF($M$1:N15,N16)+1))","v":"NA"},"NA","NA","NA","Day0_Time_Slot1_Parallel 03"]
[16,"Day0_Time_Slot1_Parallel 04","Day0_Time_Slot1",0,1,"Parallel 04",{"$f":"VLOOKUP($D$1&D17,UNWDF_Hangzhou_2023!A:F,5,FALSE)","v":"2023-04-24"},{"$f":"MID(VLOOKUP($D$1&D17&$E$1&E17,UNWDF_Hangzhou_2023!A:F,5,FALSE),1,SEARCH(\"(\",VLOOKUP($D$1&D17&$E$1&E17,UNWDF_Hangzhou_2023!A:F,5,FALSE))-2)","v":"10:00 - 11:00"},"1:00",{"$f":"HLOOKUP($F17,UNWDF_Hangzhou_2023!$H$14:$S$16,2,FALSE)","v":"Room 04"},{"$f":"HLOOKUP($F17,UNWDF_Hangzhou_2023!$H$14:$S$16,3,FALSE)","v":200},"NA","NA","NA",{"$f":"IF(OR(L17=\"NA\",L17=\"E\"),\"NA\",IF(L17=\"Y\",COUNTIF($M$1:N16,N17)+1,COUNTIF($M$1:N16,N17)+1))","v":"NA"},"NA","NA","NA","Day0_Time_Slot1_Parallel 04"]
[17,"Day0_Time_Slot1_Parallel 05","Day0_Time_Slot1",0,1,"Parallel 05",{"$f":"VLOOKUP($D$1&D18,UNWDF_Hangzhou_2023!A:F,5,FALSE)","v":"2023-04-24"},{"$f":"MID(VLOOKUP($D$1&D18&$E$1&E18,UNWDF_Hangzhou_2023!A:F,5,FALSE),1,SEARCH(\"(\",VLOOKUP($D$1&D18&$E$1&E18,UNWDF_Hangzhou_2023!A:F,5,FALSE))-2)","v":"10:00 - 11:00"},"1:00",{"$f":"HLOOKUP($F18,UNWDF_Hangzhou_2023!$H$14:$S$16,2,FALSE)","v":"Room 05"},{"$f":"HLOOKUP($F18,UNWDF_Hangzhou_2023!$H$14:$S$16,3,FALSE)","v":200},"NA","NA","NA",{"$f":"IF(OR(L18=\"NA\",L18=\"E\"),\"NA\",IF(L18=\"Y\",COUNTIF($M$1:N17,N18)+1,COUNTIF($M$1:N17,N18)+1))","v":"NA"},"NA","NA","NA","Day0_Time_Slot1_Parallel 05"]
[18,"Day0_Time_Slot1_Parallel 06","Day0_Time_Slot1",0,1,"Parallel 06",{"$f":"VLOOKUP($D$1&D19,UNWDF_Hangzhou_2023!A:F,5,FALSE)","v":"2023-04-24"},{"$f":"MID(VLOOKUP($D$1&D19&$E$1&E19,UNWDF_Hangzhou_2023!A:F,5,FALSE),1,SEARCH(\"(\",VLOOKUP($D$1&D19&$E$1&E19,UNWDF_Hangzhou_2023!A:F,5,FALSE))-2)","v":"10:00 - 11:00"},"1:00",{"$f":"HLOOKUP($F19,UNWDF_Hangzhou_2023!$H$14:$S$16,2,FALSE)","v":"Room 06"},{"$f":"HLOOKUP($F19,UNWDF_Hangzhou_2023!$H$14:$S$16,3,FALSE)","v":200},"NA","NA","NA",{"$f":"IF(OR(L19=\"NA\",L19=\"E\"),\"NA\",IF(L19=\"Y\",COUNTIF($M$1:N18,N19)+1,COUNTIF($M$1:N18,N19)+1))","v":"NA"},"NA","NA","NA","Day0_Time_Slot1_Parallel 06"]
[19,"Day0_Time_Slot1_Parallel 07","Day0_Time_Slot1",0,1,"Parallel 07",{"$f":"VLOOKUP($D$1&D20,UNWDF_Hangzhou_2023!A:F,5,FALSE)","v":"2023-04-24"},{"$f":"MID(VLOOKUP($D$1&D20&$E$1&E20,UNWDF_Hangzhou_2023!A:F,5,FALSE),1,SEARCH(\"(\",VLOOKUP($D$1&D20&$E$1&E20,UNWDF_Hangzhou_2023!A:F,5,FALSE))-2)","v":"10:00 - 11:00"},"1:00",{"$f":"HLOOKUP($F20,UNWDF_Hangzhou_2023!$H$14:$S$16,2,FALSE)","v":"Room 07"},{"$f":"HLOOKUP($F20,UNWDF_Hangzhou_2023!$H$14:$S$16,3,FALSE)","v":100},"NA","NA","NA",{"$f":"IF(OR(L20=\"NA\",L20=\"E\"),\"NA\",IF(L20=\"Y\",COUNTIF($M$1:N19,N20)+1,COUNTIF($M$1:N19,N20)+1))","v":"NA"},"NA","NA","NA","Day0_Time_Slot1_Parallel 07"]
[20,"Day0_Time_Slot1_Parallel 08","Day0_Time_Slot1",0,1,"Parallel 08",{"$f":"VLOOKUP($D$1&D21,UNWDF_Hangzhou_2023!A:F,5,FALSE)","v":"2023-04-24"},{"$f":"MID(VLOOKUP($D$1&D21&$E$1&E21,UNWDF_Hangzhou_2023!A:F,5,FALSE),1,SEARCH(\"(\",VLOOKUP($D$1&D21&$E$1&E21,UNWDF_Hangzhou_2023!A:F,5,FALSE))-2)","v":"10:00 - 11:00"},"1:00",{"$f":"HLOOKUP($F21,UNWDF_Hangzhou_2023!$H$14:$S$16,2,FALSE)","v":"Room 08"},{"$f":"HLOOKUP($F21,UNWDF_Hangzhou_2023!$H$14:$S$16,3,FALSE)","v":100},"NA","NA","NA",{"$f":"IF(OR(L21=\"NA\",L21=\"E\"),\"NA\",IF(L21=\"Y\",COUNTIF($M$1:N20,N21)+1,COUNTIF($M$1:N20,N21)+1))","v":"NA"},"NA","NA","NA","Day0_Time_Slot1_Parallel 08"]
[21,"Day0_Time_Slot1_Parallel 09","Day0_Time_Slot1",0,1,"Parallel 09",{"$f":"VLOOKUP($D$1&D22,UNWDF_Hangzhou_2023!A:F,5,FALSE)","v":"2023-04-24"},{"$f":"MID(VLOOKUP($D$1&D22&$E$1&E22,UNWDF_Hangzhou_2023!A:F,5,FALSE),1,SEARCH(\"(\",VLOOKUP($D$1&D22&$E$1&E22,UNWDF_Hangzhou_2023!A:F,5,FALSE))-2)","v":"10:00 - 11:00"},"1:00",{"$f":"HLOOKUP($F22,UNWDF_Hangzhou_2023!$H$14:$S$16,2,FALSE)","v":"Room 09"},{"$f":"HLOOKUP($F22,UNWDF_Hangzhou_2023!$H$14:$S$16,3,FALSE)","v":100},"NA","NA","NA",{"$f":"IF(OR(L22=\"NA\",L22=\"E\"),\"NA\",IF(L22=\"Y\",COUNTIF($M$1:N21,N22)+1,COUNTIF($M$1:N21,N22)+1))","v":"NA"},"NA","NA","NA","Day0_Time_Slot1_Parallel 09"]
[22,"Day0_Time_Slot1_Parallel 10","Day0_Time_Slot1",0,1,"Parallel 10",{"$f":"VLOOKUP($D$1&D23,UNWDF_Hangzhou_2023!A:F,5,FALSE)","v":"2023-04-24"},{"$f":"MID(VLOOKUP($D$1&D23&$E$1&E23,UNWDF_Hangzhou_2023!A:F,5,FALSE),1,SEARCH(\"(\",VLOOKUP($D$1&D23&$E$1&E23,UNWDF_Hangzhou_2023!A:F,5,FALSE))-2)","v":"10:00 - 11:00"},"1:00",{"$f":"HLOOKUP($F23,UNWDF_Hangzhou_2023!$H$14:$S$16,2,FALSE)","v":"LEARNING LABS 1"},{"$f":"HLOOKUP($F23,UNWDF_Hangzhou_2023!$H$14:$S$16,3,FALSE)","v":100},"NA","NA","NA",{"$f":"IF(OR(L23=\"NA\",L23=\"E\"),\"NA\",IF(L23=\"Y\",COUNTIF($M$1:N22,N23)+1,COUNTIF($M$1:N22,N23)+1))","v":"NA"},"NA","NA","NA","Day0_Time_Slot1_Parallel 10"]
[23,"Day0_Time_Slot1_Parallel 11","Day0_Time_Slot1",0,1,"Parallel 11",{"$f":"VLOOKUP($D$1&D24,UNWDF_Hangzhou_2023!A:F,5,FALSE)","v":"2023-04-24"},{"$f":"MID(VLOOKUP($D$1&D24&$E$1&E24,UNWDF_Hangzhou_2023!A:F,5,FALSE),1,SEARCH(\"(\",VLOOKUP($D$1&D24&$E$1&E24,UNWDF_Hangzhou_2023!A:F,5,FALSE))-2)","v":"10:00 - 11:00"},"1:00",{"$f":"HLOOKUP($F24,UNWDF_Hangzhou_2023!$H$14:$S$16,2,FALSE)","v":"LEARNING LABS 2"},{"$f":"HLOOKUP($F24,UNWDF_Hangzhou_2023!$H$14:$S$16,3,FALSE)","v":100},"NA","NA","NA",{"$f":"IF(OR(L24=\"NA\",L24=\"E\"),\"NA\",IF(L24=\"Y\",COUNTIF($M$1:N23,N24)+1,COUNTIF($M$1:N23,N24)+1))","v":"NA"},"NA","NA","NA","Day0_Time_Slot1_Parallel 11"]
[24,"Day0_Time_Slot1_Parallel 12","Day0_Time_Slot1",0,1,"Parallel 12",{"$f":"VLOOKUP($D$1&D25,UNWDF_Hangzhou_2023!A:F,5,FALSE)","v":"2023-04-24"},{"$f":"MID(VLOOKUP($D$1&D25&$E$1&E25,UNWDF_Hangzhou_2023!A:F,5,FALSE),1,SEARCH(\"(\",VLOOKUP($D$1&D25&$E$1&E25,UNWDF_Hangzhou_2023!A:F,5,FALSE))-2)","v":"10:00 - 11:00"},"1:00",{"$f":"HLOOKUP($F25,UNWDF_Hangzhou_2023!$H$14:$S$16,2,FALSE)","v":"DEMOS SPACE"},{"$f":"HLOOKUP($F25,UNWDF_Hangzhou_2023!$H$14:$S$16,3,FALSE)","v":100},"NA","NA","NA",{"$f":"IF(OR(L25=\"NA\",L25=\"E\"),\"NA\",IF(L25=\"Y\",COUNTIF($M$1:N24,N25)+1,COUNTIF($M$1:N24,N25)+1))","v":"NA"},"NA","NA","NA","Day0_Time_Slot1_Parallel 12"]
[25,"Day1_Time_Slot1_Parallel 02","Day1_Time_Slot1",1,1,"Parallel 02",{"$f":"VLOOKUP($D$1&D26,UNWDF_Hangzhou_2023!A:F,5,FALSE)","v":"2023-04-25"},{"$f":"MID(VLOOKUP($D$1&D26&$E$1&E26,UNWDF_Hangzhou_2023!A:F,5,FALSE),1,SEARCH(\"(\",VLOOKUP($D$1&D26&$E$1&E26,UNWDF_Hangzhou_2023!A:F,5,FALSE))-2)","v":"08:45 - 08:55"},"0:10",{"$f":"HLOOKUP($F26,UNWDF_Hangzhou_2023!$H$14:$S$16,2,FALSE)","v":"Room 02"},{"$f":"HLOOKUP($F26,UNWDF_Hangzhou_2023!$H$14:$S$16,3,FALSE)","v":200},"NA","NA","NA",{"$f":"IF(OR(L26=\"NA\",L26=\"E\"),\"NA\",IF(L26=\"Y\",COUNTIF($M$1:N25,N26)+1,COUNTIF($M$1:N25,N26)+1))","v":"NA"},"NA","NA","NA","Day1_Time_Slot1_Parallel 02"]
[26,"Day1_Time_Slot1_Parallel 03","Day1_Time_Slot1",1,1,"Parallel 03",{"$f":"VLOOKUP($D$1&D27,UNWDF_Hangzhou_2023!A:F,5,FALSE)","v":"2023-04-25"},{"$f":"MID(VLOOKUP($D$1&D27&$E$1&E27,UNWDF_Hangzhou_2023!A:F,5,FALSE),1,SEARCH(\"(\",VLOOKUP($D$1&D27&$E$1&E27,UNWDF_Hangzhou_2023!A:F,5,FALSE))-2)","v":"08:45 - 08:55"},"0:10",{"$f":"HLOOKUP($F27,UNWDF_Hangzhou_2023!$H$14:$S$16,2,FALSE)","v":"Room 03"},{"$f":"HLOOKUP($F27,UNWDF_Hangzhou_2023!$H$14:$S$16,3,FALSE)","v":200},"NA","NA","NA",{"$f":"IF(OR(L27=\"NA\",L27=\"E\"),\"NA\",IF(L27=\"Y\",COUNTIF($M$1:N26,N27)+1,COUNTIF($M$1:N26,N27)+1))","v":"NA"},"NA","NA","NA","Day1_Time_Slot1_Parallel 03"]
[27,"Day1_Time_Slot1_Parallel 04","Day1_Time_Slot1",1,1,"Parallel 04",{"$f":"VLOOKUP($D$1&D28,UNWDF_Hangzhou_2023!A:F,5,FALSE)","v":"2023-04-25"},{"$f":"MID(VLOOKUP($D$1&D28&$E$1&E28,UNWDF_Hangzhou_2023!A:F,5,FALSE),1,SEARCH(\"(\",VLOOKUP($D$1&D28&$E$1&E28,UNWDF_Hangzhou_2023!A:F,5,FALSE))-2)","v":"08:45 - 08:55"},"0:10",{"$f":"HLOOKUP($F28,UNWDF_Hangzhou_2023!$H$14:$S$16,2,FALSE)","v":"Room 04"},{"$f":"HLOOKUP($F28,UNWDF_Hangzhou_2023!$H$14:$S$16,3,FALSE)","v":200},"NA","NA","NA",{"$f":"IF(OR(L28=\"NA\",L28=\"E\"),\"NA\",IF(L28=\"Y\",COUNTIF($M$1:N27,N28)+1,COUNTIF($M$1:N27,N28)+1))","v":"NA"},"NA","NA","NA","Day1_Time_Slot1_Parallel 04"]
[28,"Day1_Time_Slot1_Parallel 05","Day1_Time_Slot1",1,1,"Parallel 05",{"$f":"VLOOKUP($D$1&D29,UNWDF_Hangzhou_2023!A:F,5,FALSE)","v":"2023-04-25"},{"$f":"MID(VLOOKUP($D$1&D29&$E$1&E29,UNWDF_Hangzhou_2023!A:F,5,FALSE),1,SEARCH(\"(\",VLOOKUP($D$1&D29&$E$1&E29,UNWDF_Hangzhou_2023!A:F,5,FALSE))-2)","v":"08:45 - 08:55"},"0:10",{"$f":"HLOOKUP($F29,UNWDF_Hangzhou_2023!$H$14:$S$16,2,FALSE)","v":"Room 05"},{"$f":"HLOOKUP($F29,UNWDF_Hangzhou_2023!$H$14:$S$16,3,FALSE)","v":200},"NA","NA","NA",{"$f":"IF(OR(L29=\"NA\",L29=\"E\"),\"NA\",IF(L29=\"Y\",COUNTIF($M$1:N28,N29)+1,COUNTIF($M$1:N28,N29)+1))","v":"NA"},"NA","NA","NA","Day1_Time_Slot1_Parallel 05",""]
[29,"Day1_Time_Slot1_Parallel 06","Day1_Time_Slot1",1,1,"Parallel 06",{"$f":"VLOOKUP($D$1&D30,UNWDF_Hangzhou_2023!A:F,5,FALSE)","v":"2023-04-25"},{"$f":"MID(VLOOKUP($D$1&D30&$E$1&E30,UNWDF_Hangzhou_2023!A:F,5,FALSE),1,SEARCH(\"(\",VLOOKUP($D$1&D30&$E$1&E30,UNWDF_Hangzhou_2023!A:F,5,FALSE))-2)","v":"08:45 - 08:55"},"0:10",{"$f":"HLOOKUP($F30,UNWDF_Hangzhou_2023!$H$14:$S$16,2,FALSE)","v":"Room 06"},{"$f":"HLOOKUP($F30,UNWDF_Hangzhou_2023!$H$14:$S$16,3,FALSE)","v":200},"NA","NA","NA",{"$f":"IF(OR(L30=\"NA\",L30=\"E\"),\"NA\",IF(L30=\"Y\",COUNTIF($M$1:N29,N30)+1,COUNTIF($M$1:N29,N30)+1))","v":"NA"},"NA","NA","NA","Day1_Time_Slot1_Parallel 06",""]
[30,"Day1_Time_Slot1_Parallel 07","Day1_Time_Slot1",1,1,"Parallel 07",{"$f":"VLOOKUP($D$1&D31,UNWDF_Hangzhou_2023!A:F,5,FALSE)","v":"2023-04-25"},{"$f":"MID(VLOOKUP($D$1&D31&$E$1&E31,UNWDF_Hangzhou_2023!A:F,5,FALSE),1,SEARCH(\"(\",VLOOKUP($D$1&D31&$E$1&E31,UNWDF_Hangzhou_2023!A:F,5,FALSE))-2)","v":"08:45 - 08:55"},"0:10",{"$f":"HLOOKUP($F31,UNWDF_Hangzhou_2023!$H$14:$S$16,2,FALSE)","v":"Room 07"},{"$f":"HLOOKUP($F31,UNWDF_Hangzhou_2023!$H$14:$S$16,3,FALSE)","v":100},"NA","NA","NA",{"$f":"IF(OR(L31=\"NA\",L31=\"E\"),\"NA\",IF(L31=\"Y\",COUNTIF($M$1:N30,N31)+1,COUNTIF($M$1:N30,N31)+1))","v":"NA"},"NA","NA","NA","Day1_Time_Slot1_Parallel 07",""]
[31,"Day1_Time_Slot1_Parallel 08","Day1_Time_Slot1",1,1,"Parallel 08",{"$f":"VLOOKUP($D$1&D32,UNWDF_Hangzhou_2023!A:F,5,FALSE)","v":"2023-04-25"},{"$f":"MID(VLOOKUP($D$1&D32&$E$1&E32,UNWDF_Hangzhou_2023!A:F,5,FALSE),1,SEARCH(\"(\",VLOOKUP($D$1&D32&$E$1&E32,UNWDF_Hangzhou_2023!A:F,5,FALSE))-2)","v":"08:45 - 08:55"},"0:10",{"$f":"HLOOKUP($F32,UNWDF_Hangzhou_2023!$H$14:$S$16,2,FALSE)","v":"Room 08"},{"$f":"HLOOKUP($F32,UNWDF_Hangzhou_2023!$H$14:$S$16,3,FALSE)","v":100},"NA","NA","NA",{"$f":"IF(OR(L32=\"NA\",L32=\"E\"),\"NA\",IF(L32=\"Y\",COUNTIF($M$1:N31,N32)+1,COUNTIF($M$1:N31,N32)+1))","v":"NA"},"NA","NA","NA","Day1_Time_Slot1_Parallel 08",""]
[32,"Day1_Time_Slot1_Parallel 09","Day1_Time_Slot1",1,1,"Parallel 09",{"$f":"VLOOKUP($D$1&D33,UNWDF_Hangzhou_2023!A:F,5,FALSE)","v":"2023-04-25"},{"$f":"MID(VLOOKUP($D$1&D33&$E$1&E33,UNWDF_Hangzhou_2023!A:F,5,FALSE),1,SEARCH(\"(\",VLOOKUP($D$1&D33&$E$1&E33,UNWDF_Hangzhou_2023!A:F,5,FALSE))-2)","v":"08:45 - 08:55"},"0:10",{"$f":"HLOOKUP($F33,UNWDF_Hangzhou_2023!$H$14:$S$16,2,FALSE)","v":"Room 09"},{"$f":"HLOOKUP($F33,UNWDF_Hangzhou_2023!$H$14:$S$16,3,FALSE)","v":100},"NA","NA","NA",{"$f":"IF(OR(L33=\"NA\",L33=\"E\"),\"NA\",IF(L33=\"Y\",COUNTIF($M$1:N32,N33)+1,COUNTIF($M$1:N32,N33)+1))","v":"NA"},"NA","NA","NA","Day1_Time_Slot1_Parallel 09",""]
[33,"Day1_Time_Slot1_Parallel 10","Day1_Time_Slot1",1,1,"Parallel 10",{"$f":"VLOOKUP($D$1&D34,UNWDF_Hangzhou_2023!A:F,5,FALSE)","v":"2023-04-25"},{"$f":"MID(VLOOKUP($D$1&D34&$E$1&E34,UNWDF_Hangzhou_2023!A:F,5,FALSE),1,SEARCH(\"(\",VLOOKUP($D$1&D34&$E$1&E34,UNWDF_Hangzhou_2023!A:F,5,FALSE))-2)","v":"08:45 - 08:55"},"0:10",{"$f":"HLOOKUP($F34,UNWDF_Hangzhou_2023!$H$14:$S$16,2,FALSE)","v":"LEARNING LABS 1"},{"$f":"HLOOKUP($F34,UNWDF_Hangzhou_2023!$H$14:$S$16,3,FALSE)","v":100},"NA","NA","NA",{"$f":"IF(OR(L34=\"NA\",L34=\"E\"),\"NA\",IF(L34=\"Y\",COUNTIF($M$1:N33,N34)+1,COUNTIF($M$1:N33,N34)+1))","v":"NA"},{"$f":"IF(N34=\"NA\",\"NA\",\"TA\"&N34&\".\"&TEXT(O34,\"0#\"))","v":"NA"},"NA","NA","Day1_Time_Slot1_Parallel 10",""]
[34,"Day1_Time_Slot1_Parallel 11","Day1_Time_Slot1",1,1,"Parallel 11",{"$f":"VLOOKUP($D$1&D35,UNWDF_Hangzhou_2023!A:F,5,FALSE)","v":"2023-04-25"},{"$f":"MID(VLOOKUP($D$1&D35&$E$1&E35,UNWDF_Hangzhou_2023!A:F,5,FALSE),1,SEARCH(\"(\",VLOOKUP($D$1&D35&$E$1&E35,UNWDF_Hangzhou_2023!A:F,5,FALSE))-2)","v":"08:45 - 08:55"},"0:10",{"$f":"HLOOKUP($F35,UNWDF_Hangzhou_2023!$H$14:$S$16,2,FALSE)","v":"LEARNING LABS 2"},{"$f":"HLOOKUP($F35,UNWDF_Hangzhou_2023!$H$14:$S$16,3,FALSE)","v":100},"NA","NA","NA",{"$f":"IF(OR(L35=\"NA\",L35=\"E\"),\"NA\",IF(L35=\"Y\",COUNTIF($M$1:N34,N35)+1,COUNTIF($M$1:N34,N35)+1))","v":"NA"},"NA","NA","NA","Day1_Time_Slot1_Parallel 11",""]
[35,"Day1_Time_Slot1_Parallel 12","Day1_Time_Slot1",1,1,"Parallel 12",{"$f":"VLOOKUP($D$1&D36,UNWDF_Hangzhou_2023!A:F,5,FALSE)","v":"2023-04-25"},{"$f":"MID(VLOOKUP($D$1&D36&$E$1&E36,UNWDF_Hangzhou_2023!A:F,5,FALSE),1,SEARCH(\"(\",VLOOKUP($D$1&D36&$E$1&E36,UNWDF_Hangzhou_2023!A:F,5,FALSE))-2)","v":"08:45 - 08:55"},"0:10",{"$f":"HLOOKUP($F36,UNWDF_Hangzhou_2023!$H$14:$S$16,2,FALSE)","v":"DEMOS SPACE"},{"$f":"HLOOKUP($F36,UNWDF_Hangzhou_2023!$H$14:$S$16,3,FALSE)","v":100},"NA","NA","NA",{"$f":"IF(OR(L36=\"NA\",L36=\"E\"),\"NA\",IF(L36=\"Y\",COUNTIF($M$1:N35,N36)+1,COUNTIF($M$1:N35,N36)+1))","v":"NA"},"NA","NA","NA","Day1_Time_Slot1_Parallel 12",""]
[36,"Day1_Time_Slot2_Parallel 02","Day1_Time_Slot2",1,2,"Parallel 02",{"$f":"VLOOKUP($D$1&D37,UNWDF_Hangzhou_2023!A:F,5,FALSE)","v":"2023-04-25"},{"$f":"MID(VLOOKUP($D$1&D37&$E$1&E37,UNWDF_Hangzhou_2023!A:F,5,FALSE),1,SEARCH(\"(\",VLOOKUP($D$1&D37&$E$1&E37,UNWDF_Hangzhou_2023!A:F,5,FALSE))-2)","v":"09:00 - 10:30"},"1:30",{"$f":"HLOOKUP($F37,UNWDF_Hangzhou_2023!$H$14:$S$16,2,FALSE)","v":"Room 02"},{"$f":"HLOOKUP($F37,UNWDF_Hangzhou_2023!$H$14:$S$16,3,FALSE)","v":200},"NA","NA","NA",{"$f":"IF(OR(L37=\"NA\",L37=\"E\"),\"NA\",IF(L37=\"Y\",COUNTIF($M$1:N36,N37)+1,COUNTIF($M$1:N36,N37)+1))","v":"NA"},"NA","NA","NA","Day1_Time_Slot2_Parallel 02",""]
[37,"Day1_Time_Slot2_Parallel 03","Day1_Time_Slot2",1,2,"Parallel 03",{"$f":"VLOOKUP($D$1&D38,UNWDF_Hangzhou_2023!A:F,5,FALSE)","v":"2023-04-25"},{"$f":"MID(VLOOKUP($D$1&D38&$E$1&E38,UNWDF_Hangzhou_2023!A:F,5,FALSE),1,SEARCH(\"(\",VLOOKUP($D$1&D38&$E$1&E38,UNWDF_Hangzhou_2023!A:F,5,FALSE))-2)","v":"09:00 - 10:30"},"1:30",{"$f":"HLOOKUP($F38,UNWDF_Hangzhou_2023!$H$14:$S$16,2,FALSE)","v":"Room 03"},{"$f":"HLOOKUP($F38,UNWDF_Hangzhou_2023!$H$14:$S$16,3,FALSE)","v":200},"NA","NA","NA",{"$f":"IF(OR(L38=\"NA\",L38=\"E\"),\"NA\",IF(L38=\"Y\",COUNTIF($M$1:N37,N38)+1,COUNTIF($M$1:N37,N38)+1))","v":"NA"},"NA","NA","NA","Day1_Time_Slot2_Parallel 03",""]
[38,"Day1_Time_Slot2_Parallel 04","Day1_Time_Slot2",1,2,"Parallel 04",{"$f":"VLOOKUP($D$1&D39,UNWDF_Hangzhou_2023!A:F,5,FALSE)","v":"2023-04-25"},{"$f":"MID(VLOOKUP($D$1&D39&$E$1&E39,UNWDF_Hangzhou_2023!A:F,5,FALSE),1,SEARCH(\"(\",VLOOKUP($D$1&D39&$E$1&E39,UNWDF_Hangzhou_2023!A:F,5,FALSE))-2)","v":"09:00 - 10:30"},"1:30",{"$f":"HLOOKUP($F39,UNWDF_Hangzhou_2023!$H$14:$S$16,2,FALSE)","v":"Room 04"},{"$f":"HLOOKUP($F39,UNWDF_Hangzhou_2023!$H$14:$S$16,3,FALSE)","v":200},"NA","NA","NA",{"$f":"IF(OR(L39=\"NA\",L39=\"E\"),\"NA\",IF(L39=\"Y\",COUNTIF($M$1:N38,N39)+1,COUNTIF($M$1:N38,N39)+1))","v":"NA"},"NA","NA","NA","Day1_Time_Slot2_Parallel 04",""]
[39,"Day1_Time_Slot2_Parallel 05","Day1_Time_Slot2",1,2,"Parallel 05",{"$f":"VLOOKUP($D$1&D40,UNWDF_Hangzhou_2023!A:F,5,FALSE)","v":"2023-04-25"},{"$f":"MID(VLOOKUP($D$1&D40&$E$1&E40,UNWDF_Hangzhou_2023!A:F,5,FALSE),1,SEARCH(\"(\",VLOOKUP($D$1&D40&$E$1&E40,UNWDF_Hangzhou_2023!A:F,5,FALSE))-2)","v":"09:00 - 10:30"},"1:30",{"$f":"HLOOKUP($F40,UNWDF_Hangzhou_2023!$H$14:$S$16,2,FALSE)","v":"Room 05"},{"$f":"HLOOKUP($F40,UNWDF_Hangzhou_2023!$H$14:$S$16,3,FALSE)","v":200},"NA","NA","NA",{"$f":"IF(OR(L40=\"NA\",L40=\"E\"),\"NA\",IF(L40=\"Y\",COUNTIF($M$1:N39,N40)+1,COUNTIF($M$1:N39,N40)+1))","v":"NA"},"NA","NA","NA","Day1_Time_Slot2_Parallel 05",""]
[40,"Day1_Time_Slot2_Parallel 06","Day1_Time_Slot2",1,2,"Parallel 06",{"$f":"VLOOKUP($D$1&D41,UNWDF_Hangzhou_2023!A:F,5,FALSE)","v":"2023-04-25"},{"$f":"MID(VLOOKUP($D$1&D41&$E$1&E41,UNWDF_Hangzhou_2023!A:F,5,FALSE),1,SEARCH(\"(\",VLOOKUP($D$1&D41&$E$1&E41,UNWDF_Hangzhou_2023!A:F,5,FALSE))-2)","v":"09:00 - 10:30"},"1:30",{"$f":"HLOOKUP($F41,UNWDF_Hangzhou_2023!$H$14:$S$16,2,FALSE)","v":"Room 06"},{"$f":"HLOOKUP($F41,UNWDF_Hangzhou_2023!$H$14:$S$16,3,FALSE)","v":200},"NA","NA","NA",{"$f":"IF(OR(L41=\"NA\",L41=\"E\"),\"NA\",IF(L41=\"Y\",COUNTIF($M$1:N40,N41)+1,COUNTIF($M$1:N40,N41)+1))","v":"NA"},"NA","NA","NA","Day1_Time_Slot2_Parallel 06",""]
[41,"Day1_Time_Slot2_Parallel 07","Day1_Time_Slot2",1,2,"Parallel 07",{"$f":"VLOOKUP($D$1&D42,UNWDF_Hangzhou_2023!A:F,5,FALSE)","v":"2023-04-25"},{"$f":"MID(VLOOKUP($D$1&D42&$E$1&E42,UNWDF_Hangzhou_2023!A:F,5,FALSE),1,SEARCH(\"(\",VLOOKUP($D$1&D42&$E$1&E42,UNWDF_Hangzhou_2023!A:F,5,FALSE))-2)","v":"09:00 - 10:30"},"1:30",{"$f":"HLOOKUP($F42,UNWDF_Hangzhou_2023!$H$14:$S$16,2,FALSE)","v":"Room 07"},{"$f":"HLOOKUP($F42,UNWDF_Hangzhou_2023!$H$14:$S$16,3,FALSE)","v":100},"NA","NA","NA",{"$f":"IF(OR(L42=\"NA\",L42=\"E\"),\"NA\",IF(L42=\"Y\",COUNTIF($M$1:N41,N42)+1,COUNTIF($M$1:N41,N42)+1))","v":"NA"},"NA","NA","NA","Day1_Time_Slot2_Parallel 07",""]
[42,"Day1_Time_Slot2_Parallel 08","Day1_Time_Slot2",1,2,"Parallel 08",{"$f":"VLOOKUP($D$1&D43,UNWDF_Hangzhou_2023!A:F,5,FALSE)","v":"2023-04-25"},{"$f":"MID(VLOOKUP($D$1&D43&$E$1&E43,UNWDF_Hangzhou_2023!A:F,5,FALSE),1,SEARCH(\"(\",VLOOKUP($D$1&D43&$E$1&E43,UNWDF_Hangzhou_2023!A:F,5,FALSE))-2)","v":"09:00 - 10:30"},"1:30",{"$f":"HLOOKUP($F43,UNWDF_Hangzhou_2023!$H$14:$S$16,2,FALSE)","v":"Room 08"},{"$f":"HLOOKUP($F43,UNWDF_Hangzhou_2023!$H$14:$S$16,3,FALSE)","v":100},"NA","NA","NA",{"$f":"IF(OR(L43=\"NA\",L43=\"E\"),\"NA\",IF(L43=\"Y\",COUNTIF($M$1:N42,N43)+1,COUNTIF($M$1:N42,N43)+1))","v":"NA"},"NA","NA","NA","Day1_Time_Slot2_Parallel 08",""]
[43,"Day1_Time_Slot2_Parallel 09","Day1_Time_Slot2",1,2,"Parallel 09",{"$f":"VLOOKUP($D$1&D44,UNWDF_Hangzhou_2023!A:F,5,FALSE)","v":"2023-04-25"},{"$f":"MID(VLOOKUP($D$1&D44&$E$1&E44,UNWDF_Hangzhou_2023!A:F,5,FALSE),1,SEARCH(\"(\",VLOOKUP($D$1&D44&$E$1&E44,UNWDF_Hangzhou_2023!A:F,5,FALSE))-2)","v":"09:00 - 10:30"},"1:30",{"$f":"HLOOKUP($F44,UNWDF_Hangzhou_2023!$H$14:$S$16,2,FALSE)","v":"Room 09"},{"$f":"HLOOKUP($F44,UNWDF_Hangzhou_2023!$H$14:$S$16,3,FALSE)","v":100},"NA","NA","NA",{"$f":"IF(OR(L44=\"NA\",L44=\"E\"),\"NA\",IF(L44=\"Y\",COUNTIF($M$1:N43,N44)+1,COUNTIF($M$1:N43,N44)+1))","v":"NA"},"NA","NA","NA","Day1_Time_Slot2_Parallel 09",""]
[44,"Day1_Time_Slot2_Parallel 10","Day1_Time_Slot2",1,2,"Parallel 10",{"$f":"VLOOKUP($D$1&D45,UNWDF_Hangzhou_2023!A:F,5,FALSE)","v":"2023-04-25"},{"$f":"MID(VLOOKUP($D$1&D45&$E$1&E45,UNWDF_Hangzhou_2023!A:F,5,FALSE),1,SEARCH(\"(\",VLOOKUP($D$1&D45&$E$1&E45,UNWDF_Hangzhou_2023!A:F,5,FALSE))-2)","v":"09:00 - 10:30"},"1:30",{"$f":"HLOOKUP($F45,UNWDF_Hangzhou_2023!$H$14:$S$16,2,FALSE)","v":"LEARNING LABS 1"},{"$f":"HLOOKUP($F45,UNWDF_Hangzhou_2023!$H$14:$S$16,3,FALSE)","v":100},"NA","NA","NA",{"$f":"IF(OR(L45=\"NA\",L45=\"E\"),\"NA\",IF(L45=\"Y\",COUNTIF($M$1:N44,N45)+1,COUNTIF($M$1:N44,N45)+1))","v":"NA"},"NA","NA","NA","Day1_Time_Slot2_Parallel 10",""]
[45,"Day1_Time_Slot2_Parallel 11","Day1_Time_Slot2",1,2,"Parallel 11",{"$f":"VLOOKUP($D$1&D46,UNWDF_Hangzhou_2023!A:F,5,FALSE)","v":"2023-04-25"},{"$f":"MID(VLOOKUP($D$1&D46&$E$1&E46,UNWDF_Hangzhou_2023!A:F,5,FALSE),1,SEARCH(\"(\",VLOOKUP($D$1&D46&$E$1&E46,UNWDF_Hangzhou_2023!A:F,5,FALSE))-2)","v":"09:00 - 10:30"},"1:30",{"$f":"HLOOKUP($F46,UNWDF_Hangzhou_2023!$H$14:$S$16,2,FALSE)","v":"LEARNING LABS 2"},{"$f":"HLOOKUP($F46,UNWDF_Hangzhou_2023!$H$14:$S$16,3,FALSE)","v":100},"NA","NA","NA",{"$f":"IF(OR(L46=\"NA\",L46=\"E\"),\"NA\",IF(L46=\"Y\",COUNTIF($M$1:N45,N46)+1,COUNTIF($M$1:N45,N46)+1))","v":"NA"},"NA","NA","NA","Day1_Time_Slot2_Parallel 11",""]
[46,"Day1_Time_Slot2_Parallel 12","Day1_Time_Slot2",1,2,"Parallel 12",{"$f":"VLOOKUP($D$1&D47,UNWDF_Hangzhou_2023!A:F,5,FALSE)","v":"2023-04-25"},{"$f":"MID(VLOOKUP($D$1&D47&$E$1&E47,UNWDF_Hangzhou_2023!A:F,5,FALSE),1,SEARCH(\"(\",VLOOKUP($D$1&D47&$E$1&E47,UNWDF_Hangzhou_2023!A:F,5,FALSE))-2)","v":"09:00 - 10:30"},"1:30",{"$f":"HLOOKUP($F47,UNWDF_Hangzhou_2023!$H$14:$S$16,2,FALSE)","v":"DEMOS SPACE"},{"$f":"HLOOKUP($F47,UNWDF_Hangzhou_2023!$H$14:$S$16,3,FALSE)","v":100},"NA","NA","NA",{"$f":"IF(OR(L47=\"NA\",L47=\"E\"),\"NA\",IF(L47=\"Y\",COUNTIF($M$1:N46,N47)+1,COUNTIF($M$1:N46,N47)+1))","v":"NA"},"NA","NA","NA","Day1_Time_Slot2_Parallel 12",""]
[47,"Day1_Time_Slot3_Parallel 01","Day1_Time_Slot3",1,3,"Parallel 01",{"$f":"VLOOKUP($D$1&D48,UNWDF_Hangzhou_2023!A:F,5,FALSE)","v":"2023-04-25"},{"$f":"MID(VLOOKUP($D$1&D48&$E$1&E48,UNWDF_Hangzhou_2023!A:F,5,FALSE),1,SEARCH(\"(\",VLOOKUP($D$1&D48&$E$1&E48,UNWDF_Hangzhou_2023!A:F,5,FALSE))-2)","v":"11:00 - 12:00"},"1:00",{"$f":"HLOOKUP($F48,UNWDF_Hangzhou_2023!$H$14:$S$16,2,FALSE)","v":"Room 01"},{"$f":"HLOOKUP($F48,UNWDF_Hangzhou_2023!$H$14:$S$16,3,FALSE)","v":2000},"NA","NA","NA",{"$f":"IF(OR(L48=\"NA\",L48=\"E\"),\"NA\",IF(L48=\"Y\",COUNTIF($M$1:N47,N48)+1,COUNTIF($M$1:N47,N48)+1))","v":"NA"},"NA","NA","NA","Day1_Time_Slot3_Parallel 01",""]
[48,"Day1_Time_Slot4_Parallel 01","Day1_Time_Slot4",1,4,"Parallel 01",{"$f":"VLOOKUP($D$1&D49,UNWDF_Hangzhou_2023!A:F,5,FALSE)","v":"2023-04-25"},{"$f":"MID(VLOOKUP($D$1&D49&$E$1&E49,UNWDF_Hangzhou_2023!A:F,5,FALSE),1,SEARCH(\"(\",VLOOKUP($D$1&D49&$E$1&E49,UNWDF_Hangzhou_2023!A:F,5,FALSE))-2)","v":"13:30 - 14:30"},"1:00",{"$f":"HLOOKUP($F49,UNWDF_Hangzhou_2023!$H$14:$S$16,2,FALSE)","v":"Room 01"},{"$f":"HLOOKUP($F49,UNWDF_Hangzhou_2023!$H$14:$S$16,3,FALSE)","v":2000},"N","P.2-362826",2,{"$f":"IF(OR(L49=\"NA\",L49=\"E\"),\"NA\",IF(L49=\"Y\",COUNTIF($M$1:N48,N49)+1,COUNTIF($M$1:N48,N49)+1))","v":2},"TA2.12","Overcoming Data Graveyards: Country Insights on Advancing Data Use, Uptake, and Impact","Sustainable Development Solutions Network (SDSN); Open Data Watch (ODW)","Day1_Time_Slot4_Parallel 01",""]
[49,"Day1_Time_Slot5_Parallel 01","Day1_Time_Slot5",1,5,"Parallel 01",{"$f":"VLOOKUP($D$1&D50,UNWDF_Hangzhou_2023!A:F,5,FALSE)","v":"2023-04-25"},{"$f":"MID(VLOOKUP($D$1&D50&$E$1&E50,UNWDF_Hangzhou_2023!A:F,5,FALSE),1,SEARCH(\"(\",VLOOKUP($D$1&D50&$E$1&E50,UNWDF_Hangzhou_2023!A:F,5,FALSE))-2)","v":"15:00 - 16:00"},"1:00",{"$f":"HLOOKUP($F50,UNWDF_Hangzhou_2023!$H$14:$S$16,2,FALSE)","v":"Room 01"},{"$f":"HLOOKUP($F50,UNWDF_Hangzhou_2023!$H$14:$S$16,3,FALSE)","v":2000},"NA","NA","NA",{"$f":"IF(OR(L50=\"NA\",L50=\"E\"),\"NA\",IF(L50=\"Y\",COUNTIF($M$1:N49,N50)+1,COUNTIF($M$1:N49,N50)+1))","v":"NA"},"NA","NA","NA","Day1_Time_Slot5_Parallel 01",""]
[50,"Day1_Time_Slot6_Parallel 02","Day1_Time_Slot6",1,6,"Parallel 02",{"$f":"VLOOKUP($D$1&D51,UNWDF_Hangzhou_2023!A:F,5,FALSE)","v":"2023-04-25"},{"$f":"MID(VLOOKUP($D$1&D51&$E$1&E51,UNWDF_Hangzhou_2023!A:F,5,FALSE),1,SEARCH(\"(\",VLOOKUP($D$1&D51&$E$1&E51,UNWDF_Hangzhou_2023!A:F,5,FALSE))-2)","v":"16:15 - 17:30"},"1:15",{"$f":"HLOOKUP($F51,UNWDF_Hangzhou_2023!$H$14:$S$16,2,FALSE)","v":"Room 02"},{"$f":"HLOOKUP($F51,UNWDF_Hangzhou_2023!$H$14:$S$16,3,FALSE)","v":200},"NA","NA","NA",{"$f":"IF(OR(L51=\"NA\",L51=\"E\"),\"NA\",IF(L51=\"Y\",COUNTIF($M$1:N50,N51)+1,COUNTIF($M$1:N50,N51)+1))","v":"NA"},"NA","NA","NA","Day1_Time_Slot6_Parallel 02",""]
[51,"Day1_Time_Slot6_Parallel 03","Day1_Time_Slot6",1,6,"Parallel 03",{"$f":"VLOOKUP($D$1&D52,UNWDF_Hangzhou_2023!A:F,5,FALSE)","v":"2023-04-25"},{"$f":"MID(VLOOKUP($D$1&D52&$E$1&E52,UNWDF_Hangzhou_2023!A:F,5,FALSE),1,SEARCH(\"(\",VLOOKUP($D$1&D52&$E$1&E52,UNWDF_Hangzhou_2023!A:F,5,FALSE))-2)","v":"16:15 - 17:30"},"1:15",{"$f":"HLOOKUP($F52,UNWDF_Hangzhou_2023!$H$14:$S$16,2,FALSE)","v":"Room 03"},{"$f":"HLOOKUP($F52,UNWDF_Hangzhou_2023!$H$14:$S$16,3,FALSE)","v":200},"NA","NA","NA",{"$f":"IF(OR(L52=\"NA\",L52=\"E\"),\"NA\",IF(L52=\"Y\",COUNTIF($M$1:N51,N52)+1,COUNTIF($M$1:N51,N52)+1))","v":"NA"},"NA","NA","NA","Day1_Time_Slot6_Parallel 03",""]
[52,"Day1_Time_Slot6_Parallel 04","Day1_Time_Slot6",1,6,"Parallel 04",{"$f":"VLOOKUP($D$1&D53,UNWDF_Hangzhou_2023!A:F,5,FALSE)","v":"2023-04-25"},{"$f":"MID(VLOOKUP($D$1&D53&$E$1&E53,UNWDF_Hangzhou_2023!A:F,5,FALSE),1,SEARCH(\"(\",VLOOKUP($D$1&D53&$E$1&E53,UNWDF_Hangzhou_2023!A:F,5,FALSE))-2)","v":"16:15 - 17:30"},"1:15",{"$f":"HLOOKUP($F53,UNWDF_Hangzhou_2023!$H$14:$S$16,2,FALSE)","v":"Room 04"},{"$f":"HLOOKUP($F53,UNWDF_Hangzhou_2023!$H$14:$S$16,3,FALSE)","v":200},"NA","NA","NA",{"$f":"IF(OR(L53=\"NA\",L53=\"E\"),\"NA\",IF(L53=\"Y\",COUNTIF($M$1:N52,N53)+1,COUNTIF($M$1:N52,N53)+1))","v":"NA"},"NA","NA","NA","Day1_Time_Slot6_Parallel 04",""]
[53,"Day1_Time_Slot6_Parallel 05","Day1_Time_Slot6",1,6,"Parallel 05",{"$f":"VLOOKUP($D$1&D54,UNWDF_Hangzhou_2023!A:F,5,FALSE)","v":"2023-04-25"},{"$f":"MID(VLOOKUP($D$1&D54&$E$1&E54,UNWDF_Hangzhou_2023!A:F,5,FALSE),1,SEARCH(\"(\",VLOOKUP($D$1&D54&$E$1&E54,UNWDF_Hangzhou_2023!A:F,5,FALSE))-2)","v":"16:15 - 17:30"},"1:15",{"$f":"HLOOKUP($F54,UNWDF_Hangzhou_2023!$H$14:$S$16,2,FALSE)","v":"Room 05"},{"$f":"HLOOKUP($F54,UNWDF_Hangzhou_2023!$H$14:$S$16,3,FALSE)","v":200},"NA","NA","NA",{"$f":"IF(OR(L54=\"NA\",L54=\"E\"),\"NA\",IF(L54=\"Y\",COUNTIF($M$1:N53,N54)+1,COUNTIF($M$1:N53,N54)+1))","v":"NA"},"NA","NA","NA","Day1_Time_Slot6_Parallel 05",""]
[54,"Day1_Time_Slot6_Parallel 06","Day1_Time_Slot6",1,6,"Parallel 06",{"$f":"VLOOKUP($D$1&D55,UNWDF_Hangzhou_2023!A:F,5,FALSE)","v":"2023-04-25"},{"$f":"MID(VLOOKUP($D$1&D55&$E$1&E55,UNWDF_Hangzhou_2023!A:F,5,FALSE),1,SEARCH(\"(\",VLOOKUP($D$1&D55&$E$1&E55,UNWDF_Hangzhou_2023!A:F,5,FALSE))-2)","v":"16:15 - 17:30"},"1:15",{"$f":"HLOOKUP($F55,UNWDF_Hangzhou_2023!$H$14:$S$16,2,FALSE)","v":"Room 06"},{"$f":"HLOOKUP($F55,UNWDF_Hangzhou_2023!$H$14:$S$16,3,FALSE)","v":200},"NA","NA","NA",{"$f":"IF(OR(L55=\"NA\",L55=\"E\"),\"NA\",IF(L55=\"Y\",COUNTIF($M$1:N54,N55)+1,COUNTIF($M$1:N54,N55)+1))","v":"NA"},"NA","NA","NA","Day1_Time_Slot6_Parallel 06",""]
[55,"Day1_Time_Slot6_Parallel 07","Day1_Time_Slot6",1,6,"Parallel 07",{"$f":"VLOOKUP($D$1&D56,UNWDF_Hangzhou_2023!A:F,5,FALSE)","v":"2023-04-25"},{"$f":"MID(VLOOKUP($D$1&D56&$E$1&E56,UNWDF_Hangzhou_2023!A:F,5,FALSE),1,SEARCH(\"(\",VLOOKUP($D$1&D56&$E$1&E56,UNWDF_Hangzhou_2023!A:F,5,FALSE))-2)","v":"16:15 - 17:30"},"1:15",{"$f":"HLOOKUP($F56,UNWDF_Hangzhou_2023!$H$14:$S$16,2,FALSE)","v":"Room 07"},{"$f":"HLOOKUP($F56,UNWDF_Hangzhou_2023!$H$14:$S$16,3,FALSE)","v":100},"NA","NA","NA",{"$f":"IF(OR(L56=\"NA\",L56=\"E\"),\"NA\",IF(L56=\"Y\",COUNTIF($M$1:N55,N56)+1,COUNTIF($M$1:N55,N56)+1))","v":"NA"},"NA","NA","NA","Day1_Time_Slot6_Parallel 07",""]
[56,"Day1_Time_Slot6_Parallel 08","Day1_Time_Slot6",1,6,"Parallel 08",{"$f":"VLOOKUP($D$1&D57,UNWDF_Hangzhou_2023!A:F,5,FALSE)","v":"2023-04-25"},{"$f":"MID(VLOOKUP($D$1&D57&$E$1&E57,UNWDF_Hangzhou_2023!A:F,5,FALSE),1,SEARCH(\"(\",VLOOKUP($D$1&D57&$E$1&E57,UNWDF_Hangzhou_2023!A:F,5,FALSE))-2)","v":"16:15 - 17:30"},"1:15",{"$f":"HLOOKUP($F57,UNWDF_Hangzhou_2023!$H$14:$S$16,2,FALSE)","v":"Room 08"},{"$f":"HLOOKUP($F57,UNWDF_Hangzhou_2023!$H$14:$S$16,3,FALSE)","v":100},"NA","NA","NA",{"$f":"IF(OR(L57=\"NA\",L57=\"E\"),\"NA\",IF(L57=\"Y\",COUNTIF($M$1:N56,N57)+1,COUNTIF($M$1:N56,N57)+1))","v":"NA"},"NA","NA","NA","Day1_Time_Slot6_Parallel 08",""]
[57,"Day1_Time_Slot6_Parallel 09","Day1_Time_Slot6",1,6,"Parallel 09",{"$f":"VLOOKUP($D$1&D58,UNWDF_Hangzhou_2023!A:F,5,FALSE)","v":"2023-04-25"},{"$f":"MID(VLOOKUP($D$1&D58&$E$1&E58,UNWDF_Hangzhou_2023!A:F,5,FALSE),1,SEARCH(\"(\",VLOOKUP($D$1&D58&$E$1&E58,UNWDF_Hangzhou_2023!A:F,5,FALSE))-2)","v":"16:15 - 17:30"},"1:15",{"$f":"HLOOKUP($F58,UNWDF_Hangzhou_2023!$H$14:$S$16,2,FALSE)","v":"Room 09"},{"$f":"HLOOKUP($F58,UNWDF_Hangzhou_2023!$H$14:$S$16,3,FALSE)","v":100},"NA","NA","NA",{"$f":"IF(OR(L58=\"NA\",L58=\"E\"),\"NA\",IF(L58=\"Y\",COUNTIF($M$1:N57,N58)+1,COUNTIF($M$1:N57,N58)+1))","v":"NA"},"NA","NA","NA","Day1_Time_Slot6_Parallel 09",""]
[58,"Day1_Time_Slot6_Parallel 10","Day1_Time_Slot6",1,6,"Parallel 10",{"$f":"VLOOKUP($D$1&D59,UNWDF_Hangzhou_2023!A:F,5,FALSE)","v":"2023-04-25"},{"$f":"MID(VLOOKUP($D$1&D59&$E$1&E59,UNWDF_Hangzhou_2023!A:F,5,FALSE),1,SEARCH(\"(\",VLOOKUP($D$1&D59&$E$1&E59,UNWDF_Hangzhou_2023!A:F,5,FALSE))-2)","v":"16:15 - 17:30"},"1:15",{"$f":"HLOOKUP($F59,UNWDF_Hangzhou_2023!$H$14:$S$16,2,FALSE)","v":"LEARNING LABS 1"},{"$f":"HLOOKUP($F59,UNWDF_Hangzhou_2023!$H$14:$S$16,3,FALSE)","v":100},"NA","NA","NA",{"$f":"IF(OR(L59=\"NA\",L59=\"E\"),\"NA\",IF(L59=\"Y\",COUNTIF($M$1:N58,N59)+1,COUNTIF($M$1:N58,N59)+1))","v":"NA"},"NA","NA","NA","Day1_Time_Slot6_Parallel 10",""]
[59,"Day1_Time_Slot6_Parallel 11","Day1_Time_Slot6",1,6,"Parallel 11",{"$f":"VLOOKUP($D$1&D60,UNWDF_Hangzhou_2023!A:F,5,FALSE)","v":"2023-04-25"},{"$f":"MID(VLOOKUP($D$1&D60&$E$1&E60,UNWDF_Hangzhou_2023!A:F,5,FALSE),1,SEARCH(\"(\",VLOOKUP($D$1&D60&$E$1&E60,UNWDF_Hangzhou_2023!A:F,5,FALSE))-2)","v":"16:15 - 17:30"},"1:15",{"$f":"HLOOKUP($F60,UNWDF_Hangzhou_2023!$H$14:$S$16,2,FALSE)","v":"LEARNING LABS 2"},{"$f":"HLOOKUP($F60,UNWDF_Hangzhou_2023!$H$14:$S$16,3,FALSE)","v":100},"NA","NA","NA",{"$f":"IF(OR(L60=\"NA\",L60=\"E\"),\"NA\",IF(L60=\"Y\",COUNTIF($M$1:N59,N60)+1,COUNTIF($M$1:N59,N60)+1))","v":"NA"},"NA","NA","NA","Day1_Time_Slot6_Parallel 11",""]
[60,"Day1_Time_Slot6_Parallel 12","Day1_Time_Slot6",1,6,"Parallel 12",{"$f":"VLOOKUP($D$1&D61,UNWDF_Hangzhou_2023!A:F,5,FALSE)","v":"2023-04-25"},{"$f":"MID(VLOOKUP($D$1&D61&$E$1&E61,UNWDF_Hangzhou_2023!A:F,5,FALSE),1,SEARCH(\"(\",VLOOKUP($D$1&D61&$E$1&E61,UNWDF_Hangzhou_2023!A:F,5,FALSE))-2)","v":"16:15 - 17:30"},"1:15",{"$f":"HLOOKUP($F61,UNWDF_Hangzhou_2023!$H$14:$S$16,2,FALSE)","v":"DEMOS SPACE"},{"$f":"HLOOKUP($F61,UNWDF_Hangzhou_2023!$H$14:$S$16,3,FALSE)","v":100},"NA","NA","NA",{"$f":"IF(OR(L61=\"NA\",L61=\"E\"),\"NA\",IF(L61=\"Y\",COUNTIF($M$1:N60,N61)+1,COUNTIF($M$1:N60,N61)+1))","v":"NA"},"NA","NA","NA","Day1_Time_Slot6_Parallel 12",""]
[61,"Day2_Time_Slot1_Parallel 02","Day2_Time_Slot1",2,1,"Parallel 02",{"$f":"VLOOKUP($D$1&D62,UNWDF_Hangzhou_2023!A:F,5,FALSE)","v":"2023-04-26"},{"$f":"MID(VLOOKUP($D$1&D62&$E$1&E62,UNWDF_Hangzhou_2023!A:F,5,FALSE),1,SEARCH(\"(\",VLOOKUP($D$1&D62&$E$1&E62,UNWDF_Hangzhou_2023!A:F,5,FALSE))-2)","v":"09:00 - 10:15"},"1:15",{"$f":"HLOOKUP($F62,UNWDF_Hangzhou_2023!$H$14:$S$16,2,FALSE)","v":"Room 02"},{"$f":"HLOOKUP($F62,UNWDF_Hangzhou_2023!$H$14:$S$16,3,FALSE)","v":200},"NA","NA","NA",{"$f":"IF(OR(L62=\"NA\",L62=\"E\"),\"NA\",IF(L62=\"Y\",COUNTIF($M$1:N61,N62)+1,COUNTIF($M$1:N61,N62)+1))","v":"NA"},"NA","NA","NA","Day2_Time_Slot1_Parallel 02",""]
[62,"Day2_Time_Slot1_Parallel 03","Day2_Time_Slot1",2,1,"Parallel 03",{"$f":"VLOOKUP($D$1&D63,UNWDF_Hangzhou_2023!A:F,5,FALSE)","v":"2023-04-26"},{"$f":"MID(VLOOKUP($D$1&D63&$E$1&E63,UNWDF_Hangzhou_2023!A:F,5,FALSE),1,SEARCH(\"(\",VLOOKUP($D$1&D63&$E$1&E63,UNWDF_Hangzhou_2023!A:F,5,FALSE))-2)","v":"09:00 - 10:15"},"1:15",{"$f":"HLOOKUP($F63,UNWDF_Hangzhou_2023!$H$14:$S$16,2,FALSE)","v":"Room 03"},{"$f":"HLOOKUP($F63,UNWDF_Hangzhou_2023!$H$14:$S$16,3,FALSE)","v":200},"NA","NA","NA",{"$f":"IF(OR(L63=\"NA\",L63=\"E\"),\"NA\",IF(L63=\"Y\",COUNTIF($M$1:N62,N63)+1,COUNTIF($M$1:N62,N63)+1))","v":"NA"},"NA","NA","NA","Day2_Time_Slot1_Parallel 03",""]
[63,"Day2_Time_Slot1_Parallel 04","Day2_Time_Slot1",2,1,"Parallel 04",{"$f":"VLOOKUP($D$1&D64,UNWDF_Hangzhou_2023!A:F,5,FALSE)","v":"2023-04-26"},{"$f":"MID(VLOOKUP($D$1&D64&$E$1&E64,UNWDF_Hangzhou_2023!A:F,5,FALSE),1,SEARCH(\"(\",VLOOKUP($D$1&D64&$E$1&E64,UNWDF_Hangzhou_2023!A:F,5,FALSE))-2)","v":"09:00 - 10:15"},"1:15",{"$f":"HLOOKUP($F64,UNWDF_Hangzhou_2023!$H$14:$S$16,2,FALSE)","v":"Room 04"},{"$f":"HLOOKUP($F64,UNWDF_Hangzhou_2023!$H$14:$S$16,3,FALSE)","v":200},"NA","NA","NA",{"$f":"IF(OR(L64=\"NA\",L64=\"E\"),\"NA\",IF(L64=\"Y\",COUNTIF($M$1:N63,N64)+1,COUNTIF($M$1:N63,N64)+1))","v":"NA"},"NA","NA","NA","Day2_Time_Slot1_Parallel 04",""]
[64,"Day2_Time_Slot1_Parallel 05","Day2_Time_Slot1",2,1,"Parallel 05",{"$f":"VLOOKUP($D$1&D65,UNWDF_Hangzhou_2023!A:F,5,FALSE)","v":"2023-04-26"},{"$f":"MID(VLOOKUP($D$1&D65&$E$1&E65,UNWDF_Hangzhou_2023!A:F,5,FALSE),1,SEARCH(\"(\",VLOOKUP($D$1&D65&$E$1&E65,UNWDF_Hangzhou_2023!A:F,5,FALSE))-2)","v":"09:00 - 10:15"},"1:15",{"$f":"HLOOKUP($F65,UNWDF_Hangzhou_2023!$H$14:$S$16,2,FALSE)","v":"Room 05"},{"$f":"HLOOKUP($F65,UNWDF_Hangzhou_2023!$H$14:$S$16,3,FALSE)","v":200},"NA","NA","NA",{"$f":"IF(OR(L65=\"NA\",L65=\"E\"),\"NA\",IF(L65=\"Y\",COUNTIF($M$1:N64,N65)+1,COUNTIF($M$1:N64,N65)+1))","v":"NA"},"NA","NA","NA","Day2_Time_Slot1_Parallel 05",""]
[65,{"$f":"C66&\"_\"&F66","v":"Day2_Time_Slot1_Parallel 06"},{"$f":"$D$1&D66&\"_\"&$E$1&E66","v":"Day2_Time_Slot1"},2,1,"Parallel 06",{"$f":"VLOOKUP($D$1&D66,UNWDF_Hangzhou_2023!A:F,5,FALSE)","v":"2023-04-26"},{"$f":"MID(VLOOKUP($D$1&D66&$E$1&E66,UNWDF_Hangzhou_2023!A:F,5,FALSE),1,SEARCH(\"(\",VLOOKUP($D$1&D66&$E$1&E66,UNWDF_Hangzhou_2023!A:F,5,FALSE))-2)","v":"09:00 - 10:15"},{"$f":"TEXT(MID(H66,SEARCH(\"-\",H66)+2,LEN(H66)-SEARCH(\"-\",H66)-1)-MID(H66,1,SEARCH(\"-\",H66)-1),\"h:mm\")","v":"1:15"},{"$f":"HLOOKUP($F66,UNWDF_Hangzhou_2023!$H$14:$S$16,2,FALSE)","v":"Room 06"},{"$f":"HLOOKUP($F66,UNWDF_Hangzhou_2023!$H$14:$S$16,3,FALSE)","v":200},"NA","NA","NA",{"$f":"IF(OR(L66=\"NA\",L66=\"E\"),\"NA\",IF(L66=\"Y\",COUNTIF($M$1:N65,N66)+1,COUNTIF($M$1:N65,N66)+1))","v":"NA"},{"$f":"IF(N66=\"NA\",\"NA\",\"TA\"&N66&\".\"&TEXT(O66,\"0#\"))","v":"NA"},"NA","NA",{"$f":"B66","v":"Day2_Time_Slot1_Parallel 06"},""]
[66,"Day2_Time_Slot1_Parallel 07","Day2_Time_Slot1",2,1,"Parallel 07",{"$f":"VLOOKUP($D$1&D67,UNWDF_Hangzhou_2023!A:F,5,FALSE)","v":"2023-04-26"},{"$f":"MID(VLOOKUP($D$1&D67&$E$1&E67,UNWDF_Hangzhou_2023!A:F,5,FALSE),1,SEARCH(\"(\",VLOOKUP($D$1&D67&$E$1&E67,UNWDF_Hangzhou_2023!A:F,5,FALSE))-2)","v":"09:00 - 10:15"},"1:15",{"$f":"HLOOKUP($F67,UNWDF_Hangzhou_2023!$H$14:$S$16,2,FALSE)","v":"Room 07"},{"$f":"HLOOKUP($F67,UNWDF_Hangzhou_2023!$H$14:$S$16,3,FALSE)","v":100},"NA","NA","NA",{"$f":"IF(OR(L67=\"NA\",L67=\"E\"),\"NA\",IF(L67=\"Y\",COUNTIF($M$1:N66,N67)+1,COUNTIF($M$1:N66,N67)+1))","v":"NA"},"NA","NA","NA","Day2_Time_Slot1_Parallel 07",""]
[67,"Day2_Time_Slot1_Parallel 08","Day2_Time_Slot1",2,1,"Parallel 08",{"$f":"VLOOKUP($D$1&D68,UNWDF_Hangzhou_2023!A:F,5,FALSE)","v":"2023-04-26"},{"$f":"MID(VLOOKUP($D$1&D68&$E$1&E68,UNWDF_Hangzhou_2023!A:F,5,FALSE),1,SEARCH(\"(\",VLOOKUP($D$1&D68&$E$1&E68,UNWDF_Hangzhou_2023!A:F,5,FALSE))-2)","v":"09:00 - 10:15"},"1:15",{"$f":"HLOOKUP($F68,UNWDF_Hangzhou_2023!$H$14:$S$16,2,FALSE)","v":"Room 08"},{"$f":"HLOOKUP($F68,UNWDF_Hangzhou_2023!$H$14:$S$16,3,FALSE)","v":100},"NA","NA","NA",{"$f":"IF(OR(L68=\"NA\",L68=\"E\"),\"NA\",IF(L68=\"Y\",COUNTIF($M$1:N67,N68)+1,COUNTIF($M$1:N67,N68)+1))","v":"NA"},"NA","NA","NA","Day2_Time_Slot1_Parallel 08",""]
[68,"Day2_Time_Slot1_Parallel 09","Day2_Time_Slot1",2,1,"Parallel 09",{"$f":"VLOOKUP($D$1&D69,UNWDF_Hangzhou_2023!A:F,5,FALSE)","v":"2023-04-26"},{"$f":"MID(VLOOKUP($D$1&D69&$E$1&E69,UNWDF_Hangzhou_2023!A:F,5,FALSE),1,SEARCH(\"(\",VLOOKUP($D$1&D69&$E$1&E69,UNWDF_Hangzhou_2023!A:F,5,FALSE))-2)","v":"09:00 - 10:15"},"1:15",{"$f":"HLOOKUP($F69,UNWDF_Hangzhou_2023!$H$14:$S$16,2,FALSE)","v":"Room 09"},{"$f":"HLOOKUP($F69,UNWDF_Hangzhou_2023!$H$14:$S$16,3,FALSE)","v":100},"NA","NA","NA",{"$f":"IF(OR(L69=\"NA\",L69=\"E\"),\"NA\",IF(L69=\"Y\",COUNTIF($M$1:N68,N69)+1,COUNTIF($M$1:N68,N69)+1))","v":"NA"},"NA","NA","NA","Day2_Time_Slot1_Parallel 09",""]
[69,"Day2_Time_Slot1_Parallel 10","Day2_Time_Slot1",2,1,"Parallel 10",{"$f":"VLOOKUP($D$1&D70,UNWDF_Hangzhou_2023!A:F,5,FALSE)","v":"2023-04-26"},{"$f":"MID(VLOOKUP($D$1&D70&$E$1&E70,UNWDF_Hangzhou_2023!A:F,5,FALSE),1,SEARCH(\"(\",VLOOKUP($D$1&D70&$E$1&E70,UNWDF_Hangzhou_2023!A:F,5,FALSE))-2)","v":"09:00 - 10:15"},"1:15",{"$f":"HLOOKUP($F70,UNWDF_Hangzhou_2023!$H$14:$S$16,2,FALSE)","v":"LEARNING LABS 1"},{"$f":"HLOOKUP($F70,UNWDF_Hangzhou_2023!$H$14:$S$16,3,FALSE)","v":100},"NA","NA","NA",{"$f":"IF(OR(L70=\"NA\",L70=\"E\"),\"NA\",IF(L70=\"Y\",COUNTIF($M$1:N69,N70)+1,COUNTIF($M$1:N69,N70)+1))","v":"NA"},"NA","NA","NA","Day2_Time_Slot1_Parallel 10",""]
[70,"Day2_Time_Slot1_Parallel 11","Day2_Time_Slot1",2,1,"Parallel 11",{"$f":"VLOOKUP($D$1&D71,UNWDF_Hangzhou_2023!A:F,5,FALSE)","v":"2023-04-26"},{"$f":"MID(VLOOKUP($D$1&D71&$E$1&E71,UNWDF_Hangzhou_2023!A:F,5,FALSE),1,SEARCH(\"(\",VLOOKUP($D$1&D71&$E$1&E71,UNWDF_Hangzhou_2023!A:F,5,FALSE))-2)","v":"09:00 - 10:15"},"1:15",{"$f":"HLOOKUP($F71,UNWDF_Hangzhou_2023!$H$14:$S$16,2,FALSE)","v":"LEARNING LABS 2"},{"$f":"HLOOKUP($F71,UNWDF_Hangzhou_2023!$H$14:$S$16,3,FALSE)","v":100},"NA","NA","NA",{"$f":"IF(OR(L71=\"NA\",L71=\"E\"),\"NA\",IF(L71=\"Y\",COUNTIF($M$1:N70,N71)+1,COUNTIF($M$1:N70,N71)+1))","v":"NA"},"NA","NA","NA","Day2_Time_Slot1_Parallel 11",""]
[71,"Day2_Time_Slot1_Parallel 12","Day2_Time_Slot1",2,1,"Parallel 12",{"$f":"VLOOKUP($D$1&D72,UNWDF_Hangzhou_2023!A:F,5,FALSE)","v":"2023-04-26"},{"$f":"MID(VLOOKUP($D$1&D72&$E$1&E72,UNWDF_Hangzhou_2023!A:F,5,FALSE),1,SEARCH(\"(\",VLOOKUP($D$1&D72&$E$1&E72,UNWDF_Hangzhou_2023!A:F,5,FALSE))-2)","v":"09:00 - 10:15"},"1:15",{"$f":"HLOOKUP($F72,UNWDF_Hangzhou_2023!$H$14:$S$16,2,FALSE)","v":"DEMOS SPACE"},{"$f":"HLOOKUP($F72,UNWDF_Hangzhou_2023!$H$14:$S$16,3,FALSE)","v":100},"NA","NA","NA",{"$f":"IF(OR(L72=\"NA\",L72=\"E\"),\"NA\",IF(L72=\"Y\",COUNTIF($M$1:N71,N72)+1,COUNTIF($M$1:N71,N72)+1))","v":"NA"},"NA","NA","NA","Day2_Time_Slot1_Parallel 12",""]
[72,"Day2_Time_Slot2_Parallel 01","Day2_Time_Slot2",2,2,"Parallel 01",{"$f":"VLOOKUP($D$1&D73,UNWDF_Hangzhou_2023!A:F,5,FALSE)","v":"2023-04-26"},{"$f":"MID(VLOOKUP($D$1&D73&$E$1&E73,UNWDF_Hangzhou_2023!A:F,5,FALSE),1,SEARCH(\"(\",VLOOKUP($D$1&D73&$E$1&E73,UNWDF_Hangzhou_2023!A:F,5,FALSE))-2)","v":"10:45 - 11:45"},"1:00",{"$f":"HLOOKUP($F73,UNWDF_Hangzhou_2023!$H$14:$S$16,2,FALSE)","v":"Room 01"},{"$f":"HLOOKUP($F73,UNWDF_Hangzhou_2023!$H$14:$S$16,3,FALSE)","v":2000},"NA","NA","NA",{"$f":"IF(OR(L73=\"NA\",L73=\"E\"),\"NA\",IF(L73=\"Y\",COUNTIF($M$1:N72,N73)+1,COUNTIF($M$1:N72,N73)+1))","v":"NA"},"NA","NA","NA","Day2_Time_Slot2_Parallel 01",""]
[73,"Day2_Time_Slot3_Parallel 01","Day2_Time_Slot3",2,3,"Parallel 01",{"$f":"VLOOKUP($D$1&D74,UNWDF_Hangzhou_2023!A:F,5,FALSE)","v":"2023-04-26"},{"$f":"MID(VLOOKUP($D$1&D74&$E$1&E74,UNWDF_Hangzhou_2023!A:F,5,FALSE),1,SEARCH(\"(\",VLOOKUP($D$1&D74&$E$1&E74,UNWDF_Hangzhou_2023!A:F,5,FALSE))-2)","v":"13:30 - 14:30"},"1:00",{"$f":"HLOOKUP($F74,UNWDF_Hangzhou_2023!$H$14:$S$16,2,FALSE)","v":"Room 01"},{"$f":"HLOOKUP($F74,UNWDF_Hangzhou_2023!$H$14:$S$16,3,FALSE)","v":2000},"NA","NA","NA",{"$f":"IF(OR(L74=\"NA\",L74=\"E\"),\"NA\",IF(L74=\"Y\",COUNTIF($M$1:N73,N74)+1,COUNTIF($M$1:N73,N74)+1))","v":"NA"},"NA","NA","NA","Day2_Time_Slot3_Parallel 01",""]
[74,"Day2_Time_Slot4_Parallel 01","Day2_Time_Slot4",2,4,"Parallel 01",{"$f":"VLOOKUP($D$1&D75,UNWDF_Hangzhou_2023!A:F,5,FALSE)","v":"2023-04-26"},{"$f":"MID(VLOOKUP($D$1&D75&$E$1&E75,UNWDF_Hangzhou_2023!A:F,5,FALSE),1,SEARCH(\"(\",VLOOKUP($D$1&D75&$E$1&E75,UNWDF_Hangzhou_2023!A:F,5,FALSE))-2)","v":"14:45 - 15:45"},"1:00",{"$f":"HLOOKUP($F75,UNWDF_Hangzhou_2023!$H$14:$S$16,2,FALSE)","v":"Room 01"},{"$f":"HLOOKUP($F75,UNWDF_Hangzhou_2023!$H$14:$S$16,3,FALSE)","v":2000},"NA","NA","NA",{"$f":"IF(OR(L75=\"NA\",L75=\"E\"),\"NA\",IF(L75=\"Y\",COUNTIF($M$1:N74,N75)+1,COUNTIF($M$1:N74,N75)+1))","v":"NA"},"NA","NA","NA","Day2_Time_Slot4_Parallel 01",""]
[75,"Day2_Time_Slot5_Parallel 02","Day2_Time_Slot5",2,5,"Parallel 02",{"$f":"VLOOKUP($D$1&D76,UNWDF_Hangzhou_2023!A:F,5,FALSE)","v":"2023-04-26"},{"$f":"MID(VLOOKUP($D$1&D76&$E$1&E76,UNWDF_Hangzhou_2023!A:F,5,FALSE),1,SEARCH(\"(\",VLOOKUP($D$1&D76&$E$1&E76,UNWDF_Hangzhou_2023!A:F,5,FALSE))-2)","v":"16:15 - 17:30"},"1:15",{"$f":"HLOOKUP($F76,UNWDF_Hangzhou_2023!$H$14:$S$16,2,FALSE)","v":"Room 02"},{"$f":"HLOOKUP($F76,UNWDF_Hangzhou_2023!$H$14:$S$16,3,FALSE)","v":200},"NA","NA","NA",{"$f":"IF(OR(L76=\"NA\",L76=\"E\"),\"NA\",IF(L76=\"Y\",COUNTIF($M$1:N75,N76)+1,COUNTIF($M$1:N75,N76)+1))","v":"NA"},"NA","NA","NA","Day2_Time_Slot5_Parallel 02",""]
[76,"Day2_Time_Slot5_Parallel 03","Day2_Time_Slot5",2,5,"Parallel 03",{"$f":"VLOOKUP($D$1&D77,UNWDF_Hangzhou_2023!A:F,5,FALSE)","v":"2023-04-26"},{"$f":"MID(VLOOKUP($D$1&D77&$E$1&E77,UNWDF_Hangzhou_2023!A:F,5,FALSE),1,SEARCH(\"(\",VLOOKUP($D$1&D77&$E$1&E77,UNWDF_Hangzhou_2023!A:F,5,FALSE))-2)","v":"16:15 - 17:30"},"1:15",{"$f":"HLOOKUP($F77,UNWDF_Hangzhou_2023!$H$14:$S$16,2,FALSE)","v":"Room 03"},{"$f":"HLOOKUP($F77,UNWDF_Hangzhou_2023!$H$14:$S$16,3,FALSE)","v":200},"NA","NA","NA",{"$f":"IF(OR(L77=\"NA\",L77=\"E\"),\"NA\",IF(L77=\"Y\",COUNTIF($M$1:N76,N77)+1,COUNTIF($M$1:N76,N77)+1))","v":"NA"},"NA","NA","NA","Day2_Time_Slot5_Parallel 03",""]
[77,"Day2_Time_Slot5_Parallel 04","Day2_Time_Slot5",2,5,"Parallel 04",{"$f":"VLOOKUP($D$1&D78,UNWDF_Hangzhou_2023!A:F,5,FALSE)","v":"2023-04-26"},{"$f":"MID(VLOOKUP($D$1&D78&$E$1&E78,UNWDF_Hangzhou_2023!A:F,5,FALSE),1,SEARCH(\"(\",VLOOKUP($D$1&D78&$E$1&E78,UNWDF_Hangzhou_2023!A:F,5,FALSE))-2)","v":"16:15 - 17:30"},"1:15",{"$f":"HLOOKUP($F78,UNWDF_Hangzhou_2023!$H$14:$S$16,2,FALSE)","v":"Room 04"},{"$f":"HLOOKUP($F78,UNWDF_Hangzhou_2023!$H$14:$S$16,3,FALSE)","v":200},"NA","NA","NA",{"$f":"IF(OR(L78=\"NA\",L78=\"E\"),\"NA\",IF(L78=\"Y\",COUNTIF($M$1:N77,N78)+1,COUNTIF($M$1:N77,N78)+1))","v":"NA"},"NA","NA","NA","Day2_Time_Slot5_Parallel 04",""]
[78,"Day2_Time_Slot5_Parallel 05","Day2_Time_Slot5",2,5,"Parallel 05",{"$f":"VLOOKUP($D$1&D79,UNWDF_Hangzhou_2023!A:F,5,FALSE)","v":"2023-04-26"},{"$f":"MID(VLOOKUP($D$1&D79&$E$1&E79,UNWDF_Hangzhou_2023!A:F,5,FALSE),1,SEARCH(\"(\",VLOOKUP($D$1&D79&$E$1&E79,UNWDF_Hangzhou_2023!A:F,5,FALSE))-2)","v":"16:15 - 17:30"},"1:15",{"$f":"HLOOKUP($F79,UNWDF_Hangzhou_2023!$H$14:$S$16,2,FALSE)","v":"Room 05"},{"$f":"HLOOKUP($F79,UNWDF_Hangzhou_2023!$H$14:$S$16,3,FALSE)","v":200},"NA","NA","NA",{"$f":"IF(OR(L79=\"NA\",L79=\"E\"),\"NA\",IF(L79=\"Y\",COUNTIF($M$1:N78,N79)+1,COUNTIF($M$1:N78,N79)+1))","v":"NA"},"NA","NA","NA","Day2_Time_Slot5_Parallel 05",""]
[79,"Day2_Time_Slot5_Parallel 06","Day2_Time_Slot5",2,5,"Parallel 06",{"$f":"VLOOKUP($D$1&D80,UNWDF_Hangzhou_2023!A:F,5,FALSE)","v":"2023-04-26"},{"$f":"MID(VLOOKUP($D$1&D80&$E$1&E80,UNWDF_Hangzhou_2023!A:F,5,FALSE),1,SEARCH(\"(\",VLOOKUP($D$1&D80&$E$1&E80,UNWDF_Hangzhou_2023!A:F,5,FALSE))-2)","v":"16:15 - 17:30"},"1:15",{"$f":"HLOOKUP($F80,UNWDF_Hangzhou_2023!$H$14:$S$16,2,FALSE)","v":"Room 06"},{"$f":"HLOOKUP($F80,UNWDF_Hangzhou_2023!$H$14:$S$16,3,FALSE)","v":200},"NA","NA","NA",{"$f":"IF(OR(L80=\"NA\",L80=\"E\"),\"NA\",IF(L80=\"Y\",COUNTIF($M$1:N79,N80)+1,COUNTIF($M$1:N79,N80)+1))","v":"NA"},"NA","NA","NA","Day2_Time_Slot5_Parallel 06",""]
[80,"Day2_Time_Slot5_Parallel 07","Day2_Time_Slot5",2,5,"Parallel 07",{"$f":"VLOOKUP($D$1&D81,UNWDF_Hangzhou_2023!A:F,5,FALSE)","v":"2023-04-26"},{"$f":"MID(VLOOKUP($D$1&D81&$E$1&E81,UNWDF_Hangzhou_2023!A:F,5,FALSE),1,SEARCH(\"(\",VLOOKUP($D$1&D81&$E$1&E81,UNWDF_Hangzhou_2023!A:F,5,FALSE))-2)","v":"16:15 - 17:30"},"1:15",{"$f":"HLOOKUP($F81,UNWDF_Hangzhou_2023!$H$14:$S$16,2,FALSE)","v":"Room 07"},{"$f":"HLOOKUP($F81,UNWDF_Hangzhou_2023!$H$14:$S$16,3,FALSE)","v":100},"NA","NA","NA",{"$f":"IF(OR(L81=\"NA\",L81=\"E\"),\"NA\",IF(L81=\"Y\",COUNTIF($M$1:N80,N81)+1,COUNTIF($M$1:N80,N81)+1))","v":"NA"},"NA","NA","NA","Day2_Time_Slot5_Parallel 07",""]
[81,"Day2_Time_Slot5_Parallel 08","Day2_Time_Slot5",2,5,"Parallel 08",{"$f":"VLOOKUP($D$1&D82,UNWDF_Hangzhou_2023!A:F,5,FALSE)","v":"2023-04-26"},{"$f":"MID(VLOOKUP($D$1&D82&$E$1&E82,UNWDF_Hangzhou_2023!A:F,5,FALSE),1,SEARCH(\"(\",VLOOKUP($D$1&D82&$E$1&E82,UNWDF_Hangzhou_2023!A:F,5,FALSE))-2)","v":"16:15 - 17:30"},"1:15",{"$f":"HLOOKUP($F82,UNWDF_Hangzhou_2023!$H$14:$S$16,2,FALSE)","v":"Room 08"},{"$f":"HLOOKUP($F82,UNWDF_Hangzhou_2023!$H$14:$S$16,3,FALSE)","v":100},"NA","NA","NA",{"$f":"IF(OR(L82=\"NA\",L82=\"E\"),\"NA\",IF(L82=\"Y\",COUNTIF($M$1:N81,N82)+1,COUNTIF($M$1:N81,N82)+1))","v":"NA"},"NA","NA","NA","Day2_Time_Slot5_Parallel 08",""]
[82,"Day2_Time_Slot5_Parallel 09","Day2_Time_Slot5",2,5,"Parallel 09",{"$f":"VLOOKUP($D$1&D83,UNWDF_Hangzhou_2023!A:F,5,FALSE)","v":"2023-04-26"},{"$f":"MID(VLOOKUP($D$1&D83&$E$1&E83,UNWDF_Hangzhou_2023!A:F,5,FALSE),1,SEARCH(\"(\",VLOOKUP($D$1&D83&$E$1&E83,UNWDF_Hangzhou_2023!A:F,5,FALSE))-2)","v":"16:15 - 17:30"},"1:15",{"$f":"HLOOKUP($F83,UNWDF_Hangzhou_2023!$H$14:$S$16,2,FALSE)","v":"Room 09"},{"$f":"HLOOKUP($F83,UNWDF_Hangzhou_2023!$H$14:$S$16,3,FALSE)","v":100},"NA","NA","NA",{"$f":"IF(OR(L83=\"NA\",L83=\"E\"),\"NA\",IF(L83=\"Y\",COUNTIF($M$1:N82,N83)+1,COUNTIF($M$1:N82,N83)+1))","v":"NA"},"NA","NA","NA","Day2_Time_Slot5_Parallel 09",""]
[83,"Day2_Time_Slot5_Parallel 10","Day2_Time_Slot5",2,5,"Parallel 10",{"$f":"VLOOKUP($D$1&D84,UNWDF_Hangzhou_2023!A:F,5,FALSE)","v":"2023-04-26"},{"$f":"MID(VLOOKUP($D$1&D84&$E$1&E84,UNWDF_Hangzhou_2023!A:F,5,FALSE),1,SEARCH(\"(\",VLOOKUP($D$1&D84&$E$1&E84,UNWDF_Hangzhou_2023!A:F,5,FALSE))-2)","v":"16:15 - 17:30"},"1:15",{"$f":"HLOOKUP($F84,UNWDF_Hangzhou_2023!$H$14:$S$16,2,FALSE)","v":"LEARNING LABS 1"},{"$f":"HLOOKUP($F84,UNWDF_Hangzhou_2023!$H$14:$S$16,3,FALSE)","v":100},"NA","NA","NA",{"$f":"IF(OR(L84=\"NA\",L84=\"E\"),\"NA\",IF(L84=\"Y\",COUNTIF($M$1:N83,N84)+1,COUNTIF($M$1:N83,N84)+1))","v":"NA"},"NA","NA","NA","Day2_Time_Slot5_Parallel 10",""]
[84,"Day2_Time_Slot5_Parallel 11","Day2_Time_Slot5",2,5,"Parallel 11",{"$f":"VLOOKUP($D$1&D85,UNWDF_Hangzhou_2023!A:F,5,FALSE)","v":"2023-04-26"},{"$f":"MID(VLOOKUP($D$1&D85&$E$1&E85,UNWDF_Hangzhou_2023!A:F,5,FALSE),1,SEARCH(\"(\",VLOOKUP($D$1&D85&$E$1&E85,UNWDF_Hangzhou_2023!A:F,5,FALSE))-2)","v":"16:15 - 17:30"},"1:15",{"$f":"HLOOKUP($F85,UNWDF_Hangzhou_2023!$H$14:$S$16,2,FALSE)","v":"LEARNING LABS 2"},{"$f":"HLOOKUP($F85,UNWDF_Hangzhou_2023!$H$14:$S$16,3,FALSE)","v":100},"NA","NA","NA",{"$f":"IF(OR(L85=\"NA\",L85=\"E\"),\"NA\",IF(L85=\"Y\",COUNTIF($M$1:N84,N85)+1,COUNTIF($M$1:N84,N85)+1))","v":"NA"},"NA","NA","NA","Day2_Time_Slot5_Parallel 11",""]
[85,"Day2_Time_Slot5_Parallel 12","Day2_Time_Slot5",2,5,"Parallel 12",{"$f":"VLOOKUP($D$1&D86,UNWDF_Hangzhou_2023!A:F,5,FALSE)","v":"2023-04-26"},{"$f":"MID(VLOOKUP($D$1&D86&$E$1&E86,UNWDF_Hangzhou_2023!A:F,5,FALSE),1,SEARCH(\"(\",VLOOKUP($D$1&D86&$E$1&E86,UNWDF_Hangzhou_2023!A:F,5,FALSE))-2)","v":"16:15 - 17:30"},"1:15",{"$f":"HLOOKUP($F86,UNWDF_Hangzhou_2023!$H$14:$S$16,2,FALSE)","v":"DEMOS SPACE"},{"$f":"HLOOKUP($F86,UNWDF_Hangzhou_2023!$H$14:$S$16,3,FALSE)","v":100},"NA","NA","NA",{"$f":"IF(OR(L86=\"NA\",L86=\"E\"),\"NA\",IF(L86=\"Y\",COUNTIF($M$1:N85,N86)+1,COUNTIF($M$1:N85,N86)+1))","v":"NA"},"NA","NA","NA","Day2_Time_Slot5_Parallel 12",""]
[86,"Day3_Time_Slot1_Parallel 02","Day3_Time_Slot1",3,1,"Parallel 02",{"$f":"VLOOKUP($D$1&D87,UNWDF_Hangzhou_2023!A:F,5,FALSE)","v":"2023-04-27"},{"$f":"MID(VLOOKUP($D$1&D87&$E$1&E87,UNWDF_Hangzhou_2023!A:F,5,FALSE),1,SEARCH(\"(\",VLOOKUP($D$1&D87&$E$1&E87,UNWDF_Hangzhou_2023!A:F,5,FALSE))-2)","v":"09:00 - 10:15"},"1:15",{"$f":"HLOOKUP($F87,UNWDF_Hangzhou_2023!$H$14:$S$16,2,FALSE)","v":"Room 02"},{"$f":"HLOOKUP($F87,UNWDF_Hangzhou_2023!$H$14:$S$16,3,FALSE)","v":200},"NA","NA","NA",{"$f":"IF(OR(L87=\"NA\",L87=\"E\"),\"NA\",IF(L87=\"Y\",COUNTIF($M$1:N86,N87)+1,COUNTIF($M$1:N86,N87)+1))","v":"NA"},"NA","NA","NA","Day3_Time_Slot1_Parallel 02",""]
[87,"Day3_Time_Slot1_Parallel 03","Day3_Time_Slot1",3,1,"Parallel 03",{"$f":"VLOOKUP($D$1&D88,UNWDF_Hangzhou_2023!A:F,5,FALSE)","v":"2023-04-27"},{"$f":"MID(VLOOKUP($D$1&D88&$E$1&E88,UNWDF_Hangzhou_2023!A:F,5,FALSE),1,SEARCH(\"(\",VLOOKUP($D$1&D88&$E$1&E88,UNWDF_Hangzhou_2023!A:F,5,FALSE))-2)","v":"09:00 - 10:15"},"1:15",{"$f":"HLOOKUP($F88,UNWDF_Hangzhou_2023!$H$14:$S$16,2,FALSE)","v":"Room 03"},{"$f":"HLOOKUP($F88,UNWDF_Hangzhou_2023!$H$14:$S$16,3,FALSE)","v":200},"NA","NA","NA",{"$f":"IF(OR(L88=\"NA\",L88=\"E\"),\"NA\",IF(L88=\"Y\",COUNTIF($M$1:N87,N88)+1,COUNTIF($M$1:N87,N88)+1))","v":"NA"},"NA","NA","NA","Day3_Time_Slot1_Parallel 03",""]
[88,"Day3_Time_Slot1_Parallel 04","Day3_Time_Slot1",3,1,"Parallel 04",{"$f":"VLOOKUP($D$1&D89,UNWDF_Hangzhou_2023!A:F,5,FALSE)","v":"2023-04-27"},{"$f":"MID(VLOOKUP($D$1&D89&$E$1&E89,UNWDF_Hangzhou_2023!A:F,5,FALSE),1,SEARCH(\"(\",VLOOKUP($D$1&D89&$E$1&E89,UNWDF_Hangzhou_2023!A:F,5,FALSE))-2)","v":"09:00 - 10:15"},"1:15",{"$f":"HLOOKUP($F89,UNWDF_Hangzhou_2023!$H$14:$S$16,2,FALSE)","v":"Room 04"},{"$f":"HLOOKUP($F89,UNWDF_Hangzhou_2023!$H$14:$S$16,3,FALSE)","v":200},"NA","NA","NA",{"$f":"IF(OR(L89=\"NA\",L89=\"E\"),\"NA\",IF(L89=\"Y\",COUNTIF($M$1:N88,N89)+1,COUNTIF($M$1:N88,N89)+1))","v":"NA"},"NA","NA","NA","Day3_Time_Slot1_Parallel 04",""]
[89,"Day3_Time_Slot1_Parallel 05","Day3_Time_Slot1",3,1,"Parallel 05",{"$f":"VLOOKUP($D$1&D90,UNWDF_Hangzhou_2023!A:F,5,FALSE)","v":"2023-04-27"},{"$f":"MID(VLOOKUP($D$1&D90&$E$1&E90,UNWDF_Hangzhou_2023!A:F,5,FALSE),1,SEARCH(\"(\",VLOOKUP($D$1&D90&$E$1&E90,UNWDF_Hangzhou_2023!A:F,5,FALSE))-2)","v":"09:00 - 10:15"},"1:15",{"$f":"HLOOKUP($F90,UNWDF_Hangzhou_2023!$H$14:$S$16,2,FALSE)","v":"Room 05"},{"$f":"HLOOKUP($F90,UNWDF_Hangzhou_2023!$H$14:$S$16,3,FALSE)","v":200},"NA","NA","NA",{"$f":"IF(OR(L90=\"NA\",L90=\"E\"),\"NA\",IF(L90=\"Y\",COUNTIF($M$1:N89,N90)+1,COUNTIF($M$1:N89,N90)+1))","v":"NA"},"NA","NA","NA","Day3_Time_Slot1_Parallel 05",""]
[90,"Day3_Time_Slot1_Parallel 06","Day3_Time_Slot1",3,1,"Parallel 06",{"$f":"VLOOKUP($D$1&D91,UNWDF_Hangzhou_2023!A:F,5,FALSE)","v":"2023-04-27"},{"$f":"MID(VLOOKUP($D$1&D91&$E$1&E91,UNWDF_Hangzhou_2023!A:F,5,FALSE),1,SEARCH(\"(\",VLOOKUP($D$1&D91&$E$1&E91,UNWDF_Hangzhou_2023!A:F,5,FALSE))-2)","v":"09:00 - 10:15"},"1:15",{"$f":"HLOOKUP($F91,UNWDF_Hangzhou_2023!$H$14:$S$16,2,FALSE)","v":"Room 06"},{"$f":"HLOOKUP($F91,UNWDF_Hangzhou_2023!$H$14:$S$16,3,FALSE)","v":200},"NA","NA","NA",{"$f":"IF(OR(L91=\"NA\",L91=\"E\"),\"NA\",IF(L91=\"Y\",COUNTIF($M$1:N90,N91)+1,COUNTIF($M$1:N90,N91)+1))","v":"NA"},"NA","NA","NA","Day3_Time_Slot1_Parallel 06",""]
[91,"Day3_Time_Slot1_Parallel 07","Day3_Time_Slot1",3,1,"Parallel 07",{"$f":"VLOOKUP($D$1&D92,UNWDF_Hangzhou_2023!A:F,5,FALSE)","v":"2023-04-27"},{"$f":"MID(VLOOKUP($D$1&D92&$E$1&E92,UNWDF_Hangzhou_2023!A:F,5,FALSE),1,SEARCH(\"(\",VLOOKUP($D$1&D92&$E$1&E92,UNWDF_Hangzhou_2023!A:F,5,FALSE))-2)","v":"09:00 - 10:15"},"1:15",{"$f":"HLOOKUP($F92,UNWDF_Hangzhou_2023!$H$14:$S$16,2,FALSE)","v":"Room 07"},{"$f":"HLOOKUP($F92,UNWDF_Hangzhou_2023!$H$14:$S$16,3,FALSE)","v":100},"NA","NA","NA",{"$f":"IF(OR(L92=\"NA\",L92=\"E\"),\"NA\",IF(L92=\"Y\",COUNTIF($M$1:N91,N92)+1,COUNTIF($M$1:N91,N92)+1))","v":"NA"},"NA","NA","NA","Day3_Time_Slot1_Parallel 07",""]
[92,"Day3_Time_Slot1_Parallel 08","Day3_Time_Slot1",3,1,"Parallel 08",{"$f":"VLOOKUP($D$1&D93,UNWDF_Hangzhou_2023!A:F,5,FALSE)","v":"2023-04-27"},{"$f":"MID(VLOOKUP($D$1&D93&$E$1&E93,UNWDF_Hangzhou_2023!A:F,5,FALSE),1,SEARCH(\"(\",VLOOKUP($D$1&D93&$E$1&E93,UNWDF_Hangzhou_2023!A:F,5,FALSE))-2)","v":"09:00 - 10:15"},"1:15",{"$f":"HLOOKUP($F93,UNWDF_Hangzhou_2023!$H$14:$S$16,2,FALSE)","v":"Room 08"},{"$f":"HLOOKUP($F93,UNWDF_Hangzhou_2023!$H$14:$S$16,3,FALSE)","v":100},"NA","NA","NA",{"$f":"IF(OR(L93=\"NA\",L93=\"E\"),\"NA\",IF(L93=\"Y\",COUNTIF($M$1:N92,N93)+1,COUNTIF($M$1:N92,N93)+1))","v":"NA"},"NA","NA","NA","Day3_Time_Slot1_Parallel 08",""]
[93,"Day3_Time_Slot1_Parallel 09","Day3_Time_Slot1",3,1,"Parallel 09",{"$f":"VLOOKUP($D$1&D94,UNWDF_Hangzhou_2023!A:F,5,FALSE)","v":"2023-04-27"},{"$f":"MID(VLOOKUP($D$1&D94&$E$1&E94,UNWDF_Hangzhou_2023!A:F,5,FALSE),1,SEARCH(\"(\",VLOOKUP($D$1&D94&$E$1&E94,UNWDF_Hangzhou_2023!A:F,5,FALSE))-2)","v":"09:00 - 10:15"},"1:15",{"$f":"HLOOKUP($F94,UNWDF_Hangzhou_2023!$H$14:$S$16,2,FALSE)","v":"Room 09"},{"$f":"HLOOKUP($F94,UNWDF_Hangzhou_2023!$H$14:$S$16,3,FALSE)","v":100},"NA","NA","NA",{"$f":"IF(OR(L94=\"NA\",L94=\"E\"),\"NA\",IF(L94=\"Y\",COUNTIF($M$1:N93,N94)+1,COUNTIF($M$1:N93,N94)+1))","v":"NA"},"NA","NA","NA","Day3_Time_Slot1_Parallel 09",""]
[94,"Day3_Time_Slot1_Parallel 10","Day3_Time_Slot1",3,1,"Parallel 10",{"$f":"VLOOKUP($D$1&D95,UNWDF_Hangzhou_2023!A:F,5,FALSE)","v":"2023-04-27"},{"$f":"MID(VLOOKUP($D$1&D95&$E$1&E95,UNWDF_Hangzhou_2023!A:F,5,FALSE),1,SEARCH(\"(\",VLOOKUP($D$1&D95&$E$1&E95,UNWDF_Hangzhou_2023!A:F,5,FALSE))-2)","v":"09:00 - 10:15"},"1:15",{"$f":"HLOOKUP($F95,UNWDF_Hangzhou_2023!$H$14:$S$16,2,FALSE)","v":"LEARNING LABS 1"},{"$f":"HLOOKUP($F95,UNWDF_Hangzhou_2023!$H$14:$S$16,3,FALSE)","v":100},"NA","NA","NA",{"$f":"IF(OR(L95=\"NA\",L95=\"E\"),\"NA\",IF(L95=\"Y\",COUNTIF($M$1:N94,N95)+1,COUNTIF($M$1:N94,N95)+1))","v":"NA"},"NA","NA","NA","Day3_Time_Slot1_Parallel 10",""]
[95,"Day3_Time_Slot1_Parallel 11","Day3_Time_Slot1",3,1,"Parallel 11",{"$f":"VLOOKUP($D$1&D96,UNWDF_Hangzhou_2023!A:F,5,FALSE)","v":"2023-04-27"},{"$f":"MID(VLOOKUP($D$1&D96&$E$1&E96,UNWDF_Hangzhou_2023!A:F,5,FALSE),1,SEARCH(\"(\",VLOOKUP($D$1&D96&$E$1&E96,UNWDF_Hangzhou_2023!A:F,5,FALSE))-2)","v":"09:00 - 10:15"},"1:15",{"$f":"HLOOKUP($F96,UNWDF_Hangzhou_2023!$H$14:$S$16,2,FALSE)","v":"LEARNING LABS 2"},{"$f":"HLOOKUP($F96,UNWDF_Hangzhou_2023!$H$14:$S$16,3,FALSE)","v":100},"NA","NA","NA",{"$f":"IF(OR(L96=\"NA\",L96=\"E\"),\"NA\",IF(L96=\"Y\",COUNTIF($M$1:N95,N96)+1,COUNTIF($M$1:N95,N96)+1))","v":"NA"},"NA","NA","NA","Day3_Time_Slot1_Parallel 11",""]
[96,"Day3_Time_Slot1_Parallel 12","Day3_Time_Slot1",3,1,"Parallel 12",{"$f":"VLOOKUP($D$1&D97,UNWDF_Hangzhou_2023!A:F,5,FALSE)","v":"2023-04-27"},{"$f":"MID(VLOOKUP($D$1&D97&$E$1&E97,UNWDF_Hangzhou_2023!A:F,5,FALSE),1,SEARCH(\"(\",VLOOKUP($D$1&D97&$E$1&E97,UNWDF_Hangzhou_2023!A:F,5,FALSE))-2)","v":"09:00 - 10:15"},"1:15",{"$f":"HLOOKUP($F97,UNWDF_Hangzhou_2023!$H$14:$S$16,2,FALSE)","v":"DEMOS SPACE"},{"$f":"HLOOKUP($F97,UNWDF_Hangzhou_2023!$H$14:$S$16,3,FALSE)","v":100},"NA","NA","NA",{"$f":"IF(OR(L97=\"NA\",L97=\"E\"),\"NA\",IF(L97=\"Y\",COUNTIF($M$1:N96,N97)+1,COUNTIF($M$1:N96,N97)+1))","v":"NA"},"NA","NA","NA","Day3_Time_Slot1_Parallel 12",""]
[97,"Day3_Time_Slot2_Parallel 01","Day3_Time_Slot2",3,2,"Parallel 01",{"$f":"VLOOKUP($D$1&D98,UNWDF_Hangzhou_2023!A:F,5,FALSE)","v":"2023-04-27"},{"$f":"MID(VLOOKUP($D$1&D98&$E$1&E98,UNWDF_Hangzhou_2023!A:F,5,FALSE),1,SEARCH(\"(\",VLOOKUP($D$1&D98&$E$1&E98,UNWDF_Hangzhou_2023!A:F,5,FALSE))-2)","v":"10:45 - 11:45"},"1:00",{"$f":"HLOOKUP($F98,UNWDF_Hangzhou_2023!$H$14:$S$16,2,FALSE)","v":"Room 01"},{"$f":"HLOOKUP($F98,UNWDF_Hangzhou_2023!$H$14:$S$16,3,FALSE)","v":2000},"NA","NA","NA",{"$f":"IF(OR(L98=\"NA\",L98=\"E\"),\"NA\",IF(L98=\"Y\",COUNTIF($M$1:N97,N98)+1,COUNTIF($M$1:N97,N98)+1))","v":"NA"},{"$f":"IF(N98=\"NA\",\"NA\",\"TA\"&N98&\".\"&TEXT(O98,\"0#\"))","v":"NA"},"NA","NA","Day3_Time_Slot2_Parallel 01",""]
[98,"Day3_Time_Slot3_Parallel 01","Day3_Time_Slot3",3,3,"Parallel 01",{"$f":"VLOOKUP($D$1&D99,UNWDF_Hangzhou_2023!A:F,5,FALSE)","v":"2023-04-27"},{"$f":"MID(VLOOKUP($D$1&D99&$E$1&E99,UNWDF_Hangzhou_2023!A:F,5,FALSE),1,SEARCH(\"(\",VLOOKUP($D$1&D99&$E$1&E99,UNWDF_Hangzhou_2023!A:F,5,FALSE))-2)","v":"13:15 - 14:15"},"1:00",{"$f":"HLOOKUP($F99,UNWDF_Hangzhou_2023!$H$14:$S$16,2,FALSE)","v":"Room 01"},{"$f":"HLOOKUP($F99,UNWDF_Hangzhou_2023!$H$14:$S$16,3,FALSE)","v":2000},"NA","NA","NA",{"$f":"IF(OR(L99=\"NA\",L99=\"E\"),\"NA\",IF(L99=\"Y\",COUNTIF($M$1:N98,N99)+1,COUNTIF($M$1:N98,N99)+1))","v":"NA"},"NA","NA","NA","Day3_Time_Slot3_Parallel 01",""]
[99,"Day3_Time_Slot4_Parallel 01","Day3_Time_Slot4",3,4,"Parallel 01",{"$f":"VLOOKUP($D$1&D100,UNWDF_Hangzhou_2023!A:F,5,FALSE)","v":"2023-04-27"},{"$f":"MID(VLOOKUP($D$1&D100&$E$1&E100,UNWDF_Hangzhou_2023!A:F,5,FALSE),1,SEARCH(\"(\",VLOOKUP($D$1&D100&$E$1&E100,UNWDF_Hangzhou_2023!A:F,5,FALSE))-2)","v":"14:30 - 15:30"},"1:00",{"$f":"HLOOKUP($F100,UNWDF_Hangzhou_2023!$H$14:$S$16,2,FALSE)","v":"Room 01"},{"$f":"HLOOKUP($F100,UNWDF_Hangzhou_2023!$H$14:$S$16,3,FALSE)","v":2000},"NA","NA","NA",{"$f":"IF(OR(L100=\"NA\",L100=\"E\"),\"NA\",IF(L100=\"Y\",COUNTIF($M$1:N99,N100)+1,COUNTIF($M$1:N99,N100)+1))","v":"NA"},"NA","NA","NA","Day3_Time_Slot4_Parallel 01",""]
[100,"Day3_Time_Slot5_Parallel 02","Day3_Time_Slot5",3,5,"Parallel 02",{"$f":"VLOOKUP($D$1&D101,UNWDF_Hangzhou_2023!A:F,5,FALSE)","v":"2023-04-27"},{"$f":"MID(VLOOKUP($D$1&D101&$E$1&E101,UNWDF_Hangzhou_2023!A:F,5,FALSE),1,SEARCH(\"(\",VLOOKUP($D$1&D101&$E$1&E101,UNWDF_Hangzhou_2023!A:F,5,FALSE))-2)","v":"15:45 - 17:00"},"1:15",{"$f":"HLOOKUP($F101,UNWDF_Hangzhou_2023!$H$14:$S$16,2,FALSE)","v":"Room 02"},{"$f":"HLOOKUP($F101,UNWDF_Hangzhou_2023!$H$14:$S$16,3,FALSE)","v":200},"NA","NA","NA",{"$f":"IF(OR(L101=\"NA\",L101=\"E\"),\"NA\",IF(L101=\"Y\",COUNTIF($M$1:N100,N101)+1,COUNTIF($M$1:N100,N101)+1))","v":"NA"},"NA","NA","NA","Day3_Time_Slot5_Parallel 02",""]
[101,"Day3_Time_Slot5_Parallel 03","Day3_Time_Slot5",3,5,"Parallel 03",{"$f":"VLOOKUP($D$1&D102,UNWDF_Hangzhou_2023!A:F,5,FALSE)","v":"2023-04-27"},{"$f":"MID(VLOOKUP($D$1&D102&$E$1&E102,UNWDF_Hangzhou_2023!A:F,5,FALSE),1,SEARCH(\"(\",VLOOKUP($D$1&D102&$E$1&E102,UNWDF_Hangzhou_2023!A:F,5,FALSE))-2)","v":"15:45 - 17:00"},"1:15",{"$f":"HLOOKUP($F102,UNWDF_Hangzhou_2023!$H$14:$S$16,2,FALSE)","v":"Room 03"},{"$f":"HLOOKUP($F102,UNWDF_Hangzhou_2023!$H$14:$S$16,3,FALSE)","v":200},"NA","NA","NA",{"$f":"IF(OR(L102=\"NA\",L102=\"E\"),\"NA\",IF(L102=\"Y\",COUNTIF($M$1:N101,N102)+1,COUNTIF($M$1:N101,N102)+1))","v":"NA"},"NA","NA","NA","Day3_Time_Slot5_Parallel 03",""]
[102,"Day3_Time_Slot5_Parallel 04","Day3_Time_Slot5",3,5,"Parallel 04",{"$f":"VLOOKUP($D$1&D103,UNWDF_Hangzhou_2023!A:F,5,FALSE)","v":"2023-04-27"},{"$f":"MID(VLOOKUP($D$1&D103&$E$1&E103,UNWDF_Hangzhou_2023!A:F,5,FALSE),1,SEARCH(\"(\",VLOOKUP($D$1&D103&$E$1&E103,UNWDF_Hangzhou_2023!A:F,5,FALSE))-2)","v":"15:45 - 17:00"},"1:15",{"$f":"HLOOKUP($F103,UNWDF_Hangzhou_2023!$H$14:$S$16,2,FALSE)","v":"Room 04"},{"$f":"HLOOKUP($F103,UNWDF_Hangzhou_2023!$H$14:$S$16,3,FALSE)","v":200},"NA","NA","NA",{"$f":"IF(OR(L103=\"NA\",L103=\"E\"),\"NA\",IF(L103=\"Y\",COUNTIF($M$1:N102,N103)+1,COUNTIF($M$1:N102,N103)+1))","v":"NA"},"NA","NA","NA","Day3_Time_Slot5_Parallel 04",""]
[103,"Day3_Time_Slot5_Parallel 05","Day3_Time_Slot5",3,5,"Parallel 05",{"$f":"VLOOKUP($D$1&D104,UNWDF_Hangzhou_2023!A:F,5,FALSE)","v":"2023-04-27"},{"$f":"MID(VLOOKUP($D$1&D104&$E$1&E104,UNWDF_Hangzhou_2023!A:F,5,FALSE),1,SEARCH(\"(\",VLOOKUP($D$1&D104&$E$1&E104,UNWDF_Hangzhou_2023!A:F,5,FALSE))-2)","v":"15:45 - 17:00"},"1:15",{"$f":"HLOOKUP($F104,UNWDF_Hangzhou_2023!$H$14:$S$16,2,FALSE)","v":"Room 05"},{"$f":"HLOOKUP($F104,UNWDF_Hangzhou_2023!$H$14:$S$16,3,FALSE)","v":200},"NA","NA","NA",{"$f":"IF(OR(L104=\"NA\",L104=\"E\"),\"NA\",IF(L104=\"Y\",COUNTIF($M$1:N103,N104)+1,COUNTIF($M$1:N103,N104)+1))","v":"NA"},"NA","NA","NA","Day3_Time_Slot5_Parallel 05",""]
[104,"Day3_Time_Slot5_Parallel 06","Day3_Time_Slot5",3,5,"Parallel 06",{"$f":"VLOOKUP($D$1&D105,UNWDF_Hangzhou_2023!A:F,5,FALSE)","v":"2023-04-27"},{"$f":"MID(VLOOKUP($D$1&D105&$E$1&E105,UNWDF_Hangzhou_2023!A:F,5,FALSE),1,SEARCH(\"(\",VLOOKUP($D$1&D105&$E$1&E105,UNWDF_Hangzhou_2023!A:F,5,FALSE))-2)","v":"15:45 - 17:00"},"1:15",{"$f":"HLOOKUP($F105,UNWDF_Hangzhou_2023!$H$14:$S$16,2,FALSE)","v":"Room 06"},{"$f":"HLOOKUP($F105,UNWDF_Hangzhou_2023!$H$14:$S$16,3,FALSE)","v":200},"NA","NA","NA",{"$f":"IF(OR(L105=\"NA\",L105=\"E\"),\"NA\",IF(L105=\"Y\",COUNTIF($M$1:N104,N105)+1,COUNTIF($M$1:N104,N105)+1))","v":"NA"},"NA","NA","NA","Day3_Time_Slot5_Parallel 06",""]
[105,"Day3_Time_Slot5_Parallel 07","Day3_Time_Slot5",3,5,"Parallel 07",{"$f":"VLOOKUP($D$1&D106,UNWDF_Hangzhou_2023!A:F,5,FALSE)","v":"2023-04-27"},{"$f":"MID(VLOOKUP($D$1&D106&$E$1&E106,UNWDF_Hangzhou_2023!A:F,5,FALSE),1,SEARCH(\"(\",VLOOKUP($D$1&D106&$E$1&E106,UNWDF_Hangzhou_2023!A:F,5,FALSE))-2)","v":"15:45 - 17:00"},"1:15",{"$f":"HLOOKUP($F106,UNWDF_Hangzhou_2023!$H$14:$S$16,2,FALSE)","v":"Room 07"},{"$f":"HLOOKUP($F106,UNWDF_Hangzhou_2023!$H$14:$S$16,3,FALSE)","v":100},"NA","NA","NA",{"$f":"IF(OR(L106=\"NA\",L106=\"E\"),\"NA\",IF(L106=\"Y\",COUNTIF($M$1:N105,N106)+1,COUNTIF($M$1:N105,N106)+1))","v":"NA"},"NA","NA","NA","Day3_Time_Slot5_Parallel 07",""]
[106,"Day3_Time_Slot5_Parallel 08","Day3_Time_Slot5",3,5,"Parallel 08",{"$f":"VLOOKUP($D$1&D107,UNWDF_Hangzhou_2023!A:F,5,FALSE)","v":"2023-04-27"},{"$f":"MID(VLOOKUP($D$1&D107&$E$1&E107,UNWDF_Hangzhou_2023!A:F,5,FALSE),1,SEARCH(\"(\",VLOOKUP($D$1&D107&$E$1&E107,UNWDF_Hangzhou_2023!A:F,5,FALSE))-2)","v":"15:45 - 17:00"},"1:15",{"$f":"HLOOKUP($F107,UNWDF_Hangzhou_2023!$H$14:$S$16,2,FALSE)","v":"Room 08"},{"$f":"HLOOKUP($F107,UNWDF_Hangzhou_2023!$H$14:$S$16,3,FALSE)","v":100},"NA","NA","NA",{"$f":"IF(OR(L107=\"NA\",L107=\"E\"),\"NA\",IF(L107=\"Y\",COUNTIF($M$1:N106,N107)+1,COUNTIF($M$1:N106,N107)+1))","v":"NA"},"NA","NA","NA","Day3_Time_Slot5_Parallel 08",""]
[107,"Day3_Time_Slot5_Parallel 09","Day3_Time_Slot5",3,5,"Parallel 09",{"$f":"VLOOKUP($D$1&D108,UNWDF_Hangzhou_2023!A:F,5,FALSE)","v":"2023-04-27"},{"$f":"MID(VLOOKUP($D$1&D108&$E$1&E108,UNWDF_Hangzhou_2023!A:F,5,FALSE),1,SEARCH(\"(\",VLOOKUP($D$1&D108&$E$1&E108,UNWDF_Hangzhou_2023!A:F,5,FALSE))-2)","v":"15:45 - 17:00"},"1:15",{"$f":"HLOOKUP($F108,UNWDF_Hangzhou_2023!$H$14:$S$16,2,FALSE)","v":"Room 09"},{"$f":"HLOOKUP($F108,UNWDF_Hangzhou_2023!$H$14:$S$16,3,FALSE)","v":100},"NA","NA","NA",{"$f":"IF(OR(L108=\"NA\",L108=\"E\"),\"NA\",IF(L108=\"Y\",COUNTIF($M$1:N107,N108)+1,COUNTIF($M$1:N107,N108)+1))","v":"NA"},"NA","NA","NA","Day3_Time_Slot5_Parallel 09",""]
[108,"Day3_Time_Slot5_Parallel 10","Day3_Time_Slot5",3,5,"Parallel 10",{"$f":"VLOOKUP($D$1&D109,UNWDF_Hangzhou_2023!A:F,5,FALSE)","v":"2023-04-27"},{"$f":"MID(VLOOKUP($D$1&D109&$E$1&E109,UNWDF_Hangzhou_2023!A:F,5,FALSE),1,SEARCH(\"(\",VLOOKUP($D$1&D109&$E$1&E109,UNWDF_Hangzhou_2023!A:F,5,FALSE))-2)","v":"15:45 - 17:00"},"1:15",{"$f":"HLOOKUP($F109,UNWDF_Hangzhou_2023!$H$14:$S$16,2,FALSE)","v":"LEARNING LABS 1"},{"$f":"HLOOKUP($F109,UNWDF_Hangzhou_2023!$H$14:$S$16,3,FALSE)","v":100},"NA","NA","NA",{"$f":"IF(OR(L109=\"NA\",L109=\"E\"),\"NA\",IF(L109=\"Y\",COUNTIF($M$1:N108,N109)+1,COUNTIF($M$1:N108,N109)+1))","v":"NA"},"NA","NA","NA","Day3_Time_Slot5_Parallel 10",""]
[109,"Day3_Time_Slot5_Parallel 11","Day3_Time_Slot5",3,5,"Parallel 11",{"$f":"VLOOKUP($D$1&D110,UNWDF_Hangzhou_2023!A:F,5,FALSE)","v":"2023-04-27"},{"$f":"MID(VLOOKUP($D$1&D110&$E$1&E110,UNWDF_Hangzhou_2023!A:F,5,FALSE),1,SEARCH(\"(\",VLOOKUP($D$1&D110&$E$1&E110,UNWDF_Hangzhou_2023!A:F,5,FALSE))-2)","v":"15:45 - 17:00"},"1:15",{"$f":"HLOOKUP($F110,UNWDF_Hangzhou_2023!$H$14:$S$16,2,FALSE)","v":"LEARNING LABS 2"},{"$f":"HLOOKUP($F110,UNWDF_Hangzhou_2023!$H$14:$S$16,3,FALSE)","v":100},"NA","NA","NA",{"$f":"IF(OR(L110=\"NA\",L110=\"E\"),\"NA\",IF(L110=\"Y\",COUNTIF($M$1:N109,N110)+1,COUNTIF($M$1:N109,N110)+1))","v":"NA"},"NA","NA","NA","Day3_Time_Slot5_Parallel 11",""]
[110,"Day3_Time_Slot5_Parallel 12","Day3_Time_Slot5",3,5,"Parallel 12",{"$f":"VLOOKUP($D$1&D111,UNWDF_Hangzhou_2023!A:F,5,FALSE)","v":"2023-04-27"},{"$f":"MID(VLOOKUP($D$1&D111&$E$1&E111,UNWDF_Hangzhou_2023!A:F,5,FALSE),1,SEARCH(\"(\",VLOOKUP($D$1&D111&$E$1&E111,UNWDF_Hangzhou_2023!A:F,5,FALSE))-2)","v":"15:45 - 17:00"},"1:15",{"$f":"HLOOKUP($F111,UNWDF_Hangzhou_2023!$H$14:$S$16,2,FALSE)","v":"DEMOS SPACE"},{"$f":"HLOOKUP($F111,UNWDF_Hangzhou_2023!$H$14:$S$16,3,FALSE)","v":100},"NA","NA","NA",{"$f":"IF(OR(L111=\"NA\",L111=\"E\"),\"NA\",IF(L111=\"Y\",COUNTIF($M$1:N110,N111)+1,COUNTIF($M$1:N110,N111)+1))","v":"NA"},"NA","NA","NA","Day3_Time_Slot5_Parallel 12",""]
[111,"Day3_Time_Slot6_Parallel 02","Day3_Time_Slot6",3,6,"Parallel 02",{"$f":"VLOOKUP($D$1&D112,UNWDF_Hangzhou_2023!A:F,5,FALSE)","v":"2023-04-27"},{"$f":"MID(VLOOKUP($D$1&D112&$E$1&E112,UNWDF_Hangzhou_2023!A:F,5,FALSE),1,SEARCH(\"(\",VLOOKUP($D$1&D112&$E$1&E112,UNWDF_Hangzhou_2023!A:F,5,FALSE))-2)","v":"17:15 - 18:00"},"0:45",{"$f":"HLOOKUP($F112,UNWDF_Hangzhou_2023!$H$14:$S$16,2,FALSE)","v":"Room 02"},{"$f":"HLOOKUP($F112,UNWDF_Hangzhou_2023!$H$14:$S$16,3,FALSE)","v":200},"NA","NA","NA",{"$f":"IF(OR(L112=\"NA\",L112=\"E\"),\"NA\",IF(L112=\"Y\",COUNTIF($M$1:N111,N112)+1,COUNTIF($M$1:N111,N112)+1))","v":"NA"},"NA","NA","NA","Day3_Time_Slot6_Parallel 02",""]
[112,"Day3_Time_Slot6_Parallel 03","Day3_Time_Slot6",3,6,"Parallel 03",{"$f":"VLOOKUP($D$1&D113,UNWDF_Hangzhou_2023!A:F,5,FALSE)","v":"2023-04-27"},{"$f":"MID(VLOOKUP($D$1&D113&$E$1&E113,UNWDF_Hangzhou_2023!A:F,5,FALSE),1,SEARCH(\"(\",VLOOKUP($D$1&D113&$E$1&E113,UNWDF_Hangzhou_2023!A:F,5,FALSE))-2)","v":"17:15 - 18:00"},"0:45",{"$f":"HLOOKUP($F113,UNWDF_Hangzhou_2023!$H$14:$S$16,2,FALSE)","v":"Room 03"},{"$f":"HLOOKUP($F113,UNWDF_Hangzhou_2023!$H$14:$S$16,3,FALSE)","v":200},"NA","NA","NA",{"$f":"IF(OR(L113=\"NA\",L113=\"E\"),\"NA\",IF(L113=\"Y\",COUNTIF($M$1:N112,N113)+1,COUNTIF($M$1:N112,N113)+1))","v":"NA"},"NA","NA","NA","Day3_Time_Slot6_Parallel 03",""]
[113,"Day3_Time_Slot6_Parallel 04","Day3_Time_Slot6",3,6,"Parallel 04",{"$f":"VLOOKUP($D$1&D114,UNWDF_Hangzhou_2023!A:F,5,FALSE)","v":"2023-04-27"},{"$f":"MID(VLOOKUP($D$1&D114&$E$1&E114,UNWDF_Hangzhou_2023!A:F,5,FALSE),1,SEARCH(\"(\",VLOOKUP($D$1&D114&$E$1&E114,UNWDF_Hangzhou_2023!A:F,5,FALSE))-2)","v":"17:15 - 18:00"},"0:45",{"$f":"HLOOKUP($F114,UNWDF_Hangzhou_2023!$H$14:$S$16,2,FALSE)","v":"Room 04"},{"$f":"HLOOKUP($F114,UNWDF_Hangzhou_2023!$H$14:$S$16,3,FALSE)","v":200},"NA","NA","NA",{"$f":"IF(OR(L114=\"NA\",L114=\"E\"),\"NA\",IF(L114=\"Y\",COUNTIF($M$1:N113,N114)+1,COUNTIF($M$1:N113,N114)+1))","v":"NA"},"NA","NA","NA","Day3_Time_Slot6_Parallel 04",""]
[114,"Day3_Time_Slot6_Parallel 05","Day3_Time_Slot6",3,6,"Parallel 05",{"$f":"VLOOKUP($D$1&D115,UNWDF_Hangzhou_2023!A:F,5,FALSE)","v":"2023-04-27"},{"$f":"MID(VLOOKUP($D$1&D115&$E$1&E115,UNWDF_Hangzhou_2023!A:F,5,FALSE),1,SEARCH(\"(\",VLOOKUP($D$1&D115&$E$1&E115,UNWDF_Hangzhou_2023!A:F,5,FALSE))-2)","v":"17:15 - 18:00"},"0:45",{"$f":"HLOOKUP($F115,UNWDF_Hangzhou_2023!$H$14:$S$16,2,FALSE)","v":"Room 05"},{"$f":"HLOOKUP($F115,UNWDF_Hangzhou_2023!$H$14:$S$16,3,FALSE)","v":200},"NA","NA","NA",{"$f":"IF(OR(L115=\"NA\",L115=\"E\"),\"NA\",IF(L115=\"Y\",COUNTIF($M$1:N114,N115)+1,COUNTIF($M$1:N114,N115)+1))","v":"NA"},"NA","NA","NA","Day3_Time_Slot6_Parallel 05",""]
[115,"Day3_Time_Slot6_Parallel 06","Day3_Time_Slot6",3,6,"Parallel 06",{"$f":"VLOOKUP($D$1&D116,UNWDF_Hangzhou_2023!A:F,5,FALSE)","v":"2023-04-27"},{"$f":"MID(VLOOKUP($D$1&D116&$E$1&E116,UNWDF_Hangzhou_2023!A:F,5,FALSE),1,SEARCH(\"(\",VLOOKUP($D$1&D116&$E$1&E116,UNWDF_Hangzhou_2023!A:F,5,FALSE))-2)","v":"17:15 - 18:00"},"0:45",{"$f":"HLOOKUP($F116,UNWDF_Hangzhou_2023!$H$14:$S$16,2,FALSE)","v":"Room 06"},{"$f":"HLOOKUP($F116,UNWDF_Hangzhou_2023!$H$14:$S$16,3,FALSE)","v":200},"NA","NA","NA",{"$f":"IF(OR(L116=\"NA\",L116=\"E\"),\"NA\",IF(L116=\"Y\",COUNTIF($M$1:N115,N116)+1,COUNTIF($M$1:N115,N116)+1))","v":"NA"},"NA","NA","NA","Day3_Time_Slot6_Parallel 06",""]
[116,"Day3_Time_Slot6_Parallel 07","Day3_Time_Slot6",3,6,"Parallel 07",{"$f":"VLOOKUP($D$1&D117,UNWDF_Hangzhou_2023!A:F,5,FALSE)","v":"2023-04-27"},{"$f":"MID(VLOOKUP($D$1&D117&$E$1&E117,UNWDF_Hangzhou_2023!A:F,5,FALSE),1,SEARCH(\"(\",VLOOKUP($D$1&D117&$E$1&E117,UNWDF_Hangzhou_2023!A:F,5,FALSE))-2)","v":"17:15 - 18:00"},"0:45",{"$f":"HLOOKUP($F117,UNWDF_Hangzhou_2023!$H$14:$S$16,2,FALSE)","v":"Room 07"},{"$f":"HLOOKUP($F117,UNWDF_Hangzhou_2023!$H$14:$S$16,3,FALSE)","v":100},"NA","NA","NA",{"$f":"IF(OR(L117=\"NA\",L117=\"E\"),\"NA\",IF(L117=\"Y\",COUNTIF($M$1:N116,N117)+1,COUNTIF($M$1:N116,N117)+1))","v":"NA"},"NA","NA","NA","Day3_Time_Slot6_Parallel 07",""]
[117,"Day3_Time_Slot6_Parallel 08","Day3_Time_Slot6",3,6,"Parallel 08",{"$f":"VLOOKUP($D$1&D118,UNWDF_Hangzhou_2023!A:F,5,FALSE)","v":"2023-04-27"},{"$f":"MID(VLOOKUP($D$1&D118&$E$1&E118,UNWDF_Hangzhou_2023!A:F,5,FALSE),1,SEARCH(\"(\",VLOOKUP($D$1&D118&$E$1&E118,UNWDF_Hangzhou_2023!A:F,5,FALSE))-2)","v":"17:15 - 18:00"},"0:45",{"$f":"HLOOKUP($F118,UNWDF_Hangzhou_2023!$H$14:$S$16,2,FALSE)","v":"Room 08"},{"$f":"HLOOKUP($F118,UNWDF_Hangzhou_2023!$H$14:$S$16,3,FALSE)","v":100},"NA","NA","NA",{"$f":"IF(OR(L118=\"NA\",L118=\"E\"),\"NA\",IF(L118=\"Y\",COUNTIF($M$1:N117,N118)+1,COUNTIF($M$1:N117,N118)+1))","v":"NA"},"NA","NA","NA","Day3_Time_Slot6_Parallel 08",""]
[118,"Day3_Time_Slot6_Parallel 09","Day3_Time_Slot6",3,6,"Parallel 09",{"$f":"VLOOKUP($D$1&D119,UNWDF_Hangzhou_2023!A:F,5,FALSE)","v":"2023-04-27"},{"$f":"MID(VLOOKUP($D$1&D119&$E$1&E119,UNWDF_Hangzhou_2023!A:F,5,FALSE),1,SEARCH(\"(\",VLOOKUP($D$1&D119&$E$1&E119,UNWDF_Hangzhou_2023!A:F,5,FALSE))-2)","v":"17:15 - 18:00"},"0:45",{"$f":"HLOOKUP($F119,UNWDF_Hangzhou_2023!$H$14:$S$16,2,FALSE)","v":"Room 09"},{"$f":"HLOOKUP($F119,UNWDF_Hangzhou_2023!$H$14:$S$16,3,FALSE)","v":100},"NA","NA","NA",{"$f":"IF(OR(L119=\"NA\",L119=\"E\"),\"NA\",IF(L119=\"Y\",COUNTIF($M$1:N118,N119)+1,COUNTIF($M$1:N118,N119)+1))","v":"NA"},"NA","NA","NA","Day3_Time_Slot6_Parallel 09",""]
[119,"Day3_Time_Slot6_Parallel 10","Day3_Time_Slot6",3,6,"Parallel 10",{"$f":"VLOOKUP($D$1&D120,UNWDF_Hangzhou_2023!A:F,5,FALSE)","v":"2023-04-27"},{"$f":"MID(VLOOKUP($D$1&D120&$E$1&E120,UNWDF_Hangzhou_2023!A:F,5,FALSE),1,SEARCH(\"(\",VLOOKUP($D$1&D120&$E$1&E120,UNWDF_Hangzhou_2023!A:F,5,FALSE))-2)","v":"17:15 - 18:00"},"0:45",{"$f":"HLOOKUP($F120,UNWDF_Hangzhou_2023!$H$14:$S$16,2,FALSE)","v":"LEARNING LABS 1"},{"$f":"HLOOKUP($F120,UNWDF_Hangzhou_2023!$H$14:$S$16,3,FALSE)","v":100},"NA","NA","NA",{"$f":"IF(OR(L120=\"NA\",L120=\"E\"),\"NA\",IF(L120=\"Y\",COUNTIF($M$1:N119,N120)+1,COUNTIF($M$1:N119,N120)+1))","v":"NA"},"NA","NA","NA","Day3_Time_Slot6_Parallel 10",""]
[120,"Day3_Time_Slot6_Parallel 11","Day3_Time_Slot6",3,6,"Parallel 11",{"$f":"VLOOKUP($D$1&D121,UNWDF_Hangzhou_2023!A:F,5,FALSE)","v":"2023-04-27"},{"$f":"MID(VLOOKUP($D$1&D121&$E$1&E121,UNWDF_Hangzhou_2023!A:F,5,FALSE),1,SEARCH(\"(\",VLOOKUP($D$1&D121&$E$1&E121,UNWDF_Hangzhou_2023!A:F,5,FALSE))-2)","v":"17:15 - 18:00"},"0:45",{"$f":"HLOOKUP($F121,UNWDF_Hangzhou_2023!$H$14:$S$16,2,FALSE)","v":"LEARNING LABS 2"},{"$f":"HLOOKUP($F121,UNWDF_Hangzhou_2023!$H$14:$S$16,3,FALSE)","v":100},"NA","NA","NA",{"$f":"IF(OR(L121=\"NA\",L121=\"E\"),\"NA\",IF(L121=\"Y\",COUNTIF($M$1:N120,N121)+1,COUNTIF($M$1:N120,N121)+1))","v":"NA"},"NA","NA","NA","Day3_Time_Slot6_Parallel 11",""]
[121,"Day3_Time_Slot6_Parallel 12","Day3_Time_Slot6",3,6,"Parallel 12",{"$f":"VLOOKUP($D$1&D122,UNWDF_Hangzhou_2023!A:F,5,FALSE)","v":"2023-04-27"},{"$f":"MID(VLOOKUP($D$1&D122&$E$1&E122,UNWDF_Hangzhou_2023!A:F,5,FALSE),1,SEARCH(\"(\",VLOOKUP($D$1&D122&$E$1&E122,UNWDF_Hangzhou_2023!A:F,5,FALSE))-2)","v":"17:15 - 18:00"},"0:45",{"$f":"HLOOKUP($F122,UNWDF_Hangzhou_2023!$H$14:$S$16,2,FALSE)","v":"DEMOS SPACE"},{"$f":"HLOOKUP($F122,UNWDF_Hangzhou_2023!$H$14:$S$16,3,FALSE)","v":100},"NA","NA","NA",{"$f":"IF(OR(L122=\"NA\",L122=\"E\"),\"NA\",IF(L122=\"Y\",COUNTIF($M$1:N121,N122)+1,COUNTIF($M$1:N121,N122)+1))","v":"NA"},"NA","NA","NA","Day3_Time_Slot6_Parallel 12",""]
[122,"Day1_Time_Slot3_Parallel 02","Day1_Time_Slot3",1,3,"Parallel 02",{"$f":"VLOOKUP($D$1&D123,UNWDF_Hangzhou_2023!A:F,5,FALSE)","v":"2023-04-25"},{"$f":"MID(VLOOKUP($D$1&D123&$E$1&E123,UNWDF_Hangzhou_2023!A:F,5,FALSE),1,SEARCH(\"(\",VLOOKUP($D$1&D123&$E$1&E123,UNWDF_Hangzhou_2023!A:F,5,FALSE))-2)","v":"11:00 - 12:00"},"1:00",{"$f":"HLOOKUP($F123,UNWDF_Hangzhou_2023!$H$14:$S$16,2,FALSE)","v":"Room 02"},{"$f":"HLOOKUP($F123,UNWDF_Hangzhou_2023!$H$14:$S$16,3,FALSE)","v":200},"N","P.2-040171",2,{"$f":"IF(OR(L123=\"NA\",L123=\"E\"),\"NA\",IF(L123=\"Y\",COUNTIF($M$1:N122,N123)+1,COUNTIF($M$1:N122,N123)+1))","v":3},"TA2.11","Demonstrating the Power of Private Sector Data for Sustainable Development","Centro de Pensamiento Estratégico Internacional (Cepei); LIRNEasia; Local Development Research Institute (LDRI); University of the West Indies (UWI); Birzeit University; International Development Research Centre (IDRC)","Day1_Time_Slot3_Parallel 02",""]
[123,"Day1_Time_Slot3_Parallel 03","Day1_Time_Slot3",1,3,"Parallel 03",{"$f":"VLOOKUP($D$1&D124,UNWDF_Hangzhou_2023!A:F,5,FALSE)","v":"2023-04-25"},{"$f":"MID(VLOOKUP($D$1&D124&$E$1&E124,UNWDF_Hangzhou_2023!A:F,5,FALSE),1,SEARCH(\"(\",VLOOKUP($D$1&D124&$E$1&E124,UNWDF_Hangzhou_2023!A:F,5,FALSE))-2)","v":"11:00 - 12:00"},"1:00",{"$f":"HLOOKUP($F124,UNWDF_Hangzhou_2023!$H$14:$S$16,2,FALSE)","v":"Room 03"},{"$f":"HLOOKUP($F124,UNWDF_Hangzhou_2023!$H$14:$S$16,3,FALSE)","v":200},"N","P.1-892916",1,{"$f":"IF(OR(L124=\"NA\",L124=\"E\"),\"NA\",IF(L124=\"Y\",COUNTIF($M$1:N123,N124)+1,COUNTIF($M$1:N123,N124)+1))","v":2},"TA1.03","Increasing the use of innovative sources, methods, and technologies to inform decision-making: Insights from the Data For Now Initiative","United Nations Statistics Division (UNSD-DESA); Global Partnership for Sustainable Development Data (GPSDD); Sustainable Development Solutions Network (SDSN); World Bank (WB)","Day1_Time_Slot3_Parallel 03",""]
[124,"Day1_Time_Slot3_Parallel 04","Day1_Time_Slot3",1,3,"Parallel 04",{"$f":"VLOOKUP($D$1&D125,UNWDF_Hangzhou_2023!A:F,5,FALSE)","v":"2023-04-25"},{"$f":"MID(VLOOKUP($D$1&D125&$E$1&E125,UNWDF_Hangzhou_2023!A:F,5,FALSE),1,SEARCH(\"(\",VLOOKUP($D$1&D125&$E$1&E125,UNWDF_Hangzhou_2023!A:F,5,FALSE))-2)","v":"11:00 - 12:00"},"1:00",{"$f":"HLOOKUP($F125,UNWDF_Hangzhou_2023!$H$14:$S$16,2,FALSE)","v":"Room 04"},{"$f":"HLOOKUP($F125,UNWDF_Hangzhou_2023!$H$14:$S$16,3,FALSE)","v":200},"N","TA#.34",2,{"$f":"IF(OR(L125=\"NA\",L125=\"E\"),\"NA\",IF(L125=\"Y\",COUNTIF($M$1:N124,N125)+1,COUNTIF($M$1:N124,N125)+1))","v":4},"TA2.34","Toward better collection and analysis of data in healthcare applications","George Washington University; Renmin University of China; Columbia University; Beijing Institute of Geriatrics National Health Commission","Day1_Time_Slot3_Parallel 04"]
[125,"Day1_Time_Slot3_Parallel 05","Day1_Time_Slot3",1,3,"Parallel 05",{"$f":"VLOOKUP($D$1&D126,UNWDF_Hangzhou_2023!A:F,5,FALSE)","v":"2023-04-25"},{"$f":"MID(VLOOKUP($D$1&D126&$E$1&E126,UNWDF_Hangzhou_2023!A:F,5,FALSE),1,SEARCH(\"(\",VLOOKUP($D$1&D126&$E$1&E126,UNWDF_Hangzhou_2023!A:F,5,FALSE))-2)","v":"11:00 - 12:00"},"1:00",{"$f":"HLOOKUP($F126,UNWDF_Hangzhou_2023!$H$14:$S$16,2,FALSE)","v":"Room 05"},{"$f":"HLOOKUP($F126,UNWDF_Hangzhou_2023!$H$14:$S$16,3,FALSE)","v":200},"N","TA1.20",1,{"$f":"IF(OR(L126=\"NA\",L126=\"E\"),\"NA\",IF(L126=\"Y\",COUNTIF($M$1:N125,N126)+1,COUNTIF($M$1:N125,N126)+1))","v":3},"TA1.20","A New Tomorrow for Population and Housing Censuses? Prospects for the 2030 Census Round and Beyond","United Nations Population Fund (UNFPA); United Nations Statistics Division (UNSD-DESA)","Day1_Time_Slot3_Parallel 05",""]
[126,"Day1_Time_Slot3_Parallel 06","Day1_Time_Slot3",1,3,"Parallel 06",{"$f":"VLOOKUP($D$1&D127,UNWDF_Hangzhou_2023!A:F,5,FALSE)","v":"2023-04-25"},{"$f":"MID(VLOOKUP($D$1&D127&$E$1&E127,UNWDF_Hangzhou_2023!A:F,5,FALSE),1,SEARCH(\"(\",VLOOKUP($D$1&D127&$E$1&E127,UNWDF_Hangzhou_2023!A:F,5,FALSE))-2)","v":"11:00 - 12:00"},"1:00",{"$f":"HLOOKUP($F127,UNWDF_Hangzhou_2023!$H$14:$S$16,2,FALSE)","v":"Room 06"},{"$f":"HLOOKUP($F127,UNWDF_Hangzhou_2023!$H$14:$S$16,3,FALSE)","v":200},"N","P.2-076497",2,{"$f":"IF(OR(L127=\"NA\",L127=\"E\"),\"NA\",IF(L127=\"Y\",COUNTIF($M$1:N126,N127)+1,COUNTIF($M$1:N126,N127)+1))","v":5},"TA2.19","New developments in governance of cross-border data flows: Data strategies and trade negotiations","Centre for International Governance Innovation (CIGI); Digital Trade and Data Governance Hub, Elliott School of International Affairs, GWU; School of Public Affairs, Zhejiang University; Datasphere Initiative; Elliott School of International Affairs","Day1_Time_Slot3_Parallel 06",""]
[127,"Day1_Time_Slot3_Parallel 07","Day1_Time_Slot3",1,3,"Parallel 07",{"$f":"VLOOKUP($D$1&D128,UNWDF_Hangzhou_2023!A:F,5,FALSE)","v":"2023-04-25"},{"$f":"MID(VLOOKUP($D$1&D128&$E$1&E128,UNWDF_Hangzhou_2023!A:F,5,FALSE),1,SEARCH(\"(\",VLOOKUP($D$1&D128&$E$1&E128,UNWDF_Hangzhou_2023!A:F,5,FALSE))-2)","v":"11:00 - 12:00"},"1:00",{"$f":"HLOOKUP($F128,UNWDF_Hangzhou_2023!$H$14:$S$16,2,FALSE)","v":"Room 07"},{"$f":"HLOOKUP($F128,UNWDF_Hangzhou_2023!$H$14:$S$16,3,FALSE)","v":100},"N","P.4-747390",4,{"$f":"IF(OR(L128=\"NA\",L128=\"E\"),\"NA\",IF(L128=\"Y\",COUNTIF($M$1:N127,N128)+1,COUNTIF($M$1:N127,N128)+1))","v":2},"TA4.05","How Public-Private Data Collaboration Helps Governments Address Crises","LinkedIn; World Bank (WB); Meta; United Nations Development Programme (UNDP), Pintig Lab; International Monetary Fund (IMF)","Day1_Time_Slot3_Parallel 07",""]
[128,"Day1_Time_Slot3_Parallel 08","Day1_Time_Slot3",1,3,"Parallel 08",{"$f":"VLOOKUP($D$1&D129,UNWDF_Hangzhou_2023!A:F,5,FALSE)","v":"2023-04-25"},{"$f":"MID(VLOOKUP($D$1&D129&$E$1&E129,UNWDF_Hangzhou_2023!A:F,5,FALSE),1,SEARCH(\"(\",VLOOKUP($D$1&D129&$E$1&E129,UNWDF_Hangzhou_2023!A:F,5,FALSE))-2)","v":"11:00 - 12:00"},"1:00",{"$f":"HLOOKUP($F129,UNWDF_Hangzhou_2023!$H$14:$S$16,2,FALSE)","v":"Room 08"},{"$f":"HLOOKUP($F129,UNWDF_Hangzhou_2023!$H$14:$S$16,3,FALSE)","v":100},"N","TA#.40",2,{"$f":"IF(OR(L129=\"NA\",L129=\"E\"),\"NA\",IF(L129=\"Y\",COUNTIF($M$1:N128,N129)+1,COUNTIF($M$1:N128,N129)+1))","v":6},"TA2.40","Strengthening Violence against Women Data and Measurement for Evidence-based Policies (^^)","World Health Organization (WHO); United Nations Entity for Gender Equality and the Empowerment of Women (UN Women); Instituto Nacional de Estadística y Geografía (INEGI-México); Data-Pop Alliance","Day1_Time_Slot3_Parallel 08","Switch to fully virtual (via form)"]
[129,{"$f":"C130&\"_\"&F130","v":"Day1_Time_Slot3_Parallel 09"},{"$f":"$D$1&D130&\"_\"&$E$1&E130","v":"Day1_Time_Slot3"},1,3,"Parallel 09",{"$f":"VLOOKUP($D$1&D130,UNWDF_Hangzhou_2023!A:F,5,FALSE)","v":"2023-04-25"},{"$f":"MID(VLOOKUP($D$1&D130&$E$1&E130,UNWDF_Hangzhou_2023!A:F,5,FALSE),1,SEARCH(\"(\",VLOOKUP($D$1&D130&$E$1&E130,UNWDF_Hangzhou_2023!A:F,5,FALSE))-2)","v":"11:00 - 12:00"},{"$f":"TEXT(MID(H130,SEARCH(\"-\",H130)+2,LEN(H130)-SEARCH(\"-\",H130)-1)-MID(H130,1,SEARCH(\"-\",H130)-1),\"h:mm\")","v":"1:00"},{"$f":"HLOOKUP($F130,UNWDF_Hangzhou_2023!$H$14:$S$16,2,FALSE)","v":"Room 09"},{"$f":"HLOOKUP($F130,UNWDF_Hangzhou_2023!$H$14:$S$16,3,FALSE)","v":100},"N","P.2-724027",2,{"$f":"IF(OR(L130=\"NA\",L130=\"E\"),\"NA\",IF(L130=\"Y\",COUNTIF($M$1:N129,N130)+1,COUNTIF($M$1:N129,N130)+1))","v":7},"TA2.13","Creating Care Economy Indicators at the local level (^^)","Open Data Charter (ODC)",{"$f":"B130","v":"Day1_Time_Slot3_Parallel 09"},"Switch to fully virtual (via form)"]
[130,"Day1_Time_Slot3_Parallel 10","Day1_Time_Slot3",1,3,"Parallel 10",{"$f":"VLOOKUP($D$1&D131,UNWDF_Hangzhou_2023!A:F,5,FALSE)","v":"2023-04-25"},{"$f":"MID(VLOOKUP($D$1&D131&$E$1&E131,UNWDF_Hangzhou_2023!A:F,5,FALSE),1,SEARCH(\"(\",VLOOKUP($D$1&D131&$E$1&E131,UNWDF_Hangzhou_2023!A:F,5,FALSE))-2)","v":"11:00 - 12:00"},"1:00",{"$f":"HLOOKUP($F131,UNWDF_Hangzhou_2023!$H$14:$S$16,2,FALSE)","v":"LEARNING LABS 1"},{"$f":"HLOOKUP($F131,UNWDF_Hangzhou_2023!$H$14:$S$16,3,FALSE)","v":100},"N","SL.183954","NA",{"$f":"IF(OR(L131=\"NA\",L131=\"E\"),\"NA\",IF(L131=\"Y\",COUNTIF($M$1:N130,N131)+1,COUNTIF($M$1:N130,N131)+1))","v":228},"LEARN.303","National Statistical System (NSS) cooperation to increase the use of administrative data for official statistics: Interactive learning session","Global Partnership for Sustainable Development Data (GPSDD); United Nations Statistics Division (UNSD-DESA)","Day1_Time_Slot3_Parallel 10",""]
[131,"Day1_Time_Slot3_Parallel 11","Day1_Time_Slot3",1,3,"Parallel 11",{"$f":"VLOOKUP($D$1&D132,UNWDF_Hangzhou_2023!A:F,5,FALSE)","v":"2023-04-25"},{"$f":"MID(VLOOKUP($D$1&D132&$E$1&E132,UNWDF_Hangzhou_2023!A:F,5,FALSE),1,SEARCH(\"(\",VLOOKUP($D$1&D132&$E$1&E132,UNWDF_Hangzhou_2023!A:F,5,FALSE))-2)","v":"11:00 - 12:00"},"1:00",{"$f":"HLOOKUP($F132,UNWDF_Hangzhou_2023!$H$14:$S$16,2,FALSE)","v":"LEARNING LABS 2"},{"$f":"HLOOKUP($F132,UNWDF_Hangzhou_2023!$H$14:$S$16,3,FALSE)","v":100},"N","SL.138968","NA",{"$f":"IF(OR(L132=\"NA\",L132=\"E\"),\"NA\",IF(L132=\"Y\",COUNTIF($M$1:N131,N132)+1,COUNTIF($M$1:N131,N132)+1))","v":229},"LEARN.302","Data evolution, Data revolution and Data accounting","School of Statistics and Mathematics, Zhejiang Gongshang University; Beijing Normal University; School of Statistics and Mathematics, Zhongnan University of Economics and Law","Day1_Time_Slot3_Parallel 11",""]
[132,"Day1_Time_Slot4_Parallel 02","Day1_Time_Slot4",1,4,"Parallel 02",{"$f":"VLOOKUP($D$1&D133,UNWDF_Hangzhou_2023!A:F,5,FALSE)","v":"2023-04-25"},{"$f":"MID(VLOOKUP($D$1&D133&$E$1&E133,UNWDF_Hangzhou_2023!A:F,5,FALSE),1,SEARCH(\"(\",VLOOKUP($D$1&D133&$E$1&E133,UNWDF_Hangzhou_2023!A:F,5,FALSE))-2)","v":"13:30 - 14:30"},"1:00",{"$f":"HLOOKUP($F133,UNWDF_Hangzhou_2023!$H$14:$S$16,2,FALSE)","v":"Room 02"},{"$f":"HLOOKUP($F133,UNWDF_Hangzhou_2023!$H$14:$S$16,3,FALSE)","v":200},"N","P.1-463021",1,{"$f":"IF(OR(L133=\"NA\",L133=\"E\"),\"NA\",IF(L133=\"Y\",COUNTIF($M$1:N132,N133)+1,COUNTIF($M$1:N132,N133)+1))","v":4},"TA1.16","Innovative ways for increasing timeliness and coverage of SDG indicators","International Research Center of Big Data for Sustainable Development Goals (CBAS); CAST-UN Consultative Committee on Disaster Risk Reduction (CCDRR); Environmental Systems Research Institute (Esri); PVBLIC Foundation; United Nations Conference on Trade and Development (UNCTAD)","Day1_Time_Slot4_Parallel 02",""]
[133,"Day1_Time_Slot4_Parallel 03","Day1_Time_Slot4",1,4,"Parallel 03",{"$f":"VLOOKUP($D$1&D134,UNWDF_Hangzhou_2023!A:F,5,FALSE)","v":"2023-04-25"},{"$f":"MID(VLOOKUP($D$1&D134&$E$1&E134,UNWDF_Hangzhou_2023!A:F,5,FALSE),1,SEARCH(\"(\",VLOOKUP($D$1&D134&$E$1&E134,UNWDF_Hangzhou_2023!A:F,5,FALSE))-2)","v":"13:30 - 14:30"},"1:00",{"$f":"HLOOKUP($F134,UNWDF_Hangzhou_2023!$H$14:$S$16,2,FALSE)","v":"Room 03"},{"$f":"HLOOKUP($F134,UNWDF_Hangzhou_2023!$H$14:$S$16,3,FALSE)","v":200},"N","TA#.35",2,{"$f":"IF(OR(L134=\"NA\",L134=\"E\"),\"NA\",IF(L134=\"Y\",COUNTIF($M$1:N133,N134)+1,COUNTIF($M$1:N133,N134)+1))","v":8},"TA2.35","Data integration in public sector – lessons in developing a case for national data integration systems and data use","Data Innovators; Sambodhi Research & Communications; South African Department of Planning, Monitoring & Evaluation; Statistics Denmark","Day1_Time_Slot4_Parallel 03",""]
[134,"Day1_Time_Slot4_Parallel 04","Day1_Time_Slot4",1,4,"Parallel 04",{"$f":"VLOOKUP($D$1&D135,UNWDF_Hangzhou_2023!A:F,5,FALSE)","v":"2023-04-25"},{"$f":"MID(VLOOKUP($D$1&D135&$E$1&E135,UNWDF_Hangzhou_2023!A:F,5,FALSE),1,SEARCH(\"(\",VLOOKUP($D$1&D135&$E$1&E135,UNWDF_Hangzhou_2023!A:F,5,FALSE))-2)","v":"13:30 - 14:30"},"1:00",{"$f":"HLOOKUP($F135,UNWDF_Hangzhou_2023!$H$14:$S$16,2,FALSE)","v":"Room 04"},{"$f":"HLOOKUP($F135,UNWDF_Hangzhou_2023!$H$14:$S$16,3,FALSE)","v":200},"N",null,7,{"$f":"IF(OR(L135=\"NA\",L135=\"E\"),\"NA\",IF(L135=\"Y\",COUNTIF($M$1:N134,N135)+1,COUNTIF($M$1:N134,N135)+1))","v":1},"TED.207","Data for the Night: Ethical Guidances for Data Use and Sharing in 24-Hour Cities / Datos Abiertos NL: local data to solve social challenges / Bringing Youth to Data Leadership: The Los Angeles Data Science Federation","University of Virginia / Nuevo León´s State Institute of Transparency, Access to Information and Protection of Personal Data (INFO NL) and nine municipalities / City of Los Angeles","Day1_Time_Slot4_Parallel 04",""]
[135,"Day1_Time_Slot4_Parallel 05","Day1_Time_Slot4",1,4,"Parallel 05",{"$f":"VLOOKUP($D$1&D136,UNWDF_Hangzhou_2023!A:F,5,FALSE)","v":"2023-04-25"},{"$f":"MID(VLOOKUP($D$1&D136&$E$1&E136,UNWDF_Hangzhou_2023!A:F,5,FALSE),1,SEARCH(\"(\",VLOOKUP($D$1&D136&$E$1&E136,UNWDF_Hangzhou_2023!A:F,5,FALSE))-2)","v":"13:30 - 14:30"},"1:00",{"$f":"HLOOKUP($F136,UNWDF_Hangzhou_2023!$H$14:$S$16,2,FALSE)","v":"Room 05"},{"$f":"HLOOKUP($F136,UNWDF_Hangzhou_2023!$H$14:$S$16,3,FALSE)","v":200},"N","SA.286596","NA",{"$f":"IF(OR(L136=\"NA\",L136=\"E\"),\"NA\",IF(L136=\"Y\",COUNTIF($M$1:N135,N136)+1,COUNTIF($M$1:N135,N136)+1))","v":230},"ANCE.502","Data to Policy in Action: Data-Informed Policymaking in the Time of Polycrisis","Deutsche Gesellschaft für Internationale Zusammenarbeit (GIZ); United Nations Development Programme (UNDP)","Day1_Time_Slot4_Parallel 05",""]
[136,"Day1_Time_Slot4_Parallel 06","Day1_Time_Slot4",1,4,"Parallel 06",{"$f":"VLOOKUP($D$1&D137,UNWDF_Hangzhou_2023!A:F,5,FALSE)","v":"2023-04-25"},{"$f":"MID(VLOOKUP($D$1&D137&$E$1&E137,UNWDF_Hangzhou_2023!A:F,5,FALSE),1,SEARCH(\"(\",VLOOKUP($D$1&D137&$E$1&E137,UNWDF_Hangzhou_2023!A:F,5,FALSE))-2)","v":"13:30 - 14:30"},"1:00",{"$f":"HLOOKUP($F137,UNWDF_Hangzhou_2023!$H$14:$S$16,2,FALSE)","v":"Room 06"},{"$f":"HLOOKUP($F137,UNWDF_Hangzhou_2023!$H$14:$S$16,3,FALSE)","v":200},"N","SA.345890","NA",{"$f":"IF(OR(L137=\"NA\",L137=\"E\"),\"NA\",IF(L137=\"Y\",COUNTIF($M$1:N136,N137)+1,COUNTIF($M$1:N136,N137)+1))","v":231},"ANCE.501","AIDA – Artificial Intelligence for Development Analytics","United Nations Development Programme (UNDP)","Day1_Time_Slot4_Parallel 06"]
[137,"Day1_Time_Slot4_Parallel 07","Day1_Time_Slot4",1,4,"Parallel 07",{"$f":"VLOOKUP($D$1&D138,UNWDF_Hangzhou_2023!A:F,5,FALSE)","v":"2023-04-25"},{"$f":"MID(VLOOKUP($D$1&D138&$E$1&E138,UNWDF_Hangzhou_2023!A:F,5,FALSE),1,SEARCH(\"(\",VLOOKUP($D$1&D138&$E$1&E138,UNWDF_Hangzhou_2023!A:F,5,FALSE))-2)","v":"13:30 - 14:30"},"1:00",{"$f":"HLOOKUP($F138,UNWDF_Hangzhou_2023!$H$14:$S$16,2,FALSE)","v":"Room 07"},{"$f":"HLOOKUP($F138,UNWDF_Hangzhou_2023!$H$14:$S$16,3,FALSE)","v":100},"N","P.3-721034",3,{"$f":"IF(OR(L138=\"NA\",L138=\"E\"),\"NA\",IF(L138=\"Y\",COUNTIF($M$1:N137,N138)+1,COUNTIF($M$1:N137,N138)+1))","v":2},"TA3.03","The Data Values Project: Reimagining data and power (^^)","Global Partnership for Sustainable Development Data (GPSDD)","Day1_Time_Slot4_Parallel 07",""]
[138,"Day1_Time_Slot4_Parallel 08","Day1_Time_Slot4",1,4,"Parallel 08",{"$f":"VLOOKUP($D$1&D139,UNWDF_Hangzhou_2023!A:F,5,FALSE)","v":"2023-04-25"},{"$f":"MID(VLOOKUP($D$1&D139&$E$1&E139,UNWDF_Hangzhou_2023!A:F,5,FALSE),1,SEARCH(\"(\",VLOOKUP($D$1&D139&$E$1&E139,UNWDF_Hangzhou_2023!A:F,5,FALSE))-2)","v":"13:30 - 14:30"},"1:00",{"$f":"HLOOKUP($F139,UNWDF_Hangzhou_2023!$H$14:$S$16,2,FALSE)","v":"Room 08"},{"$f":"HLOOKUP($F139,UNWDF_Hangzhou_2023!$H$14:$S$16,3,FALSE)","v":100},"N","P.4-704920",4,{"$f":"IF(OR(L139=\"NA\",L139=\"E\"),\"NA\",IF(L139=\"Y\",COUNTIF($M$1:N138,N139)+1,COUNTIF($M$1:N138,N139)+1))","v":3},"TA4.09","The Data Spectrum in Africa’s emerging ecosystems: opportunities and challenges in opening privately produced data (^^)","Association of Freelance Journalists; Mobile Ghana Web; Flowminder Foundation; World Wide Web Foundation; Ghana Statistical Service (GSS); Vodafore Ghana","Day1_Time_Slot4_Parallel 08","Switch to fully virtual (via form)"]
[139,"Day1_Time_Slot4_Parallel 09","Day1_Time_Slot4",1,4,"Parallel 09",{"$f":"VLOOKUP($D$1&D140,UNWDF_Hangzhou_2023!A:F,5,FALSE)","v":"2023-04-25"},{"$f":"MID(VLOOKUP($D$1&D140&$E$1&E140,UNWDF_Hangzhou_2023!A:F,5,FALSE),1,SEARCH(\"(\",VLOOKUP($D$1&D140&$E$1&E140,UNWDF_Hangzhou_2023!A:F,5,FALSE))-2)","v":"13:30 - 14:30"},"1:00",{"$f":"HLOOKUP($F140,UNWDF_Hangzhou_2023!$H$14:$S$16,2,FALSE)","v":"Room 09"},{"$f":"HLOOKUP($F140,UNWDF_Hangzhou_2023!$H$14:$S$16,3,FALSE)","v":100},"N","TA#.30",1,{"$f":"IF(OR(L140=\"NA\",L140=\"E\"),\"NA\",IF(L140=\"Y\",COUNTIF($M$1:N139,N140)+1,COUNTIF($M$1:N139,N140)+1))","v":5},"TA1.30","Maximizing the use and value of disability data and data partnerships for inclusive development (^^)","CBM Global Disability Inclusion; International Disability Alliance; Stakeholder Group of Persons with Disabilities; Peking University; China Disabled Persons' Federation information center; Nanjing Normal University of Special Education","Day1_Time_Slot4_Parallel 09",""]
[140,"Day1_Time_Slot4_Parallel 10","Day1_Time_Slot4",1,4,"Parallel 10",{"$f":"VLOOKUP($D$1&D141,UNWDF_Hangzhou_2023!A:F,5,FALSE)","v":"2023-04-25"},{"$f":"MID(VLOOKUP($D$1&D141&$E$1&E141,UNWDF_Hangzhou_2023!A:F,5,FALSE),1,SEARCH(\"(\",VLOOKUP($D$1&D141&$E$1&E141,UNWDF_Hangzhou_2023!A:F,5,FALSE))-2)","v":"13:30 - 14:30"},"1:00",{"$f":"HLOOKUP($F141,UNWDF_Hangzhou_2023!$H$14:$S$16,2,FALSE)","v":"LEARNING LABS 1"},{"$f":"HLOOKUP($F141,UNWDF_Hangzhou_2023!$H$14:$S$16,3,FALSE)","v":100},"N","SL.526502","NA",{"$f":"IF(OR(L141=\"NA\",L141=\"E\"),\"NA\",IF(L141=\"Y\",COUNTIF($M$1:N140,N141)+1,COUNTIF($M$1:N140,N141)+1))","v":232},"LEARN.304","Including refugees and IDPs in national statistical systems: Why and How?","United Nations High Commissioner for Refugees (UNHCR); Expert Group on Refugee, IDP and Statelessness Statistics (EGRISS); Joint IDP Profiling Service (JIPS); United Nations Statistics Division (UNSD-DESA); United Nations Statistical Institute for Asia and the Pacific (UNSIAP)","Day1_Time_Slot4_Parallel 10",""]
[141,"Day1_Time_Slot4_Parallel 11","Day1_Time_Slot4",1,4,"Parallel 11",{"$f":"VLOOKUP($D$1&D142,UNWDF_Hangzhou_2023!A:F,5,FALSE)","v":"2023-04-25"},{"$f":"MID(VLOOKUP($D$1&D142&$E$1&E142,UNWDF_Hangzhou_2023!A:F,5,FALSE),1,SEARCH(\"(\",VLOOKUP($D$1&D142&$E$1&E142,UNWDF_Hangzhou_2023!A:F,5,FALSE))-2)","v":"13:30 - 14:30"},"1:00",{"$f":"HLOOKUP($F142,UNWDF_Hangzhou_2023!$H$14:$S$16,2,FALSE)","v":"LEARNING LABS 2"},{"$f":"HLOOKUP($F142,UNWDF_Hangzhou_2023!$H$14:$S$16,3,FALSE)","v":100},"E","NA","NA",{"$f":"IF(OR(L142=\"NA\",L142=\"E\"),\"NA\",IF(L142=\"Y\",COUNTIF($M$1:N141,N142)+1,COUNTIF($M$1:N141,N142)+1))","v":"NA"},{"$f":"IF(N142=\"NA\",\"NA\",\"TA\"&N142&\".\"&TEXT(O142,\"0#\"))","v":"NA"},"TBC","TBC","Day1_Time_Slot4_Parallel 11",""]
[142,"Day1_Time_Slot5_Parallel 02","Day1_Time_Slot5",1,5,"Parallel 02",{"$f":"VLOOKUP($D$1&D143,UNWDF_Hangzhou_2023!A:F,5,FALSE)","v":"2023-04-25"},{"$f":"MID(VLOOKUP($D$1&D143&$E$1&E143,UNWDF_Hangzhou_2023!A:F,5,FALSE),1,SEARCH(\"(\",VLOOKUP($D$1&D143&$E$1&E143,UNWDF_Hangzhou_2023!A:F,5,FALSE))-2)","v":"15:00 - 16:00"},"1:00",{"$f":"HLOOKUP($F143,UNWDF_Hangzhou_2023!$H$14:$S$16,2,FALSE)","v":"Room 02"},{"$f":"HLOOKUP($F143,UNWDF_Hangzhou_2023!$H$14:$S$16,3,FALSE)","v":200},"N","TA#.37",4,{"$f":"IF(OR(L143=\"NA\",L143=\"E\"),\"NA\",IF(L143=\"Y\",COUNTIF($M$1:N142,N143)+1,COUNTIF($M$1:N142,N143)+1))","v":4},"TA4.37","Together we can do more: citizen-generated data for inclusive data ecosystems","Danish Institute for Human Rights (DIHR); United Nations Statistics Division (UNSD-DESA); UN Women; World Bank (WB); International Civil Society Centre (ICSC); PARIS21; GPSDD","Day1_Time_Slot5_Parallel 02",""]
[143,"Day1_Time_Slot5_Parallel 03","Day1_Time_Slot5",1,5,"Parallel 03",{"$f":"VLOOKUP($D$1&D144,UNWDF_Hangzhou_2023!A:F,5,FALSE)","v":"2023-04-25"},{"$f":"MID(VLOOKUP($D$1&D144&$E$1&E144,UNWDF_Hangzhou_2023!A:F,5,FALSE),1,SEARCH(\"(\",VLOOKUP($D$1&D144&$E$1&E144,UNWDF_Hangzhou_2023!A:F,5,FALSE))-2)","v":"15:00 - 16:00"},"1:00",{"$f":"HLOOKUP($F144,UNWDF_Hangzhou_2023!$H$14:$S$16,2,FALSE)","v":"Room 03"},{"$f":"HLOOKUP($F144,UNWDF_Hangzhou_2023!$H$14:$S$16,3,FALSE)","v":200},"N","P.2-413901",2,{"$f":"IF(OR(L144=\"NA\",L144=\"E\"),\"NA\",IF(L144=\"Y\",COUNTIF($M$1:N143,N144)+1,COUNTIF($M$1:N143,N144)+1))","v":9},"TA2.18","GeoSpatial Data and Tools for Sustainable and Resilient Cities and Communities","KTH Royal Institute of Technology; United Nations Human Settlements Programme (UN-Habitat); Digital Futures & GEO GUOI","Day1_Time_Slot5_Parallel 03",""]
[144,"Day1_Time_Slot5_Parallel 04","Day1_Time_Slot5",1,5,"Parallel 04",{"$f":"VLOOKUP($D$1&D145,UNWDF_Hangzhou_2023!A:F,5,FALSE)","v":"2023-04-25"},{"$f":"MID(VLOOKUP($D$1&D145&$E$1&E145,UNWDF_Hangzhou_2023!A:F,5,FALSE),1,SEARCH(\"(\",VLOOKUP($D$1&D145&$E$1&E145,UNWDF_Hangzhou_2023!A:F,5,FALSE))-2)","v":"15:00 - 16:00"},"1:00",{"$f":"HLOOKUP($F145,UNWDF_Hangzhou_2023!$H$14:$S$16,2,FALSE)","v":"Room 04"},{"$f":"HLOOKUP($F145,UNWDF_Hangzhou_2023!$H$14:$S$16,3,FALSE)","v":200},"N","TA#.32",1,{"$f":"IF(OR(L145=\"NA\",L145=\"E\"),\"NA\",IF(L145=\"Y\",COUNTIF($M$1:N144,N145)+1,COUNTIF($M$1:N144,N145)+1))","v":6},"TA1.32","Data and Children: gaps, opportunities and responsibilities (^^)","The Governance Lab (GovLab), International Data Alliance for Children on the Move (IDAC) and NORRAG, UCL Institute of Education","Day1_Time_Slot5_Parallel 04","Switch to fully virtual 23/4"]
[145,"Day1_Time_Slot5_Parallel 05","Day1_Time_Slot5",1,5,"Parallel 05",{"$f":"VLOOKUP($D$1&D146,UNWDF_Hangzhou_2023!A:F,5,FALSE)","v":"2023-04-25"},{"$f":"MID(VLOOKUP($D$1&D146&$E$1&E146,UNWDF_Hangzhou_2023!A:F,5,FALSE),1,SEARCH(\"(\",VLOOKUP($D$1&D146&$E$1&E146,UNWDF_Hangzhou_2023!A:F,5,FALSE))-2)","v":"15:00 - 16:00"},"1:00",{"$f":"HLOOKUP($F146,UNWDF_Hangzhou_2023!$H$14:$S$16,2,FALSE)","v":"Room 05"},{"$f":"HLOOKUP($F146,UNWDF_Hangzhou_2023!$H$14:$S$16,3,FALSE)","v":200},"N","TA#.33",3,{"$f":"IF(OR(L146=\"NA\",L146=\"E\"),\"NA\",IF(L146=\"Y\",COUNTIF($M$1:N145,N146)+1,COUNTIF($M$1:N145,N146)+1))","v":3},"TA3.33","Maximising the public value of health data whilst protecting individual rights","Transform Health; PharmAccess Group; Baobab Institute for Health and Development; RECAINSA; John Snow, Inc.; Asia eHealth Information Network (AeHIN)","Day1_Time_Slot5_Parallel 05",""]
[146,"Day1_Time_Slot5_Parallel 06","Day1_Time_Slot5",1,5,"Parallel 06",{"$f":"VLOOKUP($D$1&D147,UNWDF_Hangzhou_2023!A:F,5,FALSE)","v":"2023-04-25"},{"$f":"MID(VLOOKUP($D$1&D147&$E$1&E147,UNWDF_Hangzhou_2023!A:F,5,FALSE),1,SEARCH(\"(\",VLOOKUP($D$1&D147&$E$1&E147,UNWDF_Hangzhou_2023!A:F,5,FALSE))-2)","v":"15:00 - 16:00"},"1:00",{"$f":"HLOOKUP($F147,UNWDF_Hangzhou_2023!$H$14:$S$16,2,FALSE)","v":"Room 06"},{"$f":"HLOOKUP($F147,UNWDF_Hangzhou_2023!$H$14:$S$16,3,FALSE)","v":200},"N","P.2-707877",2,{"$f":"IF(OR(L147=\"NA\",L147=\"E\"),\"NA\",IF(L147=\"Y\",COUNTIF($M$1:N146,N147)+1,COUNTIF($M$1:N146,N147)+1))","v":10},"TA2.08","Building the evidence to rebuild trust in governance systems","Statistics Norway; Statistics Canada; Department of Justice Canada; Institut national de la statistique (INS-Tunisie); International Institute for Applied Systems Analysis (IIASA); United Nations Development Programme (UNDP), Oslo Governance Centre (OGC)","Day1_Time_Slot5_Parallel 06",""]
[147,"Day1_Time_Slot5_Parallel 07","Day1_Time_Slot5",1,5,"Parallel 07",{"$f":"VLOOKUP($D$1&D148,UNWDF_Hangzhou_2023!A:F,5,FALSE)","v":"2023-04-25"},{"$f":"MID(VLOOKUP($D$1&D148&$E$1&E148,UNWDF_Hangzhou_2023!A:F,5,FALSE),1,SEARCH(\"(\",VLOOKUP($D$1&D148&$E$1&E148,UNWDF_Hangzhou_2023!A:F,5,FALSE))-2)","v":"15:00 - 16:00"},"1:00",{"$f":"HLOOKUP($F148,UNWDF_Hangzhou_2023!$H$14:$S$16,2,FALSE)","v":"Room 07"},{"$f":"HLOOKUP($F148,UNWDF_Hangzhou_2023!$H$14:$S$16,3,FALSE)","v":100},"N","P.1-123246",1,{"$f":"IF(OR(L148=\"NA\",L148=\"E\"),\"NA\",IF(L148=\"Y\",COUNTIF($M$1:N147,N148)+1,COUNTIF($M$1:N147,N148)+1))","v":7},"TA1.13","Including the excluded: better data on statelessness","United Nations High Commissioner for Refugees (UNHCR); Expert Group on Refugee, IDP and Statelessness Statistics (EGRISS); Joint Data Center on Forced Displacement; United Stateless; Philippine Statistics Authority (PSA)","Day1_Time_Slot5_Parallel 07"]
[148,"Day1_Time_Slot5_Parallel 08","Day1_Time_Slot5",1,5,"Parallel 08",{"$f":"VLOOKUP($D$1&D149,UNWDF_Hangzhou_2023!A:F,5,FALSE)","v":"2023-04-25"},{"$f":"MID(VLOOKUP($D$1&D149&$E$1&E149,UNWDF_Hangzhou_2023!A:F,5,FALSE),1,SEARCH(\"(\",VLOOKUP($D$1&D149&$E$1&E149,UNWDF_Hangzhou_2023!A:F,5,FALSE))-2)","v":"15:00 - 16:00"},"1:00",{"$f":"HLOOKUP($F149,UNWDF_Hangzhou_2023!$H$14:$S$16,2,FALSE)","v":"Room 08"},{"$f":"HLOOKUP($F149,UNWDF_Hangzhou_2023!$H$14:$S$16,3,FALSE)","v":100},"N","P.4-317384",4,{"$f":"IF(OR(L149=\"NA\",L149=\"E\"),\"NA\",IF(L149=\"Y\",COUNTIF($M$1:N148,N149)+1,COUNTIF($M$1:N148,N149)+1))","v":5},"TA4.06","Data-driven Justice: A perspective on the importance of legal data (^^)","Massachusetts Institute of Technology (MIT)","Day1_Time_Slot5_Parallel 08","Switch to fully virtual 12/2"]
[149,"Day1_Time_Slot5_Parallel 09","Day1_Time_Slot5",1,5,"Parallel 09",{"$f":"VLOOKUP($D$1&D150,UNWDF_Hangzhou_2023!A:F,5,FALSE)","v":"2023-04-25"},{"$f":"MID(VLOOKUP($D$1&D150&$E$1&E150,UNWDF_Hangzhou_2023!A:F,5,FALSE),1,SEARCH(\"(\",VLOOKUP($D$1&D150&$E$1&E150,UNWDF_Hangzhou_2023!A:F,5,FALSE))-2)","v":"15:00 - 16:00"},"1:00",{"$f":"HLOOKUP($F150,UNWDF_Hangzhou_2023!$H$14:$S$16,2,FALSE)","v":"Room 09"},{"$f":"HLOOKUP($F150,UNWDF_Hangzhou_2023!$H$14:$S$16,3,FALSE)","v":100},"N","P.3-732504",3,{"$f":"IF(OR(L150=\"NA\",L150=\"E\"),\"NA\",IF(L150=\"Y\",COUNTIF($M$1:N149,N150)+1,COUNTIF($M$1:N149,N150)+1))","v":4},"TA3.07","Digital Health: Addressing the Interface of Development, Human Rights and Data Governance (^^)","South Centre; Brazilian Institute for Consumer Rights (Idec)","Day1_Time_Slot5_Parallel 09","Switch to fully virtual 25/1"]
[150,"Day1_Time_Slot5_Parallel 10","Day1_Time_Slot5",1,5,"Parallel 10",{"$f":"VLOOKUP($D$1&D151,UNWDF_Hangzhou_2023!A:F,5,FALSE)","v":"2023-04-25"},{"$f":"MID(VLOOKUP($D$1&D151&$E$1&E151,UNWDF_Hangzhou_2023!A:F,5,FALSE),1,SEARCH(\"(\",VLOOKUP($D$1&D151&$E$1&E151,UNWDF_Hangzhou_2023!A:F,5,FALSE))-2)","v":"15:00 - 16:00"},"1:00",{"$f":"HLOOKUP($F151,UNWDF_Hangzhou_2023!$H$14:$S$16,2,FALSE)","v":"LEARNING LABS 1"},{"$f":"HLOOKUP($F151,UNWDF_Hangzhou_2023!$H$14:$S$16,3,FALSE)","v":100},"N","P.1-757669",1,{"$f":"IF(OR(L151=\"NA\",L151=\"E\"),\"NA\",IF(L151=\"Y\",COUNTIF($M$1:N150,N151)+1,COUNTIF($M$1:N150,N151)+1))","v":8},"TA1.12","Key enablers towards coordinated ways to generate and use education data for stronger resilience to emergencies and crises (^^)","Geneva Global EIE Hub; United Nations Educational, Scientific and Cultural Organization (UNESCO); Initiative to Strengthen Education in Emergencies Coordination (ISEEC)","Day1_Time_Slot5_Parallel 10",""]
[151,"Day1_Time_Slot5_Parallel 11","Day1_Time_Slot5",1,5,"Parallel 11",{"$f":"VLOOKUP($D$1&D152,UNWDF_Hangzhou_2023!A:F,5,FALSE)","v":"2023-04-25"},{"$f":"MID(VLOOKUP($D$1&D152&$E$1&E152,UNWDF_Hangzhou_2023!A:F,5,FALSE),1,SEARCH(\"(\",VLOOKUP($D$1&D152&$E$1&E152,UNWDF_Hangzhou_2023!A:F,5,FALSE))-2)","v":"15:00 - 16:00"},"1:00",{"$f":"HLOOKUP($F152,UNWDF_Hangzhou_2023!$H$14:$S$16,2,FALSE)","v":"LEARNING LABS 2"},{"$f":"HLOOKUP($F152,UNWDF_Hangzhou_2023!$H$14:$S$16,3,FALSE)","v":100},"E","NA","NA",{"$f":"IF(OR(L152=\"NA\",L152=\"E\"),\"NA\",IF(L152=\"Y\",COUNTIF($M$1:N151,N152)+1,COUNTIF($M$1:N151,N152)+1))","v":"NA"},{"$f":"IF(N152=\"NA\",\"NA\",\"TA\"&N152&\".\"&TEXT(O152,\"0#\"))","v":"NA"},"TBC","TBC","Day1_Time_Slot5_Parallel 11",""]
[152,"Day1_Time_Slot5_Parallel 12","Day1_Time_Slot5",1,5,"Parallel 12",{"$f":"VLOOKUP($D$1&D153,UNWDF_Hangzhou_2023!A:F,5,FALSE)","v":"2023-04-25"},{"$f":"MID(VLOOKUP($D$1&D153&$E$1&E153,UNWDF_Hangzhou_2023!A:F,5,FALSE),1,SEARCH(\"(\",VLOOKUP($D$1&D153&$E$1&E153,UNWDF_Hangzhou_2023!A:F,5,FALSE))-2)","v":"15:00 - 16:00"},"1:00",{"$f":"HLOOKUP($F153,UNWDF_Hangzhou_2023!$H$14:$S$16,2,FALSE)","v":"DEMOS SPACE"},{"$f":"HLOOKUP($F153,UNWDF_Hangzhou_2023!$H$14:$S$16,3,FALSE)","v":100},"E","NA","NA",{"$f":"IF(OR(L153=\"NA\",L153=\"E\"),\"NA\",IF(L153=\"Y\",COUNTIF($M$1:N152,N153)+1,COUNTIF($M$1:N152,N153)+1))","v":"NA"},{"$f":"IF(N153=\"NA\",\"NA\",\"TA\"&N153&\".\"&TEXT(O153,\"0#\"))","v":"NA"},"TBC","TBC","Day1_Time_Slot5_Parallel 12",""]
[153,"Day2_Time_Slot2_Parallel 02","Day2_Time_Slot2",2,2,"Parallel 02",{"$f":"VLOOKUP($D$1&D154,UNWDF_Hangzhou_2023!A:F,5,FALSE)","v":"2023-04-26"},{"$f":"MID(VLOOKUP($D$1&D154&$E$1&E154,UNWDF_Hangzhou_2023!A:F,5,FALSE),1,SEARCH(\"(\",VLOOKUP($D$1&D154&$E$1&E154,UNWDF_Hangzhou_2023!A:F,5,FALSE))-2)","v":"10:45 - 11:45"},"1:00",{"$f":"HLOOKUP($F154,UNWDF_Hangzhou_2023!$H$14:$S$16,2,FALSE)","v":"Room 02"},{"$f":"HLOOKUP($F154,UNWDF_Hangzhou_2023!$H$14:$S$16,3,FALSE)","v":200},"N","P.3-487379",3,{"$f":"IF(OR(L154=\"NA\",L154=\"E\"),\"NA\",IF(L154=\"Y\",COUNTIF($M$1:N153,N154)+1,COUNTIF($M$1:N153,N154)+1))","v":5},"TA3.02","Data in the age of misinformation: Building trust by bridging communities","Partnership in Statistics for Development in the 21st Century (PARIS21); Open Data Watch (ODW); Development Gateway (DG); Full Fact","Day2_Time_Slot2_Parallel 02",""]
[154,"Day2_Time_Slot2_Parallel 03","Day2_Time_Slot2",2,2,"Parallel 03",{"$f":"VLOOKUP($D$1&D155,UNWDF_Hangzhou_2023!A:F,5,FALSE)","v":"2023-04-26"},{"$f":"MID(VLOOKUP($D$1&D155&$E$1&E155,UNWDF_Hangzhou_2023!A:F,5,FALSE),1,SEARCH(\"(\",VLOOKUP($D$1&D155&$E$1&E155,UNWDF_Hangzhou_2023!A:F,5,FALSE))-2)","v":"10:45 - 11:45"},"1:00",{"$f":"HLOOKUP($F155,UNWDF_Hangzhou_2023!$H$14:$S$16,2,FALSE)","v":"Room 03"},{"$f":"HLOOKUP($F155,UNWDF_Hangzhou_2023!$H$14:$S$16,3,FALSE)","v":200},"N","TA#.31",4,{"$f":"IF(OR(L155=\"NA\",L155=\"E\"),\"NA\",IF(L155=\"Y\",COUNTIF($M$1:N154,N155)+1,COUNTIF($M$1:N154,N155)+1))","v":6},"TA4.31","Sector-Specific Approaches to Addressing the International Development Data Skills Gap","U.S. Census Bureau; Instituto Brasileiro de Geografia e Estatística (IBGE); African Institute for Economic Development and Planning (IDEP); Modern Scientist Global (MSG)/The Johns Hopkins University; The Sodzo Foundation","Day2_Time_Slot2_Parallel 03",""]
[155,"Day2_Time_Slot2_Parallel 04","Day2_Time_Slot2",2,2,"Parallel 04",{"$f":"VLOOKUP($D$1&D156,UNWDF_Hangzhou_2023!A:F,5,FALSE)","v":"2023-04-26"},{"$f":"MID(VLOOKUP($D$1&D156&$E$1&E156,UNWDF_Hangzhou_2023!A:F,5,FALSE),1,SEARCH(\"(\",VLOOKUP($D$1&D156&$E$1&E156,UNWDF_Hangzhou_2023!A:F,5,FALSE))-2)","v":"10:45 - 11:45"},"1:00",{"$f":"HLOOKUP($F156,UNWDF_Hangzhou_2023!$H$14:$S$16,2,FALSE)","v":"Room 04"},{"$f":"HLOOKUP($F156,UNWDF_Hangzhou_2023!$H$14:$S$16,3,FALSE)","v":200},"N","P.1-304043",1,{"$f":"IF(OR(L156=\"NA\",L156=\"E\"),\"NA\",IF(L156=\"Y\",COUNTIF($M$1:N155,N156)+1,COUNTIF($M$1:N155,N156)+1))","v":9},"TA1.05","Adding value to survey data through enhanced interoperability and data integration","United Nations Statistics Division (UNSD-DESA); United Nations Economic Commission for Latin America and the Caribbean (UNECLAC / CEPAL); World Bank (WB); United Nations Population Fund (UNFPA)","Day2_Time_Slot2_Parallel 04"]
[156,"Day2_Time_Slot2_Parallel 05","Day2_Time_Slot2",2,2,"Parallel 05",{"$f":"VLOOKUP($D$1&D157,UNWDF_Hangzhou_2023!A:F,5,FALSE)","v":"2023-04-26"},{"$f":"MID(VLOOKUP($D$1&D157&$E$1&E157,UNWDF_Hangzhou_2023!A:F,5,FALSE),1,SEARCH(\"(\",VLOOKUP($D$1&D157&$E$1&E157,UNWDF_Hangzhou_2023!A:F,5,FALSE))-2)","v":"10:45 - 11:45"},"1:00",{"$f":"HLOOKUP($F157,UNWDF_Hangzhou_2023!$H$14:$S$16,2,FALSE)","v":"Room 05"},{"$f":"HLOOKUP($F157,UNWDF_Hangzhou_2023!$H$14:$S$16,3,FALSE)","v":200},"N","P.4-787460",4,{"$f":"IF(OR(L157=\"NA\",L157=\"E\"),\"NA\",IF(L157=\"Y\",COUNTIF($M$1:N156,N157)+1,COUNTIF($M$1:N156,N157)+1))","v":7},"TA4.03","Unlocking data ecosystems for more effective and inclusive climate action [SDG 13]","Partnership in Statistics for Development in the 21st Century (PARIS21)","Day2_Time_Slot2_Parallel 05",""]
[157,"Day2_Time_Slot2_Parallel 06","Day2_Time_Slot2",2,2,"Parallel 06",{"$f":"VLOOKUP($D$1&D158,UNWDF_Hangzhou_2023!A:F,5,FALSE)","v":"2023-04-26"},{"$f":"MID(VLOOKUP($D$1&D158&$E$1&E158,UNWDF_Hangzhou_2023!A:F,5,FALSE),1,SEARCH(\"(\",VLOOKUP($D$1&D158&$E$1&E158,UNWDF_Hangzhou_2023!A:F,5,FALSE))-2)","v":"10:45 - 11:45"},"1:00",{"$f":"HLOOKUP($F158,UNWDF_Hangzhou_2023!$H$14:$S$16,2,FALSE)","v":"Room 06"},{"$f":"HLOOKUP($F158,UNWDF_Hangzhou_2023!$H$14:$S$16,3,FALSE)","v":200},"N","P.2-995712",2,{"$f":"IF(OR(L158=\"NA\",L158=\"E\"),\"NA\",IF(L158=\"Y\",COUNTIF($M$1:N157,N158)+1,COUNTIF($M$1:N157,N158)+1))","v":11},"TA2.09","Moving Gender Data Up the Value Chain: From Production to Impact","Open Data Watch (ODW); World Bank (WB); Ghana Statistical Service (GSS); Data2X; GEH UC San Diego","Day2_Time_Slot2_Parallel 06",""]
[158,"Day2_Time_Slot2_Parallel 07","Day2_Time_Slot2",2,2,"Parallel 07",{"$f":"VLOOKUP($D$1&D159,UNWDF_Hangzhou_2023!A:F,5,FALSE)","v":"2023-04-26"},{"$f":"MID(VLOOKUP($D$1&D159&$E$1&E159,UNWDF_Hangzhou_2023!A:F,5,FALSE),1,SEARCH(\"(\",VLOOKUP($D$1&D159&$E$1&E159,UNWDF_Hangzhou_2023!A:F,5,FALSE))-2)","v":"10:45 - 11:45"},"1:00",{"$f":"HLOOKUP($F159,UNWDF_Hangzhou_2023!$H$14:$S$16,2,FALSE)","v":"Room 07"},{"$f":"HLOOKUP($F159,UNWDF_Hangzhou_2023!$H$14:$S$16,3,FALSE)","v":100},"N","TA#.39",2,{"$f":"IF(OR(L159=\"NA\",L159=\"E\"),\"NA\",IF(L159=\"Y\",COUNTIF($M$1:N158,N159)+1,COUNTIF($M$1:N158,N159)+1))","v":12},"TA2.39","Driving impact from evidence: data that can accelerate achieving gender equality globally (^^)","United Nations Entity for Gender Equality and the Empowerment of Women (UN Women); Partnership in Statistics for Development in the 21st Century (PARIS21); WORLD Policy Analysis Center; Time's Up; University of California, Los Angeles; Open Data Collaboratives","Day2_Time_Slot2_Parallel 07","Switch to fully virtual 13/4"]
[159,"Day2_Time_Slot2_Parallel 08","Day2_Time_Slot2",2,2,"Parallel 08",{"$f":"VLOOKUP($D$1&D160,UNWDF_Hangzhou_2023!A:F,5,FALSE)","v":"2023-04-26"},{"$f":"MID(VLOOKUP($D$1&D160&$E$1&E160,UNWDF_Hangzhou_2023!A:F,5,FALSE),1,SEARCH(\"(\",VLOOKUP($D$1&D160&$E$1&E160,UNWDF_Hangzhou_2023!A:F,5,FALSE))-2)","v":"10:45 - 11:45"},"1:00",{"$f":"HLOOKUP($F160,UNWDF_Hangzhou_2023!$H$14:$S$16,2,FALSE)","v":"Room 08"},{"$f":"HLOOKUP($F160,UNWDF_Hangzhou_2023!$H$14:$S$16,3,FALSE)","v":100},"N","P.1-969624",1,{"$f":"IF(OR(L160=\"NA\",L160=\"E\"),\"NA\",IF(L160=\"Y\",COUNTIF($M$1:N159,N160)+1,COUNTIF($M$1:N159,N160)+1))","v":10},"TA1.19","Closing the data gap: ethical measurement of technology-facilitated violence against women (^^)","United Nations Entity for Gender Equality and the Empowerment of Women (UN Women); World Health Organization (WHO); Ladysmith; Open Data Collaboratives","Day2_Time_Slot2_Parallel 08","Previously labelled TA2.16 (error corrected 7/2/23); Switch to fully virtual 9/2"]
[160,"Day2_Time_Slot2_Parallel 09","Day2_Time_Slot2",2,2,"Parallel 09",{"$f":"VLOOKUP($D$1&D161,UNWDF_Hangzhou_2023!A:F,5,FALSE)","v":"2023-04-26"},{"$f":"MID(VLOOKUP($D$1&D161&$E$1&E161,UNWDF_Hangzhou_2023!A:F,5,FALSE),1,SEARCH(\"(\",VLOOKUP($D$1&D161&$E$1&E161,UNWDF_Hangzhou_2023!A:F,5,FALSE))-2)","v":"10:45 - 11:45"},"1:00",{"$f":"HLOOKUP($F161,UNWDF_Hangzhou_2023!$H$14:$S$16,2,FALSE)","v":"Room 09"},{"$f":"HLOOKUP($F161,UNWDF_Hangzhou_2023!$H$14:$S$16,3,FALSE)","v":100},"N","P.2-884285",2,{"$f":"IF(OR(L161=\"NA\",L161=\"E\"),\"NA\",IF(L161=\"Y\",COUNTIF($M$1:N160,N161)+1,COUNTIF($M$1:N160,N161)+1))","v":13},"TA2.05","Responsible use of Artificial Intelligence to Address Data Gaps: Perspectives from Climate Change and Agriculture (^^)","Development Gateway (DG); International Fertilizer Development Center; Quantitative Engineering Design","Day2_Time_Slot2_Parallel 09","Switch to fully virtual 22/2"]
[161,"Day2_Time_Slot2_Parallel 10","Day2_Time_Slot2",2,2,"Parallel 10",{"$f":"VLOOKUP($D$1&D162,UNWDF_Hangzhou_2023!A:F,5,FALSE)","v":"2023-04-26"},{"$f":"MID(VLOOKUP($D$1&D162&$E$1&E162,UNWDF_Hangzhou_2023!A:F,5,FALSE),1,SEARCH(\"(\",VLOOKUP($D$1&D162&$E$1&E162,UNWDF_Hangzhou_2023!A:F,5,FALSE))-2)","v":"10:45 - 11:45"},"1:00",{"$f":"HLOOKUP($F162,UNWDF_Hangzhou_2023!$H$14:$S$16,2,FALSE)","v":"LEARNING LABS 1"},{"$f":"HLOOKUP($F162,UNWDF_Hangzhou_2023!$H$14:$S$16,3,FALSE)","v":100},"N","P.2-146750",2,{"$f":"IF(OR(L162=\"NA\",L162=\"E\"),\"NA\",IF(L162=\"Y\",COUNTIF($M$1:N161,N162)+1,COUNTIF($M$1:N161,N162)+1))","v":14},"TA2.03","Data Innovations and Multi-Stakeholder Collaborations for Smart Cities: Case Studies from Across the Globe (^^)","Sustainable Development Solutions Network (SDSN); Zhejiang University; eThekwini Municipality; GEO EO4SDG & Human Planet Initiative","Day2_Time_Slot2_Parallel 10","Switch to fully virtual 17/1"]
[162,"Day2_Time_Slot2_Parallel 11","Day2_Time_Slot2",2,2,"Parallel 11",{"$f":"VLOOKUP($D$1&D163,UNWDF_Hangzhou_2023!A:F,5,FALSE)","v":"2023-04-26"},{"$f":"MID(VLOOKUP($D$1&D163&$E$1&E163,UNWDF_Hangzhou_2023!A:F,5,FALSE),1,SEARCH(\"(\",VLOOKUP($D$1&D163&$E$1&E163,UNWDF_Hangzhou_2023!A:F,5,FALSE))-2)","v":"10:45 - 11:45"},"1:00",{"$f":"HLOOKUP($F163,UNWDF_Hangzhou_2023!$H$14:$S$16,2,FALSE)","v":"LEARNING LABS 2"},{"$f":"HLOOKUP($F163,UNWDF_Hangzhou_2023!$H$14:$S$16,3,FALSE)","v":100},"N","SD.626767","NA",{"$f":"IF(OR(L163=\"NA\",L163=\"E\"),\"NA\",IF(L163=\"Y\",COUNTIF($M$1:N162,N163)+1,COUNTIF($M$1:N162,N163)+1))","v":239},"LEARN.318","Learning and teaching official statistics with the help of UNSDG:Learn","United Nations Institute for Training and Research (UNITAR); United Nations Statistics Division (UNSD-DESA); Statistics Norway; United Nations Statistical Institute for Asia and the Pacific (UNSIAP); DHS Program; Haut-Commissariat au Plan (HCP-Maroc)","Day2_Time_Slot2_Parallel 11",""]
[163,"Day2_Time_Slot2_Parallel 12","Day2_Time_Slot2",2,2,"Parallel 12",{"$f":"VLOOKUP($D$1&D164,UNWDF_Hangzhou_2023!A:F,5,FALSE)","v":"2023-04-26"},{"$f":"MID(VLOOKUP($D$1&D164&$E$1&E164,UNWDF_Hangzhou_2023!A:F,5,FALSE),1,SEARCH(\"(\",VLOOKUP($D$1&D164&$E$1&E164,UNWDF_Hangzhou_2023!A:F,5,FALSE))-2)","v":"10:45 - 11:45"},"1:00",{"$f":"HLOOKUP($F164,UNWDF_Hangzhou_2023!$H$14:$S$16,2,FALSE)","v":"DEMOS SPACE"},{"$f":"HLOOKUP($F164,UNWDF_Hangzhou_2023!$H$14:$S$16,3,FALSE)","v":100},"N","NA","NA",{"$f":"IF(OR(L164=\"NA\",L164=\"E\"),\"NA\",IF(L164=\"Y\",COUNTIF($M$1:N163,N164)+1,COUNTIF($M$1:N163,N164)+1))","v":240},"DEMOS.409","Social media for Data Experts: Big ideas and practical tips to improve your digital footprint / Data: Who cares? Why you should prioritize communicating the impact of your data","Digimentors / United Nations Information Centre (UNIC) Jakarta","Day2_Time_Slot2_Parallel 12",""]
[164,"Day2_Time_Slot3_Parallel 02","Day2_Time_Slot3",2,3,"Parallel 02",{"$f":"VLOOKUP($D$1&D165,UNWDF_Hangzhou_2023!A:F,5,FALSE)","v":"2023-04-26"},{"$f":"MID(VLOOKUP($D$1&D165&$E$1&E165,UNWDF_Hangzhou_2023!A:F,5,FALSE),1,SEARCH(\"(\",VLOOKUP($D$1&D165&$E$1&E165,UNWDF_Hangzhou_2023!A:F,5,FALSE))-2)","v":"13:30 - 14:30"},"1:00",{"$f":"HLOOKUP($F165,UNWDF_Hangzhou_2023!$H$14:$S$16,2,FALSE)","v":"Room 02"},{"$f":"HLOOKUP($F165,UNWDF_Hangzhou_2023!$H$14:$S$16,3,FALSE)","v":200},"N","P.2-590511",2,{"$f":"IF(OR(L165=\"NA\",L165=\"E\"),\"NA\",IF(L165=\"Y\",COUNTIF($M$1:N164,N165)+1,COUNTIF($M$1:N164,N165)+1))","v":15},"TA2.04","Engaging Parliamentarians in development data – what is new for National Statistical Offices?","Partnership in Statistics for Development in the 21st Century (PARIS21); National Statistics Office (NSO-Mongolia); National Statistics Office (NSO-Vanuatu)","Day2_Time_Slot3_Parallel 02",""]
[165,"Day2_Time_Slot3_Parallel 03","Day2_Time_Slot3",2,3,"Parallel 03",{"$f":"VLOOKUP($D$1&D166,UNWDF_Hangzhou_2023!A:F,5,FALSE)","v":"2023-04-26"},{"$f":"MID(VLOOKUP($D$1&D166&$E$1&E166,UNWDF_Hangzhou_2023!A:F,5,FALSE),1,SEARCH(\"(\",VLOOKUP($D$1&D166&$E$1&E166,UNWDF_Hangzhou_2023!A:F,5,FALSE))-2)","v":"13:30 - 14:30"},"1:00",{"$f":"HLOOKUP($F166,UNWDF_Hangzhou_2023!$H$14:$S$16,2,FALSE)","v":"Room 03"},{"$f":"HLOOKUP($F166,UNWDF_Hangzhou_2023!$H$14:$S$16,3,FALSE)","v":200},"N","TA#.38",1,{"$f":"IF(OR(L166=\"NA\",L166=\"E\"),\"NA\",IF(L166=\"Y\",COUNTIF($M$1:N165,N166)+1,COUNTIF($M$1:N165,N166)+1))","v":11},"TA1.38","Keys to successful health information systems strengthening -  Multi Stakeholder engagement and gender integration: experiences and lessons from Serbia, Niger and Indonesia","Country Health Information Systems and Data Use (CHISU) Program","Day2_Time_Slot3_Parallel 03",""]
[166,"Day2_Time_Slot3_Parallel 04","Day2_Time_Slot3",2,3,"Parallel 04",{"$f":"VLOOKUP($D$1&D167,UNWDF_Hangzhou_2023!A:F,5,FALSE)","v":"2023-04-26"},{"$f":"MID(VLOOKUP($D$1&D167&$E$1&E167,UNWDF_Hangzhou_2023!A:F,5,FALSE),1,SEARCH(\"(\",VLOOKUP($D$1&D167&$E$1&E167,UNWDF_Hangzhou_2023!A:F,5,FALSE))-2)","v":"13:30 - 14:30"},"1:00",{"$f":"HLOOKUP($F167,UNWDF_Hangzhou_2023!$H$14:$S$16,2,FALSE)","v":"Room 04"},{"$f":"HLOOKUP($F167,UNWDF_Hangzhou_2023!$H$14:$S$16,3,FALSE)","v":200},"N","P.1-194027",1,{"$f":"IF(OR(L167=\"NA\",L167=\"E\"),\"NA\",IF(L167=\"Y\",COUNTIF($M$1:N166,N167)+1,COUNTIF($M$1:N166,N167)+1))","v":12},"TA1.11","Leveraging innovations to measure and understand poverty and inequities, including the impact of crises on women, men, girls and boys","Save the Children; United Nations Children's Fund (UNICEF); World Bank (WB); United Nations Entity for Gender Equality and the Empowerment of Women (UN Women); Asian Development Bank (ADB)","Day2_Time_Slot3_Parallel 04",""]
[167,"Day2_Time_Slot3_Parallel 05","Day2_Time_Slot3",2,3,"Parallel 05",{"$f":"VLOOKUP($D$1&D168,UNWDF_Hangzhou_2023!A:F,5,FALSE)","v":"2023-04-26"},{"$f":"MID(VLOOKUP($D$1&D168&$E$1&E168,UNWDF_Hangzhou_2023!A:F,5,FALSE),1,SEARCH(\"(\",VLOOKUP($D$1&D168&$E$1&E168,UNWDF_Hangzhou_2023!A:F,5,FALSE))-2)","v":"13:30 - 14:30"},"1:00",{"$f":"HLOOKUP($F168,UNWDF_Hangzhou_2023!$H$14:$S$16,2,FALSE)","v":"Room 05"},{"$f":"HLOOKUP($F168,UNWDF_Hangzhou_2023!$H$14:$S$16,3,FALSE)","v":200},"N","P.2-880594",2,{"$f":"IF(OR(L168=\"NA\",L168=\"E\"),\"NA\",IF(L168=\"Y\",COUNTIF($M$1:N167,N168)+1,COUNTIF($M$1:N167,N168)+1))","v":16},"TA2.10","Strengthening local data ecosystems to support devolved decision making: Challenges and opportunities","Development Initiatives (DI); NITA-U; The Asia Foundation","Day2_Time_Slot3_Parallel 05",""]
[168,"Day2_Time_Slot3_Parallel 06","Day2_Time_Slot3",2,3,"Parallel 06",{"$f":"VLOOKUP($D$1&D169,UNWDF_Hangzhou_2023!A:F,5,FALSE)","v":"2023-04-26"},{"$f":"MID(VLOOKUP($D$1&D169&$E$1&E169,UNWDF_Hangzhou_2023!A:F,5,FALSE),1,SEARCH(\"(\",VLOOKUP($D$1&D169&$E$1&E169,UNWDF_Hangzhou_2023!A:F,5,FALSE))-2)","v":"13:30 - 14:30"},"1:00",{"$f":"HLOOKUP($F169,UNWDF_Hangzhou_2023!$H$14:$S$16,2,FALSE)","v":"Room 06"},{"$f":"HLOOKUP($F169,UNWDF_Hangzhou_2023!$H$14:$S$16,3,FALSE)","v":200},"N","P.2-335981",2,{"$f":"IF(OR(L169=\"NA\",L169=\"E\"),\"NA\",IF(L169=\"Y\",COUNTIF($M$1:N168,N169)+1,COUNTIF($M$1:N168,N169)+1))","v":17},"TA2.02","Inclusion of the citizen, children, families, disabled persons and primary care team in the world data cycle and asking the UN to support a global personal health data processing standard","Albrecht Federal Scientific Centre of Rehabilitation of the  disabled, Federal State Budgetary Institute, Research Centre Country or area of residence Russian Federation; AHRO review of nursing and midwifery journal; Pan-African Institute for Development Cameroon; Pushpagiri Institute of Medical Sciences and Research Centre, Kerala, India","Day2_Time_Slot3_Parallel 06",""]
[169,"Day2_Time_Slot3_Parallel 07","Day2_Time_Slot3",2,3,"Parallel 07",{"$f":"VLOOKUP($D$1&D170,UNWDF_Hangzhou_2023!A:F,5,FALSE)","v":"2023-04-26"},{"$f":"MID(VLOOKUP($D$1&D170&$E$1&E170,UNWDF_Hangzhou_2023!A:F,5,FALSE),1,SEARCH(\"(\",VLOOKUP($D$1&D170&$E$1&E170,UNWDF_Hangzhou_2023!A:F,5,FALSE))-2)","v":"13:30 - 14:30"},"1:00",{"$f":"HLOOKUP($F170,UNWDF_Hangzhou_2023!$H$14:$S$16,2,FALSE)","v":"Room 07"},{"$f":"HLOOKUP($F170,UNWDF_Hangzhou_2023!$H$14:$S$16,3,FALSE)","v":100},"E","NA","NA",{"$f":"IF(OR(L170=\"NA\",L170=\"E\"),\"NA\",IF(L170=\"Y\",COUNTIF($M$1:N169,N170)+1,COUNTIF($M$1:N169,N170)+1))","v":"NA"},{"$f":"IF(N170=\"NA\",\"NA\",\"TA\"&N170&\".\"&TEXT(O170,\"0#\"))","v":"NA"},"TBC","TBC","Day2_Time_Slot3_Parallel 07",""]
[170,"Day2_Time_Slot3_Parallel 08","Day2_Time_Slot3",2,3,"Parallel 08",{"$f":"VLOOKUP($D$1&D171,UNWDF_Hangzhou_2023!A:F,5,FALSE)","v":"2023-04-26"},{"$f":"MID(VLOOKUP($D$1&D171&$E$1&E171,UNWDF_Hangzhou_2023!A:F,5,FALSE),1,SEARCH(\"(\",VLOOKUP($D$1&D171&$E$1&E171,UNWDF_Hangzhou_2023!A:F,5,FALSE))-2)","v":"13:30 - 14:30"},"1:00",{"$f":"HLOOKUP($F171,UNWDF_Hangzhou_2023!$H$14:$S$16,2,FALSE)","v":"Room 08"},{"$f":"HLOOKUP($F171,UNWDF_Hangzhou_2023!$H$14:$S$16,3,FALSE)","v":100},"N","P.3-134328",3,{"$f":"IF(OR(L171=\"NA\",L171=\"E\"),\"NA\",IF(L171=\"Y\",COUNTIF($M$1:N170,N171)+1,COUNTIF($M$1:N170,N171)+1))","v":6},"TA3.08","Data ethics: From principles to real-world implementation (^^)","Organisation for Economic Co-operation and Development (OECD)","Day2_Time_Slot3_Parallel 08"]
[171,"Day2_Time_Slot3_Parallel 09","Day2_Time_Slot3",2,3,"Parallel 09",{"$f":"VLOOKUP($D$1&D172,UNWDF_Hangzhou_2023!A:F,5,FALSE)","v":"2023-04-26"},{"$f":"MID(VLOOKUP($D$1&D172&$E$1&E172,UNWDF_Hangzhou_2023!A:F,5,FALSE),1,SEARCH(\"(\",VLOOKUP($D$1&D172&$E$1&E172,UNWDF_Hangzhou_2023!A:F,5,FALSE))-2)","v":"13:30 - 14:30"},"1:00",{"$f":"HLOOKUP($F172,UNWDF_Hangzhou_2023!$H$14:$S$16,2,FALSE)","v":"Room 09"},{"$f":"HLOOKUP($F172,UNWDF_Hangzhou_2023!$H$14:$S$16,3,FALSE)","v":100},"N","P.4-190432",4,{"$f":"IF(OR(L172=\"NA\",L172=\"E\"),\"NA\",IF(L172=\"Y\",COUNTIF($M$1:N171,N172)+1,COUNTIF($M$1:N171,N172)+1))","v":8},"TA4.04","The Racial Justice Dashboard: Pursuing Racial Justice through Data in Europe and Latin America (^^)","Data-Pop Alliance; African Futures Action Lab","Day2_Time_Slot3_Parallel 09","Switch to fully virtual (via form)"]
[172,"Day2_Time_Slot3_Parallel 10","Day2_Time_Slot3",2,3,"Parallel 10",{"$f":"VLOOKUP($D$1&D173,UNWDF_Hangzhou_2023!A:F,5,FALSE)","v":"2023-04-26"},{"$f":"MID(VLOOKUP($D$1&D173&$E$1&E173,UNWDF_Hangzhou_2023!A:F,5,FALSE),1,SEARCH(\"(\",VLOOKUP($D$1&D173&$E$1&E173,UNWDF_Hangzhou_2023!A:F,5,FALSE))-2)","v":"13:30 - 14:30"},"1:00",{"$f":"HLOOKUP($F173,UNWDF_Hangzhou_2023!$H$14:$S$16,2,FALSE)","v":"LEARNING LABS 1"},{"$f":"HLOOKUP($F173,UNWDF_Hangzhou_2023!$H$14:$S$16,3,FALSE)","v":100},"N","SL.500506","NA",{"$f":"IF(OR(L173=\"NA\",L173=\"E\"),\"NA\",IF(L173=\"Y\",COUNTIF($M$1:N172,N173)+1,COUNTIF($M$1:N172,N173)+1))","v":244},"LEARN.309","Use the Payment data of the Third Party Payment Platform in Retail Statistics","National Bureau of Statistics (NBS-China)","Day2_Time_Slot3_Parallel 10",""]
[173,"Day2_Time_Slot3_Parallel 11","Day2_Time_Slot3",2,3,"Parallel 11",{"$f":"VLOOKUP($D$1&D174,UNWDF_Hangzhou_2023!A:F,5,FALSE)","v":"2023-04-26"},{"$f":"MID(VLOOKUP($D$1&D174&$E$1&E174,UNWDF_Hangzhou_2023!A:F,5,FALSE),1,SEARCH(\"(\",VLOOKUP($D$1&D174&$E$1&E174,UNWDF_Hangzhou_2023!A:F,5,FALSE))-2)","v":"13:30 - 14:30"},"1:00",{"$f":"HLOOKUP($F174,UNWDF_Hangzhou_2023!$H$14:$S$16,2,FALSE)","v":"LEARNING LABS 2"},{"$f":"HLOOKUP($F174,UNWDF_Hangzhou_2023!$H$14:$S$16,3,FALSE)","v":100},"N","SL.309419","NA",{"$f":"IF(OR(L174=\"NA\",L174=\"E\"),\"NA\",IF(L174=\"Y\",COUNTIF($M$1:N173,N174)+1,COUNTIF($M$1:N173,N174)+1))","v":245},"LEARN.310","Interactive learning: Data driven decision making using a rapid optimal service placement solution","Flowminder Foundation; United States Centers for Disease Control and Prevention (CDC)","Day2_Time_Slot3_Parallel 11",""]
[174,"Day2_Time_Slot3_Parallel 12","Day2_Time_Slot3",2,3,"Parallel 12",{"$f":"VLOOKUP($D$1&D175,UNWDF_Hangzhou_2023!A:F,5,FALSE)","v":"2023-04-26"},{"$f":"MID(VLOOKUP($D$1&D175&$E$1&E175,UNWDF_Hangzhou_2023!A:F,5,FALSE),1,SEARCH(\"(\",VLOOKUP($D$1&D175&$E$1&E175,UNWDF_Hangzhou_2023!A:F,5,FALSE))-2)","v":"13:30 - 14:30"},"1:00",{"$f":"HLOOKUP($F175,UNWDF_Hangzhou_2023!$H$14:$S$16,2,FALSE)","v":"DEMOS SPACE"},{"$f":"HLOOKUP($F175,UNWDF_Hangzhou_2023!$H$14:$S$16,3,FALSE)","v":100},"N","NA","NA",{"$f":"IF(OR(L175=\"NA\",L175=\"E\"),\"NA\",IF(L175=\"Y\",COUNTIF($M$1:N174,N175)+1,COUNTIF($M$1:N174,N175)+1))","v":246},"DEMOS.404","Population Data for Action: Population Data Portal 2.0 / Demographic, Gender and SDG Data for better decisionmaking","United Nations Population Fund (UNFPA) / Environmental Systems Research Institute (Esri); United Nations Department of Economic and Social Affairs (UNDESA)","Day2_Time_Slot3_Parallel 12",""]
[175,"Day2_Time_Slot4_Parallel 02","Day2_Time_Slot4",2,4,"Parallel 02",{"$f":"VLOOKUP($D$1&D176,UNWDF_Hangzhou_2023!A:F,5,FALSE)","v":"2023-04-26"},{"$f":"MID(VLOOKUP($D$1&D176&$E$1&E176,UNWDF_Hangzhou_2023!A:F,5,FALSE),1,SEARCH(\"(\",VLOOKUP($D$1&D176&$E$1&E176,UNWDF_Hangzhou_2023!A:F,5,FALSE))-2)","v":"14:45 - 15:45"},"1:00",{"$f":"HLOOKUP($F176,UNWDF_Hangzhou_2023!$H$14:$S$16,2,FALSE)","v":"Room 02"},{"$f":"HLOOKUP($F176,UNWDF_Hangzhou_2023!$H$14:$S$16,3,FALSE)","v":200},"N","P.1-377311",1,{"$f":"IF(OR(L176=\"NA\",L176=\"E\"),\"NA\",IF(L176=\"Y\",COUNTIF($M$1:N175,N176)+1,COUNTIF($M$1:N175,N176)+1))","v":13},"TA1.04","Partnership Innovation for Inclusive Ocean Data","United Nations Economic and Social Commission for Asia and the Pacific (UNESCAP); Global Ocean Accounts Partnership (GOAP); Statistics Canada; Ministry of Marine Affairs and Fisheries (MMAF); Ministry of Environment, Climate Change and Technology (MECCT); Institute of Strategy and Policy on Natural Resources and Environment (ISPONRE); Cape Peninsula University of Technology (CPUT)","Day2_Time_Slot4_Parallel 02",""]
[176,"Day2_Time_Slot4_Parallel 03","Day2_Time_Slot4",2,4,"Parallel 03",{"$f":"VLOOKUP($D$1&D177,UNWDF_Hangzhou_2023!A:F,5,FALSE)","v":"2023-04-26"},{"$f":"MID(VLOOKUP($D$1&D177&$E$1&E177,UNWDF_Hangzhou_2023!A:F,5,FALSE),1,SEARCH(\"(\",VLOOKUP($D$1&D177&$E$1&E177,UNWDF_Hangzhou_2023!A:F,5,FALSE))-2)","v":"14:45 - 15:45"},"1:00",{"$f":"HLOOKUP($F177,UNWDF_Hangzhou_2023!$H$14:$S$16,2,FALSE)","v":"Room 03"},{"$f":"HLOOKUP($F177,UNWDF_Hangzhou_2023!$H$14:$S$16,3,FALSE)","v":200},"N","P.2-130786",2,{"$f":"IF(OR(L177=\"NA\",L177=\"E\"),\"NA\",IF(L177=\"Y\",COUNTIF($M$1:N176,N177)+1,COUNTIF($M$1:N176,N177)+1))","v":18},"TA2.17","New possibilities for measuring deaths in conflict settings","United Nations Office for the High Commissioner for Human Rights (UNOHCHR); Commission on Human Rights of the Philippines","Day2_Time_Slot4_Parallel 03",""]
[177,"Day2_Time_Slot4_Parallel 04","Day2_Time_Slot4",2,4,"Parallel 04",{"$f":"VLOOKUP($D$1&D178,UNWDF_Hangzhou_2023!A:F,5,FALSE)","v":"2023-04-26"},{"$f":"MID(VLOOKUP($D$1&D178&$E$1&E178,UNWDF_Hangzhou_2023!A:F,5,FALSE),1,SEARCH(\"(\",VLOOKUP($D$1&D178&$E$1&E178,UNWDF_Hangzhou_2023!A:F,5,FALSE))-2)","v":"14:45 - 15:45"},"1:00",{"$f":"HLOOKUP($F178,UNWDF_Hangzhou_2023!$H$14:$S$16,2,FALSE)","v":"Room 04"},{"$f":"HLOOKUP($F178,UNWDF_Hangzhou_2023!$H$14:$S$16,3,FALSE)","v":200},"N","P.1-341970",1,{"$f":"IF(OR(L178=\"NA\",L178=\"E\"),\"NA\",IF(L178=\"Y\",COUNTIF($M$1:N177,N178)+1,COUNTIF($M$1:N177,N178)+1))","v":14},"TA1.10","Data as a Tool for Grassroot Citizen Engagement at Municipal Level a Case for Sub Saharan Africa","Jokkolabs Banjul","Day2_Time_Slot4_Parallel 04",""]
[178,"Day2_Time_Slot4_Parallel 05","Day2_Time_Slot4",2,4,"Parallel 05",{"$f":"VLOOKUP($D$1&D179,UNWDF_Hangzhou_2023!A:F,5,FALSE)","v":"2023-04-26"},{"$f":"MID(VLOOKUP($D$1&D179&$E$1&E179,UNWDF_Hangzhou_2023!A:F,5,FALSE),1,SEARCH(\"(\",VLOOKUP($D$1&D179&$E$1&E179,UNWDF_Hangzhou_2023!A:F,5,FALSE))-2)","v":"14:45 - 15:45"},"1:00",{"$f":"HLOOKUP($F179,UNWDF_Hangzhou_2023!$H$14:$S$16,2,FALSE)","v":"Room 05"},{"$f":"HLOOKUP($F179,UNWDF_Hangzhou_2023!$H$14:$S$16,3,FALSE)","v":200},"N","P.3-321442",3,{"$f":"IF(OR(L179=\"NA\",L179=\"E\"),\"NA\",IF(L179=\"Y\",COUNTIF($M$1:N178,N179)+1,COUNTIF($M$1:N178,N179)+1))","v":7},"TA3.05","Preparing for the next pandemic: Applying a system-wide approach to health data","Open Data Watch (ODW); World Health Organization (WHO); Partnership in Statistics for Development in the 21st Century (PARIS21)","Day2_Time_Slot4_Parallel 05"]
[179,"Day2_Time_Slot4_Parallel 06","Day2_Time_Slot4",2,4,"Parallel 06",{"$f":"VLOOKUP($D$1&D180,UNWDF_Hangzhou_2023!A:F,5,FALSE)","v":"2023-04-26"},{"$f":"MID(VLOOKUP($D$1&D180&$E$1&E180,UNWDF_Hangzhou_2023!A:F,5,FALSE),1,SEARCH(\"(\",VLOOKUP($D$1&D180&$E$1&E180,UNWDF_Hangzhou_2023!A:F,5,FALSE))-2)","v":"14:45 - 15:45"},"1:00",{"$f":"HLOOKUP($F180,UNWDF_Hangzhou_2023!$H$14:$S$16,2,FALSE)","v":"Room 06"},{"$f":"HLOOKUP($F180,UNWDF_Hangzhou_2023!$H$14:$S$16,3,FALSE)","v":200},"N","P.1-185368",1,{"$f":"IF(OR(L180=\"NA\",L180=\"E\"),\"NA\",IF(L180=\"Y\",COUNTIF($M$1:N179,N180)+1,COUNTIF($M$1:N179,N180)+1))","v":15},"TA1.14","Diverse partnerships for inclusive data on migration (^^)","International Organisation for Migration (IOM); United Nations Statistics Division (UNSD-DESA)","Day2_Time_Slot4_Parallel 06","Switch to fully virtual (via form)"]
[180,"Day2_Time_Slot4_Parallel 07","Day2_Time_Slot4",2,4,"Parallel 07",{"$f":"VLOOKUP($D$1&D181,UNWDF_Hangzhou_2023!A:F,5,FALSE)","v":"2023-04-26"},{"$f":"MID(VLOOKUP($D$1&D181&$E$1&E181,UNWDF_Hangzhou_2023!A:F,5,FALSE),1,SEARCH(\"(\",VLOOKUP($D$1&D181&$E$1&E181,UNWDF_Hangzhou_2023!A:F,5,FALSE))-2)","v":"14:45 - 15:45"},"1:00",{"$f":"HLOOKUP($F181,UNWDF_Hangzhou_2023!$H$14:$S$16,2,FALSE)","v":"Room 07"},{"$f":"HLOOKUP($F181,UNWDF_Hangzhou_2023!$H$14:$S$16,3,FALSE)","v":100},"N","P.1-364602",1,{"$f":"IF(OR(L181=\"NA\",L181=\"E\"),\"NA\",IF(L181=\"Y\",COUNTIF($M$1:N180,N181)+1,COUNTIF($M$1:N180,N181)+1))","v":16},"TA1.15","Inclusive Data, Partnerships & Decision-Making: What Works? (^^)","Global Partnership for Sustainable Development Data (GPSDD); Internation Research and Exchange Board (IREX)","Day2_Time_Slot4_Parallel 07","Switch to fully virtual (via form)"]
[181,"Day2_Time_Slot4_Parallel 08","Day2_Time_Slot4",2,4,"Parallel 08",{"$f":"VLOOKUP($D$1&D182,UNWDF_Hangzhou_2023!A:F,5,FALSE)","v":"2023-04-26"},{"$f":"MID(VLOOKUP($D$1&D182&$E$1&E182,UNWDF_Hangzhou_2023!A:F,5,FALSE),1,SEARCH(\"(\",VLOOKUP($D$1&D182&$E$1&E182,UNWDF_Hangzhou_2023!A:F,5,FALSE))-2)","v":"14:45 - 15:45"},"1:00",{"$f":"HLOOKUP($F182,UNWDF_Hangzhou_2023!$H$14:$S$16,2,FALSE)","v":"Room 08"},{"$f":"HLOOKUP($F182,UNWDF_Hangzhou_2023!$H$14:$S$16,3,FALSE)","v":100},"N","TA#.36",3,{"$f":"IF(OR(L182=\"NA\",L182=\"E\"),\"NA\",IF(L182=\"Y\",COUNTIF($M$1:N181,N182)+1,COUNTIF($M$1:N181,N182)+1))","v":8},"TA3.36","Challenges to data privacy and misuse (^^)","International Association for Official Statistics (IAOS); Krakow Working Group; Statistics Poland; Full Fact","Day2_Time_Slot4_Parallel 08","Switch to fully virtual (via form)"]
[182,"Day2_Time_Slot4_Parallel 09","Day2_Time_Slot4",2,4,"Parallel 09",{"$f":"VLOOKUP($D$1&D183,UNWDF_Hangzhou_2023!A:F,5,FALSE)","v":"2023-04-26"},{"$f":"MID(VLOOKUP($D$1&D183&$E$1&E183,UNWDF_Hangzhou_2023!A:F,5,FALSE),1,SEARCH(\"(\",VLOOKUP($D$1&D183&$E$1&E183,UNWDF_Hangzhou_2023!A:F,5,FALSE))-2)","v":"14:45 - 15:45"},"1:00",{"$f":"HLOOKUP($F183,UNWDF_Hangzhou_2023!$H$14:$S$16,2,FALSE)","v":"Room 09"},{"$f":"HLOOKUP($F183,UNWDF_Hangzhou_2023!$H$14:$S$16,3,FALSE)","v":100},"N","SL.449726",1,{"$f":"IF(OR(L183=\"NA\",L183=\"E\"),\"NA\",IF(L183=\"Y\",COUNTIF($M$1:N182,N183)+1,COUNTIF($M$1:N182,N183)+1))","v":17},"TA1.39","The System of Environmental-Economic Accounting (SEEA) Ecosystem Accounts as enabler of data and model integration to improve decision-making (^^)","Basque Center for Climate Change (BC3); South African National Biodiversity Institute (SANBI); European Space Agency (ESA); GEO Secretariat; United Nations Statistics Division (UNSD-DESA)","Day2_Time_Slot4_Parallel 09",""]
[183,"Day2_Time_Slot4_Parallel 10","Day2_Time_Slot4",2,4,"Parallel 10",{"$f":"VLOOKUP($D$1&D184,UNWDF_Hangzhou_2023!A:F,5,FALSE)","v":"2023-04-26"},{"$f":"MID(VLOOKUP($D$1&D184&$E$1&E184,UNWDF_Hangzhou_2023!A:F,5,FALSE),1,SEARCH(\"(\",VLOOKUP($D$1&D184&$E$1&E184,UNWDF_Hangzhou_2023!A:F,5,FALSE))-2)","v":"14:45 - 15:45"},"1:00",{"$f":"HLOOKUP($F184,UNWDF_Hangzhou_2023!$H$14:$S$16,2,FALSE)","v":"LEARNING LABS 1"},{"$f":"HLOOKUP($F184,UNWDF_Hangzhou_2023!$H$14:$S$16,3,FALSE)","v":100},"N","P.3-836419",3,{"$f":"IF(OR(L184=\"NA\",L184=\"E\"),\"NA\",IF(L184=\"Y\",COUNTIF($M$1:N183,N184)+1,COUNTIF($M$1:N183,N184)+1))","v":9},"TA3.06","Fostering collective approaches to data responsibility in humanitarian action (^^)","Danish Refugee Council (DRC); International Organisation for Migration (IOM); United Nations High Commissioner for Refugees (UNHCR); UN Office for the Coordination of Humanitarian Affairs (OCHA) Centre for Humanitarian Data","Day2_Time_Slot4_Parallel 10",""]
[184,"Day2_Time_Slot4_Parallel 11","Day2_Time_Slot4",2,4,"Parallel 11",{"$f":"VLOOKUP($D$1&D185,UNWDF_Hangzhou_2023!A:F,5,FALSE)","v":"2023-04-26"},{"$f":"MID(VLOOKUP($D$1&D185&$E$1&E185,UNWDF_Hangzhou_2023!A:F,5,FALSE),1,SEARCH(\"(\",VLOOKUP($D$1&D185&$E$1&E185,UNWDF_Hangzhou_2023!A:F,5,FALSE))-2)","v":"14:45 - 15:45"},"1:00",{"$f":"HLOOKUP($F185,UNWDF_Hangzhou_2023!$H$14:$S$16,2,FALSE)","v":"LEARNING LABS 2"},{"$f":"HLOOKUP($F185,UNWDF_Hangzhou_2023!$H$14:$S$16,3,FALSE)","v":100},"N","SL.745470","NA",{"$f":"IF(OR(L185=\"NA\",L185=\"E\"),\"NA\",IF(L185=\"Y\",COUNTIF($M$1:N184,N185)+1,COUNTIF($M$1:N184,N185)+1))","v":248},"LEARN.308","Cogenerating learnings for Evidence Based Planning and data use in governance","The Asia Foundation","Day2_Time_Slot4_Parallel 11",""]
[185,"Day2_Time_Slot4_Parallel 12","Day2_Time_Slot4",2,4,"Parallel 12",{"$f":"VLOOKUP($D$1&D186,UNWDF_Hangzhou_2023!A:F,5,FALSE)","v":"2023-04-26"},{"$f":"MID(VLOOKUP($D$1&D186&$E$1&E186,UNWDF_Hangzhou_2023!A:F,5,FALSE),1,SEARCH(\"(\",VLOOKUP($D$1&D186&$E$1&E186,UNWDF_Hangzhou_2023!A:F,5,FALSE))-2)","v":"14:45 - 15:45"},"1:00",{"$f":"HLOOKUP($F186,UNWDF_Hangzhou_2023!$H$14:$S$16,2,FALSE)","v":"DEMOS SPACE"},{"$f":"HLOOKUP($F186,UNWDF_Hangzhou_2023!$H$14:$S$16,3,FALSE)","v":100},"N","NA","NA",{"$f":"IF(OR(L186=\"NA\",L186=\"E\"),\"NA\",IF(L186=\"Y\",COUNTIF($M$1:N185,N186)+1,COUNTIF($M$1:N185,N186)+1))","v":249},"DEMOS.405","Empowering SDG policy makers with spatial data and analytics / Using the World Risk Poll to improve global safety","United Nations Development Programme (UNDP) / Lloyd's Register Foundation","Day2_Time_Slot4_Parallel 12",""]
[186,"Day3_Time_Slot2_Parallel 02","Day3_Time_Slot2",3,2,"Parallel 02",{"$f":"VLOOKUP($D$1&D187,UNWDF_Hangzhou_2023!A:F,5,FALSE)","v":"2023-04-27"},{"$f":"MID(VLOOKUP($D$1&D187&$E$1&E187,UNWDF_Hangzhou_2023!A:F,5,FALSE),1,SEARCH(\"(\",VLOOKUP($D$1&D187&$E$1&E187,UNWDF_Hangzhou_2023!A:F,5,FALSE))-2)","v":"10:45 - 11:45"},"1:00",{"$f":"HLOOKUP($F187,UNWDF_Hangzhou_2023!$H$14:$S$16,2,FALSE)","v":"Room 02"},{"$f":"HLOOKUP($F187,UNWDF_Hangzhou_2023!$H$14:$S$16,3,FALSE)","v":200},"N","P.1-965715",1,{"$f":"IF(OR(L187=\"NA\",L187=\"E\"),\"NA\",IF(L187=\"Y\",COUNTIF($M$1:N186,N187)+1,COUNTIF($M$1:N186,N187)+1))","v":18},"TA1.09","New Human Rights Data Partnerships: Making the Invisible Visible in Official Statistics","Kenya National Bureau of Statistics (KNBS); Commission on Human Rights of the Philippines; United Nations Office for the High Commissioner for Human Rights (UNOHCHR)","Day3_Time_Slot2_Parallel 02",""]
[187,"Day3_Time_Slot2_Parallel 03","Day3_Time_Slot2",3,2,"Parallel 03",{"$f":"VLOOKUP($D$1&D188,UNWDF_Hangzhou_2023!A:F,5,FALSE)","v":"2023-04-27"},{"$f":"MID(VLOOKUP($D$1&D188&$E$1&E188,UNWDF_Hangzhou_2023!A:F,5,FALSE),1,SEARCH(\"(\",VLOOKUP($D$1&D188&$E$1&E188,UNWDF_Hangzhou_2023!A:F,5,FALSE))-2)","v":"10:45 - 11:45"},"1:00",{"$f":"HLOOKUP($F188,UNWDF_Hangzhou_2023!$H$14:$S$16,2,FALSE)","v":"Room 03"},{"$f":"HLOOKUP($F188,UNWDF_Hangzhou_2023!$H$14:$S$16,3,FALSE)","v":200},"N","P.4-027945",4,{"$f":"IF(OR(L188=\"NA\",L188=\"E\"),\"NA\",IF(L188=\"Y\",COUNTIF($M$1:N187,N188)+1,COUNTIF($M$1:N187,N188)+1))","v":9},"TA4.07","Data stewardship – comparing country developments","Statistics Denmark; United Nations Statistics Division (UNSD-DESA); Instituto Nacional de Estadística y Geografía (INEGI-México); Statistics Canada","Day3_Time_Slot2_Parallel 03",""]
[188,"Day3_Time_Slot2_Parallel 04","Day3_Time_Slot2",3,2,"Parallel 04",{"$f":"VLOOKUP($D$1&D189,UNWDF_Hangzhou_2023!A:F,5,FALSE)","v":"2023-04-27"},{"$f":"MID(VLOOKUP($D$1&D189&$E$1&E189,UNWDF_Hangzhou_2023!A:F,5,FALSE),1,SEARCH(\"(\",VLOOKUP($D$1&D189&$E$1&E189,UNWDF_Hangzhou_2023!A:F,5,FALSE))-2)","v":"10:45 - 11:45"},"1:00",{"$f":"HLOOKUP($F189,UNWDF_Hangzhou_2023!$H$14:$S$16,2,FALSE)","v":"Room 04"},{"$f":"HLOOKUP($F189,UNWDF_Hangzhou_2023!$H$14:$S$16,3,FALSE)","v":200},"N","P.4-158541",4,{"$f":"IF(OR(L189=\"NA\",L189=\"E\"),\"NA\",IF(L189=\"Y\",COUNTIF($M$1:N188,N189)+1,COUNTIF($M$1:N188,N189)+1))","v":10},"TA4.08","SDG 16: Measuring progress and reporting challenges. Different approaches to the cooperation between the international and national level","Italian National Institute of Statistics (Istat); United Nations Office on Drugs and Crime (UNODC); United Nations Development Programme (UNDP); UNODC-INEGI Centre of Excellence","Day3_Time_Slot2_Parallel 04",""]
[189,"Day3_Time_Slot2_Parallel 05","Day3_Time_Slot2",3,2,"Parallel 05",{"$f":"VLOOKUP($D$1&D190,UNWDF_Hangzhou_2023!A:F,5,FALSE)","v":"2023-04-27"},{"$f":"MID(VLOOKUP($D$1&D190&$E$1&E190,UNWDF_Hangzhou_2023!A:F,5,FALSE),1,SEARCH(\"(\",VLOOKUP($D$1&D190&$E$1&E190,UNWDF_Hangzhou_2023!A:F,5,FALSE))-2)","v":"10:45 - 11:45"},"1:00",{"$f":"HLOOKUP($F190,UNWDF_Hangzhou_2023!$H$14:$S$16,2,FALSE)","v":"Room 05"},{"$f":"HLOOKUP($F190,UNWDF_Hangzhou_2023!$H$14:$S$16,3,FALSE)","v":200},"N",null,7,{"$f":"IF(OR(L190=\"NA\",L190=\"E\"),\"NA\",IF(L190=\"Y\",COUNTIF($M$1:N189,N190)+1,COUNTIF($M$1:N189,N190)+1))","v":2},"TED.205","Automatically  high-precision and intelligent  extracttion of the area and number of greenhouses  based on satellite remote sensing images / Lectures Series on the Statistics Application of Big Data in China -- Satellite Remote Sensing / Why we need data solidarity: Strengthening collective oversight and control in the digital era (^^)","National Bureau of Statistics (NBS-China), Zhejiang; Beijing Normal University / National Bureau of Statistics (NBS-China) - Zhejiang; Guangxi; Henan / Governing Health Futures 2030; University of Vienna","Day3_Time_Slot2_Parallel 05"]
[190,"Day3_Time_Slot2_Parallel 06","Day3_Time_Slot2",3,2,"Parallel 06",{"$f":"VLOOKUP($D$1&D191,UNWDF_Hangzhou_2023!A:F,5,FALSE)","v":"2023-04-27"},{"$f":"MID(VLOOKUP($D$1&D191&$E$1&E191,UNWDF_Hangzhou_2023!A:F,5,FALSE),1,SEARCH(\"(\",VLOOKUP($D$1&D191&$E$1&E191,UNWDF_Hangzhou_2023!A:F,5,FALSE))-2)","v":"10:45 - 11:45"},"1:00",{"$f":"HLOOKUP($F191,UNWDF_Hangzhou_2023!$H$14:$S$16,2,FALSE)","v":"Room 06"},{"$f":"HLOOKUP($F191,UNWDF_Hangzhou_2023!$H$14:$S$16,3,FALSE)","v":200},"N","P.2-756182",2,{"$f":"IF(OR(L191=\"NA\",L191=\"E\"),\"NA\",IF(L191=\"Y\",COUNTIF($M$1:N190,N191)+1,COUNTIF($M$1:N190,N191)+1))","v":19},"TA2.22","Global Data Barometer: Measuring the state of data for public good and the achievement of the SDGs","Open Government Partnership (OGP); Land Portal Foundation; Open Contracting Partnership; Open Data Watch (ODW)","Day3_Time_Slot2_Parallel 06",""]
[191,"Day3_Time_Slot2_Parallel 07","Day3_Time_Slot2",3,2,"Parallel 07",{"$f":"VLOOKUP($D$1&D192,UNWDF_Hangzhou_2023!A:F,5,FALSE)","v":"2023-04-27"},{"$f":"MID(VLOOKUP($D$1&D192&$E$1&E192,UNWDF_Hangzhou_2023!A:F,5,FALSE),1,SEARCH(\"(\",VLOOKUP($D$1&D192&$E$1&E192,UNWDF_Hangzhou_2023!A:F,5,FALSE))-2)","v":"10:45 - 11:45"},"1:00",{"$f":"HLOOKUP($F192,UNWDF_Hangzhou_2023!$H$14:$S$16,2,FALSE)","v":"Room 07"},{"$f":"HLOOKUP($F192,UNWDF_Hangzhou_2023!$H$14:$S$16,3,FALSE)","v":100},"N","P.2-774577",2,{"$f":"IF(OR(L192=\"NA\",L192=\"E\"),\"NA\",IF(L192=\"Y\",COUNTIF($M$1:N191,N192)+1,COUNTIF($M$1:N191,N192)+1))","v":20},"TA2.41","Beyond income, averages and today: redefining human development in the anthropocene era with people-centered metrics and hyperlocal data","United Nations Development Programme (UNDP)","Day3_Time_Slot2_Parallel 07",""]
[192,"Day3_Time_Slot2_Parallel 08","Day3_Time_Slot2",3,2,"Parallel 08",{"$f":"VLOOKUP($D$1&D193,UNWDF_Hangzhou_2023!A:F,5,FALSE)","v":"2023-04-27"},{"$f":"MID(VLOOKUP($D$1&D193&$E$1&E193,UNWDF_Hangzhou_2023!A:F,5,FALSE),1,SEARCH(\"(\",VLOOKUP($D$1&D193&$E$1&E193,UNWDF_Hangzhou_2023!A:F,5,FALSE))-2)","v":"10:45 - 11:45"},"1:00",{"$f":"HLOOKUP($F193,UNWDF_Hangzhou_2023!$H$14:$S$16,2,FALSE)","v":"Room 08"},{"$f":"HLOOKUP($F193,UNWDF_Hangzhou_2023!$H$14:$S$16,3,FALSE)","v":100},"N","P.1-486962",1,{"$f":"IF(OR(L193=\"NA\",L193=\"E\"),\"NA\",IF(L193=\"Y\",COUNTIF($M$1:N192,N193)+1,COUNTIF($M$1:N192,N193)+1))","v":19},"TA1.08","Boosting data availability on agricultural land ownership from a gender perspective: Balancing inclusion and quantity (^^)","Food and Agriculture Organization of the United Nations (FAO); United Nations Entity for Gender Equality and the Empowerment of Women (UN Women); Central Bureau of Statistics (CBS-Nepal); Philippine Statistics Authority (PSA); DHS Program","Day3_Time_Slot2_Parallel 08","Switch to fully virtual (via form)"]
[193,{"$f":"C194&\"_\"&F194","v":"Day3_Time_Slot2_Parallel 09"},{"$f":"$D$1&D194&\"_\"&$E$1&E194","v":"Day3_Time_Slot2"},3,2,"Parallel 09",{"$f":"VLOOKUP($D$1&D194,UNWDF_Hangzhou_2023!A:F,5,FALSE)","v":"2023-04-27"},{"$f":"MID(VLOOKUP($D$1&D194&$E$1&E194,UNWDF_Hangzhou_2023!A:F,5,FALSE),1,SEARCH(\"(\",VLOOKUP($D$1&D194&$E$1&E194,UNWDF_Hangzhou_2023!A:F,5,FALSE))-2)","v":"10:45 - 11:45"},{"$f":"TEXT(MID(H194,SEARCH(\"-\",H194)+2,LEN(H194)-SEARCH(\"-\",H194)-1)-MID(H194,1,SEARCH(\"-\",H194)-1),\"h:mm\")","v":"1:00"},{"$f":"HLOOKUP($F194,UNWDF_Hangzhou_2023!$H$14:$S$16,2,FALSE)","v":"Room 09"},{"$f":"HLOOKUP($F194,UNWDF_Hangzhou_2023!$H$14:$S$16,3,FALSE)","v":100},"N","NA",7,{"$f":"IF(OR(L194=\"NA\",L194=\"E\"),\"NA\",IF(L194=\"Y\",COUNTIF($M$1:N193,N194)+1,COUNTIF($M$1:N193,N194)+1))","v":3},"TED.204","A Global Data Infrastructure for Evidence-based Policies and Decision Making on Demographic Issues: Implementing the Generations and Gender Programme in Europe, Asia and South America / Using assessment tools and data in supply chains to understand challenges of, and solutions for, bringing women’s voices into the compliance system and to drive gender-inclusive, data-driven sourcing decisions (^^) / Using AI and social media analysis to counter backlash against gender equality (^^)","United Nations Economic Commission for Europe (UNECE); United Nations Population Fund (UNFPA); The Center for Aging Science, Hong Kong University of Science and Technology; Programa de Población Facultad de Ciencias Sociales Universidad de la República; Statistics Norway; Government of the City of Buenos Aires / Sedex / United Nations Development Programme (UNDP)",{"$f":"B194","v":"Day3_Time_Slot2_Parallel 09"},"Switch to fully virtual 9/2; Switch to fully virtual (via form)"]
[194,"Day3_Time_Slot2_Parallel 10","Day3_Time_Slot2",3,2,"Parallel 10",{"$f":"VLOOKUP($D$1&D195,UNWDF_Hangzhou_2023!A:F,5,FALSE)","v":"2023-04-27"},{"$f":"MID(VLOOKUP($D$1&D195&$E$1&E195,UNWDF_Hangzhou_2023!A:F,5,FALSE),1,SEARCH(\"(\",VLOOKUP($D$1&D195&$E$1&E195,UNWDF_Hangzhou_2023!A:F,5,FALSE))-2)","v":"10:45 - 11:45"},"1:00",{"$f":"HLOOKUP($F195,UNWDF_Hangzhou_2023!$H$14:$S$16,2,FALSE)","v":"LEARNING LABS 1"},{"$f":"HLOOKUP($F195,UNWDF_Hangzhou_2023!$H$14:$S$16,3,FALSE)","v":100},"N","SL.043967","NA",{"$f":"IF(OR(L195=\"NA\",L195=\"E\"),\"NA\",IF(L195=\"Y\",COUNTIF($M$1:N194,N195)+1,COUNTIF($M$1:N194,N195)+1))","v":252},"LEARN.315","Trust: Blockchain for Statistics and Geospatial","National Bureau of Statistics (NBS-China); Environmental Systems Research Institute (Esri)","Day3_Time_Slot2_Parallel 10"]
[195,"Day3_Time_Slot2_Parallel 11","Day3_Time_Slot2",3,2,"Parallel 11",{"$f":"VLOOKUP($D$1&D196,UNWDF_Hangzhou_2023!A:F,5,FALSE)","v":"2023-04-27"},{"$f":"MID(VLOOKUP($D$1&D196&$E$1&E196,UNWDF_Hangzhou_2023!A:F,5,FALSE),1,SEARCH(\"(\",VLOOKUP($D$1&D196&$E$1&E196,UNWDF_Hangzhou_2023!A:F,5,FALSE))-2)","v":"10:45 - 11:45"},"1:00",{"$f":"HLOOKUP($F196,UNWDF_Hangzhou_2023!$H$14:$S$16,2,FALSE)","v":"LEARNING LABS 2"},{"$f":"HLOOKUP($F196,UNWDF_Hangzhou_2023!$H$14:$S$16,3,FALSE)","v":100},"N","SL.589750","NA",{"$f":"IF(OR(L196=\"NA\",L196=\"E\"),\"NA\",IF(L196=\"Y\",COUNTIF($M$1:N195,N196)+1,COUNTIF($M$1:N195,N196)+1))","v":253},"LEARN.312","The Five “Ws” of citizen science or citizen generated data","United Nations Institute for Training and Research (UNITAR); United Nations Statistics Division (UNSD-DESA); Spanish Council for Scientific Research (CSIC); Politecnico di Milano; Instituto Nacional de Estadística y Geografía (INEGI-México); Citizen Science Center Zurich","Day3_Time_Slot2_Parallel 11",""]
[196,"Day3_Time_Slot2_Parallel 12","Day3_Time_Slot2",3,2,"Parallel 12",{"$f":"VLOOKUP($D$1&D197,UNWDF_Hangzhou_2023!A:F,5,FALSE)","v":"2023-04-27"},{"$f":"MID(VLOOKUP($D$1&D197&$E$1&E197,UNWDF_Hangzhou_2023!A:F,5,FALSE),1,SEARCH(\"(\",VLOOKUP($D$1&D197&$E$1&E197,UNWDF_Hangzhou_2023!A:F,5,FALSE))-2)","v":"10:45 - 11:45"},"1:00",{"$f":"HLOOKUP($F197,UNWDF_Hangzhou_2023!$H$14:$S$16,2,FALSE)","v":"DEMOS SPACE"},{"$f":"HLOOKUP($F197,UNWDF_Hangzhou_2023!$H$14:$S$16,3,FALSE)","v":100},"E","NA","NA",{"$f":"IF(OR(L197=\"NA\",L197=\"E\"),\"NA\",IF(L197=\"Y\",COUNTIF($M$1:N196,N197)+1,COUNTIF($M$1:N196,N197)+1))","v":"NA"},{"$f":"IF(N197=\"NA\",\"NA\",\"TA\"&N197&\".\"&TEXT(O197,\"0#\"))","v":"NA"},"TBC","TBC","Day3_Time_Slot2_Parallel 12",""]
[197,"Day3_Time_Slot3_Parallel 02","Day3_Time_Slot3",3,3,"Parallel 02",{"$f":"VLOOKUP($D$1&D198,UNWDF_Hangzhou_2023!A:F,5,FALSE)","v":"2023-04-27"},{"$f":"MID(VLOOKUP($D$1&D198&$E$1&E198,UNWDF_Hangzhou_2023!A:F,5,FALSE),1,SEARCH(\"(\",VLOOKUP($D$1&D198&$E$1&E198,UNWDF_Hangzhou_2023!A:F,5,FALSE))-2)","v":"13:15 - 14:15"},"1:00",{"$f":"HLOOKUP($F198,UNWDF_Hangzhou_2023!$H$14:$S$16,2,FALSE)","v":"Room 02"},{"$f":"HLOOKUP($F198,UNWDF_Hangzhou_2023!$H$14:$S$16,3,FALSE)","v":200},"N","P.2-635093",2,{"$f":"IF(OR(L198=\"NA\",L198=\"E\"),\"NA\",IF(L198=\"Y\",COUNTIF($M$1:N197,N198)+1,COUNTIF($M$1:N197,N198)+1))","v":21},"TA2.21","Mainstreaming Data Science and Artificial Intelligence in Public Policy Innovation","SDG Innovation Lab; Departamento Administrativo Nacional de Estadística (DANE-Colombia); United Nations Statistics Division (UNSD-DESA); Ministry of Education, Culture, and Sport; Statistical Committee of the Republic of Armenia; National Tourism Committee of Armenia; National Center for Career Orientation and Capacity Building, Ministry of Labour and Social Affairs","Day3_Time_Slot3_Parallel 02",""]
[198,"Day3_Time_Slot3_Parallel 03","Day3_Time_Slot3",3,3,"Parallel 03",{"$f":"VLOOKUP($D$1&D199,UNWDF_Hangzhou_2023!A:F,5,FALSE)","v":"2023-04-27"},{"$f":"MID(VLOOKUP($D$1&D199&$E$1&E199,UNWDF_Hangzhou_2023!A:F,5,FALSE),1,SEARCH(\"(\",VLOOKUP($D$1&D199&$E$1&E199,UNWDF_Hangzhou_2023!A:F,5,FALSE))-2)","v":"13:15 - 14:15"},"1:00",{"$f":"HLOOKUP($F199,UNWDF_Hangzhou_2023!$H$14:$S$16,2,FALSE)","v":"Room 03"},{"$f":"HLOOKUP($F199,UNWDF_Hangzhou_2023!$H$14:$S$16,3,FALSE)","v":200},"N","P.2-055352",2,{"$f":"IF(OR(L199=\"NA\",L199=\"E\"),\"NA\",IF(L199=\"Y\",COUNTIF($M$1:N198,N199)+1,COUNTIF($M$1:N198,N199)+1))","v":22},"TA2.14","Possibilities are limitless: how modernized time-use statistics can inform a myriad of policies about people’s wellbeing, what they do and when they do it","United Nations Statistics Division (UNSD-DESA); Statistics Canada; Instituto Nacional de Estadística y Geografía (INEGI-México)","Day3_Time_Slot3_Parallel 03",""]
[199,"Day3_Time_Slot3_Parallel 04","Day3_Time_Slot3",3,3,"Parallel 04",{"$f":"VLOOKUP($D$1&D200,UNWDF_Hangzhou_2023!A:F,5,FALSE)","v":"2023-04-27"},{"$f":"MID(VLOOKUP($D$1&D200&$E$1&E200,UNWDF_Hangzhou_2023!A:F,5,FALSE),1,SEARCH(\"(\",VLOOKUP($D$1&D200&$E$1&E200,UNWDF_Hangzhou_2023!A:F,5,FALSE))-2)","v":"13:15 - 14:15"},"1:00",{"$f":"HLOOKUP($F200,UNWDF_Hangzhou_2023!$H$14:$S$16,2,FALSE)","v":"Room 04"},{"$f":"HLOOKUP($F200,UNWDF_Hangzhou_2023!$H$14:$S$16,3,FALSE)","v":200},"N","P.3-856926",3,{"$f":"IF(OR(L200=\"NA\",L200=\"E\"),\"NA\",IF(L200=\"Y\",COUNTIF($M$1:N199,N200)+1,COUNTIF($M$1:N199,N200)+1))","v":10},"TA3.04","Is the SDG monitoring framework broken?","Development Initiatives (DI)","Day3_Time_Slot3_Parallel 04",""]
[200,"Day3_Time_Slot3_Parallel 05","Day3_Time_Slot3",3,3,"Parallel 05",{"$f":"VLOOKUP($D$1&D201,UNWDF_Hangzhou_2023!A:F,5,FALSE)","v":"2023-04-27"},{"$f":"MID(VLOOKUP($D$1&D201&$E$1&E201,UNWDF_Hangzhou_2023!A:F,5,FALSE),1,SEARCH(\"(\",VLOOKUP($D$1&D201&$E$1&E201,UNWDF_Hangzhou_2023!A:F,5,FALSE))-2)","v":"13:15 - 14:15"},"1:00",{"$f":"HLOOKUP($F201,UNWDF_Hangzhou_2023!$H$14:$S$16,2,FALSE)","v":"Room 05"},{"$f":"HLOOKUP($F201,UNWDF_Hangzhou_2023!$H$14:$S$16,3,FALSE)","v":200},"N","P.2-959159",2,{"$f":"IF(OR(L201=\"NA\",L201=\"E\"),\"NA\",IF(L201=\"Y\",COUNTIF($M$1:N200,N201)+1,COUNTIF($M$1:N200,N201)+1))","v":23},"TA2.06","A Seat at the Table: Engaging With Decision-Makers to Better Understand and Address Data Needs for Evidence-based Policymaking","United Nations Statistics Division (UNSD-DESA); Global Partnership for Sustainable Development Data (GPSDD); Sustainable Development Solutions Network (SDSN); World Bank (WB)","Day3_Time_Slot3_Parallel 05",""]
[201,"Day3_Time_Slot3_Parallel 06","Day3_Time_Slot3",3,3,"Parallel 06",{"$f":"VLOOKUP($D$1&D202,UNWDF_Hangzhou_2023!A:F,5,FALSE)","v":"2023-04-27"},{"$f":"MID(VLOOKUP($D$1&D202&$E$1&E202,UNWDF_Hangzhou_2023!A:F,5,FALSE),1,SEARCH(\"(\",VLOOKUP($D$1&D202&$E$1&E202,UNWDF_Hangzhou_2023!A:F,5,FALSE))-2)","v":"13:15 - 14:15"},"1:00",{"$f":"HLOOKUP($F202,UNWDF_Hangzhou_2023!$H$14:$S$16,2,FALSE)","v":"Room 06"},{"$f":"HLOOKUP($F202,UNWDF_Hangzhou_2023!$H$14:$S$16,3,FALSE)","v":200},"N","P.2-312656",2,{"$f":"IF(OR(L202=\"NA\",L202=\"E\"),\"NA\",IF(L202=\"Y\",COUNTIF($M$1:N201,N202)+1,COUNTIF($M$1:N201,N202)+1))","v":24},"TA2.07","Rethinking data: listening to government's experiences","United Nations Development Programme (UNDP); Green Climate Fund; Government of Malawi; Government of Bangladesh - Ministry of Women and Children Affairs and the Bangladesh Bureau of Statistics; Government of Bhutan - Gross National Happiness Commission Secretariat","Day3_Time_Slot3_Parallel 06",""]
[202,"Day3_Time_Slot3_Parallel 07","Day3_Time_Slot3",3,3,"Parallel 07",{"$f":"VLOOKUP($D$1&D203,UNWDF_Hangzhou_2023!A:F,5,FALSE)","v":"2023-04-27"},{"$f":"MID(VLOOKUP($D$1&D203&$E$1&E203,UNWDF_Hangzhou_2023!A:F,5,FALSE),1,SEARCH(\"(\",VLOOKUP($D$1&D203&$E$1&E203,UNWDF_Hangzhou_2023!A:F,5,FALSE))-2)","v":"13:15 - 14:15"},"1:00",{"$f":"HLOOKUP($F203,UNWDF_Hangzhou_2023!$H$14:$S$16,2,FALSE)","v":"Room 07"},{"$f":"HLOOKUP($F203,UNWDF_Hangzhou_2023!$H$14:$S$16,3,FALSE)","v":100},"N",null,7,{"$f":"IF(OR(L203=\"NA\",L203=\"E\"),\"NA\",IF(L203=\"Y\",COUNTIF($M$1:N202,N203)+1,COUNTIF($M$1:N202,N203)+1))","v":4},"TED.206","For The Better Life,How to Provide Good  Environment Statistics for Policymaking / Inheritance and Innovation: The Way of Big Data application in China / Lectures Series on the Statistics Application of Big Data in China -- Application Research","National Bureau of Statistics (NBS-China) - Beijing Municipal; Guangdong Province; Shanghai Municipal / National Bureau of Statistics (NBS-China) - Beijing Municipal; Guangdong Province; Shanghai Municipal / National Bureau of Statistics (NBS-China) - Beijing Municipal; Guangdong Province; Shanghai Municipal","Day3_Time_Slot3_Parallel 07",""]
[203,"Day3_Time_Slot3_Parallel 08","Day3_Time_Slot3",3,3,"Parallel 08",{"$f":"VLOOKUP($D$1&D204,UNWDF_Hangzhou_2023!A:F,5,FALSE)","v":"2023-04-27"},{"$f":"MID(VLOOKUP($D$1&D204&$E$1&E204,UNWDF_Hangzhou_2023!A:F,5,FALSE),1,SEARCH(\"(\",VLOOKUP($D$1&D204&$E$1&E204,UNWDF_Hangzhou_2023!A:F,5,FALSE))-2)","v":"13:15 - 14:15"},"1:00",{"$f":"HLOOKUP($F204,UNWDF_Hangzhou_2023!$H$14:$S$16,2,FALSE)","v":"Room 08"},{"$f":"HLOOKUP($F204,UNWDF_Hangzhou_2023!$H$14:$S$16,3,FALSE)","v":100},"E","NA","NA",{"$f":"IF(OR(L204=\"NA\",L204=\"E\"),\"NA\",IF(L204=\"Y\",COUNTIF($M$1:N203,N204)+1,COUNTIF($M$1:N203,N204)+1))","v":"NA"},{"$f":"IF(N204=\"NA\",\"NA\",\"TA\"&N204&\".\"&TEXT(O204,\"0#\"))","v":"NA"},"TBC","TBC","Day3_Time_Slot3_Parallel 08",""]
[204,"Day3_Time_Slot3_Parallel 09","Day3_Time_Slot3",3,3,"Parallel 09",{"$f":"VLOOKUP($D$1&D205,UNWDF_Hangzhou_2023!A:F,5,FALSE)","v":"2023-04-27"},{"$f":"MID(VLOOKUP($D$1&D205&$E$1&E205,UNWDF_Hangzhou_2023!A:F,5,FALSE),1,SEARCH(\"(\",VLOOKUP($D$1&D205&$E$1&E205,UNWDF_Hangzhou_2023!A:F,5,FALSE))-2)","v":"13:15 - 14:15"},"1:00",{"$f":"HLOOKUP($F205,UNWDF_Hangzhou_2023!$H$14:$S$16,2,FALSE)","v":"Room 09"},{"$f":"HLOOKUP($F205,UNWDF_Hangzhou_2023!$H$14:$S$16,3,FALSE)","v":100},"N","P.1-753535",1,{"$f":"IF(OR(L205=\"NA\",L205=\"E\"),\"NA\",IF(L205=\"Y\",COUNTIF($M$1:N204,N205)+1,COUNTIF($M$1:N204,N205)+1))","v":20},"TA1.02","Data Cooperatives: A Real-World Roadmap for Social Impact (^^)","Data2X; Aapti Institute","Day3_Time_Slot3_Parallel 09",""]
[205,"Day3_Time_Slot3_Parallel 10","Day3_Time_Slot3",3,3,"Parallel 10",{"$f":"VLOOKUP($D$1&D206,UNWDF_Hangzhou_2023!A:F,5,FALSE)","v":"2023-04-27"},{"$f":"MID(VLOOKUP($D$1&D206&$E$1&E206,UNWDF_Hangzhou_2023!A:F,5,FALSE),1,SEARCH(\"(\",VLOOKUP($D$1&D206&$E$1&E206,UNWDF_Hangzhou_2023!A:F,5,FALSE))-2)","v":"13:15 - 14:15"},"1:00",{"$f":"HLOOKUP($F206,UNWDF_Hangzhou_2023!$H$14:$S$16,2,FALSE)","v":"LEARNING LABS 1"},{"$f":"HLOOKUP($F206,UNWDF_Hangzhou_2023!$H$14:$S$16,3,FALSE)","v":100},"E","NA","NA",{"$f":"IF(OR(L206=\"NA\",L206=\"E\"),\"NA\",IF(L206=\"Y\",COUNTIF($M$1:N205,N206)+1,COUNTIF($M$1:N205,N206)+1))","v":"NA"},{"$f":"IF(N206=\"NA\",\"NA\",\"TA\"&N206&\".\"&TEXT(O206,\"0#\"))","v":"NA"},"TBC","TBC","Day3_Time_Slot3_Parallel 10",""]
[206,"Day3_Time_Slot3_Parallel 11","Day3_Time_Slot3",3,3,"Parallel 11",{"$f":"VLOOKUP($D$1&D207,UNWDF_Hangzhou_2023!A:F,5,FALSE)","v":"2023-04-27"},{"$f":"MID(VLOOKUP($D$1&D207&$E$1&E207,UNWDF_Hangzhou_2023!A:F,5,FALSE),1,SEARCH(\"(\",VLOOKUP($D$1&D207&$E$1&E207,UNWDF_Hangzhou_2023!A:F,5,FALSE))-2)","v":"13:15 - 14:15"},"1:00",{"$f":"HLOOKUP($F207,UNWDF_Hangzhou_2023!$H$14:$S$16,2,FALSE)","v":"LEARNING LABS 2"},{"$f":"HLOOKUP($F207,UNWDF_Hangzhou_2023!$H$14:$S$16,3,FALSE)","v":100},"N","SL.346465","NA",{"$f":"IF(OR(L207=\"NA\",L207=\"E\"),\"NA\",IF(L207=\"Y\",COUNTIF($M$1:N206,N207)+1,COUNTIF($M$1:N206,N207)+1))","v":260},"LEARN.314","My School Today: ​​Crowdsourcing geospatial data for mapping school locations","Sustainable Development Solutions Network (SDSN); Humanitarian OpenStreetMap (HOTOSM)","Day3_Time_Slot3_Parallel 11",""]
[207,"Day3_Time_Slot4_Parallel 02","Day3_Time_Slot4",3,4,"Parallel 02",{"$f":"VLOOKUP($D$1&D208,UNWDF_Hangzhou_2023!A:F,5,FALSE)","v":"2023-04-27"},{"$f":"MID(VLOOKUP($D$1&D208&$E$1&E208,UNWDF_Hangzhou_2023!A:F,5,FALSE),1,SEARCH(\"(\",VLOOKUP($D$1&D208&$E$1&E208,UNWDF_Hangzhou_2023!A:F,5,FALSE))-2)","v":"14:30 - 15:30"},"1:00",{"$f":"HLOOKUP($F208,UNWDF_Hangzhou_2023!$H$14:$S$16,2,FALSE)","v":"Room 02"},{"$f":"HLOOKUP($F208,UNWDF_Hangzhou_2023!$H$14:$S$16,3,FALSE)","v":200},"N","P.1-688132",1,{"$f":"IF(OR(L208=\"NA\",L208=\"E\"),\"NA\",IF(L208=\"Y\",COUNTIF($M$1:N207,N208)+1,COUNTIF($M$1:N207,N208)+1))","v":21},"TA1.17","How can we build trust in citizen science data to inform  policy decisions and action?","International Institute for Applied Systems Analysis (IIASA); United Nations Development Programme (UNDP), Oslo Governance Center (OGC); United Nations University (UNU); Fundación GeoCensos","Day3_Time_Slot4_Parallel 02","Previously labelled TA1.18 (error corrected 7/2/23)"]
[208,"Day3_Time_Slot4_Parallel 03","Day3_Time_Slot4",3,4,"Parallel 03",{"$f":"VLOOKUP($D$1&D209,UNWDF_Hangzhou_2023!A:F,5,FALSE)","v":"2023-04-27"},{"$f":"MID(VLOOKUP($D$1&D209&$E$1&E209,UNWDF_Hangzhou_2023!A:F,5,FALSE),1,SEARCH(\"(\",VLOOKUP($D$1&D209&$E$1&E209,UNWDF_Hangzhou_2023!A:F,5,FALSE))-2)","v":"14:30 - 15:30"},"1:00",{"$f":"HLOOKUP($F209,UNWDF_Hangzhou_2023!$H$14:$S$16,2,FALSE)","v":"Room 03"},{"$f":"HLOOKUP($F209,UNWDF_Hangzhou_2023!$H$14:$S$16,3,FALSE)","v":200},"N","P.1-763100",1,{"$f":"IF(OR(L209=\"NA\",L209=\"E\"),\"NA\",IF(L209=\"Y\",COUNTIF($M$1:N208,N209)+1,COUNTIF($M$1:N208,N209)+1))","v":22},"TA1.18","Leaving no-one behind in official statistics: Inclusion of forcibly displaced in national surveys","World Bank - UNHCR Joint Data Center on Forced Displacement; Expert Group on Refugee, IDP and Statelessness Statistics (EGRISS); United Nations High Commissioner for Refugees (UNHCR)","Day3_Time_Slot4_Parallel 03","Previously labelled TA1.06 (error corrected 7/2/23)"]
[209,"Day3_Time_Slot4_Parallel 04","Day3_Time_Slot4",3,4,"Parallel 04",{"$f":"VLOOKUP($D$1&D210,UNWDF_Hangzhou_2023!A:F,5,FALSE)","v":"2023-04-27"},{"$f":"MID(VLOOKUP($D$1&D210&$E$1&E210,UNWDF_Hangzhou_2023!A:F,5,FALSE),1,SEARCH(\"(\",VLOOKUP($D$1&D210&$E$1&E210,UNWDF_Hangzhou_2023!A:F,5,FALSE))-2)","v":"14:30 - 15:30"},"1:00",{"$f":"HLOOKUP($F210,UNWDF_Hangzhou_2023!$H$14:$S$16,2,FALSE)","v":"Room 04"},{"$f":"HLOOKUP($F210,UNWDF_Hangzhou_2023!$H$14:$S$16,3,FALSE)","v":200},"N","P.1-272759",1,{"$f":"IF(OR(L210=\"NA\",L210=\"E\"),\"NA\",IF(L210=\"Y\",COUNTIF($M$1:N209,N210)+1,COUNTIF($M$1:N209,N210)+1))","v":23},"TA1.06","Surveys and censuses in building a stronger statistical foundation to understand the true death toll of the pandemic","United Nations Statistics Division (UNSD-DESA); New York University (NYU); Central Statistics Office (CSO-Ireland); World Health Organization (WHO); United Nations Population Division (UNPD-DESA)","Day3_Time_Slot4_Parallel 04","Previously labelled TA1.19 (error corrected 7/2/23)"]
[210,"Day3_Time_Slot4_Parallel 05","Day3_Time_Slot4",3,4,"Parallel 05",{"$f":"VLOOKUP($D$1&D211,UNWDF_Hangzhou_2023!A:F,5,FALSE)","v":"2023-04-27"},{"$f":"MID(VLOOKUP($D$1&D211&$E$1&E211,UNWDF_Hangzhou_2023!A:F,5,FALSE),1,SEARCH(\"(\",VLOOKUP($D$1&D211&$E$1&E211,UNWDF_Hangzhou_2023!A:F,5,FALSE))-2)","v":"14:30 - 15:30"},"1:00",{"$f":"HLOOKUP($F211,UNWDF_Hangzhou_2023!$H$14:$S$16,2,FALSE)","v":"Room 05"},{"$f":"HLOOKUP($F211,UNWDF_Hangzhou_2023!$H$14:$S$16,3,FALSE)","v":200},"N",null,7,{"$f":"IF(OR(L211=\"NA\",L211=\"E\"),\"NA\",IF(L211=\"Y\",COUNTIF($M$1:N210,N211)+1,COUNTIF($M$1:N210,N211)+1))","v":5},"TED.202","IFC’s Machine Learning ESG Analyst: Harnessing Artificial Intelligence to deliver critical environmental, social and governance data for emerging markets / Monitoring new and old basic services: a Twitter approach / Enhancing the Global Data Ecosystem Through Machine Learning for Official Statistics (^^) ","International Finance Corporation (IFC) / United Nations Development Programme (UNDP) / Office for National Statistics (ONS-UK)","Day3_Time_Slot4_Parallel 05","Switch to fully virtual 7/2"]
[211,"Day3_Time_Slot4_Parallel 06","Day3_Time_Slot4",3,4,"Parallel 06",{"$f":"VLOOKUP($D$1&D212,UNWDF_Hangzhou_2023!A:F,5,FALSE)","v":"2023-04-27"},{"$f":"MID(VLOOKUP($D$1&D212&$E$1&E212,UNWDF_Hangzhou_2023!A:F,5,FALSE),1,SEARCH(\"(\",VLOOKUP($D$1&D212&$E$1&E212,UNWDF_Hangzhou_2023!A:F,5,FALSE))-2)","v":"14:30 - 15:30"},"1:00",{"$f":"HLOOKUP($F212,UNWDF_Hangzhou_2023!$H$14:$S$16,2,FALSE)","v":"Room 06"},{"$f":"HLOOKUP($F212,UNWDF_Hangzhou_2023!$H$14:$S$16,3,FALSE)","v":200},"N","SA.363548","NA",{"$f":"IF(OR(L212=\"NA\",L212=\"E\"),\"NA\",IF(L212=\"Y\",COUNTIF($M$1:N211,N212)+1,COUNTIF($M$1:N211,N212)+1))","v":261},"ANCE.503","Creative Data Communities brainstorm","Global Partnership for Sustainable Development Data (GPSDD)","Day3_Time_Slot4_Parallel 06"]
[212,"Day3_Time_Slot4_Parallel 07","Day3_Time_Slot4",3,4,"Parallel 07",{"$f":"VLOOKUP($D$1&D213,UNWDF_Hangzhou_2023!A:F,5,FALSE)","v":"2023-04-27"},{"$f":"MID(VLOOKUP($D$1&D213&$E$1&E213,UNWDF_Hangzhou_2023!A:F,5,FALSE),1,SEARCH(\"(\",VLOOKUP($D$1&D213&$E$1&E213,UNWDF_Hangzhou_2023!A:F,5,FALSE))-2)","v":"14:30 - 15:30"},"1:00",{"$f":"HLOOKUP($F213,UNWDF_Hangzhou_2023!$H$14:$S$16,2,FALSE)","v":"Room 07"},{"$f":"HLOOKUP($F213,UNWDF_Hangzhou_2023!$H$14:$S$16,3,FALSE)","v":100},"N","P.1-158364",1,{"$f":"IF(OR(L213=\"NA\",L213=\"E\"),\"NA\",IF(L213=\"Y\",COUNTIF($M$1:N212,N213)+1,COUNTIF($M$1:N212,N213)+1))","v":24},"TA1.07","Integrating population, displacement and geospatial data in humanitarian emergencies: Challenges, opportunities and lessons (^^)","Worldpop, University of Southampton; United Nations Office for the Coordination of Humanitarian Affairs (UNOCHA); United Nations High Commissioner for Refugees (UNHCR); United Nations Population Fund (UNFPA)","Day3_Time_Slot4_Parallel 07","Previously labelled TA1.17 (error corrected 7/2/23); Switch to fully virtual (via form)"]
[213,"Day3_Time_Slot4_Parallel 08","Day3_Time_Slot4",3,4,"Parallel 08",{"$f":"VLOOKUP($D$1&D214,UNWDF_Hangzhou_2023!A:F,5,FALSE)","v":"2023-04-27"},{"$f":"MID(VLOOKUP($D$1&D214&$E$1&E214,UNWDF_Hangzhou_2023!A:F,5,FALSE),1,SEARCH(\"(\",VLOOKUP($D$1&D214&$E$1&E214,UNWDF_Hangzhou_2023!A:F,5,FALSE))-2)","v":"14:30 - 15:30"},"1:00",{"$f":"HLOOKUP($F214,UNWDF_Hangzhou_2023!$H$14:$S$16,2,FALSE)","v":"Room 08"},{"$f":"HLOOKUP($F214,UNWDF_Hangzhou_2023!$H$14:$S$16,3,FALSE)","v":100},"N","P.2-022242",2,{"$f":"IF(OR(L214=\"NA\",L214=\"E\"),\"NA\",IF(L214=\"Y\",COUNTIF($M$1:N213,N214)+1,COUNTIF($M$1:N213,N214)+1))","v":25},"TA2.16","Improving decision-making by integrating multidimensional data (^^)","United Nations Development Programme (UNDP); World Health Organization (WHO); Blavatnik School of Government University of Oxford","Day3_Time_Slot4_Parallel 08","Previously labelled TA2.25 (error corrected 7/2/23); Switch to fully virtual 3/3"]
[214,"Day3_Time_Slot4_Parallel 09","Day3_Time_Slot4",3,4,"Parallel 09",{"$f":"VLOOKUP($D$1&D215,UNWDF_Hangzhou_2023!A:F,5,FALSE)","v":"2023-04-27"},{"$f":"MID(VLOOKUP($D$1&D215&$E$1&E215,UNWDF_Hangzhou_2023!A:F,5,FALSE),1,SEARCH(\"(\",VLOOKUP($D$1&D215&$E$1&E215,UNWDF_Hangzhou_2023!A:F,5,FALSE))-2)","v":"14:30 - 15:30"},"1:00",{"$f":"HLOOKUP($F215,UNWDF_Hangzhou_2023!$H$14:$S$16,2,FALSE)","v":"Room 09"},{"$f":"HLOOKUP($F215,UNWDF_Hangzhou_2023!$H$14:$S$16,3,FALSE)","v":100},"N",null,7,{"$f":"IF(OR(L215=\"NA\",L215=\"E\"),\"NA\",IF(L215=\"Y\",COUNTIF($M$1:N214,N215)+1,COUNTIF($M$1:N214,N215)+1))","v":6},"TED.203","Nowcasting and forecasting of the forcibly displaced: data science's role in improving UNHCR's population statistics (^^) / Strengthening global statistical Systems though the UN Global Platform and Regional Hubs (^^) / D4WN: Partnership Case Study Leveraging the Power of Data to Improve Informal Workers’ Livelihoods in Mozambique (^^)","United Nations High Commissioner for Refugees (UNHCR) / Office for National Statistics (ONS-UK) / Fundación Capital; Data Elevates; UX IT","Day3_Time_Slot4_Parallel 09","Switch to fully virtual 7/2; Switch to fully virtual (via form)"]
[215,"Day3_Time_Slot4_Parallel 10","Day3_Time_Slot4",3,4,"Parallel 10",{"$f":"VLOOKUP($D$1&D216,UNWDF_Hangzhou_2023!A:F,5,FALSE)","v":"2023-04-27"},{"$f":"MID(VLOOKUP($D$1&D216&$E$1&E216,UNWDF_Hangzhou_2023!A:F,5,FALSE),1,SEARCH(\"(\",VLOOKUP($D$1&D216&$E$1&E216,UNWDF_Hangzhou_2023!A:F,5,FALSE))-2)","v":"14:30 - 15:30"},"1:00",{"$f":"HLOOKUP($F216,UNWDF_Hangzhou_2023!$H$14:$S$16,2,FALSE)","v":"LEARNING LABS 1"},{"$f":"HLOOKUP($F216,UNWDF_Hangzhou_2023!$H$14:$S$16,3,FALSE)","v":100},"N","SL.152258","NA",{"$f":"IF(OR(L216=\"NA\",L216=\"E\"),\"NA\",IF(L216=\"Y\",COUNTIF($M$1:N215,N216)+1,COUNTIF($M$1:N215,N216)+1))","v":262},"LEARN.317","Geospatial and digital data or SDG3 – achieving universal health coverage","United Nations Population Fund (UNFPA); World Health Organization (WHO); National Statistical Office (NSO-Malawi)","Day3_Time_Slot4_Parallel 10",""]
[216,"Day3_Time_Slot4_Parallel 11","Day3_Time_Slot4",3,4,"Parallel 11",{"$f":"VLOOKUP($D$1&D217,UNWDF_Hangzhou_2023!A:F,5,FALSE)","v":"2023-04-27"},{"$f":"MID(VLOOKUP($D$1&D217&$E$1&E217,UNWDF_Hangzhou_2023!A:F,5,FALSE),1,SEARCH(\"(\",VLOOKUP($D$1&D217&$E$1&E217,UNWDF_Hangzhou_2023!A:F,5,FALSE))-2)","v":"14:30 - 15:30"},"1:00",{"$f":"HLOOKUP($F217,UNWDF_Hangzhou_2023!$H$14:$S$16,2,FALSE)","v":"LEARNING LABS 2"},{"$f":"HLOOKUP($F217,UNWDF_Hangzhou_2023!$H$14:$S$16,3,FALSE)","v":100},"E","NA","NA",{"$f":"IF(OR(L217=\"NA\",L217=\"E\"),\"NA\",IF(L217=\"Y\",COUNTIF($M$1:N216,N217)+1,COUNTIF($M$1:N216,N217)+1))","v":"NA"},{"$f":"IF(N217=\"NA\",\"NA\",\"TA\"&N217&\".\"&TEXT(O217,\"0#\"))","v":"NA"},"TBC","TBC","Day3_Time_Slot4_Parallel 11",""]
[217,"Day1_Time_Slot3_Parallel 12","Day1_Time_Slot3",1,3,"Parallel 12",{"$f":"VLOOKUP($D$1&D218,UNWDF_Hangzhou_2023!A:F,5,FALSE)","v":"2023-04-25"},{"$f":"MID(VLOOKUP($D$1&D218&$E$1&E218,UNWDF_Hangzhou_2023!A:F,5,FALSE),1,SEARCH(\"(\",VLOOKUP($D$1&D218&$E$1&E218,UNWDF_Hangzhou_2023!A:F,5,FALSE))-2)","v":"11:00 - 12:00"},"1:00",{"$f":"HLOOKUP($F218,UNWDF_Hangzhou_2023!$H$14:$S$16,2,FALSE)","v":"DEMOS SPACE"},{"$f":"HLOOKUP($F218,UNWDF_Hangzhou_2023!$H$14:$S$16,3,FALSE)","v":100},"E","NA","NA",{"$f":"IF(OR(L218=\"NA\",L218=\"E\"),\"NA\",IF(L218=\"Y\",COUNTIF($M$1:N217,N218)+1,COUNTIF($M$1:N217,N218)+1))","v":"NA"},{"$f":"IF(N218=\"NA\",\"NA\",\"TA\"&N218&\".\"&TEXT(O218,\"0#\"))","v":"NA"},"TBC","TBC","Day1_Time_Slot3_Parallel 12",""]
[218,"Day1_Time_Slot4_Parallel 12","Day1_Time_Slot4",1,4,"Parallel 12",{"$f":"VLOOKUP($D$1&D219,UNWDF_Hangzhou_2023!A:F,5,FALSE)","v":"2023-04-25"},{"$f":"MID(VLOOKUP($D$1&D219&$E$1&E219,UNWDF_Hangzhou_2023!A:F,5,FALSE),1,SEARCH(\"(\",VLOOKUP($D$1&D219&$E$1&E219,UNWDF_Hangzhou_2023!A:F,5,FALSE))-2)","v":"13:30 - 14:30"},"1:00",{"$f":"HLOOKUP($F219,UNWDF_Hangzhou_2023!$H$14:$S$16,2,FALSE)","v":"DEMOS SPACE"},{"$f":"HLOOKUP($F219,UNWDF_Hangzhou_2023!$H$14:$S$16,3,FALSE)","v":100},"E","NA","NA",{"$f":"IF(OR(L219=\"NA\",L219=\"E\"),\"NA\",IF(L219=\"Y\",COUNTIF($M$1:N218,N219)+1,COUNTIF($M$1:N218,N219)+1))","v":"NA"},{"$f":"IF(N219=\"NA\",\"NA\",\"TA\"&N219&\".\"&TEXT(O219,\"0#\"))","v":"NA"},"TBC","TBC","Day1_Time_Slot4_Parallel 12",""]
[219,"Day3_Time_Slot3_Parallel 12","Day3_Time_Slot3",3,3,"Parallel 12",{"$f":"VLOOKUP($D$1&D220,UNWDF_Hangzhou_2023!A:F,5,FALSE)","v":"2023-04-27"},{"$f":"MID(VLOOKUP($D$1&D220&$E$1&E220,UNWDF_Hangzhou_2023!A:F,5,FALSE),1,SEARCH(\"(\",VLOOKUP($D$1&D220&$E$1&E220,UNWDF_Hangzhou_2023!A:F,5,FALSE))-2)","v":"13:15 - 14:15"},"1:00",{"$f":"HLOOKUP($F220,UNWDF_Hangzhou_2023!$H$14:$S$16,2,FALSE)","v":"DEMOS SPACE"},{"$f":"HLOOKUP($F220,UNWDF_Hangzhou_2023!$H$14:$S$16,3,FALSE)","v":100},"E","NA","NA",{"$f":"IF(OR(L220=\"NA\",L220=\"E\"),\"NA\",IF(L220=\"Y\",COUNTIF($M$1:N219,N220)+1,COUNTIF($M$1:N219,N220)+1))","v":"NA"},{"$f":"IF(N220=\"NA\",\"NA\",\"TA\"&N220&\".\"&TEXT(O220,\"0#\"))","v":"NA"},"TBC","TBC","Day3_Time_Slot3_Parallel 12",""]
[220,"Day3_Time_Slot4_Parallel 12","Day3_Time_Slot4",3,4,"Parallel 12",{"$f":"VLOOKUP($D$1&D221,UNWDF_Hangzhou_2023!A:F,5,FALSE)","v":"2023-04-27"},{"$f":"MID(VLOOKUP($D$1&D221&$E$1&E221,UNWDF_Hangzhou_2023!A:F,5,FALSE),1,SEARCH(\"(\",VLOOKUP($D$1&D221&$E$1&E221,UNWDF_Hangzhou_2023!A:F,5,FALSE))-2)","v":"14:30 - 15:30"},"1:00",{"$f":"HLOOKUP($F221,UNWDF_Hangzhou_2023!$H$14:$S$16,2,FALSE)","v":"DEMOS SPACE"},{"$f":"HLOOKUP($F221,UNWDF_Hangzhou_2023!$H$14:$S$16,3,FALSE)","v":100},"E","NA","NA",{"$f":"IF(OR(L221=\"NA\",L221=\"E\"),\"NA\",IF(L221=\"Y\",COUNTIF($M$1:N220,N221)+1,COUNTIF($M$1:N220,N221)+1))","v":"NA"},{"$f":"IF(N221=\"NA\",\"NA\",\"TA\"&N221&\".\"&TEXT(O221,\"0#\"))","v":"NA"},"TBC","TBC","Day3_Time_Slot4_Parallel 12",""]
[]
[]
[]
[]
[null,null,null,null,null,null,null,null,null,null,null,null,null,null,"UNWDF2023",null,null,null,"UNWDF2021",null,null,null,"UNWDF2020",null,null,null,"UNWDF2018",null,null,null,"UNWDF2017"]
[null,null,null,null,null,null,null,null,null,null,null,null,null,null,"TA",null,null,null,"TA",null,null,null,"TA",null,null,null,"TA",null,null,null,"TA"]
[null,null,null,null,null,null,null,null,null,null,null,null,null,null,"_O",{"$f":"COUNTIF(N:N,$O228)","v":2},1.5625E-2,null,"_O",3,3.7499999999999999E-2,null,"_O",1,2.8571428571428571E-2,null,"_O",2,0.02,null,"_O",1,0.01]
[null,null,null,null,null,null,null,null,null,null,null,null,null,null,1,24,0.15625,null,1,7,8.7499999999999994E-2,null,1,4,0.11428571428571428,null,1,10,0.11,null,1,9,0.11]
[null,null,null,null,null,null,null,null,null,null,null,null,null,null,2,25,0.234375,null,2,18,0.22500000000000001,null,2,20,0.5714285714285714,null,2,23,0.26,null,2,20,0.25]
[null,null,null,null,null,null,null,null,null,null,null,null,null,null,3,10,0.203125,null,3,15,0.1875,null,3,18,0.51428571428571423,null,3,18,0.21,null,3,13,0.16]
[null,null,null,null,null,null,null,null,null,null,null,null,null,null,4,10,0.140625,null,4,13,0.16250000000000001,null,4,9,0.25714285714285712,null,4,12,0.14000000000000001,null,4,18,0.23]
[null,null,null,null,null,null,null,null,null,null,null,null,null,null,5,1,0.1875,null,5,14,0.17499999999999999,null,5,12,0.34285714285714286,null,5,11,0.13,null,5,12,0.15]
[null,null,null,null,null,null,null,null,null,null,null,null,null,null,6,1,4.6875E-2,null,6,3,3.7499999999999999E-2,null,6,3,8.5714285714285715E-2,null,6,10,0.11,null,6,6,0.08]
[null,null,null,null,null,null,null,null,null,null,null,null,null,null,null,null,null,null,7,1,1.2500000000000001E-2,null,"2-5",1,2.8571428571428571E-2]
[null,null,null,null,null,null,null,null,null,null,null,null,null,null,"_Z",{"$f":"COUNTIF(N:N,$O236)","v":0},0,null,"1-5",2,2.5000000000000001E-2,null,"_Z",0,0,null,"_Z",0,0,null,"_Z",0,0]
[null,null,null,null,null,null,null,null,null,null,null,null,null,null,"_C",{"$f":"COUNTIF(N:N,$O237)","v":1},1.5625E-2,null,"_Z",0,0,null,"_C",1,2.8571428571428571E-2,null,"_C",1,0.01,null,"_C",1,0.01]
[null,null,null,null,null,null,null,null,null,null,null,null,null,null,"_S",{"$f":"COUNTIF(N:N,$O238)","v":3},1.5625E-2,null,"_C",1,1.2500000000000001E-2,null,null,null,null,null,null,87,null,null,null,80]
[null,null,null,null,null,null,null,null,null,null,null,null,null,null,null,null,null,null,"_S",3,3.7499999999999999E-2]
[null,null,null,null,null,null,null,null,null,null,null,null,null,null,"Plenary",{"$f":"COUNTIF(L:L,\"Y\")","v":13},null,null,null,null,null,null,"Plenary",5,null,null,"Plenary",8,null,null,"Plenary",10]
[null,null,null,null,null,null,null,null,null,null,null,null,null,null,"Sessions",{"$f":"COUNTIF(L:L,\"N\")","v":88},null,null,"Plenary",14,null,null,"Sessions",64,null,null,"Sessions",79,null,null,"Sessions",70]
[null,null,null,null,null,null,null,null,null,null,null,null,null,null,"Total",{"$f":"SUM(P240:P241)","v":101},null,null,"Sessions",66,null,null,"Total",69,null,null,"Total",87,null,null,"Total",80]
[null,null,null,null,null,null,null,null,null,null,null,null,null,null,null,null,null,null,"Total",80]
[null,null,null,null,null,null,null,null,null,null,null,null,null,null,null,null,null,null,null,null,null,null,"Note: 2-5 ","represent 3 Ted-style talks"]
[null,null,null,null,null,null,null,null,null,null,null,null,null,null,null,null,null,null,"Note: 1-5 ","represent 4 Ted-style talks"]