{"text_format":"1","workbook":"xlsx","n_sheets":2,"sheets":["Bern2021","UNWDF2021_LookUp"],"not_rendered":{"charts":0,"images":2,"macros":1,"external_links":3,"defined_names":52,"comments":0,"pivot_tables":0},"unopened":[],"bounds":{"document_bytes":16777216,"sheet_cells":100000,"rows_first":2000,"rows_last":500,"rows_between":2000,"halvings":0,"cell_chars":16384,"cell_head_chars":4096},"cells_cut":0,"cells_raw":0,"read":"whole","date_system":"1900"}

{"sheet":"Bern2021","index":0,"n_rows":125,"n_cols":16,"rows_kept":125,"cut":false,"hidden":false,"merged":[[124,5,124,15],[62,6,62,15],[67,6,67,15],[72,6,72,15],[63,5,66,5],[120,8,120,9],[122,8,122,9],[68,5,71,5],[85,5,86,15],[91,5,94,5],[96,5,99,5],[109,5,112,5],[89,5,90,5],[83,8,83,9],[81,8,81,9],[73,5,76,5],[51,5,52,5],[53,5,56,5],[58,5,61,5],[26,5,29,5],[46,8,46,9],[35,6,35,15],[36,5,39,5],[41,5,42,5],[49,5,49,15],[57,6,57,15],[46,11,46,12],[44,14,44,15],[44,11,44,12],[46,14,46,15],[44,8,44,9],[30,6,30,15],[0,5,0,15],[1,5,1,15],[2,5,2,15],[3,5,3,15],[10,5,10,15],[5,5,6,5],[18,6,18,15],[8,5,9,5],[12,5,13,5],[14,5,17,5],[25,6,25,15],[78,5,79,5],[120,14,120,15],[117,5,118,5],[116,6,116,15],[87,5,87,14],[113,6,113,15],[100,6,100,15],[103,6,103,15],[104,5,107,5],[122,11,122,12],[122,14,122,15],[19,5,20,5],[114,5,115,5],[101,5,102,5],[40,6,40,15],[77,6,77,15],[81,11,81,12],[81,14,81,15],[83,11,83,12],[83,14,83,15],[120,11,120,12],[21,5,24,5],[31,5,34,5],[95,6,95,15],[108,6,108,15]]}
[null,null,null,"Day",3,"UNITED NATIONS WORLD DATA FORUM 2021"]
[null,"NOW (Local time)",{"$f":"NOW()","v":"2021-10-11T11:48:40.820"},"Month",10,"KURSAAL Conference Centre, Bern, Switzerland"]
[null,"GMT+2/UTC+2 (Bern time)",{"$f":"Local2GMT(NOW())+(2/24)","v":{"$error":"#NAME?"}},"Year",2021,"Final Programme, as of 11 October 2021 (^)"]
["Day0",null,null,null,null,{"$f":"IF(ISERROR(DATE($E$3,$E$2,$E$1)+TIME(MID(E15,1,2),MID(E15,4,2),0)+($C$2-$C$3)),DATE($E$3,$E$2,$E$1),DATE($E$3,$E$2,$E$1)+TIME(MID(E15,1,2),MID(E15,4,2),0)+($C$2-$C$3))","v":"2021-10-03"}]
[null,null,"LookUp",null,null,null,"LookUp","Parallel 01","Parallel 02","Parallel 03","Parallel 04","Parallel 05","Parallel 06","Parallel 07","Parallel 08","Parallel 09"]
[null,null,null,null,null,"Time (Auto-adjusts to your local time, unless \"(Bern time)\" shown)","Rm Name","Arena","Aare","Szenario 2","Panorama 2-4","Panorama 1","Szenario 1 (^^)","Aare 1 (^^)","Aare 2 (^^)","Aare 3 (^^)"]
["DayTime_LookUp","Day_LookUp","Time_LookUp","Col_LookUp","Time (GMT/UTC time+2)",null,"Capacity",1357,298,221,199,125,131,63,63,75]
[{"$f":"B8&C8","v":"Day0Time_Slot1"},"Day0","Time_Slot1",16,"15:00 - 16:45 (BERN Time)",{"$f":"IF(ISERROR(TEXT((DATE($E$3,$E$2,$E$1)+TIME(MID(E8,1,2),MID(E8,4,2),0))+($C$2-$C$3),\"H:MM AM/PM\")&\" - \"&TEXT(DATE($E$3,$E$2,$E$1)+TIME(MID(E8,9,2),MID(E8,12,2),0)+($C$2-$C$3),\"H:MM AM/PM\")),E8,TEXT((DATE($E$3,$E$2,$E$1)+TIME(MID(E8,1,2),MID(E8,4,2),0))+($C$2-$C$3),\"H:MM AM/PM\")&\" - \"&TEXT(DATE($E$3,$E$2,$E$1)+TIME(MID(E8,9,2),MID(E8,12,2),0)+($C$2-$C$3),\"H:MM AM/PM\"))","v":"15:00 - 16:45 (BERN Time)"},"Event Title",{"$f":"IF(VLOOKUP($B8&\"_\"&$C8&\"_\"&H$12,UNWDF2021_LookUp!$B:$R,$D8,FALSE)=0,\"\",VLOOKUP($B8&\"_\"&$C8&\"_\"&H$12,UNWDF2021_LookUp!$B:$R,$D8,FALSE))","v":"Opening session"}]
[{"$f":"B9&C9","v":"Day0Time_Slot2"},"Day0","Time_Slot2",16,"16:45 - 18:00 (BERN Time)",{"$f":"IF(ISERROR(TEXT((DATE($E$3,$E$2,$E$1)+TIME(MID(E9,1,2),MID(E9,4,2),0))+($C$2-$C$3),\"H:MM AM/PM\")&\" - \"&TEXT(DATE($E$3,$E$2,$E$1)+TIME(MID(E9,9,2),MID(E9,12,2),0)+($C$2-$C$3),\"H:MM AM/PM\")),E9,TEXT((DATE($E$3,$E$2,$E$1)+TIME(MID(E9,1,2),MID(E9,4,2),0))+($C$2-$C$3),\"H:MM AM/PM\")&\" - \"&TEXT(DATE($E$3,$E$2,$E$1)+TIME(MID(E9,9,2),MID(E9,12,2),0)+($C$2-$C$3),\"H:MM AM/PM\"))","v":"16:45 - 18:00 (BERN Time)"},"Event Title",{"$f":"IF(VLOOKUP($B9&\"_\"&$C9&\"_\"&H$12,UNWDF2021_LookUp!$B:$R,$D9,FALSE)=0,\"\",VLOOKUP($B9&\"_\"&$C9&\"_\"&H$12,UNWDF2021_LookUp!$B:$R,$D9,FALSE))","v":"Opening reception (in-person only)"}]
["Day0Time_Slot2","Day0","Time_Slot2",17,"",null,"Organiser",{"$f":"IF(VLOOKUP($B10&\"_\"&$C10&\"_\"&H$12,UNWDF2021_LookUp!$B:$R,$D10,FALSE)=0,\"\",VLOOKUP($B10&\"_\"&$C10&\"_\"&H$12,UNWDF2021_LookUp!$B:$R,$D10,FALSE))","v":"Swiss Confederation"}]
["Day1",null,null,null,"",{"$f":"IF(ISERROR(DATE($E$3,$E$2,$E$1+1)+TIME(MID(E26,1,2),MID(E26,4,2),0)+($C$2-$C$3)),DATE($E$3,$E$2,$E$1+1),DATE($E$3,$E$2,$E$1+1)+TIME(MID(E26,1,2),MID(E26,4,2),0)+($C$2-$C$3))","v":"2021-10-04"}]
[null,null,"LookUp",null,null,null,"LookUp","Parallel 01","Parallel 02","Parallel 03","Parallel 04","Parallel 05","Parallel 06","Parallel 07","Parallel 08","Parallel 09"]
[null,null,null,null,null,"Time (Auto-adjusts to your local time, unless \"(Bern time)\" shown)","Rm Name","Arena","Aare","Szenario 2","Panorama 2-4","Panorama 1","Szenario 1 (^^)","Aare 1 (^^)","Aare 2 (^^)","Aare 3 (^^)"]
["DayTime_LookUp","Day_LookUp","Time_LookUp","Col_LookUp","Time (GMT/BERN time+2)",null,"Capacity",1357,298,221,199,125,131,63,63,75]
[{"$f":"B15&C15","v":"Day1Time_Slot1"},"Day1","Time_Slot1",15,"09:00 - 10:00 (BERN time)",{"$f":"IF(ISERROR(TEXT((DATE($E$3,$E$2,$E$1+1)+TIME(MID(E15,1,2),MID(E15,4,2),0))+($C$2-$C$3),\"H:MM AM/PM\")&\" - \"&TEXT(DATE($E$3,$E$2,$E$1+1)+TIME(MID(E15,9,2),MID(E15,12,2),0)+($C$2-$C$3),\"H:MM AM/PM\")),E15,TEXT((DATE($E$3,$E$2,$E$1+1)+TIME(MID(E15,1,2),MID(E15,4,2),0))+($C$2-$C$3),\"H:MM AM/PM\")&\" - \"&TEXT(DATE($E$3,$E$2,$E$1+1)+TIME(MID(E15,9,2),MID(E15,12,2),0)+($C$2-$C$3),\"H:MM AM/PM\"))","v":"09:00 - 10:00 (BERN time)"},"Event_ID",{"$f":"IF(VLOOKUP($B15&\"_\"&$C15&\"_\"&H$12,UNWDF2021_LookUp!$B:$R,$D15,FALSE)=0,\"\",VLOOKUP($B15&\"_\"&$C15&\"_\"&H$12,UNWDF2021_LookUp!$B:$R,$D15,FALSE))","v":"TA2.02"},{"$f":"IF(VLOOKUP($B15&\"_\"&$C15&\"_\"&I$12,UNWDF2021_LookUp!$B:$R,$D15,FALSE)=0,\"\",VLOOKUP($B15&\"_\"&$C15&\"_\"&I$12,UNWDF2021_LookUp!$B:$R,$D15,FALSE))","v":"TA6.02"},{"$f":"IF(VLOOKUP($B15&\"_\"&$C15&\"_\"&J$12,UNWDF2021_LookUp!$B:$R,$D15,FALSE)=0,\"\",VLOOKUP($B15&\"_\"&$C15&\"_\"&J$12,UNWDF2021_LookUp!$B:$R,$D15,FALSE))","v":"TA3.02"},{"$f":"IF(VLOOKUP($B15&\"_\"&$C15&\"_\"&K$12,UNWDF2021_LookUp!$B:$R,$D15,FALSE)=0,\"\",VLOOKUP($B15&\"_\"&$C15&\"_\"&K$12,UNWDF2021_LookUp!$B:$R,$D15,FALSE))","v":"TA2.17"},{"$f":"IF(VLOOKUP($B15&\"_\"&$C15&\"_\"&L$12,UNWDF2021_LookUp!$B:$R,$D15,FALSE)=0,\"\",VLOOKUP($B15&\"_\"&$C15&\"_\"&L$12,UNWDF2021_LookUp!$B:$R,$D15,FALSE))","v":"TA5.15"},{"$f":"IF(VLOOKUP($B15&\"_\"&$C15&\"_\"&M$12,UNWDF2021_LookUp!$B:$R,$D15,FALSE)=0,\"\",VLOOKUP($B15&\"_\"&$C15&\"_\"&M$12,UNWDF2021_LookUp!$B:$R,$D15,FALSE))","v":"TA4.10"},{"$f":"IF(VLOOKUP($B15&\"_\"&$C15&\"_\"&N$12,UNWDF2021_LookUp!$B:$R,$D15,FALSE)=0,\"\",VLOOKUP($B15&\"_\"&$C15&\"_\"&N$12,UNWDF2021_LookUp!$B:$R,$D15,FALSE))","v":"TA5.04"},{"$f":"IF(VLOOKUP($B15&\"_\"&$C15&\"_\"&O$12,UNWDF2021_LookUp!$B:$R,$D15,FALSE)=0,\"\",VLOOKUP($B15&\"_\"&$C15&\"_\"&O$12,UNWDF2021_LookUp!$B:$R,$D15,FALSE))","v":"TA2.03"},{"$f":"IF(VLOOKUP($B15&\"_\"&$C15&\"_\"&P$12,UNWDF2021_LookUp!$B:$R,$D15,FALSE)=0,\"\",VLOOKUP($B15&\"_\"&$C15&\"_\"&P$12,UNWDF2021_LookUp!$B:$R,$D15,FALSE))","v":""}]
["Day1Time_Slot1","Day1","Time_Slot1",13,"",{"$f":"IF(ISERROR(TEXT((DATE($E$3,$E$2,$E$1+1)+TIME(MID(E16,1,2),MID(E16,4,2),0))+($C$2-#REF!),\"H:MM\")&\" - \"&TEXT(DATE($E$3,$E$2,$E$1+1)+TIME(MID(E16,9,2),MID(E16,12,2),0)+($C$2-#REF!),\"H:MM AM/PM\")),E16,TEXT((DATE($E$3,$E$2,$E$1+1)+TIME(MID(E16,1,2),MID(E16,4,2),0))+($C$2-#REF!),\"H:MM\")&\" - \"&TEXT(DATE($E$3,$E$2,$E$1+1)+TIME(MID(E16,9,2),MID(E16,12,2),0)+($C$2-#REF!),\"H:MM AM/PM\"))","v":""},"Thematic Area",{"$f":"IF(VLOOKUP($B16&\"_\"&$C16&\"_\"&H$12,UNWDF2021_LookUp!$B:$R,$D16,FALSE)=0,\"\",VLOOKUP($B16&\"_\"&$C16&\"_\"&H$12,UNWDF2021_LookUp!$B:$R,$D16,FALSE))","v":2},{"$f":"IF(VLOOKUP($B16&\"_\"&$C16&\"_\"&I$12,UNWDF2021_LookUp!$B:$R,$D16,FALSE)=0,\"\",VLOOKUP($B16&\"_\"&$C16&\"_\"&I$12,UNWDF2021_LookUp!$B:$R,$D16,FALSE))","v":6},{"$f":"IF(VLOOKUP($B16&\"_\"&$C16&\"_\"&J$12,UNWDF2021_LookUp!$B:$R,$D16,FALSE)=0,\"\",VLOOKUP($B16&\"_\"&$C16&\"_\"&J$12,UNWDF2021_LookUp!$B:$R,$D16,FALSE))","v":3},{"$f":"IF(VLOOKUP($B16&\"_\"&$C16&\"_\"&K$12,UNWDF2021_LookUp!$B:$R,$D16,FALSE)=0,\"\",VLOOKUP($B16&\"_\"&$C16&\"_\"&K$12,UNWDF2021_LookUp!$B:$R,$D16,FALSE))","v":2},{"$f":"IF(VLOOKUP($B16&\"_\"&$C16&\"_\"&L$12,UNWDF2021_LookUp!$B:$R,$D16,FALSE)=0,\"\",VLOOKUP($B16&\"_\"&$C16&\"_\"&L$12,UNWDF2021_LookUp!$B:$R,$D16,FALSE))","v":5},{"$f":"IF(VLOOKUP($B16&\"_\"&$C16&\"_\"&M$12,UNWDF2021_LookUp!$B:$R,$D16,FALSE)=0,\"\",VLOOKUP($B16&\"_\"&$C16&\"_\"&M$12,UNWDF2021_LookUp!$B:$R,$D16,FALSE))","v":4},{"$f":"IF(VLOOKUP($B16&\"_\"&$C16&\"_\"&N$12,UNWDF2021_LookUp!$B:$R,$D16,FALSE)=0,\"\",VLOOKUP($B16&\"_\"&$C16&\"_\"&N$12,UNWDF2021_LookUp!$B:$R,$D16,FALSE))","v":5},{"$f":"IF(VLOOKUP($B16&\"_\"&$C16&\"_\"&O$12,UNWDF2021_LookUp!$B:$R,$D16,FALSE)=0,\"\",VLOOKUP($B16&\"_\"&$C16&\"_\"&O$12,UNWDF2021_LookUp!$B:$R,$D16,FALSE))","v":2},{"$f":"IF(VLOOKUP($B16&\"_\"&$C16&\"_\"&P$12,UNWDF2021_LookUp!$B:$R,$D16,FALSE)=0,\"\",VLOOKUP($B16&\"_\"&$C16&\"_\"&P$12,UNWDF2021_LookUp!$B:$R,$D16,FALSE))","v":"NA"}]
[{"$f":"B17&C17","v":"Day1Time_Slot1"},"Day1","Time_Slot1",16,"",null,"Event Title",{"$f":"IF(VLOOKUP($B17&\"_\"&$C17&\"_\"&H$12,UNWDF2021_LookUp!$B:$R,$D17,FALSE)=0,\"\",VLOOKUP($B17&\"_\"&$C17&\"_\"&H$12,UNWDF2021_LookUp!$B:$R,$D17,FALSE))","v":"Partnership for Sustainable Development: The Global South Story"},{"$f":"IF(VLOOKUP($B17&\"_\"&$C17&\"_\"&I$12,UNWDF2021_LookUp!$B:$R,$D17,FALSE)=0,\"\",VLOOKUP($B17&\"_\"&$C17&\"_\"&I$12,UNWDF2021_LookUp!$B:$R,$D17,FALSE))","v":"Smart investments in data for development: Launch of the Clearinghouse for Financing Development Data"},{"$f":"IF(VLOOKUP($B17&\"_\"&$C17&\"_\"&J$12,UNWDF2021_LookUp!$B:$R,$D17,FALSE)=0,\"\",VLOOKUP($B17&\"_\"&$C17&\"_\"&J$12,UNWDF2021_LookUp!$B:$R,$D17,FALSE))","v":"Leaving no one behind: adopting a systematic approach of using small area estimation for SDG monitoring"},{"$f":"IF(VLOOKUP($B17&\"_\"&$C17&\"_\"&K$12,UNWDF2021_LookUp!$B:$R,$D17,FALSE)=0,\"\",VLOOKUP($B17&\"_\"&$C17&\"_\"&K$12,UNWDF2021_LookUp!$B:$R,$D17,FALSE))","v":"Real-time data collection systems for agile policymaking and foresight to prevent trafficking of Covid-19- related falsified vaccines and other medical products"},{"$f":"IF(VLOOKUP($B17&\"_\"&$C17&\"_\"&L$12,UNWDF2021_LookUp!$B:$R,$D17,FALSE)=0,\"\",VLOOKUP($B17&\"_\"&$C17&\"_\"&L$12,UNWDF2021_LookUp!$B:$R,$D17,FALSE))","v":"Do we need a Global Data Convention to achieve sustainable development"},{"$f":"IF(VLOOKUP($B17&\"_\"&$C17&\"_\"&M$12,UNWDF2021_LookUp!$B:$R,$D17,FALSE)=0,\"\",VLOOKUP($B17&\"_\"&$C17&\"_\"&M$12,UNWDF2021_LookUp!$B:$R,$D17,FALSE))","v":"Re-strategizing labour market data collection, analysis and dissemination in time of crisis"},{"$f":"IF(VLOOKUP($B17&\"_\"&$C17&\"_\"&N$12,UNWDF2021_LookUp!$B:$R,$D17,FALSE)=0,\"\",VLOOKUP($B17&\"_\"&$C17&\"_\"&N$12,UNWDF2021_LookUp!$B:$R,$D17,FALSE))","v":"Human Rights Based Governance Frameworks for AI in the Global South"},{"$f":"IF(VLOOKUP($B17&\"_\"&$C17&\"_\"&O$12,UNWDF2021_LookUp!$B:$R,$D17,FALSE)=0,\"\",VLOOKUP($B17&\"_\"&$C17&\"_\"&O$12,UNWDF2021_LookUp!$B:$R,$D17,FALSE))","v":"Understanding current trends in global urbanization - The World Settlement Footprint suite"},{"$f":"IF(VLOOKUP($B17&\"_\"&$C17&\"_\"&P$12,UNWDF2021_LookUp!$B:$R,$D17,FALSE)=0,\"\",VLOOKUP($B17&\"_\"&$C17&\"_\"&P$12,UNWDF2021_LookUp!$B:$R,$D17,FALSE))","v":"NA"}]
["Day1Time_Slot1","Day1","Time_Slot1",17,"",{"$f":"IF(ISERROR(TEXT((DATE($E$3,$E$2,$E$1+1)+TIME(MID(E18,1,2),MID(E18,4,2),0))+($C$2-#REF!),\"H:MM\")&\" - \"&TEXT(DATE($E$3,$E$2,$E$1+1)+TIME(MID(E18,9,2),MID(E18,12,2),0)+($C$2-#REF!),\"H:MM AM/PM\")),E18,TEXT((DATE($E$3,$E$2,$E$1+1)+TIME(MID(E18,1,2),MID(E18,4,2),0))+($C$2-#REF!),\"H:MM\")&\" - \"&TEXT(DATE($E$3,$E$2,$E$1+1)+TIME(MID(E18,9,2),MID(E18,12,2),0)+($C$2-#REF!),\"H:MM AM/PM\"))","v":""},"Organiser",{"$f":"IF(VLOOKUP($B18&\"_\"&$C18&\"_\"&H$12,UNWDF2021_LookUp!$B:$R,$D18,FALSE)=0,\"\",VLOOKUP($B18&\"_\"&$C18&\"_\"&H$12,UNWDF2021_LookUp!$B:$R,$D18,FALSE))","v":"Centro de Pensamiento Estratégico Internacional (Cepei); African Institute for Mathematical Sciences (AIMS); LINERasia; CIS; LDRI; Canada's International Development Research Centre (IDRC); Tanzania Data Lab (dLab); Millennium Challenge Corporation; Global Partnership for Sustainable Development Data (GPSDD); Partnership in Statistics for Development in the 21st Century (PARIS21)"},{"$f":"IF(VLOOKUP($B18&\"_\"&$C18&\"_\"&I$12,UNWDF2021_LookUp!$B:$R,$D18,FALSE)=0,\"\",VLOOKUP($B18&\"_\"&$C18&\"_\"&I$12,UNWDF2021_LookUp!$B:$R,$D18,FALSE))","v":"Bern Network Secretariat; Swiss Agency for Development and Cooperation; Swiss Federal Statistical Office (SFSO); Partnership in Statistics for Development in the 21st Century (PARIS21); United Nations Statistics Division (UNSD-DESA); Open Data Watch (ODW); Global Partnership for Sustainable Development Data (GPSDD); World Bank (WB); Organisation for Economic Co-operation and Development (OECD)"},{"$f":"IF(VLOOKUP($B18&\"_\"&$C18&\"_\"&J$12,UNWDF2021_LookUp!$B:$R,$D18,FALSE)=0,\"\",VLOOKUP($B18&\"_\"&$C18&\"_\"&J$12,UNWDF2021_LookUp!$B:$R,$D18,FALSE))","v":"World Bank (WB); United Nations Population Fund (UNFPA); United Nations Statistics Division (UNSD-DESA)"},{"$f":"IF(VLOOKUP($B18&\"_\"&$C18&\"_\"&K$12,UNWDF2021_LookUp!$B:$R,$D18,FALSE)=0,\"\",VLOOKUP($B18&\"_\"&$C18&\"_\"&K$12,UNWDF2021_LookUp!$B:$R,$D18,FALSE))","v":"United Nations Office on Drugs and Crime (UNODC)-Instituto Nacional de Estadística y Geografía (INEGI-México) Centre of Excellence in statistical information on government, crime, victimization and justice; UNODC-Statistics Korea (KOSTAT) Centre of Excellence for statistics on crime and criminal justice in Asia and the Pacific"},{"$f":"IF(VLOOKUP($B18&\"_\"&$C18&\"_\"&L$12,UNWDF2021_LookUp!$B:$R,$D18,FALSE)=0,\"\",VLOOKUP($B18&\"_\"&$C18&\"_\"&L$12,UNWDF2021_LookUp!$B:$R,$D18,FALSE))","v":"Committee for the Coordination of Statistical Activities (CCSA)"},{"$f":"IF(VLOOKUP($B18&\"_\"&$C18&\"_\"&M$12,UNWDF2021_LookUp!$B:$R,$D18,FALSE)=0,\"\",VLOOKUP($B18&\"_\"&$C18&\"_\"&M$12,UNWDF2021_LookUp!$B:$R,$D18,FALSE))","v":"International Labour Organization; Philippine Statistics Authority; Economic Planning Unit, Prime Minister's Department; Malaysian Bureau of Labour Statistics, Department of Statistics Malaysia"},{"$f":"IF(VLOOKUP($B18&\"_\"&$C18&\"_\"&N$12,UNWDF2021_LookUp!$B:$R,$D18,FALSE)=0,\"\",VLOOKUP($B18&\"_\"&$C18&\"_\"&N$12,UNWDF2021_LookUp!$B:$R,$D18,FALSE))","v":"United Nations Global Pulse (UNGP); Deutsche Gesellschaft für Internationale Zusammenarbeit (GIZ)"},{"$f":"IF(VLOOKUP($B18&\"_\"&$C18&\"_\"&O$12,UNWDF2021_LookUp!$B:$R,$D18,FALSE)=0,\"\",VLOOKUP($B18&\"_\"&$C18&\"_\"&O$12,UNWDF2021_LookUp!$B:$R,$D18,FALSE))","v":"German Aerospace Center - DLR; European Space Agency (ESA); United Nations Human Settlements Programme (UN-Habitat)"},{"$f":"IF(VLOOKUP($B18&\"_\"&$C18&\"_\"&P$12,UNWDF2021_LookUp!$B:$R,$D18,FALSE)=0,\"\",VLOOKUP($B18&\"_\"&$C18&\"_\"&P$12,UNWDF2021_LookUp!$B:$R,$D18,FALSE))","v":"NA"}]
[null,"Day1",null,null,"10:00 - 10:30 (BERN time)",{"$f":"IF(ISERROR(TEXT((DATE($E$3,$E$2,$E$1+1)+TIME(MID(E19,1,2),MID(E19,4,2),0))+($C$2-$C$3),\"H:MM AM/PM\")&\" - \"&TEXT(DATE($E$3,$E$2,$E$1+1)+TIME(MID(E19,9,2),MID(E19,12,2),0)+($C$2-$C$3),\"H:MM AM/PM\")),E19,TEXT((DATE($E$3,$E$2,$E$1+1)+TIME(MID(E19,1,2),MID(E19,4,2),0))+($C$2-$C$3),\"H:MM AM/PM\")&\" - \"&TEXT(DATE($E$3,$E$2,$E$1+1)+TIME(MID(E19,9,2),MID(E19,12,2),0)+($C$2-$C$3),\"H:MM AM/PM\"))","v":"10:00 - 10:30 (BERN time)"},"Break"]
[{"$f":"B20&C20","v":"Day1Time_Slot2"},"Day1","Time_Slot2",16,"10:30 - 10:45 (BERN time)",{"$f":"IF(ISERROR(TEXT((DATE($E$3,$E$2,$E$1+1)+TIME(MID(E20,1,2),MID(E20,4,2),0))+($C$2-$C$3),\"H:MM AM/PM\")&\" - \"&TEXT(DATE($E$3,$E$2,$E$1+1)+TIME(MID(E20,9,2),MID(E20,12,2),0)+($C$2-$C$3),\"H:MM AM/PM\")),E20,TEXT((DATE($E$3,$E$2,$E$1+1)+TIME(MID(E20,1,2),MID(E20,4,2),0))+($C$2-$C$3),\"H:MM AM/PM\")&\" - \"&TEXT(DATE($E$3,$E$2,$E$1+1)+TIME(MID(E20,9,2),MID(E20,12,2),0)+($C$2-$C$3),\"H:MM AM/PM\"))","v":"10:30 - 10:45 (BERN time)"},"Event Title",{"$f":"IF(VLOOKUP($B20&\"_\"&$C20&\"_\"&H$12,UNWDF2021_LookUp!$B:$R,$D20,FALSE)=0,\"\",VLOOKUP($B20&\"_\"&$C20&\"_\"&H$12,UNWDF2021_LookUp!$B:$R,$D20,FALSE))","v":"Welcome to UNWDF2021"}]
["Day1Time_Slot2","Day1","Time_Slot2",17,"",null,"Organiser",{"$f":"IF(VLOOKUP($B21&\"_\"&$C21&\"_\"&H$12,UNWDF2021_LookUp!$B:$R,$D21,FALSE)=0,\"\",VLOOKUP($B21&\"_\"&$C21&\"_\"&H$12,UNWDF2021_LookUp!$B:$R,$D21,FALSE))","v":"United Nations (UN); Swiss Confederation"}]
[{"$f":"B22&C22","v":"Day1Time_Slot3"},"Day1","Time_Slot3",15,"10:45 - 12:00 (BERN time)",{"$f":"IF(ISERROR(TEXT((DATE($E$3,$E$2,$E$1+1)+TIME(MID(E22,1,2),MID(E22,4,2),0))+($C$2-$C$3),\"H:MM AM/PM\")&\" - \"&TEXT(DATE($E$3,$E$2,$E$1+1)+TIME(MID(E22,9,2),MID(E22,12,2),0)+($C$2-$C$3),\"H:MM AM/PM\")),E22,TEXT((DATE($E$3,$E$2,$E$1+1)+TIME(MID(E22,1,2),MID(E22,4,2),0))+($C$2-$C$3),\"H:MM AM/PM\")&\" - \"&TEXT(DATE($E$3,$E$2,$E$1+1)+TIME(MID(E22,9,2),MID(E22,12,2),0)+($C$2-$C$3),\"H:MM AM/PM\"))","v":"10:45 - 12:00 (BERN time)"},"Event_ID",{"$f":"IF(VLOOKUP($B22&\"_\"&$C22&\"_\"&H$12,UNWDF2021_LookUp!$B:$R,$D22,FALSE)=0,\"\",VLOOKUP($B22&\"_\"&$C22&\"_\"&H$12,UNWDF2021_LookUp!$B:$R,$D22,FALSE))","v":"TA1.01"}]
["Day1Time_Slot3","Day1","Time_Slot3",13,"",{"$f":"IF(ISERROR(TEXT((DATE($E$3,$E$2,$E$1+1)+TIME(MID(E23,1,2),MID(E23,4,2),0))+($C$2-#REF!),\"H:MM\")&\" - \"&TEXT(DATE($E$3,$E$2,$E$1+1)+TIME(MID(E23,9,2),MID(E23,12,2),0)+($C$2-#REF!),\"H:MM AM/PM\")),E23,TEXT((DATE($E$3,$E$2,$E$1+1)+TIME(MID(E23,1,2),MID(E23,4,2),0))+($C$2-#REF!),\"H:MM\")&\" - \"&TEXT(DATE($E$3,$E$2,$E$1+1)+TIME(MID(E23,9,2),MID(E23,12,2),0)+($C$2-#REF!),\"H:MM AM/PM\"))","v":""},"Thematic Area",{"$f":"IF(VLOOKUP($B23&\"_\"&$C23&\"_\"&H$12,UNWDF2021_LookUp!$B:$R,$D23,FALSE)=0,\"\",VLOOKUP($B23&\"_\"&$C23&\"_\"&H$12,UNWDF2021_LookUp!$B:$R,$D23,FALSE))","v":1}]
[{"$f":"B24&C24","v":"Day1Time_Slot3"},"Day1","Time_Slot3",16,"",null,"Event Title",{"$f":"IF(VLOOKUP($B24&\"_\"&$C24&\"_\"&H$12,UNWDF2021_LookUp!$B:$R,$D24,FALSE)=0,\"\",VLOOKUP($B24&\"_\"&$C24&\"_\"&H$12,UNWDF2021_LookUp!$B:$R,$D24,FALSE))","v":"Have we been going about capacity development the wrong way?"}]
["Day1Time_Slot3","Day1","Time_Slot3",17,"",{"$f":"IF(ISERROR(TEXT((DATE($E$3,$E$2,$E$1+1)+TIME(MID(E25,1,2),MID(E25,4,2),0))+($C$2-#REF!),\"H:MM\")&\" - \"&TEXT(DATE($E$3,$E$2,$E$1+1)+TIME(MID(E25,9,2),MID(E25,12,2),0)+($C$2-#REF!),\"H:MM AM/PM\")),E25,TEXT((DATE($E$3,$E$2,$E$1+1)+TIME(MID(E25,1,2),MID(E25,4,2),0))+($C$2-#REF!),\"H:MM\")&\" - \"&TEXT(DATE($E$3,$E$2,$E$1+1)+TIME(MID(E25,9,2),MID(E25,12,2),0)+($C$2-#REF!),\"H:MM AM/PM\"))","v":""},"Organiser",{"$f":"IF(VLOOKUP($B25&\"_\"&$C25&\"_\"&H$12,UNWDF2021_LookUp!$B:$R,$D25,FALSE)=0,\"\",VLOOKUP($B25&\"_\"&$C25&\"_\"&H$12,UNWDF2021_LookUp!$B:$R,$D25,FALSE))","v":"United Nations World Data Forum (UNWDF) Programme Committee"}]
[null,"Day1",null,null,"12:00 - 13:15 (BERN time)",{"$f":"IF(ISERROR(TEXT((DATE($E$3,$E$2,$E$1+1)+TIME(MID(E26,1,2),MID(E26,4,2),0))+($C$2-$C$3),\"H:MM AM/PM\")&\" - \"&TEXT(DATE($E$3,$E$2,$E$1+1)+TIME(MID(E26,9,2),MID(E26,12,2),0)+($C$2-$C$3),\"H:MM AM/PM\")),E26,TEXT((DATE($E$3,$E$2,$E$1+1)+TIME(MID(E26,1,2),MID(E26,4,2),0))+($C$2-$C$3),\"H:MM AM/PM\")&\" - \"&TEXT(DATE($E$3,$E$2,$E$1+1)+TIME(MID(E26,9,2),MID(E26,12,2),0)+($C$2-$C$3),\"H:MM AM/PM\"))","v":"12:00 - 13:15 (BERN time)"},"Break"]
["Day1Time_Slot4","Day1","Time_Slot4",15,"13:15 - 14:30 (BERN time)",{"$f":"IF(ISERROR(TEXT((DATE($E$3,$E$2,$E$1+1)+TIME(MID(E27,1,2),MID(E27,4,2),0))+($C$2-$C$3),\"H:MM AM/PM\")&\" - \"&TEXT(DATE($E$3,$E$2,$E$1+1)+TIME(MID(E27,9,2),MID(E27,12,2),0)+($C$2-$C$3),\"H:MM AM/PM\")),E27,TEXT((DATE($E$3,$E$2,$E$1+1)+TIME(MID(E27,1,2),MID(E27,4,2),0))+($C$2-$C$3),\"H:MM AM/PM\")&\" - \"&TEXT(DATE($E$3,$E$2,$E$1+1)+TIME(MID(E27,9,2),MID(E27,12,2),0)+($C$2-$C$3),\"H:MM AM/PM\"))","v":"13:15 - 14:30 (BERN time)"},"Event_ID",{"$f":"IF(VLOOKUP($B27&\"_\"&$C27&\"_\"&H$12,UNWDF2021_LookUp!$B:$R,$D27,FALSE)=0,\"\",VLOOKUP($B27&\"_\"&$C27&\"_\"&H$12,UNWDF2021_LookUp!$B:$R,$D27,FALSE))","v":"TA2.01"}]
["Day1Time_Slot4","Day1","Time_Slot4",13,"",{"$f":"IF(ISERROR(TEXT((DATE($E$3,$E$2,$E$1+1)+TIME(MID(E28,1,2),MID(E28,4,2),0))+($C$2-#REF!),\"H:MM\")&\" - \"&TEXT(DATE($E$3,$E$2,$E$1+1)+TIME(MID(E28,9,2),MID(E28,12,2),0)+($C$2-#REF!),\"H:MM AM/PM\")),E28,TEXT((DATE($E$3,$E$2,$E$1+1)+TIME(MID(E28,1,2),MID(E28,4,2),0))+($C$2-#REF!),\"H:MM\")&\" - \"&TEXT(DATE($E$3,$E$2,$E$1+1)+TIME(MID(E28,9,2),MID(E28,12,2),0)+($C$2-#REF!),\"H:MM AM/PM\"))","v":""},"Thematic Area",{"$f":"IF(VLOOKUP($B28&\"_\"&$C28&\"_\"&H$12,UNWDF2021_LookUp!$B:$R,$D28,FALSE)=0,\"\",VLOOKUP($B28&\"_\"&$C28&\"_\"&H$12,UNWDF2021_LookUp!$B:$R,$D28,FALSE))","v":2}]
[{"$f":"B29&C29","v":"Day1Time_Slot4"},"Day1","Time_Slot4",16,"",null,"Event Title",{"$f":"IF(VLOOKUP($B29&\"_\"&$C29&\"_\"&H$12,UNWDF2021_LookUp!$B:$R,$D29,FALSE)=0,\"\",VLOOKUP($B29&\"_\"&$C29&\"_\"&H$12,UNWDF2021_LookUp!$B:$R,$D29,FALSE))","v":"How to innovate timely data for Covid-19 and the SDGs"}]
["Day1Time_Slot4","Day1","Time_Slot4",17,"",{"$f":"IF(ISERROR(TEXT((DATE($E$3,$E$2,$E$1+1)+TIME(MID(E30,1,2),MID(E30,4,2),0))+($C$2-#REF!),\"H:MM\")&\" - \"&TEXT(DATE($E$3,$E$2,$E$1+1)+TIME(MID(E30,9,2),MID(E30,12,2),0)+($C$2-#REF!),\"H:MM AM/PM\")),E30,TEXT((DATE($E$3,$E$2,$E$1+1)+TIME(MID(E30,1,2),MID(E30,4,2),0))+($C$2-#REF!),\"H:MM\")&\" - \"&TEXT(DATE($E$3,$E$2,$E$1+1)+TIME(MID(E30,9,2),MID(E30,12,2),0)+($C$2-#REF!),\"H:MM AM/PM\"))","v":""},"Organiser",{"$f":"IF(VLOOKUP($B30&\"_\"&$C30&\"_\"&H$12,UNWDF2021_LookUp!$B:$R,$D30,FALSE)=0,\"\",VLOOKUP($B30&\"_\"&$C30&\"_\"&H$12,UNWDF2021_LookUp!$B:$R,$D30,FALSE))","v":"United Nations World Data Forum (UNWDF) Programme Committee"}]
[null,"Day1",null,null,"14:30 - 15:00 (BERN time)",{"$f":"IF(ISERROR(TEXT((DATE($E$3,$E$2,$E$1+1)+TIME(MID(E31,1,2),MID(E31,4,2),0))+($C$2-$C$3),\"H:MM AM/PM\")&\" - \"&TEXT(DATE($E$3,$E$2,$E$1+1)+TIME(MID(E31,9,2),MID(E31,12,2),0)+($C$2-$C$3),\"H:MM AM/PM\")),E31,TEXT((DATE($E$3,$E$2,$E$1+1)+TIME(MID(E31,1,2),MID(E31,4,2),0))+($C$2-$C$3),\"H:MM AM/PM\")&\" - \"&TEXT(DATE($E$3,$E$2,$E$1+1)+TIME(MID(E31,9,2),MID(E31,12,2),0)+($C$2-$C$3),\"H:MM AM/PM\"))","v":"14:30 - 15:00 (BERN time)"},"Break"]
["Day1Time_Slot5","Day1","Time_Slot5",15,"15:00 - 16:00 (BERN time)",{"$f":"IF(ISERROR(TEXT((DATE($E$3,$E$2,$E$1+1)+TIME(MID(E32,1,2),MID(E32,4,2),0))+($C$2-$C$3),\"H:MM AM/PM\")&\" - \"&TEXT(DATE($E$3,$E$2,$E$1+1)+TIME(MID(E32,9,2),MID(E32,12,2),0)+($C$2-$C$3),\"H:MM AM/PM\")),E32,TEXT((DATE($E$3,$E$2,$E$1+1)+TIME(MID(E32,1,2),MID(E32,4,2),0))+($C$2-$C$3),\"H:MM AM/PM\")&\" - \"&TEXT(DATE($E$3,$E$2,$E$1+1)+TIME(MID(E32,9,2),MID(E32,12,2),0)+($C$2-$C$3),\"H:MM AM/PM\"))","v":"15:00 - 16:00 (BERN time)"},"Event_ID",{"$f":"IF(VLOOKUP($B32&\"_\"&$C32&\"_\"&H$12,UNWDF2021_LookUp!$B:$R,$D32,FALSE)=0,\"\",VLOOKUP($B32&\"_\"&$C32&\"_\"&H$12,UNWDF2021_LookUp!$B:$R,$D32,FALSE))","v":"TA3.12"},{"$f":"IF(VLOOKUP($B32&\"_\"&$C32&\"_\"&I$12,UNWDF2021_LookUp!$B:$R,$D32,FALSE)=0,\"\",VLOOKUP($B32&\"_\"&$C32&\"_\"&I$12,UNWDF2021_LookUp!$B:$R,$D32,FALSE))","v":"TA1.04"},{"$f":"IF(VLOOKUP($B32&\"_\"&$C32&\"_\"&J$12,UNWDF2021_LookUp!$B:$R,$D32,FALSE)=0,\"\",VLOOKUP($B32&\"_\"&$C32&\"_\"&J$12,UNWDF2021_LookUp!$B:$R,$D32,FALSE))","v":"TA2.13"},{"$f":"IF(VLOOKUP($B32&\"_\"&$C32&\"_\"&K$12,UNWDF2021_LookUp!$B:$R,$D32,FALSE)=0,\"\",VLOOKUP($B32&\"_\"&$C32&\"_\"&K$12,UNWDF2021_LookUp!$B:$R,$D32,FALSE))","v":"TA3.05"},{"$f":"IF(VLOOKUP($B32&\"_\"&$C32&\"_\"&L$12,UNWDF2021_LookUp!$B:$R,$D32,FALSE)=0,\"\",VLOOKUP($B32&\"_\"&$C32&\"_\"&L$12,UNWDF2021_LookUp!$B:$R,$D32,FALSE))","v":"TA3.17"},{"$f":"IF(VLOOKUP($B32&\"_\"&$C32&\"_\"&M$12,UNWDF2021_LookUp!$B:$R,$D32,FALSE)=0,\"\",VLOOKUP($B32&\"_\"&$C32&\"_\"&M$12,UNWDF2021_LookUp!$B:$R,$D32,FALSE))","v":"TA4.02"},{"$f":"IF(VLOOKUP($B32&\"_\"&$C32&\"_\"&N$12,UNWDF2021_LookUp!$B:$R,$D32,FALSE)=0,\"\",VLOOKUP($B32&\"_\"&$C32&\"_\"&N$12,UNWDF2021_LookUp!$B:$R,$D32,FALSE))","v":"TA2.06"},{"$f":"IF(VLOOKUP($B32&\"_\"&$C32&\"_\"&O$12,UNWDF2021_LookUp!$B:$R,$D32,FALSE)=0,\"\",VLOOKUP($B32&\"_\"&$C32&\"_\"&O$12,UNWDF2021_LookUp!$B:$R,$D32,FALSE))","v":"TA1.05"},{"$f":"IF(VLOOKUP($B32&\"_\"&$C32&\"_\"&P$12,UNWDF2021_LookUp!$B:$R,$D32,FALSE)=0,\"\",VLOOKUP($B32&\"_\"&$C32&\"_\"&P$12,UNWDF2021_LookUp!$B:$R,$D32,FALSE))","v":"TA5.02"}]
["Day1Time_Slot5","Day1","Time_Slot5",13,"",{"$f":"IF(ISERROR(TEXT((DATE($E$3,$E$2,$E$1+1)+TIME(MID(E33,1,2),MID(E33,4,2),0))+($C$2-#REF!),\"H:MM\")&\" - \"&TEXT(DATE($E$3,$E$2,$E$1+1)+TIME(MID(E33,9,2),MID(E33,12,2),0)+($C$2-#REF!),\"H:MM AM/PM\")),E33,TEXT((DATE($E$3,$E$2,$E$1+1)+TIME(MID(E33,1,2),MID(E33,4,2),0))+($C$2-#REF!),\"H:MM\")&\" - \"&TEXT(DATE($E$3,$E$2,$E$1+1)+TIME(MID(E33,9,2),MID(E33,12,2),0)+($C$2-#REF!),\"H:MM AM/PM\"))","v":""},"Thematic Area",{"$f":"IF(VLOOKUP($B33&\"_\"&$C33&\"_\"&H$12,UNWDF2021_LookUp!$B:$R,$D33,FALSE)=0,\"\",VLOOKUP($B33&\"_\"&$C33&\"_\"&H$12,UNWDF2021_LookUp!$B:$R,$D33,FALSE))","v":3},{"$f":"IF(VLOOKUP($B33&\"_\"&$C33&\"_\"&I$12,UNWDF2021_LookUp!$B:$R,$D33,FALSE)=0,\"\",VLOOKUP($B33&\"_\"&$C33&\"_\"&I$12,UNWDF2021_LookUp!$B:$R,$D33,FALSE))","v":1},{"$f":"IF(VLOOKUP($B33&\"_\"&$C33&\"_\"&J$12,UNWDF2021_LookUp!$B:$R,$D33,FALSE)=0,\"\",VLOOKUP($B33&\"_\"&$C33&\"_\"&J$12,UNWDF2021_LookUp!$B:$R,$D33,FALSE))","v":2},{"$f":"IF(VLOOKUP($B33&\"_\"&$C33&\"_\"&K$12,UNWDF2021_LookUp!$B:$R,$D33,FALSE)=0,\"\",VLOOKUP($B33&\"_\"&$C33&\"_\"&K$12,UNWDF2021_LookUp!$B:$R,$D33,FALSE))","v":3},{"$f":"IF(VLOOKUP($B33&\"_\"&$C33&\"_\"&L$12,UNWDF2021_LookUp!$B:$R,$D33,FALSE)=0,\"\",VLOOKUP($B33&\"_\"&$C33&\"_\"&L$12,UNWDF2021_LookUp!$B:$R,$D33,FALSE))","v":3},{"$f":"IF(VLOOKUP($B33&\"_\"&$C33&\"_\"&M$12,UNWDF2021_LookUp!$B:$R,$D33,FALSE)=0,\"\",VLOOKUP($B33&\"_\"&$C33&\"_\"&M$12,UNWDF2021_LookUp!$B:$R,$D33,FALSE))","v":4},{"$f":"IF(VLOOKUP($B33&\"_\"&$C33&\"_\"&N$12,UNWDF2021_LookUp!$B:$R,$D33,FALSE)=0,\"\",VLOOKUP($B33&\"_\"&$C33&\"_\"&N$12,UNWDF2021_LookUp!$B:$R,$D33,FALSE))","v":2},{"$f":"IF(VLOOKUP($B33&\"_\"&$C33&\"_\"&O$12,UNWDF2021_LookUp!$B:$R,$D33,FALSE)=0,\"\",VLOOKUP($B33&\"_\"&$C33&\"_\"&O$12,UNWDF2021_LookUp!$B:$R,$D33,FALSE))","v":1},{"$f":"IF(VLOOKUP($B33&\"_\"&$C33&\"_\"&P$12,UNWDF2021_LookUp!$B:$R,$D33,FALSE)=0,\"\",VLOOKUP($B33&\"_\"&$C33&\"_\"&P$12,UNWDF2021_LookUp!$B:$R,$D33,FALSE))","v":5}]
[{"$f":"B34&C34","v":"Day1Time_Slot5"},"Day1","Time_Slot5",16,"",null,"Event Title",{"$f":"IF(VLOOKUP($B34&\"_\"&$C34&\"_\"&H$12,UNWDF2021_LookUp!$B:$R,$D34,FALSE)=0,\"\",VLOOKUP($B34&\"_\"&$C34&\"_\"&H$12,UNWDF2021_LookUp!$B:$R,$D34,FALSE))","v":"Stronger migration data and statistics for realizing the decade of action and delivery for sustainable development"},{"$f":"IF(VLOOKUP($B34&\"_\"&$C34&\"_\"&I$12,UNWDF2021_LookUp!$B:$R,$D34,FALSE)=0,\"\",VLOOKUP($B34&\"_\"&$C34&\"_\"&I$12,UNWDF2021_LookUp!$B:$R,$D34,FALSE))","v":"Uncovering Opportunity in Unusual Places: How countries are helping each other leverage administrative data for the SDGs"},{"$f":"IF(VLOOKUP($B34&\"_\"&$C34&\"_\"&J$12,UNWDF2021_LookUp!$B:$R,$D34,FALSE)=0,\"\",VLOOKUP($B34&\"_\"&$C34&\"_\"&J$12,UNWDF2021_LookUp!$B:$R,$D34,FALSE))","v":"Positioning Household Surveys in the Next Decade"},{"$f":"IF(VLOOKUP($B34&\"_\"&$C34&\"_\"&K$12,UNWDF2021_LookUp!$B:$R,$D34,FALSE)=0,\"\",VLOOKUP($B34&\"_\"&$C34&\"_\"&K$12,UNWDF2021_LookUp!$B:$R,$D34,FALSE))","v":"Making the most vulnerable visible: Data gaps and official statistics on forced displacement (^^)"},{"$f":"IF(VLOOKUP($B34&\"_\"&$C34&\"_\"&L$12,UNWDF2021_LookUp!$B:$R,$D34,FALSE)=0,\"\",VLOOKUP($B34&\"_\"&$C34&\"_\"&L$12,UNWDF2021_LookUp!$B:$R,$D34,FALSE))","v":"Integrating geospatial data from all parties for COVID-19 response, recovery and resilience for informed decision-making ."},{"$f":"IF(VLOOKUP($B34&\"_\"&$C34&\"_\"&M$12,UNWDF2021_LookUp!$B:$R,$D34,FALSE)=0,\"\",VLOOKUP($B34&\"_\"&$C34&\"_\"&M$12,UNWDF2021_LookUp!$B:$R,$D34,FALSE))","v":"Open Environmental Data: A Digital Ecosystem for Earth and the SDGs"},{"$f":"IF(VLOOKUP($B34&\"_\"&$C34&\"_\"&N$12,UNWDF2021_LookUp!$B:$R,$D34,FALSE)=0,\"\",VLOOKUP($B34&\"_\"&$C34&\"_\"&N$12,UNWDF2021_LookUp!$B:$R,$D34,FALSE))","v":"Multi-Stakeholder Data Bridges II - Making data work for cross-domain grand challenges"},{"$f":"IF(VLOOKUP($B34&\"_\"&$C34&\"_\"&O$12,UNWDF2021_LookUp!$B:$R,$D34,FALSE)=0,\"\",VLOOKUP($B34&\"_\"&$C34&\"_\"&O$12,UNWDF2021_LookUp!$B:$R,$D34,FALSE))","v":"Bridging the Gap: Forging networks to address gender data gaps"},{"$f":"IF(VLOOKUP($B34&\"_\"&$C34&\"_\"&P$12,UNWDF2021_LookUp!$B:$R,$D34,FALSE)=0,\"\",VLOOKUP($B34&\"_\"&$C34&\"_\"&P$12,UNWDF2021_LookUp!$B:$R,$D34,FALSE))","v":"Are strong foundations enough? The challenges of implementing a modern statistical legal framework"}]
["Day1Time_Slot5","Day1","Time_Slot5",17,"",{"$f":"IF(ISERROR(TEXT((DATE($E$3,$E$2,$E$1+1)+TIME(MID(E35,1,2),MID(E35,4,2),0))+($C$2-#REF!),\"H:MM\")&\" - \"&TEXT(DATE($E$3,$E$2,$E$1+1)+TIME(MID(E35,9,2),MID(E35,12,2),0)+($C$2-#REF!),\"H:MM AM/PM\")),E35,TEXT((DATE($E$3,$E$2,$E$1+1)+TIME(MID(E35,1,2),MID(E35,4,2),0))+($C$2-#REF!),\"H:MM\")&\" - \"&TEXT(DATE($E$3,$E$2,$E$1+1)+TIME(MID(E35,9,2),MID(E35,12,2),0)+($C$2-#REF!),\"H:MM AM/PM\"))","v":""},"Organiser",{"$f":"IF(VLOOKUP($B35&\"_\"&$C35&\"_\"&H$12,UNWDF2021_LookUp!$B:$R,$D35,FALSE)=0,\"\",VLOOKUP($B35&\"_\"&$C35&\"_\"&H$12,UNWDF2021_LookUp!$B:$R,$D35,FALSE))","v":"International Organisation for Migration (IOM); United Nations Statistics Division (UNSD-DESA); Organisation for Economic Co-operation and Development (OECD)"},{"$f":"IF(VLOOKUP($B35&\"_\"&$C35&\"_\"&I$12,UNWDF2021_LookUp!$B:$R,$D35,FALSE)=0,\"\",VLOOKUP($B35&\"_\"&$C35&\"_\"&I$12,UNWDF2021_LookUp!$B:$R,$D35,FALSE))","v":"Centro de Pensamiento Estratégico Internacional (Cepei); Global Partnership for Sustainable Development Data (GPSDD)"},{"$f":"IF(VLOOKUP($B35&\"_\"&$C35&\"_\"&J$12,UNWDF2021_LookUp!$B:$R,$D35,FALSE)=0,\"\",VLOOKUP($B35&\"_\"&$C35&\"_\"&J$12,UNWDF2021_LookUp!$B:$R,$D35,FALSE))","v":"Inter-Secretariat Working Group on Household Surveys (ISWGHS)"},{"$f":"IF(VLOOKUP($B35&\"_\"&$C35&\"_\"&K$12,UNWDF2021_LookUp!$B:$R,$D35,FALSE)=0,\"\",VLOOKUP($B35&\"_\"&$C35&\"_\"&K$12,UNWDF2021_LookUp!$B:$R,$D35,FALSE))","v":"World Bank – UNHCR Joint Data Center on Forced Displacement (JDC); Expert Group on Refugee and IDP Statistics (EGRIS)"},{"$f":"IF(VLOOKUP($B35&\"_\"&$C35&\"_\"&L$12,UNWDF2021_LookUp!$B:$R,$D35,FALSE)=0,\"\",VLOOKUP($B35&\"_\"&$C35&\"_\"&L$12,UNWDF2021_LookUp!$B:$R,$D35,FALSE))","v":"Fundación GeoCensos; Paris 21; Statistics Sweden"},{"$f":"IF(VLOOKUP($B35&\"_\"&$C35&\"_\"&M$12,UNWDF2021_LookUp!$B:$R,$D35,FALSE)=0,\"\",VLOOKUP($B35&\"_\"&$C35&\"_\"&M$12,UNWDF2021_LookUp!$B:$R,$D35,FALSE))","v":"University of British Columbia; United Nations Environment Programme (UNEP)"},{"$f":"IF(VLOOKUP($B35&\"_\"&$C35&\"_\"&N$12,UNWDF2021_LookUp!$B:$R,$D35,FALSE)=0,\"\",VLOOKUP($B35&\"_\"&$C35&\"_\"&N$12,UNWDF2021_LookUp!$B:$R,$D35,FALSE))","v":"The Committee on Data of the International Science Council (CODATA)"},{"$f":"IF(VLOOKUP($B35&\"_\"&$C35&\"_\"&O$12,UNWDF2021_LookUp!$B:$R,$D35,FALSE)=0,\"\",VLOOKUP($B35&\"_\"&$C35&\"_\"&O$12,UNWDF2021_LookUp!$B:$R,$D35,FALSE))","v":"Data2X (UN Foundation); United Nations Entity for Gender Equality and the Empowerment of Women (UN Women)"},{"$f":"IF(VLOOKUP($B35&\"_\"&$C35&\"_\"&P$12,UNWDF2021_LookUp!$B:$R,$D35,FALSE)=0,\"\",VLOOKUP($B35&\"_\"&$C35&\"_\"&P$12,UNWDF2021_LookUp!$B:$R,$D35,FALSE))","v":"Inter-American Development Bank (IDB); Partnership in Statistics for Development in the 21st Century (PARIS21)"}]
[null,"Day1",null,null,"16:00 - 16:15 (BERN time)",{"$f":"IF(ISERROR(TEXT((DATE($E$3,$E$2,$E$1+1)+TIME(MID(E36,1,2),MID(E36,4,2),0))+($C$2-$C$3),\"H:MM AM/PM\")&\" - \"&TEXT(DATE($E$3,$E$2,$E$1+1)+TIME(MID(E36,9,2),MID(E36,12,2),0)+($C$2-$C$3),\"H:MM AM/PM\")),E36,TEXT((DATE($E$3,$E$2,$E$1+1)+TIME(MID(E36,1,2),MID(E36,4,2),0))+($C$2-$C$3),\"H:MM AM/PM\")&\" - \"&TEXT(DATE($E$3,$E$2,$E$1+1)+TIME(MID(E36,9,2),MID(E36,12,2),0)+($C$2-$C$3),\"H:MM AM/PM\"))","v":"16:00 - 16:15 (BERN time)"},"Break"]
[{"$f":"B37&C37","v":"Day1Time_Slot6"},"Day1","Time_Slot6",15,"16:15 - 17:30 (BERN time)",{"$f":"IF(ISERROR(TEXT((DATE($E$3,$E$2,$E$1+1)+TIME(MID(E37,1,2),MID(E37,4,2),0))+($C$2-$C$3),\"H:MM AM/PM\")&\" - \"&TEXT(DATE($E$3,$E$2,$E$1+1)+TIME(MID(E37,9,2),MID(E37,12,2),0)+($C$2-$C$3),\"H:MM AM/PM\")),E37,TEXT((DATE($E$3,$E$2,$E$1+1)+TIME(MID(E37,1,2),MID(E37,4,2),0))+($C$2-$C$3),\"H:MM AM/PM\")&\" - \"&TEXT(DATE($E$3,$E$2,$E$1+1)+TIME(MID(E37,9,2),MID(E37,12,2),0)+($C$2-$C$3),\"H:MM AM/PM\"))","v":"16:15 - 17:30 (BERN time)"},"Event_ID",{"$f":"IF(VLOOKUP($B37&\"_\"&$C37&\"_\"&H$12,UNWDF2021_LookUp!$B:$R,$D37,FALSE)=0,\"\",VLOOKUP($B37&\"_\"&$C37&\"_\"&H$12,UNWDF2021_LookUp!$B:$R,$D37,FALSE))","v":"TA3.01"}]
["Day1Time_Slot6","Day1","Time_Slot6",13,"",{"$f":"IF(ISERROR(TEXT((DATE($E$3,$E$2,$E$1+1)+TIME(MID(E38,1,2),MID(E38,4,2),0))+($C$2-#REF!),\"H:MM\")&\" - \"&TEXT(DATE($E$3,$E$2,$E$1+1)+TIME(MID(E38,9,2),MID(E38,12,2),0)+($C$2-#REF!),\"H:MM AM/PM\")),E38,TEXT((DATE($E$3,$E$2,$E$1+1)+TIME(MID(E38,1,2),MID(E38,4,2),0))+($C$2-#REF!),\"H:MM\")&\" - \"&TEXT(DATE($E$3,$E$2,$E$1+1)+TIME(MID(E38,9,2),MID(E38,12,2),0)+($C$2-#REF!),\"H:MM AM/PM\"))","v":""},"Thematic Area",{"$f":"IF(VLOOKUP($B38&\"_\"&$C38&\"_\"&H$12,UNWDF2021_LookUp!$B:$R,$D38,FALSE)=0,\"\",VLOOKUP($B38&\"_\"&$C38&\"_\"&H$12,UNWDF2021_LookUp!$B:$R,$D38,FALSE))","v":3}]
[{"$f":"B39&C39","v":"Day1Time_Slot6"},"Day1","Time_Slot6",16,"",null,"Event Title",{"$f":"IF(VLOOKUP($B39&\"_\"&$C39&\"_\"&H$12,UNWDF2021_LookUp!$B:$R,$D39,FALSE)=0,\"\",VLOOKUP($B39&\"_\"&$C39&\"_\"&H$12,UNWDF2021_LookUp!$B:$R,$D39,FALSE))","v":"Leaving no one behind, the need to measure equity"}]
["Day1Time_Slot6","Day1","Time_Slot6",17,"",{"$f":"IF(ISERROR(TEXT((DATE($E$3,$E$2,$E$1+1)+TIME(MID(E40,1,2),MID(E40,4,2),0))+($C$2-#REF!),\"H:MM\")&\" - \"&TEXT(DATE($E$3,$E$2,$E$1+1)+TIME(MID(E40,9,2),MID(E40,12,2),0)+($C$2-#REF!),\"H:MM AM/PM\")),E40,TEXT((DATE($E$3,$E$2,$E$1+1)+TIME(MID(E40,1,2),MID(E40,4,2),0))+($C$2-#REF!),\"H:MM\")&\" - \"&TEXT(DATE($E$3,$E$2,$E$1+1)+TIME(MID(E40,9,2),MID(E40,12,2),0)+($C$2-#REF!),\"H:MM AM/PM\"))","v":""},"Organiser",{"$f":"IF(VLOOKUP($B40&\"_\"&$C40&\"_\"&H$12,UNWDF2021_LookUp!$B:$R,$D40,FALSE)=0,\"\",VLOOKUP($B40&\"_\"&$C40&\"_\"&H$12,UNWDF2021_LookUp!$B:$R,$D40,FALSE))","v":"United Nations World Data Forum (UNWDF) Programme Committee"}]
[null,"Day1",null,null,"17:30 - 17:45 (BERN time)",{"$f":"IF(ISERROR(TEXT((DATE($E$3,$E$2,$E$1+1)+TIME(MID(E41,1,2),MID(E41,4,2),0))+($C$2-$C$3),\"H:MM AM/PM\")&\" - \"&TEXT(DATE($E$3,$E$2,$E$1+1)+TIME(MID(E41,9,2),MID(E41,12,2),0)+($C$2-$C$3),\"H:MM AM/PM\")),E41,TEXT((DATE($E$3,$E$2,$E$1+1)+TIME(MID(E41,1,2),MID(E41,4,2),0))+($C$2-$C$3),\"H:MM AM/PM\")&\" - \"&TEXT(DATE($E$3,$E$2,$E$1+1)+TIME(MID(E41,9,2),MID(E41,12,2),0)+($C$2-$C$3),\"H:MM AM/PM\"))","v":"17:30 - 17:45 (BERN time)"},"Break"]
["Day1Time_Slot7","Day1","Time_Slot7",16,"17:45 - 19:15 (BERN time)",{"$f":"IF(ISERROR(TEXT((DATE($E$3,$E$2,$E$1+1)+TIME(MID(E42,1,2),MID(E42,4,2),0))+($C$2-$C$3),\"H:MM AM/PM\")&\" - \"&TEXT(DATE($E$3,$E$2,$E$1+1)+TIME(MID(E42,9,2),MID(E42,12,2),0)+($C$2-$C$3),\"H:MM AM/PM\")),E42,TEXT((DATE($E$3,$E$2,$E$1+1)+TIME(MID(E42,1,2),MID(E42,4,2),0))+($C$2-$C$3),\"H:MM AM/PM\")&\" - \"&TEXT(DATE($E$3,$E$2,$E$1+1)+TIME(MID(E42,9,2),MID(E42,12,2),0)+($C$2-$C$3),\"H:MM AM/PM\"))","v":"17:45 - 19:15 (BERN time)"},"Event Title",{"$f":"IF(VLOOKUP($B42&\"_\"&$C42&\"_\"&H$12,UNWDF2021_LookUp!$B:$R,$D42,FALSE)=0,\"\",VLOOKUP($B42&\"_\"&$C42&\"_\"&H$12,UNWDF2021_LookUp!$B:$R,$D42,FALSE))","v":"Meet 'n' Jazz - Part 1 (in-person only)"}]
[{"$f":"B43&C43","v":"Day1Time_Slot7"},"Day1","Time_Slot7",17,"","","Organiser",{"$f":"IF(VLOOKUP($B43&\"_\"&$C43&\"_\"&H$12,UNWDF2021_LookUp!$B:$R,$D43,FALSE)=0,\"\",VLOOKUP($B43&\"_\"&$C43&\"_\"&H$12,UNWDF2021_LookUp!$B:$R,$D43,FALSE))","v":"Entrepreneurs’ Organization EO"}]
[null,null,null,null,""]
[null,null,null,null,"",null,null,null," TA 1. New approaches to capacity development for better data: supporting broad data ecosystems in countries",null,null," TA 3. Leaving no one behind: Generating and leveraging data and statistics to ensure visibility and voice for everyone",null,null," TA 5. Building trust in data and statistics: Applying data principles and governance to new and existing data sources and  implementing open data principles and practices"]
[null,null,null,null,""]
[null,null,null,null,"",null,null,null," TA 2. Innovations and synergies across data ecosystems: bringing data sources together and creating an enabling environment for the integration and use of non-traditional data sources",null,null," TA 4. Understanding the world through data: making data and statistics relevant and usable to all users; increasing data and statistical literacy and data communication; strengthening the use of data in journalism",null,null," TA 6. How far have we come? A look at the implementation of the Cape Town Global Action Plan; Addressing emerging challenges of fully harnessing the power of data to improve people's lives"]
[null,null,null,null,""]
[null,null,null,null,"","(^) Sessions will be conducted in a hybrid format with some or all speakers in-person at the venue but also broadcast to a virtual audience, unless indicated with (^^) to denote completely virtual sessions."]
["Day2",null,null,null,"",{"$f":"IF(ISERROR(DATE($E$3,$E$2,$E$1+2)+TIME(MID(E54,1,2),MID(E54,4,2),0)+($C$2-$C$3)),DATE($E$3,$E$2,$E$1+2),DATE($E$3,$E$2,$E$1+2)+TIME(MID(E54,1,2),MID(E54,4,2),0)+($C$2-$C$3))","v":"2021-10-05"}]
[null,null,"LookUp",null,"",null,"LookUp","Parallel 01","Parallel 02","Parallel 03","Parallel 04","Parallel 05","Parallel 06","Parallel 07","Parallel 08","Parallel 09"]
[null,null,null,null,"","Time (Auto-adjusts to your local time, unless \"(Bern time)\" shown)","Rm Name","Arena","Aare","Szenario 2","Panorama 2-4","Panorama 1","Szenario 1 (^^)","Aare 1 (^^)","Aare 2 (^^)","Aare 3 (^^)"]
["DayTime_LookUp","Day_LookUp","Time_LookUp","Col_LookUp","Time (BERN time) (BERN time)",null,"Capacity",1357,298,221,199,125,131,63,63,75]
[{"$f":"B54&C54","v":"Day2Time_Slot1"},"Day2","Time_Slot1",15,"09:00 - 10:00 (BERN time)",{"$f":"IF(ISERROR(TEXT((DATE($E$3,$E$2,$E$1+1)+TIME(MID(E54,1,2),MID(E54,4,2),0))+($C$2-$C$3),\"H:MM AM/PM\")&\" - \"&TEXT(DATE($E$3,$E$2,$E$1+1)+TIME(MID(E54,9,2),MID(E54,12,2),0)+($C$2-$C$3),\"H:MM AM/PM\")),E54,TEXT((DATE($E$3,$E$2,$E$1+1)+TIME(MID(E54,1,2),MID(E54,4,2),0))+($C$2-$C$3),\"H:MM AM/PM\")&\" - \"&TEXT(DATE($E$3,$E$2,$E$1+1)+TIME(MID(E54,9,2),MID(E54,12,2),0)+($C$2-$C$3),\"H:MM AM/PM\"))","v":"09:00 - 10:00 (BERN time)"},"Event_ID",{"$f":"IF(VLOOKUP($B54&\"_\"&$C54&\"_\"&H$12,UNWDF2021_LookUp!$B:$R,$D54,FALSE)=0,\"\",VLOOKUP($B54&\"_\"&$C54&\"_\"&H$12,UNWDF2021_LookUp!$B:$R,$D54,FALSE))","v":"TA1.06"},{"$f":"IF(VLOOKUP($B54&\"_\"&$C54&\"_\"&I$12,UNWDF2021_LookUp!$B:$R,$D54,FALSE)=0,\"\",VLOOKUP($B54&\"_\"&$C54&\"_\"&I$12,UNWDF2021_LookUp!$B:$R,$D54,FALSE))","v":"TA4.03"},{"$f":"IF(VLOOKUP($B54&\"_\"&$C54&\"_\"&J$12,UNWDF2021_LookUp!$B:$R,$D54,FALSE)=0,\"\",VLOOKUP($B54&\"_\"&$C54&\"_\"&J$12,UNWDF2021_LookUp!$B:$R,$D54,FALSE))","v":"TA3.03"},{"$f":"IF(VLOOKUP($B54&\"_\"&$C54&\"_\"&K$12,UNWDF2021_LookUp!$B:$R,$D54,FALSE)=0,\"\",VLOOKUP($B54&\"_\"&$C54&\"_\"&K$12,UNWDF2021_LookUp!$B:$R,$D54,FALSE))","v":"TA1.08"},{"$f":"IF(VLOOKUP($B54&\"_\"&$C54&\"_\"&L$12,UNWDF2021_LookUp!$B:$R,$D54,FALSE)=0,\"\",VLOOKUP($B54&\"_\"&$C54&\"_\"&L$12,UNWDF2021_LookUp!$B:$R,$D54,FALSE))","v":"TA3.19"},{"$f":"IF(VLOOKUP($B54&\"_\"&$C54&\"_\"&M$12,UNWDF2021_LookUp!$B:$R,$D54,FALSE)=0,\"\",VLOOKUP($B54&\"_\"&$C54&\"_\"&M$12,UNWDF2021_LookUp!$B:$R,$D54,FALSE))","v":"TA2.18"},{"$f":"IF(VLOOKUP($B54&\"_\"&$C54&\"_\"&N$12,UNWDF2021_LookUp!$B:$R,$D54,FALSE)=0,\"\",VLOOKUP($B54&\"_\"&$C54&\"_\"&N$12,UNWDF2021_LookUp!$B:$R,$D54,FALSE))","v":"TA5.05"},{"$f":"IF(VLOOKUP($B54&\"_\"&$C54&\"_\"&O$12,UNWDF2021_LookUp!$B:$R,$D54,FALSE)=0,\"\",VLOOKUP($B54&\"_\"&$C54&\"_\"&O$12,UNWDF2021_LookUp!$B:$R,$D54,FALSE))","v":"TA1.07"},{"$f":"IF(VLOOKUP($B54&\"_\"&$C54&\"_\"&P$12,UNWDF2021_LookUp!$B:$R,$D54,FALSE)=0,\"\",VLOOKUP($B54&\"_\"&$C54&\"_\"&P$12,UNWDF2021_LookUp!$B:$R,$D54,FALSE))","v":""}]
["Day2Time_Slot1","Day2","Time_Slot1",13,"",{"$f":"IF(ISERROR(TEXT((DATE($E$3,$E$2,$E$1+1)+TIME(MID(E55,1,2),MID(E55,4,2),0))+($C$2-#REF!),\"H:MM\")&\" - \"&TEXT(DATE($E$3,$E$2,$E$1+1)+TIME(MID(E55,9,2),MID(E55,12,2),0)+($C$2-#REF!),\"H:MM AM/PM\")),E55,TEXT((DATE($E$3,$E$2,$E$1+1)+TIME(MID(E55,1,2),MID(E55,4,2),0))+($C$2-#REF!),\"H:MM\")&\" - \"&TEXT(DATE($E$3,$E$2,$E$1+1)+TIME(MID(E55,9,2),MID(E55,12,2),0)+($C$2-#REF!),\"H:MM AM/PM\"))","v":""},"Thematic Area",{"$f":"IF(VLOOKUP($B55&\"_\"&$C55&\"_\"&H$12,UNWDF2021_LookUp!$B:$R,$D55,FALSE)=0,\"\",VLOOKUP($B55&\"_\"&$C55&\"_\"&H$12,UNWDF2021_LookUp!$B:$R,$D55,FALSE))","v":1},{"$f":"IF(VLOOKUP($B55&\"_\"&$C55&\"_\"&I$12,UNWDF2021_LookUp!$B:$R,$D55,FALSE)=0,\"\",VLOOKUP($B55&\"_\"&$C55&\"_\"&I$12,UNWDF2021_LookUp!$B:$R,$D55,FALSE))","v":4},{"$f":"IF(VLOOKUP($B55&\"_\"&$C55&\"_\"&J$12,UNWDF2021_LookUp!$B:$R,$D55,FALSE)=0,\"\",VLOOKUP($B55&\"_\"&$C55&\"_\"&J$12,UNWDF2021_LookUp!$B:$R,$D55,FALSE))","v":3},{"$f":"IF(VLOOKUP($B55&\"_\"&$C55&\"_\"&K$12,UNWDF2021_LookUp!$B:$R,$D55,FALSE)=0,\"\",VLOOKUP($B55&\"_\"&$C55&\"_\"&K$12,UNWDF2021_LookUp!$B:$R,$D55,FALSE))","v":1},{"$f":"IF(VLOOKUP($B55&\"_\"&$C55&\"_\"&L$12,UNWDF2021_LookUp!$B:$R,$D55,FALSE)=0,\"\",VLOOKUP($B55&\"_\"&$C55&\"_\"&L$12,UNWDF2021_LookUp!$B:$R,$D55,FALSE))","v":3},{"$f":"IF(VLOOKUP($B55&\"_\"&$C55&\"_\"&M$12,UNWDF2021_LookUp!$B:$R,$D55,FALSE)=0,\"\",VLOOKUP($B55&\"_\"&$C55&\"_\"&M$12,UNWDF2021_LookUp!$B:$R,$D55,FALSE))","v":2},{"$f":"IF(VLOOKUP($B55&\"_\"&$C55&\"_\"&N$12,UNWDF2021_LookUp!$B:$R,$D55,FALSE)=0,\"\",VLOOKUP($B55&\"_\"&$C55&\"_\"&N$12,UNWDF2021_LookUp!$B:$R,$D55,FALSE))","v":5},{"$f":"IF(VLOOKUP($B55&\"_\"&$C55&\"_\"&O$12,UNWDF2021_LookUp!$B:$R,$D55,FALSE)=0,\"\",VLOOKUP($B55&\"_\"&$C55&\"_\"&O$12,UNWDF2021_LookUp!$B:$R,$D55,FALSE))","v":1},{"$f":"IF(VLOOKUP($B55&\"_\"&$C55&\"_\"&P$12,UNWDF2021_LookUp!$B:$R,$D55,FALSE)=0,\"\",VLOOKUP($B55&\"_\"&$C55&\"_\"&P$12,UNWDF2021_LookUp!$B:$R,$D55,FALSE))","v":"NA"}]
[{"$f":"B56&C56","v":"Day2Time_Slot1"},"Day2","Time_Slot1",16,"",null,"Event Title",{"$f":"IF(VLOOKUP($B56&\"_\"&$C56&\"_\"&H$12,UNWDF2021_LookUp!$B:$R,$D56,FALSE)=0,\"\",VLOOKUP($B56&\"_\"&$C56&\"_\"&H$12,UNWDF2021_LookUp!$B:$R,$D56,FALSE))","v":"Where to start first? – Identifying the leverage points of effective capacity development"},{"$f":"IF(VLOOKUP($B56&\"_\"&$C56&\"_\"&I$12,UNWDF2021_LookUp!$B:$R,$D56,FALSE)=0,\"\",VLOOKUP($B56&\"_\"&$C56&\"_\"&I$12,UNWDF2021_LookUp!$B:$R,$D56,FALSE))","v":"Ensuring the future of sustainable water data--for citizens, scientists and policymakers"},{"$f":"IF(VLOOKUP($B56&\"_\"&$C56&\"_\"&J$12,UNWDF2021_LookUp!$B:$R,$D56,FALSE)=0,\"\",VLOOKUP($B56&\"_\"&$C56&\"_\"&J$12,UNWDF2021_LookUp!$B:$R,$D56,FALSE))","v":"Partnering to deliver data for invisible groups to ensure that no one is left behind: practical lessons to build inclusive data systems that give voice to communities"},{"$f":"IF(VLOOKUP($B56&\"_\"&$C56&\"_\"&K$12,UNWDF2021_LookUp!$B:$R,$D56,FALSE)=0,\"\",VLOOKUP($B56&\"_\"&$C56&\"_\"&K$12,UNWDF2021_LookUp!$B:$R,$D56,FALSE))","v":"Earth observations for enhanced decision making on connected land, biodiversity and climate agendas with impact stories from Africa"},{"$f":"IF(VLOOKUP($B56&\"_\"&$C56&\"_\"&L$12,UNWDF2021_LookUp!$B:$R,$D56,FALSE)=0,\"\",VLOOKUP($B56&\"_\"&$C56&\"_\"&L$12,UNWDF2021_LookUp!$B:$R,$D56,FALSE))","v":"The Data Values Project  - redefining what it means to live in a digital society"},{"$f":"IF(VLOOKUP($B56&\"_\"&$C56&\"_\"&M$12,UNWDF2021_LookUp!$B:$R,$D56,FALSE)=0,\"\",VLOOKUP($B56&\"_\"&$C56&\"_\"&M$12,UNWDF2021_LookUp!$B:$R,$D56,FALSE))","v":"Innovation during the Covid-19 crisis: why it was more critical for official statistics than ever"},{"$f":"IF(VLOOKUP($B56&\"_\"&$C56&\"_\"&N$12,UNWDF2021_LookUp!$B:$R,$D56,FALSE)=0,\"\",VLOOKUP($B56&\"_\"&$C56&\"_\"&N$12,UNWDF2021_LookUp!$B:$R,$D56,FALSE))","v":"Balancing data use and data protection in times of COVID-19 – Learning from African Experiences"},{"$f":"IF(VLOOKUP($B56&\"_\"&$C56&\"_\"&O$12,UNWDF2021_LookUp!$B:$R,$D56,FALSE)=0,\"\",VLOOKUP($B56&\"_\"&$C56&\"_\"&O$12,UNWDF2021_LookUp!$B:$R,$D56,FALSE))","v":"Market Shaping: Accelerating the uptake of mobile big data and AI services through public private partnerships"},{"$f":"IF(VLOOKUP($B56&\"_\"&$C56&\"_\"&P$12,UNWDF2021_LookUp!$B:$R,$D56,FALSE)=0,\"\",VLOOKUP($B56&\"_\"&$C56&\"_\"&P$12,UNWDF2021_LookUp!$B:$R,$D56,FALSE))","v":"NA"}]
["Day2Time_Slot1","Day2","Time_Slot1",17,"",{"$f":"IF(ISERROR(TEXT((DATE($E$3,$E$2,$E$1+1)+TIME(MID(E57,1,2),MID(E57,4,2),0))+($C$2-#REF!),\"H:MM\")&\" - \"&TEXT(DATE($E$3,$E$2,$E$1+1)+TIME(MID(E57,9,2),MID(E57,12,2),0)+($C$2-#REF!),\"H:MM AM/PM\")),E57,TEXT((DATE($E$3,$E$2,$E$1+1)+TIME(MID(E57,1,2),MID(E57,4,2),0))+($C$2-#REF!),\"H:MM\")&\" - \"&TEXT(DATE($E$3,$E$2,$E$1+1)+TIME(MID(E57,9,2),MID(E57,12,2),0)+($C$2-#REF!),\"H:MM AM/PM\"))","v":""},"Organiser",{"$f":"IF(VLOOKUP($B57&\"_\"&$C57&\"_\"&H$12,UNWDF2021_LookUp!$B:$R,$D57,FALSE)=0,\"\",VLOOKUP($B57&\"_\"&$C57&\"_\"&H$12,UNWDF2021_LookUp!$B:$R,$D57,FALSE))","v":"Partnership in Statistics for Development in the 21st Century (PARIS21); Organisation for Economic Co-operation and Development (OECD); Millennium Challenge Corporation (MCC), PEPFAR Partnerships"},{"$f":"IF(VLOOKUP($B57&\"_\"&$C57&\"_\"&I$12,UNWDF2021_LookUp!$B:$R,$D57,FALSE)=0,\"\",VLOOKUP($B57&\"_\"&$C57&\"_\"&I$12,UNWDF2021_LookUp!$B:$R,$D57,FALSE))","v":"World Meteorological Organization (WMO); Gallup, Inc.; Northwestern University; United Nations Convention on Biological Diversity"},{"$f":"IF(VLOOKUP($B57&\"_\"&$C57&\"_\"&J$12,UNWDF2021_LookUp!$B:$R,$D57,FALSE)=0,\"\",VLOOKUP($B57&\"_\"&$C57&\"_\"&J$12,UNWDF2021_LookUp!$B:$R,$D57,FALSE))","v":"Development Initiatives; Uganda Bureau of Statistics (UBOS)"},{"$f":"IF(VLOOKUP($B57&\"_\"&$C57&\"_\"&K$12,UNWDF2021_LookUp!$B:$R,$D57,FALSE)=0,\"\",VLOOKUP($B57&\"_\"&$C57&\"_\"&K$12,UNWDF2021_LookUp!$B:$R,$D57,FALSE))","v":"Group on Earth Observations (GEO); United Nations Convention to Combat Desertification (UNCCD); Deutsche Gesellschaft für Internationale Zusammenarbeit (GIZ); WOCAT/Centre for Development and Environment; Conservation International"},{"$f":"IF(VLOOKUP($B57&\"_\"&$C57&\"_\"&L$12,UNWDF2021_LookUp!$B:$R,$D57,FALSE)=0,\"\",VLOOKUP($B57&\"_\"&$C57&\"_\"&L$12,UNWDF2021_LookUp!$B:$R,$D57,FALSE))","v":"Global Partnership for Sustainable Development Data (GPSDD)"},{"$f":"IF(VLOOKUP($B57&\"_\"&$C57&\"_\"&M$12,UNWDF2021_LookUp!$B:$R,$D57,FALSE)=0,\"\",VLOOKUP($B57&\"_\"&$C57&\"_\"&M$12,UNWDF2021_LookUp!$B:$R,$D57,FALSE))","v":"European Statistical Office (Eurostat); Statistics Finland; Institut national de la statistique et des études économiques (INSEE-France); Federal Statistical Office of Germany (Destatis); Italian National Institute of Statistics (Istat); Statistics Netherlands (CBS); Instituto Nacional de Estadística (INE-España)"},{"$f":"IF(VLOOKUP($B57&\"_\"&$C57&\"_\"&N$12,UNWDF2021_LookUp!$B:$R,$D57,FALSE)=0,\"\",VLOOKUP($B57&\"_\"&$C57&\"_\"&N$12,UNWDF2021_LookUp!$B:$R,$D57,FALSE))","v":"William and Flora Hewlett Foundation; Open Institute, Kenya"},{"$f":"IF(VLOOKUP($B57&\"_\"&$C57&\"_\"&O$12,UNWDF2021_LookUp!$B:$R,$D57,FALSE)=0,\"\",VLOOKUP($B57&\"_\"&$C57&\"_\"&O$12,UNWDF2021_LookUp!$B:$R,$D57,FALSE))","v":"Digital Impact Alliance (DIAL) (UN Foundation); Global System for Mobile Communications (GSMA)"},{"$f":"IF(VLOOKUP($B57&\"_\"&$C57&\"_\"&P$12,UNWDF2021_LookUp!$B:$R,$D57,FALSE)=0,\"\",VLOOKUP($B57&\"_\"&$C57&\"_\"&P$12,UNWDF2021_LookUp!$B:$R,$D57,FALSE))","v":"NA"}]
[null,"Day2",null,null,"10:00 - 10:30 (BERN time)",{"$f":"IF(ISERROR(TEXT((DATE($E$3,$E$2,$E$1+1)+TIME(MID(E58,1,2),MID(E58,4,2),0))+($C$2-$C$3),\"H:MM AM/PM\")&\" - \"&TEXT(DATE($E$3,$E$2,$E$1+1)+TIME(MID(E58,9,2),MID(E58,12,2),0)+($C$2-$C$3),\"H:MM AM/PM\")),E58,TEXT((DATE($E$3,$E$2,$E$1+1)+TIME(MID(E58,1,2),MID(E58,4,2),0))+($C$2-$C$3),\"H:MM AM/PM\")&\" - \"&TEXT(DATE($E$3,$E$2,$E$1+1)+TIME(MID(E58,9,2),MID(E58,12,2),0)+($C$2-$C$3),\"H:MM AM/PM\"))","v":"10:00 - 10:30 (BERN time)"},"Break"]
[{"$f":"B59&C59","v":"Day2Time_Slot2"},"Day2","Time_Slot2",15,"10:30 - 11:45 (BERN time)",{"$f":"IF(ISERROR(TEXT((DATE($E$3,$E$2,$E$1+1)+TIME(MID(E59,1,2),MID(E59,4,2),0))+($C$2-$C$3),\"H:MM AM/PM\")&\" - \"&TEXT(DATE($E$3,$E$2,$E$1+1)+TIME(MID(E59,9,2),MID(E59,12,2),0)+($C$2-$C$3),\"H:MM AM/PM\")),E59,TEXT((DATE($E$3,$E$2,$E$1+1)+TIME(MID(E59,1,2),MID(E59,4,2),0))+($C$2-$C$3),\"H:MM AM/PM\")&\" - \"&TEXT(DATE($E$3,$E$2,$E$1+1)+TIME(MID(E59,9,2),MID(E59,12,2),0)+($C$2-$C$3),\"H:MM AM/PM\"))","v":"10:30 - 11:45 (BERN time)"},"Event_ID",{"$f":"IF(VLOOKUP($B59&\"_\"&$C59&\"_\"&H$12,UNWDF2021_LookUp!$B:$R,$D59,FALSE)=0,\"\",VLOOKUP($B59&\"_\"&$C59&\"_\"&H$12,UNWDF2021_LookUp!$B:$R,$D59,FALSE))","v":"TA4.01"}]
["Day2Time_Slot2","Day2","Time_Slot2",13,"",{"$f":"IF(ISERROR(TEXT((DATE($E$3,$E$2,$E$1+1)+TIME(MID(E60,1,2),MID(E60,4,2),0))+($C$2-#REF!),\"H:MM\")&\" - \"&TEXT(DATE($E$3,$E$2,$E$1+1)+TIME(MID(E60,9,2),MID(E60,12,2),0)+($C$2-#REF!),\"H:MM AM/PM\")),E60,TEXT((DATE($E$3,$E$2,$E$1+1)+TIME(MID(E60,1,2),MID(E60,4,2),0))+($C$2-#REF!),\"H:MM\")&\" - \"&TEXT(DATE($E$3,$E$2,$E$1+1)+TIME(MID(E60,9,2),MID(E60,12,2),0)+($C$2-#REF!),\"H:MM AM/PM\"))","v":""},"Thematic Area",{"$f":"IF(VLOOKUP($B60&\"_\"&$C60&\"_\"&H$12,UNWDF2021_LookUp!$B:$R,$D60,FALSE)=0,\"\",VLOOKUP($B60&\"_\"&$C60&\"_\"&H$12,UNWDF2021_LookUp!$B:$R,$D60,FALSE))","v":4}]
[{"$f":"B61&C61","v":"Day2Time_Slot2"},"Day2","Time_Slot2",16,"",null,"Event Title",{"$f":"IF(VLOOKUP($B61&\"_\"&$C61&\"_\"&H$12,UNWDF2021_LookUp!$B:$R,$D61,FALSE)=0,\"\",VLOOKUP($B61&\"_\"&$C61&\"_\"&H$12,UNWDF2021_LookUp!$B:$R,$D61,FALSE))","v":"Making it add up, counting on data and statistics during pandemics and other disasters"}]
["Day2Time_Slot2","Day2","Time_Slot2",17,"",{"$f":"IF(ISERROR(TEXT((DATE($E$3,$E$2,$E$1+1)+TIME(MID(E62,1,2),MID(E62,4,2),0))+($C$2-#REF!),\"H:MM\")&\" - \"&TEXT(DATE($E$3,$E$2,$E$1+1)+TIME(MID(E62,9,2),MID(E62,12,2),0)+($C$2-#REF!),\"H:MM AM/PM\")),E62,TEXT((DATE($E$3,$E$2,$E$1+1)+TIME(MID(E62,1,2),MID(E62,4,2),0))+($C$2-#REF!),\"H:MM\")&\" - \"&TEXT(DATE($E$3,$E$2,$E$1+1)+TIME(MID(E62,9,2),MID(E62,12,2),0)+($C$2-#REF!),\"H:MM AM/PM\"))","v":""},"Organiser",{"$f":"IF(VLOOKUP($B62&\"_\"&$C62&\"_\"&H$12,UNWDF2021_LookUp!$B:$R,$D62,FALSE)=0,\"\",VLOOKUP($B62&\"_\"&$C62&\"_\"&H$12,UNWDF2021_LookUp!$B:$R,$D62,FALSE))","v":"United Nations World Data Forum (UNWDF) Programme Committee"}]
["Day2Time_Slot2B","Day2","Time_Slot2B",14,"11:45 - 13:15 (BERN time)",{"$f":"IF(ISERROR(TEXT((DATE($E$3,$E$2,$E$1+1)+TIME(MID(E63,1,2),MID(E63,4,2),0))+($C$2-$C$3),\"H:MM AM/PM\")&\" - \"&TEXT(DATE($E$3,$E$2,$E$1+1)+TIME(MID(E63,9,2),MID(E63,12,2),0)+($C$2-$C$3),\"H:MM AM/PM\")),E63,TEXT((DATE($E$3,$E$2,$E$1+1)+TIME(MID(E63,1,2),MID(E63,4,2),0))+($C$2-$C$3),\"H:MM AM/PM\")&\" - \"&TEXT(DATE($E$3,$E$2,$E$1+1)+TIME(MID(E63,9,2),MID(E63,12,2),0)+($C$2-$C$3),\"H:MM AM/PM\"))","v":"11:45 - 13:15 (BERN time)"},"Break"]
["Day2Time_Slot3","Day2","Time_Slot3",15,"13:15 - 14:30 (BERN time)",{"$f":"IF(ISERROR(TEXT((DATE($E$3,$E$2,$E$1+1)+TIME(MID(E64,1,2),MID(E64,4,2),0))+($C$2-$C$3),\"H:MM AM/PM\")&\" - \"&TEXT(DATE($E$3,$E$2,$E$1+1)+TIME(MID(E64,9,2),MID(E64,12,2),0)+($C$2-$C$3),\"H:MM AM/PM\")),E64,TEXT((DATE($E$3,$E$2,$E$1+1)+TIME(MID(E64,1,2),MID(E64,4,2),0))+($C$2-$C$3),\"H:MM AM/PM\")&\" - \"&TEXT(DATE($E$3,$E$2,$E$1+1)+TIME(MID(E64,9,2),MID(E64,12,2),0)+($C$2-$C$3),\"H:MM AM/PM\"))","v":"13:15 - 14:30 (BERN time)"},"Event_ID",{"$f":"IF(VLOOKUP($B64&\"_\"&$C64&\"_\"&H$12,UNWDF2021_LookUp!$B:$R,$D64,FALSE)=0,\"\",VLOOKUP($B64&\"_\"&$C64&\"_\"&H$12,UNWDF2021_LookUp!$B:$R,$D64,FALSE))","v":"TA5.01"}]
["Day2Time_Slot3","Day2","Time_Slot3",13,"",{"$f":"IF(ISERROR(TEXT((DATE($E$3,$E$2,$E$1+1)+TIME(MID(E65,1,2),MID(E65,4,2),0))+($C$2-#REF!),\"H:MM\")&\" - \"&TEXT(DATE($E$3,$E$2,$E$1+1)+TIME(MID(E65,9,2),MID(E65,12,2),0)+($C$2-#REF!),\"H:MM AM/PM\")),E65,TEXT((DATE($E$3,$E$2,$E$1+1)+TIME(MID(E65,1,2),MID(E65,4,2),0))+($C$2-#REF!),\"H:MM\")&\" - \"&TEXT(DATE($E$3,$E$2,$E$1+1)+TIME(MID(E65,9,2),MID(E65,12,2),0)+($C$2-#REF!),\"H:MM AM/PM\"))","v":""},"Thematic Area",{"$f":"IF(VLOOKUP($B65&\"_\"&$C65&\"_\"&H$12,UNWDF2021_LookUp!$B:$R,$D65,FALSE)=0,\"\",VLOOKUP($B65&\"_\"&$C65&\"_\"&H$12,UNWDF2021_LookUp!$B:$R,$D65,FALSE))","v":5}]
[{"$f":"B66&C66","v":"Day2Time_Slot3"},"Day2","Time_Slot3",16,"",null,"Event Title",{"$f":"IF(VLOOKUP($B66&\"_\"&$C66&\"_\"&H$12,UNWDF2021_LookUp!$B:$R,$D66,FALSE)=0,\"\",VLOOKUP($B66&\"_\"&$C66&\"_\"&H$12,UNWDF2021_LookUp!$B:$R,$D66,FALSE))","v":"Trust in Data: balancing quality, privacy and transparency"}]
["Day2Time_Slot3","Day2","Time_Slot3",17,"",{"$f":"IF(ISERROR(TEXT((DATE($E$3,$E$2,$E$1+1)+TIME(MID(E67,1,2),MID(E67,4,2),0))+($C$2-#REF!),\"H:MM\")&\" - \"&TEXT(DATE($E$3,$E$2,$E$1+1)+TIME(MID(E67,9,2),MID(E67,12,2),0)+($C$2-#REF!),\"H:MM AM/PM\")),E67,TEXT((DATE($E$3,$E$2,$E$1+1)+TIME(MID(E67,1,2),MID(E67,4,2),0))+($C$2-#REF!),\"H:MM\")&\" - \"&TEXT(DATE($E$3,$E$2,$E$1+1)+TIME(MID(E67,9,2),MID(E67,12,2),0)+($C$2-#REF!),\"H:MM AM/PM\"))","v":""},"Organiser",{"$f":"IF(VLOOKUP($B67&\"_\"&$C67&\"_\"&H$12,UNWDF2021_LookUp!$B:$R,$D67,FALSE)=0,\"\",VLOOKUP($B67&\"_\"&$C67&\"_\"&H$12,UNWDF2021_LookUp!$B:$R,$D67,FALSE))","v":"United Nations World Data Forum (UNWDF) Programme Committee"}]
[{"$f":"B68&C68","v":"Day2Time_Slot2B"},"Day2","Time_Slot2B",14,"14:30 - 15:00 (BERN time)",{"$f":"IF(ISERROR(TEXT((DATE($E$3,$E$2,$E$1+1)+TIME(MID(E68,1,2),MID(E68,4,2),0))+($C$2-$C$3),\"H:MM AM/PM\")&\" - \"&TEXT(DATE($E$3,$E$2,$E$1+1)+TIME(MID(E68,9,2),MID(E68,12,2),0)+($C$2-$C$3),\"H:MM AM/PM\")),E68,TEXT((DATE($E$3,$E$2,$E$1+1)+TIME(MID(E68,1,2),MID(E68,4,2),0))+($C$2-$C$3),\"H:MM AM/PM\")&\" - \"&TEXT(DATE($E$3,$E$2,$E$1+1)+TIME(MID(E68,9,2),MID(E68,12,2),0)+($C$2-$C$3),\"H:MM AM/PM\"))","v":"14:30 - 15:00 (BERN time)"},"Break"]
["Day2Time_Slot4","Day2","Time_Slot4",15,"15:00 - 16:00 (BERN time)",{"$f":"IF(ISERROR(TEXT((DATE($E$3,$E$2,$E$1+1)+TIME(MID(E69,1,2),MID(E69,4,2),0))+($C$2-$C$3),\"H:MM AM/PM\")&\" - \"&TEXT(DATE($E$3,$E$2,$E$1+1)+TIME(MID(E69,9,2),MID(E69,12,2),0)+($C$2-$C$3),\"H:MM AM/PM\")),E69,TEXT((DATE($E$3,$E$2,$E$1+1)+TIME(MID(E69,1,2),MID(E69,4,2),0))+($C$2-$C$3),\"H:MM AM/PM\")&\" - \"&TEXT(DATE($E$3,$E$2,$E$1+1)+TIME(MID(E69,9,2),MID(E69,12,2),0)+($C$2-$C$3),\"H:MM AM/PM\"))","v":"15:00 - 16:00 (BERN time)"},"Event_ID",{"$f":"IF(VLOOKUP($B69&\"_\"&$C69&\"_\"&H$12,UNWDF2021_LookUp!$B:$R,$D69,FALSE)=0,\"\",VLOOKUP($B69&\"_\"&$C69&\"_\"&H$12,UNWDF2021_LookUp!$B:$R,$D69,FALSE))","v":"NA"},{"$f":"IF(VLOOKUP($B69&\"_\"&$C69&\"_\"&I$12,UNWDF2021_LookUp!$B:$R,$D69,FALSE)=0,\"\",VLOOKUP($B69&\"_\"&$C69&\"_\"&I$12,UNWDF2021_LookUp!$B:$R,$D69,FALSE))","v":"TA2.19"},{"$f":"IF(VLOOKUP($B69&\"_\"&$C69&\"_\"&J$12,UNWDF2021_LookUp!$B:$R,$D69,FALSE)=0,\"\",VLOOKUP($B69&\"_\"&$C69&\"_\"&J$12,UNWDF2021_LookUp!$B:$R,$D69,FALSE))","v":"TA4.13"},{"$f":"IF(VLOOKUP($B69&\"_\"&$C69&\"_\"&K$12,UNWDF2021_LookUp!$B:$R,$D69,FALSE)=0,\"\",VLOOKUP($B69&\"_\"&$C69&\"_\"&K$12,UNWDF2021_LookUp!$B:$R,$D69,FALSE))","v":"TA3.09"},{"$f":"IF(VLOOKUP($B69&\"_\"&$C69&\"_\"&L$12,UNWDF2021_LookUp!$B:$R,$D69,FALSE)=0,\"\",VLOOKUP($B69&\"_\"&$C69&\"_\"&L$12,UNWDF2021_LookUp!$B:$R,$D69,FALSE))","v":"TA3.07"},{"$f":"IF(VLOOKUP($B69&\"_\"&$C69&\"_\"&M$12,UNWDF2021_LookUp!$B:$R,$D69,FALSE)=0,\"\",VLOOKUP($B69&\"_\"&$C69&\"_\"&M$12,UNWDF2021_LookUp!$B:$R,$D69,FALSE))","v":"TA3.08"},{"$f":"IF(VLOOKUP($B69&\"_\"&$C69&\"_\"&N$12,UNWDF2021_LookUp!$B:$R,$D69,FALSE)=0,\"\",VLOOKUP($B69&\"_\"&$C69&\"_\"&N$12,UNWDF2021_LookUp!$B:$R,$D69,FALSE))","v":"TA5.03"},{"$f":"IF(VLOOKUP($B69&\"_\"&$C69&\"_\"&O$12,UNWDF2021_LookUp!$B:$R,$D69,FALSE)=0,\"\",VLOOKUP($B69&\"_\"&$C69&\"_\"&O$12,UNWDF2021_LookUp!$B:$R,$D69,FALSE))","v":"TA2.07"},{"$f":"IF(VLOOKUP($B69&\"_\"&$C69&\"_\"&P$12,UNWDF2021_LookUp!$B:$R,$D69,FALSE)=0,\"\",VLOOKUP($B69&\"_\"&$C69&\"_\"&P$12,UNWDF2021_LookUp!$B:$R,$D69,FALSE))","v":"TA5.07"}]
["Day2Time_Slot4","Day2","Time_Slot4",13,"",{"$f":"IF(ISERROR(TEXT((DATE($E$3,$E$2,$E$1+1)+TIME(MID(E70,1,2),MID(E70,4,2),0))+($C$2-#REF!),\"H:MM\")&\" - \"&TEXT(DATE($E$3,$E$2,$E$1+1)+TIME(MID(E70,9,2),MID(E70,12,2),0)+($C$2-#REF!),\"H:MM AM/PM\")),E70,TEXT((DATE($E$3,$E$2,$E$1+1)+TIME(MID(E70,1,2),MID(E70,4,2),0))+($C$2-#REF!),\"H:MM\")&\" - \"&TEXT(DATE($E$3,$E$2,$E$1+1)+TIME(MID(E70,9,2),MID(E70,12,2),0)+($C$2-#REF!),\"H:MM AM/PM\"))","v":""},"Thematic Area",{"$f":"IF(VLOOKUP($B70&\"_\"&$C70&\"_\"&H$12,UNWDF2021_LookUp!$B:$R,$D70,FALSE)=0,\"\",VLOOKUP($B70&\"_\"&$C70&\"_\"&H$12,UNWDF2021_LookUp!$B:$R,$D70,FALSE))","v":"NA"},{"$f":"IF(VLOOKUP($B70&\"_\"&$C70&\"_\"&I$12,UNWDF2021_LookUp!$B:$R,$D70,FALSE)=0,\"\",VLOOKUP($B70&\"_\"&$C70&\"_\"&I$12,UNWDF2021_LookUp!$B:$R,$D70,FALSE))","v":2},{"$f":"IF(VLOOKUP($B70&\"_\"&$C70&\"_\"&J$12,UNWDF2021_LookUp!$B:$R,$D70,FALSE)=0,\"\",VLOOKUP($B70&\"_\"&$C70&\"_\"&J$12,UNWDF2021_LookUp!$B:$R,$D70,FALSE))","v":4},{"$f":"IF(VLOOKUP($B70&\"_\"&$C70&\"_\"&K$12,UNWDF2021_LookUp!$B:$R,$D70,FALSE)=0,\"\",VLOOKUP($B70&\"_\"&$C70&\"_\"&K$12,UNWDF2021_LookUp!$B:$R,$D70,FALSE))","v":3},{"$f":"IF(VLOOKUP($B70&\"_\"&$C70&\"_\"&L$12,UNWDF2021_LookUp!$B:$R,$D70,FALSE)=0,\"\",VLOOKUP($B70&\"_\"&$C70&\"_\"&L$12,UNWDF2021_LookUp!$B:$R,$D70,FALSE))","v":3},{"$f":"IF(VLOOKUP($B70&\"_\"&$C70&\"_\"&M$12,UNWDF2021_LookUp!$B:$R,$D70,FALSE)=0,\"\",VLOOKUP($B70&\"_\"&$C70&\"_\"&M$12,UNWDF2021_LookUp!$B:$R,$D70,FALSE))","v":3},{"$f":"IF(VLOOKUP($B70&\"_\"&$C70&\"_\"&N$12,UNWDF2021_LookUp!$B:$R,$D70,FALSE)=0,\"\",VLOOKUP($B70&\"_\"&$C70&\"_\"&N$12,UNWDF2021_LookUp!$B:$R,$D70,FALSE))","v":5},{"$f":"IF(VLOOKUP($B70&\"_\"&$C70&\"_\"&O$12,UNWDF2021_LookUp!$B:$R,$D70,FALSE)=0,\"\",VLOOKUP($B70&\"_\"&$C70&\"_\"&O$12,UNWDF2021_LookUp!$B:$R,$D70,FALSE))","v":2},{"$f":"IF(VLOOKUP($B70&\"_\"&$C70&\"_\"&P$12,UNWDF2021_LookUp!$B:$R,$D70,FALSE)=0,\"\",VLOOKUP($B70&\"_\"&$C70&\"_\"&P$12,UNWDF2021_LookUp!$B:$R,$D70,FALSE))","v":5}]
[{"$f":"B71&C71","v":"Day2Time_Slot4"},"Day2","Time_Slot4",16,"",null,"Event Title",{"$f":"IF(VLOOKUP($B71&\"_\"&$C71&\"_\"&H$12,UNWDF2021_LookUp!$B:$R,$D71,FALSE)=0,\"\",VLOOKUP($B71&\"_\"&$C71&\"_\"&H$12,UNWDF2021_LookUp!$B:$R,$D71,FALSE))","v":"To set up for Gala evening"},{"$f":"IF(VLOOKUP($B71&\"_\"&$C71&\"_\"&I$12,UNWDF2021_LookUp!$B:$R,$D71,FALSE)=0,\"\",VLOOKUP($B71&\"_\"&$C71&\"_\"&I$12,UNWDF2021_LookUp!$B:$R,$D71,FALSE))","v":"How to adhere to the fundamental principles of official statistics when compiling data during the Covid-19 pandemic?"},{"$f":"IF(VLOOKUP($B71&\"_\"&$C71&\"_\"&J$12,UNWDF2021_LookUp!$B:$R,$D71,FALSE)=0,\"\",VLOOKUP($B71&\"_\"&$C71&\"_\"&J$12,UNWDF2021_LookUp!$B:$R,$D71,FALSE))","v":"Data-driven vaccination strategy for a COVID-19 free world"},{"$f":"IF(VLOOKUP($B71&\"_\"&$C71&\"_\"&K$12,UNWDF2021_LookUp!$B:$R,$D71,FALSE)=0,\"\",VLOOKUP($B71&\"_\"&$C71&\"_\"&K$12,UNWDF2021_LookUp!$B:$R,$D71,FALSE))","v":"Measuring and combatting modern slavery with data-driven solutions in times of a pandemic"},{"$f":"IF(VLOOKUP($B71&\"_\"&$C71&\"_\"&L$12,UNWDF2021_LookUp!$B:$R,$D71,FALSE)=0,\"\",VLOOKUP($B71&\"_\"&$C71&\"_\"&L$12,UNWDF2021_LookUp!$B:$R,$D71,FALSE))","v":"Measure-Report-Act: How analysis of fiscal equity can accelerate progress towards the SDGs for the most marginalised and deprived (^^)"},{"$f":"IF(VLOOKUP($B71&\"_\"&$C71&\"_\"&M$12,UNWDF2021_LookUp!$B:$R,$D71,FALSE)=0,\"\",VLOOKUP($B71&\"_\"&$C71&\"_\"&M$12,UNWDF2021_LookUp!$B:$R,$D71,FALSE))","v":"Innovative responses to data collection about and by persons with disabilities in the time of COVID-19"},{"$f":"IF(VLOOKUP($B71&\"_\"&$C71&\"_\"&N$12,UNWDF2021_LookUp!$B:$R,$D71,FALSE)=0,\"\",VLOOKUP($B71&\"_\"&$C71&\"_\"&N$12,UNWDF2021_LookUp!$B:$R,$D71,FALSE))","v":"Measuring Trust in Institutions matters!"},{"$f":"IF(VLOOKUP($B71&\"_\"&$C71&\"_\"&O$12,UNWDF2021_LookUp!$B:$R,$D71,FALSE)=0,\"\",VLOOKUP($B71&\"_\"&$C71&\"_\"&O$12,UNWDF2021_LookUp!$B:$R,$D71,FALSE))","v":"Innovative use of Social Media for Remote Sensing and SDG Monitoring"},{"$f":"IF(VLOOKUP($B71&\"_\"&$C71&\"_\"&P$12,UNWDF2021_LookUp!$B:$R,$D71,FALSE)=0,\"\",VLOOKUP($B71&\"_\"&$C71&\"_\"&P$12,UNWDF2021_LookUp!$B:$R,$D71,FALSE))","v":"Fiscal Open Data for Emergency Response"}]
["Day2Time_Slot4","Day2","Time_Slot4",17,"",{"$f":"IF(ISERROR(TEXT((DATE($E$3,$E$2,$E$1+1)+TIME(MID(E72,1,2),MID(E72,4,2),0))+($C$2-#REF!),\"H:MM\")&\" - \"&TEXT(DATE($E$3,$E$2,$E$1+1)+TIME(MID(E72,9,2),MID(E72,12,2),0)+($C$2-#REF!),\"H:MM AM/PM\")),E72,TEXT((DATE($E$3,$E$2,$E$1+1)+TIME(MID(E72,1,2),MID(E72,4,2),0))+($C$2-#REF!),\"H:MM\")&\" - \"&TEXT(DATE($E$3,$E$2,$E$1+1)+TIME(MID(E72,9,2),MID(E72,12,2),0)+($C$2-#REF!),\"H:MM AM/PM\"))","v":""},"Organiser",{"$f":"IF(VLOOKUP($B72&\"_\"&$C72&\"_\"&H$12,UNWDF2021_LookUp!$B:$R,$D72,FALSE)=0,\"\",VLOOKUP($B72&\"_\"&$C72&\"_\"&H$12,UNWDF2021_LookUp!$B:$R,$D72,FALSE))","v":""},{"$f":"IF(VLOOKUP($B72&\"_\"&$C72&\"_\"&I$12,UNWDF2021_LookUp!$B:$R,$D72,FALSE)=0,\"\",VLOOKUP($B72&\"_\"&$C72&\"_\"&I$12,UNWDF2021_LookUp!$B:$R,$D72,FALSE))","v":"United Nations Statistics Division (UNSD-DESA); International Telecommunication Union; Statistics Estonia; Positium; Flowminder; University of Tokyo"},{"$f":"IF(VLOOKUP($B72&\"_\"&$C72&\"_\"&J$12,UNWDF2021_LookUp!$B:$R,$D72,FALSE)=0,\"\",VLOOKUP($B72&\"_\"&$C72&\"_\"&J$12,UNWDF2021_LookUp!$B:$R,$D72,FALSE))","v":"Southern Voice - A Network of Think-tanks; Centre for Policy Dialogue (CPD); Center for the Implementation of Public Policies Promoting Equity and Growth (CIPPEC); Embassy of Switzerland in Bangladesh; The Brown Institute for Media Innovation, Columbia University; THE CITY; Patrick J. McGovern Foundation"},{"$f":"IF(VLOOKUP($B72&\"_\"&$C72&\"_\"&K$12,UNWDF2021_LookUp!$B:$R,$D72,FALSE)=0,\"\",VLOOKUP($B72&\"_\"&$C72&\"_\"&K$12,UNWDF2021_LookUp!$B:$R,$D72,FALSE))","v":"Gallup, Inc; MIT – Task Force on Computational Law for Combatting Modern Slavery; ServiceNow; Squatz; The Future Society; United Abolitionists; Walk Free "},{"$f":"IF(VLOOKUP($B72&\"_\"&$C72&\"_\"&L$12,UNWDF2021_LookUp!$B:$R,$D72,FALSE)=0,\"\",VLOOKUP($B72&\"_\"&$C72&\"_\"&L$12,UNWDF2021_LookUp!$B:$R,$D72,FALSE))","v":"Save the Children; United Nations Children's Fund (UNICEF); World Bank (WB)"},{"$f":"IF(VLOOKUP($B72&\"_\"&$C72&\"_\"&M$12,UNWDF2021_LookUp!$B:$R,$D72,FALSE)=0,\"\",VLOOKUP($B72&\"_\"&$C72&\"_\"&M$12,UNWDF2021_LookUp!$B:$R,$D72,FALSE))","v":"Stakeholder Group of Persons with Disabilities, the International Disability Alliance, World Blind Union and CBM Global Disability Inclusion"},{"$f":"IF(VLOOKUP($B72&\"_\"&$C72&\"_\"&N$12,UNWDF2021_LookUp!$B:$R,$D72,FALSE)=0,\"\",VLOOKUP($B72&\"_\"&$C72&\"_\"&N$12,UNWDF2021_LookUp!$B:$R,$D72,FALSE))","v":"Instituto Nacional de Estadística y Geografía (INEGI-México)"},{"$f":"IF(VLOOKUP($B72&\"_\"&$C72&\"_\"&O$12,UNWDF2021_LookUp!$B:$R,$D72,FALSE)=0,\"\",VLOOKUP($B72&\"_\"&$C72&\"_\"&O$12,UNWDF2021_LookUp!$B:$R,$D72,FALSE))","v":"Qatar Computing Research Institute; Massachusetts Institute of Technology (MIT); Max Planck Institute for Demographic Research"},{"$f":"IF(VLOOKUP($B72&\"_\"&$C72&\"_\"&P$12,UNWDF2021_LookUp!$B:$R,$D72,FALSE)=0,\"\",VLOOKUP($B72&\"_\"&$C72&\"_\"&P$12,UNWDF2021_LookUp!$B:$R,$D72,FALSE))","v":"Global Initiative for Fiscal Transparency (GIFT)"}]
[{"$f":"B73&C73","v":"Day2Time_Slot2C"},"Day2","Time_Slot2C",14,"16:00 - 16:15 (BERN time)",{"$f":"IF(ISERROR(TEXT((DATE($E$3,$E$2,$E$1+1)+TIME(MID(E73,1,2),MID(E73,4,2),0))+($C$2-$C$3),\"H:MM AM/PM\")&\" - \"&TEXT(DATE($E$3,$E$2,$E$1+1)+TIME(MID(E73,9,2),MID(E73,12,2),0)+($C$2-$C$3),\"H:MM AM/PM\")),E73,TEXT((DATE($E$3,$E$2,$E$1+1)+TIME(MID(E73,1,2),MID(E73,4,2),0))+($C$2-$C$3),\"H:MM AM/PM\")&\" - \"&TEXT(DATE($E$3,$E$2,$E$1+1)+TIME(MID(E73,9,2),MID(E73,12,2),0)+($C$2-$C$3),\"H:MM AM/PM\"))","v":"16:00 - 16:15 (BERN time)"},"Break"]
["Day2Time_Slot5","Day2","Time_Slot5",15,"16:15 - 17:15 (BERN time)",{"$f":"IF(ISERROR(TEXT((DATE($E$3,$E$2,$E$1+1)+TIME(MID(E74,1,2),MID(E74,4,2),0))+($C$2-$C$3),\"H:MM AM/PM\")&\" - \"&TEXT(DATE($E$3,$E$2,$E$1+1)+TIME(MID(E74,9,2),MID(E74,12,2),0)+($C$2-$C$3),\"H:MM AM/PM\")),E74,TEXT((DATE($E$3,$E$2,$E$1+1)+TIME(MID(E74,1,2),MID(E74,4,2),0))+($C$2-$C$3),\"H:MM AM/PM\")&\" - \"&TEXT(DATE($E$3,$E$2,$E$1+1)+TIME(MID(E74,9,2),MID(E74,12,2),0)+($C$2-$C$3),\"H:MM AM/PM\"))","v":"16:15 - 17:15 (BERN time)"},"Event_ID",{"$f":"IF(VLOOKUP($B74&\"_\"&$C74&\"_\"&H$12,UNWDF2021_LookUp!$B:$R,$D74,FALSE)=0,\"\",VLOOKUP($B74&\"_\"&$C74&\"_\"&H$12,UNWDF2021_LookUp!$B:$R,$D74,FALSE))","v":"NA"},{"$f":"IF(VLOOKUP($B74&\"_\"&$C74&\"_\"&I$12,UNWDF2021_LookUp!$B:$R,$D74,FALSE)=0,\"\",VLOOKUP($B74&\"_\"&$C74&\"_\"&I$12,UNWDF2021_LookUp!$B:$R,$D74,FALSE))","v":"TA5.06"},{"$f":"IF(VLOOKUP($B74&\"_\"&$C74&\"_\"&J$12,UNWDF2021_LookUp!$B:$R,$D74,FALSE)=0,\"\",VLOOKUP($B74&\"_\"&$C74&\"_\"&J$12,UNWDF2021_LookUp!$B:$R,$D74,FALSE))","v":"TA6.03"},{"$f":"IF(VLOOKUP($B74&\"_\"&$C74&\"_\"&K$12,UNWDF2021_LookUp!$B:$R,$D74,FALSE)=0,\"\",VLOOKUP($B74&\"_\"&$C74&\"_\"&K$12,UNWDF2021_LookUp!$B:$R,$D74,FALSE))","v":"TA3.15"},{"$f":"IF(VLOOKUP($B74&\"_\"&$C74&\"_\"&L$12,UNWDF2021_LookUp!$B:$R,$D74,FALSE)=0,\"\",VLOOKUP($B74&\"_\"&$C74&\"_\"&L$12,UNWDF2021_LookUp!$B:$R,$D74,FALSE))","v":"TA1-5.01"},{"$f":"IF(VLOOKUP($B74&\"_\"&$C74&\"_\"&M$12,UNWDF2021_LookUp!$B:$R,$D74,FALSE)=0,\"\",VLOOKUP($B74&\"_\"&$C74&\"_\"&M$12,UNWDF2021_LookUp!$B:$R,$D74,FALSE))","v":"TA4.14"},{"$f":"IF(VLOOKUP($B74&\"_\"&$C74&\"_\"&N$12,UNWDF2021_LookUp!$B:$R,$D74,FALSE)=0,\"\",VLOOKUP($B74&\"_\"&$C74&\"_\"&N$12,UNWDF2021_LookUp!$B:$R,$D74,FALSE))","v":"TA3.11"},{"$f":"IF(VLOOKUP($B74&\"_\"&$C74&\"_\"&O$12,UNWDF2021_LookUp!$B:$R,$D74,FALSE)=0,\"\",VLOOKUP($B74&\"_\"&$C74&\"_\"&O$12,UNWDF2021_LookUp!$B:$R,$D74,FALSE))","v":"TA2.08"},{"$f":"IF(VLOOKUP($B74&\"_\"&$C74&\"_\"&P$12,UNWDF2021_LookUp!$B:$R,$D74,FALSE)=0,\"\",VLOOKUP($B74&\"_\"&$C74&\"_\"&P$12,UNWDF2021_LookUp!$B:$R,$D74,FALSE))","v":"TA2.20"}]
["Day2Time_Slot5","Day2","Time_Slot5",13,"",{"$f":"IF(ISERROR(TEXT((DATE($E$3,$E$2,$E$1+1)+TIME(MID(E75,1,2),MID(E75,4,2),0))+($C$2-#REF!),\"H:MM\")&\" - \"&TEXT(DATE($E$3,$E$2,$E$1+1)+TIME(MID(E75,9,2),MID(E75,12,2),0)+($C$2-#REF!),\"H:MM AM/PM\")),E75,TEXT((DATE($E$3,$E$2,$E$1+1)+TIME(MID(E75,1,2),MID(E75,4,2),0))+($C$2-#REF!),\"H:MM\")&\" - \"&TEXT(DATE($E$3,$E$2,$E$1+1)+TIME(MID(E75,9,2),MID(E75,12,2),0)+($C$2-#REF!),\"H:MM AM/PM\"))","v":""},"Thematic Area",{"$f":"IF(VLOOKUP($B75&\"_\"&$C75&\"_\"&H$12,UNWDF2021_LookUp!$B:$R,$D75,FALSE)=0,\"\",VLOOKUP($B75&\"_\"&$C75&\"_\"&H$12,UNWDF2021_LookUp!$B:$R,$D75,FALSE))","v":"NA"},{"$f":"IF(VLOOKUP($B75&\"_\"&$C75&\"_\"&I$12,UNWDF2021_LookUp!$B:$R,$D75,FALSE)=0,\"\",VLOOKUP($B75&\"_\"&$C75&\"_\"&I$12,UNWDF2021_LookUp!$B:$R,$D75,FALSE))","v":5},{"$f":"IF(VLOOKUP($B75&\"_\"&$C75&\"_\"&J$12,UNWDF2021_LookUp!$B:$R,$D75,FALSE)=0,\"\",VLOOKUP($B75&\"_\"&$C75&\"_\"&J$12,UNWDF2021_LookUp!$B:$R,$D75,FALSE))","v":6},{"$f":"IF(VLOOKUP($B75&\"_\"&$C75&\"_\"&K$12,UNWDF2021_LookUp!$B:$R,$D75,FALSE)=0,\"\",VLOOKUP($B75&\"_\"&$C75&\"_\"&K$12,UNWDF2021_LookUp!$B:$R,$D75,FALSE))","v":3},{"$f":"IF(VLOOKUP($B75&\"_\"&$C75&\"_\"&L$12,UNWDF2021_LookUp!$B:$R,$D75,FALSE)=0,\"\",VLOOKUP($B75&\"_\"&$C75&\"_\"&L$12,UNWDF2021_LookUp!$B:$R,$D75,FALSE))","v":1},{"$f":"IF(VLOOKUP($B75&\"_\"&$C75&\"_\"&M$12,UNWDF2021_LookUp!$B:$R,$D75,FALSE)=0,\"\",VLOOKUP($B75&\"_\"&$C75&\"_\"&M$12,UNWDF2021_LookUp!$B:$R,$D75,FALSE))","v":4},{"$f":"IF(VLOOKUP($B75&\"_\"&$C75&\"_\"&N$12,UNWDF2021_LookUp!$B:$R,$D75,FALSE)=0,\"\",VLOOKUP($B75&\"_\"&$C75&\"_\"&N$12,UNWDF2021_LookUp!$B:$R,$D75,FALSE))","v":3},{"$f":"IF(VLOOKUP($B75&\"_\"&$C75&\"_\"&O$12,UNWDF2021_LookUp!$B:$R,$D75,FALSE)=0,\"\",VLOOKUP($B75&\"_\"&$C75&\"_\"&O$12,UNWDF2021_LookUp!$B:$R,$D75,FALSE))","v":2},{"$f":"IF(VLOOKUP($B75&\"_\"&$C75&\"_\"&P$12,UNWDF2021_LookUp!$B:$R,$D75,FALSE)=0,\"\",VLOOKUP($B75&\"_\"&$C75&\"_\"&P$12,UNWDF2021_LookUp!$B:$R,$D75,FALSE))","v":2}]
[{"$f":"B76&C76","v":"Day2Time_Slot5"},"Day2","Time_Slot5",16,"",null,"Event Title",{"$f":"IF(VLOOKUP($B76&\"_\"&$C76&\"_\"&H$12,UNWDF2021_LookUp!$B:$R,$D76,FALSE)=0,\"\",VLOOKUP($B76&\"_\"&$C76&\"_\"&H$12,UNWDF2021_LookUp!$B:$R,$D76,FALSE))","v":"To set up for Gala evening"},{"$f":"IF(VLOOKUP($B76&\"_\"&$C76&\"_\"&I$12,UNWDF2021_LookUp!$B:$R,$D76,FALSE)=0,\"\",VLOOKUP($B76&\"_\"&$C76&\"_\"&I$12,UNWDF2021_LookUp!$B:$R,$D76,FALSE))","v":"Is it possible to learn about open geospatial data platforms in 75 mins to Harness Non-Official Sources for the 2030 Agenda?"},{"$f":"IF(VLOOKUP($B76&\"_\"&$C76&\"_\"&J$12,UNWDF2021_LookUp!$B:$R,$D76,FALSE)=0,\"\",VLOOKUP($B76&\"_\"&$C76&\"_\"&J$12,UNWDF2021_LookUp!$B:$R,$D76,FALSE))","v":"Beyond Open Data: What’s Next For The Movement? (^^)"},{"$f":"IF(VLOOKUP($B76&\"_\"&$C76&\"_\"&K$12,UNWDF2021_LookUp!$B:$R,$D76,FALSE)=0,\"\",VLOOKUP($B76&\"_\"&$C76&\"_\"&K$12,UNWDF2021_LookUp!$B:$R,$D76,FALSE))","v":"The legacy of COVID-19: Mobilizing gender data to deliver better science (^^)"},{"$f":"IF(VLOOKUP($B76&\"_\"&$C76&\"_\"&L$12,UNWDF2021_LookUp!$B:$R,$D76,FALSE)=0,\"\",VLOOKUP($B76&\"_\"&$C76&\"_\"&L$12,UNWDF2021_LookUp!$B:$R,$D76,FALSE))","v":"3 x Ted-style talk (see list under footnote III)"},{"$f":"IF(VLOOKUP($B76&\"_\"&$C76&\"_\"&M$12,UNWDF2021_LookUp!$B:$R,$D76,FALSE)=0,\"\",VLOOKUP($B76&\"_\"&$C76&\"_\"&M$12,UNWDF2021_LookUp!$B:$R,$D76,FALSE))","v":"Strengthening peace and security data analytics"},{"$f":"IF(VLOOKUP($B76&\"_\"&$C76&\"_\"&N$12,UNWDF2021_LookUp!$B:$R,$D76,FALSE)=0,\"\",VLOOKUP($B76&\"_\"&$C76&\"_\"&N$12,UNWDF2021_LookUp!$B:$R,$D76,FALSE))","v":"Empowering Women to Join the Data Revolution to Improve Lives"},{"$f":"IF(VLOOKUP($B76&\"_\"&$C76&\"_\"&O$12,UNWDF2021_LookUp!$B:$R,$D76,FALSE)=0,\"\",VLOOKUP($B76&\"_\"&$C76&\"_\"&O$12,UNWDF2021_LookUp!$B:$R,$D76,FALSE))","v":"Digital Data for Gender Equality: The Next Generation"},{"$f":"IF(VLOOKUP($B76&\"_\"&$C76&\"_\"&P$12,UNWDF2021_LookUp!$B:$R,$D76,FALSE)=0,\"\",VLOOKUP($B76&\"_\"&$C76&\"_\"&P$12,UNWDF2021_LookUp!$B:$R,$D76,FALSE))","v":"Fostering Collaboration Across Institutions: Sustaining the use of MNO data to enhance analytics and outcomes during COVID-19"}]
["Day2Time_Slot5","Day2","Time_Slot5",17,"",{"$f":"IF(ISERROR(TEXT((DATE($E$3,$E$2,$E$1+1)+TIME(MID(E77,1,2),MID(E77,4,2),0))+($C$2-#REF!),\"H:MM\")&\" - \"&TEXT(DATE($E$3,$E$2,$E$1+1)+TIME(MID(E77,9,2),MID(E77,12,2),0)+($C$2-#REF!),\"H:MM AM/PM\")),E77,TEXT((DATE($E$3,$E$2,$E$1+1)+TIME(MID(E77,1,2),MID(E77,4,2),0))+($C$2-#REF!),\"H:MM\")&\" - \"&TEXT(DATE($E$3,$E$2,$E$1+1)+TIME(MID(E77,9,2),MID(E77,12,2),0)+($C$2-#REF!),\"H:MM AM/PM\"))","v":""},"Organiser",{"$f":"IF(VLOOKUP($B77&\"_\"&$C77&\"_\"&H$12,UNWDF2021_LookUp!$B:$R,$D77,FALSE)=0,\"\",VLOOKUP($B77&\"_\"&$C77&\"_\"&H$12,UNWDF2021_LookUp!$B:$R,$D77,FALSE))","v":""},{"$f":"IF(VLOOKUP($B77&\"_\"&$C77&\"_\"&I$12,UNWDF2021_LookUp!$B:$R,$D77,FALSE)=0,\"\",VLOOKUP($B77&\"_\"&$C77&\"_\"&I$12,UNWDF2021_LookUp!$B:$R,$D77,FALSE))","v":"GeoCensos Foundation"},{"$f":"IF(VLOOKUP($B77&\"_\"&$C77&\"_\"&J$12,UNWDF2021_LookUp!$B:$R,$D77,FALSE)=0,\"\",VLOOKUP($B77&\"_\"&$C77&\"_\"&J$12,UNWDF2021_LookUp!$B:$R,$D77,FALSE))","v":"Open Data Watch (ODW)"},{"$f":"IF(VLOOKUP($B77&\"_\"&$C77&\"_\"&K$12,UNWDF2021_LookUp!$B:$R,$D77,FALSE)=0,\"\",VLOOKUP($B77&\"_\"&$C77&\"_\"&K$12,UNWDF2021_LookUp!$B:$R,$D77,FALSE))","v":"EMERGE Project - The Center on Gender Equity and Health (GEH) at University of California San Diego (UCSD); Università della Svizzera Italiana; Bill and Melinda Gates Foundation (BMGF)"},{"$f":"IF(VLOOKUP($B77&\"_\"&$C77&\"_\"&L$12,UNWDF2021_LookUp!$B:$R,$D77,FALSE)=0,\"\",VLOOKUP($B77&\"_\"&$C77&\"_\"&L$12,UNWDF2021_LookUp!$B:$R,$D77,FALSE))","v":"Canada's International Development Research Centre (IDRC)/ World Bank (WB)/ Centro de Pensamiento Estratégico Internacional (Cepei); LUCA-Telefónica; Global System for Mobile Communications (GSMA)"},{"$f":"IF(VLOOKUP($B77&\"_\"&$C77&\"_\"&M$12,UNWDF2021_LookUp!$B:$R,$D77,FALSE)=0,\"\",VLOOKUP($B77&\"_\"&$C77&\"_\"&M$12,UNWDF2021_LookUp!$B:$R,$D77,FALSE))","v":"UN Department for Political and Peacebuilding Affairs (DPPA)"},{"$f":"IF(VLOOKUP($B77&\"_\"&$C77&\"_\"&N$12,UNWDF2021_LookUp!$B:$R,$D77,FALSE)=0,\"\",VLOOKUP($B77&\"_\"&$C77&\"_\"&N$12,UNWDF2021_LookUp!$B:$R,$D77,FALSE))","v":"Millennium Challenge Corporation (MCC); LinkedIn; Tanzania dLab; Vodacom Tanzania; Women in Data Science"},{"$f":"IF(VLOOKUP($B77&\"_\"&$C77&\"_\"&O$12,UNWDF2021_LookUp!$B:$R,$D77,FALSE)=0,\"\",VLOOKUP($B77&\"_\"&$C77&\"_\"&O$12,UNWDF2021_LookUp!$B:$R,$D77,FALSE))","v":"Data2X (UN Foundation); The GovLab"},{"$f":"IF(VLOOKUP($B77&\"_\"&$C77&\"_\"&P$12,UNWDF2021_LookUp!$B:$R,$D77,FALSE)=0,\"\",VLOOKUP($B77&\"_\"&$C77&\"_\"&P$12,UNWDF2021_LookUp!$B:$R,$D77,FALSE))","v":"Digital Impact Alliance; Cooper/Smith; Path; Airtel Malawi; Ministry of Health; Gambia Bureau of Statistics; Vodafone Ghana; Flowminder; World Bank; Public Utilities Regulatory Authority"}]
[{"$f":"B78&C78","v":"Day2Time_Slot2C"},"Day2","Time_Slot2C",14,"17:15 - 19:30 (BERN time)",{"$f":"IF(ISERROR(TEXT((DATE($E$3,$E$2,$E$1+1)+TIME(MID(E78,1,2),MID(E78,4,2),0))+($C$2-$C$3),\"H:MM AM/PM\")&\" - \"&TEXT(DATE($E$3,$E$2,$E$1+1)+TIME(MID(E78,9,2),MID(E78,12,2),0)+($C$2-$C$3),\"H:MM AM/PM\")),E78,TEXT((DATE($E$3,$E$2,$E$1+1)+TIME(MID(E78,1,2),MID(E78,4,2),0))+($C$2-$C$3),\"H:MM AM/PM\")&\" - \"&TEXT(DATE($E$3,$E$2,$E$1+1)+TIME(MID(E78,9,2),MID(E78,12,2),0)+($C$2-$C$3),\"H:MM AM/PM\"))","v":"17:15 - 19:30 (BERN time)"},"Break"]
["Day2Time_Slot6","Day2","Time_Slot6",16,"19:30 - 23:59 (BERN time)",{"$f":"IF(ISERROR(TEXT((DATE($E$3,$E$2,$E$1+1)+TIME(MID(E79,1,2),MID(E79,4,2),0))+($C$2-$C$3),\"H:MM AM/PM\")&\" - \"&TEXT(DATE($E$3,$E$2,$E$1+1)+TIME(MID(E79,9,2),MID(E79,12,2),0)+($C$2-$C$3),\"H:MM AM/PM\")),E79,TEXT((DATE($E$3,$E$2,$E$1+1)+TIME(MID(E79,1,2),MID(E79,4,2),0))+($C$2-$C$3),\"H:MM AM/PM\")&\" - \"&TEXT(DATE($E$3,$E$2,$E$1+1)+TIME(MID(E79,9,2),MID(E79,12,2),0)+($C$2-$C$3),\"H:MM AM/PM\"))","v":"19:30 - 23:59 (BERN time)"},"Event Title",{"$f":"IF(VLOOKUP($B79&\"_\"&$C79&\"_\"&H$12,UNWDF2021_LookUp!$B:$R,$D79,FALSE)=0,\"\",VLOOKUP($B79&\"_\"&$C79&\"_\"&H$12,UNWDF2021_LookUp!$B:$R,$D79,FALSE))","v":"Gala evening (in-person only)"}]
[{"$f":"B80&C80","v":"Day2Time_Slot6"},"Day2","Time_Slot6",17,"","","Organiser",{"$f":"IF(VLOOKUP($B80&\"_\"&$C80&\"_\"&H$12,UNWDF2021_LookUp!$B:$R,$D80,FALSE)=0,\"\",VLOOKUP($B80&\"_\"&$C80&\"_\"&H$12,UNWDF2021_LookUp!$B:$R,$D80,FALSE))","v":"Swiss Confederation"}]
[null,null,null,null,""]
[null,null,null,null,"",null,null,null," TA 1. New approaches to capacity development for better data: supporting broad data ecosystems in countries",null,null," TA 3. Leaving no one behind: Generating and leveraging data and statistics to ensure visibility and voice for everyone",null,null," TA 5. Building trust in data and statistics: Applying data principles and governance to new and existing data sources and  implementing open data principles and practices"]
[null,null,null,null,""]
[null,null,null,null,"",null,null,null," TA 2. Innovations and synergies across data ecosystems: bringing data sources together and creating an enabling environment for the integration and use of non-traditional data sources",null,null," TA 4. Understanding the world through data: making data and statistics relevant and usable to all users; increasing data and statistical literacy and data communication; strengthening the use of data in journalism",null,null," TA 6. How far have we come? A look at the implementation of the Cape Town Global Action Plan; Addressing emerging challenges of fully harnessing the power of data to improve people's lives"]
[null,null,null,null,""]
[null,null,null,null,"","(^) Sessions will be conducted in a hybrid format with some or all speakers in-person at the venue but also broadcast to a virtual audience, unless indicated with (^^) to denote completely virtual sessions. (III) Titles for Ted-style talks are 'Data for Development: Toward an Integrated Agenda' / 'From local prices to the global economy: how the latest data from the International Comparison Program help us understand our world today' / 'Experiences with telecommunications companies data to measure the impact of climate change in natural disasters management'"]
[null,null,null,null,""]
["Day3",null,null,null,"",{"$f":"IF(ISERROR(DATE($E$3,$E$2,$E$1+3)+TIME(MID(E92,1,2),MID(E92,4,2),0)+($C$2-$C$3)),DATE($E$3,$E$2,$E$1+3),DATE($E$3,$E$2,$E$1+3)+TIME(MID(E92,1,2),MID(E92,4,2),0)+($C$2-$C$3))","v":"2021-10-06"}]
[null,null,"LookUp",null,"",null,"LookUp","Parallel 01","Parallel 02","Parallel 03","Parallel 04","Parallel 05","Parallel 06","Parallel 07","Parallel 08","Parallel 09"]
[null,null,null,null,"","Time (Auto-adjusts to your local time, unless \"(Bern time)\" shown)","Rm Name","Arena","Aare","Szenario 2","Panorama 2-4","Panorama 1","Szenario 1 (^^)","Aare 1 (^^)","Aare 2 (^^)","Aare 3 (^^)"]
["DayTime_LookUp","Day_LookUp","Time_LookUp","Col_LookUp","Time (BERN time) (BERN time)",null,"Capacity",1357,298,221,199,125,131,63,63,75]
[{"$f":"B92&C92","v":"Day3Time_Slot1"},"Day3","Time_Slot1",15,"08:30 - 09:30 (BERN time)",{"$f":"IF(ISERROR(TEXT((DATE($E$3,$E$2,$E$1+1)+TIME(MID(E92,1,2),MID(E92,4,2),0))+($C$2-$C$3),\"H:MM AM/PM\")&\" - \"&TEXT(DATE($E$3,$E$2,$E$1+1)+TIME(MID(E92,9,2),MID(E92,12,2),0)+($C$2-$C$3),\"H:MM AM/PM\")),E92,TEXT((DATE($E$3,$E$2,$E$1+1)+TIME(MID(E92,1,2),MID(E92,4,2),0))+($C$2-$C$3),\"H:MM AM/PM\")&\" - \"&TEXT(DATE($E$3,$E$2,$E$1+1)+TIME(MID(E92,9,2),MID(E92,12,2),0)+($C$2-$C$3),\"H:MM AM/PM\"))","v":"08:30 - 09:30 (BERN time)"},"Event_ID",{"$f":"IF(VLOOKUP($B92&\"_\"&$C92&\"_\"&H$12,UNWDF2021_LookUp!$B:$R,$D92,FALSE)=0,\"\",VLOOKUP($B92&\"_\"&$C92&\"_\"&H$12,UNWDF2021_LookUp!$B:$R,$D92,FALSE))","v":"TA4.11"},{"$f":"IF(VLOOKUP($B92&\"_\"&$C92&\"_\"&I$12,UNWDF2021_LookUp!$B:$R,$D92,FALSE)=0,\"\",VLOOKUP($B92&\"_\"&$C92&\"_\"&I$12,UNWDF2021_LookUp!$B:$R,$D92,FALSE))","v":"TA3.13"},{"$f":"IF(VLOOKUP($B92&\"_\"&$C92&\"_\"&J$12,UNWDF2021_LookUp!$B:$R,$D92,FALSE)=0,\"\",VLOOKUP($B92&\"_\"&$C92&\"_\"&J$12,UNWDF2021_LookUp!$B:$R,$D92,FALSE))","v":"TA5.09"},{"$f":"IF(VLOOKUP($B92&\"_\"&$C92&\"_\"&K$12,UNWDF2021_LookUp!$B:$R,$D92,FALSE)=0,\"\",VLOOKUP($B92&\"_\"&$C92&\"_\"&K$12,UNWDF2021_LookUp!$B:$R,$D92,FALSE))","v":"TA4.06"},{"$f":"IF(VLOOKUP($B92&\"_\"&$C92&\"_\"&L$12,UNWDF2021_LookUp!$B:$R,$D92,FALSE)=0,\"\",VLOOKUP($B92&\"_\"&$C92&\"_\"&L$12,UNWDF2021_LookUp!$B:$R,$D92,FALSE))","v":"TA1-5.02"},{"$f":"IF(VLOOKUP($B92&\"_\"&$C92&\"_\"&M$12,UNWDF2021_LookUp!$B:$R,$D92,FALSE)=0,\"\",VLOOKUP($B92&\"_\"&$C92&\"_\"&M$12,UNWDF2021_LookUp!$B:$R,$D92,FALSE))","v":"TA2.11"},{"$f":"IF(VLOOKUP($B92&\"_\"&$C92&\"_\"&N$12,UNWDF2021_LookUp!$B:$R,$D92,FALSE)=0,\"\",VLOOKUP($B92&\"_\"&$C92&\"_\"&N$12,UNWDF2021_LookUp!$B:$R,$D92,FALSE))","v":"TA2.09"},{"$f":"IF(VLOOKUP($B92&\"_\"&$C92&\"_\"&O$12,UNWDF2021_LookUp!$B:$R,$D92,FALSE)=0,\"\",VLOOKUP($B92&\"_\"&$C92&\"_\"&O$12,UNWDF2021_LookUp!$B:$R,$D92,FALSE))","v":"TA1.03"},{"$f":"IF(VLOOKUP($B92&\"_\"&$C92&\"_\"&P$12,UNWDF2021_LookUp!$B:$R,$D92,FALSE)=0,\"\",VLOOKUP($B92&\"_\"&$C92&\"_\"&P$12,UNWDF2021_LookUp!$B:$R,$D92,FALSE))","v":"TA5.08"}]
[{"$f":"B93&C93","v":"Day3Time_Slot1"},"Day3","Time_Slot1",13,"",{"$f":"IF(ISERROR(TEXT((DATE($E$3,$E$2,$E$1+1)+TIME(MID(E93,1,2),MID(E93,4,2),0))+($C$2-#REF!),\"H:MM\")&\" - \"&TEXT(DATE($E$3,$E$2,$E$1+1)+TIME(MID(E93,9,2),MID(E93,12,2),0)+($C$2-#REF!),\"H:MM AM/PM\")),E93,TEXT((DATE($E$3,$E$2,$E$1+1)+TIME(MID(E93,1,2),MID(E93,4,2),0))+($C$2-#REF!),\"H:MM\")&\" - \"&TEXT(DATE($E$3,$E$2,$E$1+1)+TIME(MID(E93,9,2),MID(E93,12,2),0)+($C$2-#REF!),\"H:MM AM/PM\"))","v":""},"Thematic Area",{"$f":"IF(VLOOKUP($B93&\"_\"&$C93&\"_\"&H$12,UNWDF2021_LookUp!$B:$R,$D93,FALSE)=0,\"\",VLOOKUP($B93&\"_\"&$C93&\"_\"&H$12,UNWDF2021_LookUp!$B:$R,$D93,FALSE))","v":4},{"$f":"IF(VLOOKUP($B93&\"_\"&$C93&\"_\"&I$12,UNWDF2021_LookUp!$B:$R,$D93,FALSE)=0,\"\",VLOOKUP($B93&\"_\"&$C93&\"_\"&I$12,UNWDF2021_LookUp!$B:$R,$D93,FALSE))","v":3},{"$f":"IF(VLOOKUP($B93&\"_\"&$C93&\"_\"&J$12,UNWDF2021_LookUp!$B:$R,$D93,FALSE)=0,\"\",VLOOKUP($B93&\"_\"&$C93&\"_\"&J$12,UNWDF2021_LookUp!$B:$R,$D93,FALSE))","v":5},{"$f":"IF(VLOOKUP($B93&\"_\"&$C93&\"_\"&K$12,UNWDF2021_LookUp!$B:$R,$D93,FALSE)=0,\"\",VLOOKUP($B93&\"_\"&$C93&\"_\"&K$12,UNWDF2021_LookUp!$B:$R,$D93,FALSE))","v":4},{"$f":"IF(VLOOKUP($B93&\"_\"&$C93&\"_\"&L$12,UNWDF2021_LookUp!$B:$R,$D93,FALSE)=0,\"\",VLOOKUP($B93&\"_\"&$C93&\"_\"&L$12,UNWDF2021_LookUp!$B:$R,$D93,FALSE))","v":4},{"$f":"IF(VLOOKUP($B93&\"_\"&$C93&\"_\"&M$12,UNWDF2021_LookUp!$B:$R,$D93,FALSE)=0,\"\",VLOOKUP($B93&\"_\"&$C93&\"_\"&M$12,UNWDF2021_LookUp!$B:$R,$D93,FALSE))","v":2},{"$f":"IF(VLOOKUP($B93&\"_\"&$C93&\"_\"&N$12,UNWDF2021_LookUp!$B:$R,$D93,FALSE)=0,\"\",VLOOKUP($B93&\"_\"&$C93&\"_\"&N$12,UNWDF2021_LookUp!$B:$R,$D93,FALSE))","v":2},{"$f":"IF(VLOOKUP($B93&\"_\"&$C93&\"_\"&O$12,UNWDF2021_LookUp!$B:$R,$D93,FALSE)=0,\"\",VLOOKUP($B93&\"_\"&$C93&\"_\"&O$12,UNWDF2021_LookUp!$B:$R,$D93,FALSE))","v":1},{"$f":"IF(VLOOKUP($B93&\"_\"&$C93&\"_\"&P$12,UNWDF2021_LookUp!$B:$R,$D93,FALSE)=0,\"\",VLOOKUP($B93&\"_\"&$C93&\"_\"&P$12,UNWDF2021_LookUp!$B:$R,$D93,FALSE))","v":5}]
[{"$f":"B94&C94","v":"Day3Time_Slot1"},"Day3","Time_Slot1",16,"",null,"Event Title",{"$f":"IF(VLOOKUP($B94&\"_\"&$C94&\"_\"&H$12,UNWDF2021_LookUp!$B:$R,$D94,FALSE)=0,\"\",VLOOKUP($B94&\"_\"&$C94&\"_\"&H$12,UNWDF2021_LookUp!$B:$R,$D94,FALSE))","v":"Decision making for Covid-19 response using data intelligence system"},{"$f":"IF(VLOOKUP($B94&\"_\"&$C94&\"_\"&I$12,UNWDF2021_LookUp!$B:$R,$D94,FALSE)=0,\"\",VLOOKUP($B94&\"_\"&$C94&\"_\"&I$12,UNWDF2021_LookUp!$B:$R,$D94,FALSE))","v":"Developing national SDG indicators – what is the data situation for ‘leaving no one behind’ - producer and user perspective (^^)"},{"$f":"IF(VLOOKUP($B94&\"_\"&$C94&\"_\"&J$12,UNWDF2021_LookUp!$B:$R,$D94,FALSE)=0,\"\",VLOOKUP($B94&\"_\"&$C94&\"_\"&J$12,UNWDF2021_LookUp!$B:$R,$D94,FALSE))","v":"Microdata Use, Dissemination, and Emerging Issues"},{"$f":"IF(VLOOKUP($B94&\"_\"&$C94&\"_\"&K$12,UNWDF2021_LookUp!$B:$R,$D94,FALSE)=0,\"\",VLOOKUP($B94&\"_\"&$C94&\"_\"&K$12,UNWDF2021_LookUp!$B:$R,$D94,FALSE))","v":"Monitoring the SDGs for everyone: making data widely accessible and engaging stakeholders"},{"$f":"IF(VLOOKUP($B94&\"_\"&$C94&\"_\"&L$12,UNWDF2021_LookUp!$B:$R,$D94,FALSE)=0,\"\",VLOOKUP($B94&\"_\"&$C94&\"_\"&L$12,UNWDF2021_LookUp!$B:$R,$D94,FALSE))","v":"1 x Ted-style talk (see list under footnote IV)"},{"$f":"IF(VLOOKUP($B94&\"_\"&$C94&\"_\"&M$12,UNWDF2021_LookUp!$B:$R,$D94,FALSE)=0,\"\",VLOOKUP($B94&\"_\"&$C94&\"_\"&M$12,UNWDF2021_LookUp!$B:$R,$D94,FALSE))","v":"Impact Monitoring Using the Community-Based Monitoring System"},{"$f":"IF(VLOOKUP($B94&\"_\"&$C94&\"_\"&N$12,UNWDF2021_LookUp!$B:$R,$D94,FALSE)=0,\"\",VLOOKUP($B94&\"_\"&$C94&\"_\"&N$12,UNWDF2021_LookUp!$B:$R,$D94,FALSE))","v":"Data Powered Positive Deviance: Bridging the gap between big data and explorative field research in Ecuador, Mexico, Niger and Somalia"},{"$f":"IF(VLOOKUP($B94&\"_\"&$C94&\"_\"&O$12,UNWDF2021_LookUp!$B:$R,$D94,FALSE)=0,\"\",VLOOKUP($B94&\"_\"&$C94&\"_\"&O$12,UNWDF2021_LookUp!$B:$R,$D94,FALSE))","v":"Monitoring and reporting for a Sustainable and Inclusive Future: Urban Observatories and Capacity Building"},{"$f":"IF(VLOOKUP($B94&\"_\"&$C94&\"_\"&P$12,UNWDF2021_LookUp!$B:$R,$D94,FALSE)=0,\"\",VLOOKUP($B94&\"_\"&$C94&\"_\"&P$12,UNWDF2021_LookUp!$B:$R,$D94,FALSE))","v":"TWICE INVISIBLE, lack of education in crises leaves Internally Displaced Children behind –– Time to Act!"}]
["Day3Time_Slot1","Day3","Time_Slot1",17,"",{"$f":"IF(ISERROR(TEXT((DATE($E$3,$E$2,$E$1+1)+TIME(MID(E95,1,2),MID(E95,4,2),0))+($C$2-#REF!),\"H:MM\")&\" - \"&TEXT(DATE($E$3,$E$2,$E$1+1)+TIME(MID(E95,9,2),MID(E95,12,2),0)+($C$2-#REF!),\"H:MM AM/PM\")),E95,TEXT((DATE($E$3,$E$2,$E$1+1)+TIME(MID(E95,1,2),MID(E95,4,2),0))+($C$2-#REF!),\"H:MM\")&\" - \"&TEXT(DATE($E$3,$E$2,$E$1+1)+TIME(MID(E95,9,2),MID(E95,12,2),0)+($C$2-#REF!),\"H:MM AM/PM\"))","v":""},"Organiser",{"$f":"IF(VLOOKUP($B95&\"_\"&$C95&\"_\"&H$12,UNWDF2021_LookUp!$B:$R,$D95,FALSE)=0,\"\",VLOOKUP($B95&\"_\"&$C95&\"_\"&H$12,UNWDF2021_LookUp!$B:$R,$D95,FALSE))","v":"Directorate General of Health Services (DGHS); Aspire to Innovate (a2i) Programme; Centre for Policy Dialogue (CPD)"},{"$f":"IF(VLOOKUP($B95&\"_\"&$C95&\"_\"&I$12,UNWDF2021_LookUp!$B:$R,$D95,FALSE)=0,\"\",VLOOKUP($B95&\"_\"&$C95&\"_\"&I$12,UNWDF2021_LookUp!$B:$R,$D95,FALSE))","v":"Statistics Denmark; Statistics Canada"},{"$f":"IF(VLOOKUP($B95&\"_\"&$C95&\"_\"&J$12,UNWDF2021_LookUp!$B:$R,$D95,FALSE)=0,\"\",VLOOKUP($B95&\"_\"&$C95&\"_\"&J$12,UNWDF2021_LookUp!$B:$R,$D95,FALSE))","v":"Open Data Watch (ODW); United Nations Children's Fund (UNICEF); United Nations Statistics Division (UNSD-DESA); Food and Agriculture Organization of United Nations (FAO)"},{"$f":"IF(VLOOKUP($B95&\"_\"&$C95&\"_\"&K$12,UNWDF2021_LookUp!$B:$R,$D95,FALSE)=0,\"\",VLOOKUP($B95&\"_\"&$C95&\"_\"&K$12,UNWDF2021_LookUp!$B:$R,$D95,FALSE))","v":"United Nations Statistics Division (UNSD-DESA)"},{"$f":"IF(VLOOKUP($B95&\"_\"&$C95&\"_\"&L$12,UNWDF2021_LookUp!$B:$R,$D95,FALSE)=0,\"\",VLOOKUP($B95&\"_\"&$C95&\"_\"&L$12,UNWDF2021_LookUp!$B:$R,$D95,FALSE))","v":"Department of Statistics (DOS-Jordan); United Nations Economic and Social Commission for Western Asia (UNESCWA)"},{"$f":"IF(VLOOKUP($B95&\"_\"&$C95&\"_\"&M$12,UNWDF2021_LookUp!$B:$R,$D95,FALSE)=0,\"\",VLOOKUP($B95&\"_\"&$C95&\"_\"&M$12,UNWDF2021_LookUp!$B:$R,$D95,FALSE))","v":"Community-Based Monitoring System (CBMS) Network Office"},{"$f":"IF(VLOOKUP($B95&\"_\"&$C95&\"_\"&N$12,UNWDF2021_LookUp!$B:$R,$D95,FALSE)=0,\"\",VLOOKUP($B95&\"_\"&$C95&\"_\"&N$12,UNWDF2021_LookUp!$B:$R,$D95,FALSE))","v":"Deutsche Gesellschaft für Internationale Zusammenarbeit (GIZ); UNDP Accelerator Labs; University of Manchester"},{"$f":"IF(VLOOKUP($B95&\"_\"&$C95&\"_\"&O$12,UNWDF2021_LookUp!$B:$R,$D95,FALSE)=0,\"\",VLOOKUP($B95&\"_\"&$C95&\"_\"&O$12,UNWDF2021_LookUp!$B:$R,$D95,FALSE))","v":"Connected Cities Lab, University of Melbourne; University College London; United Nations Human Settlements Programme (UN-Habitat)"},{"$f":"IF(VLOOKUP($B95&\"_\"&$C95&\"_\"&P$12,UNWDF2021_LookUp!$B:$R,$D95,FALSE)=0,\"\",VLOOKUP($B95&\"_\"&$C95&\"_\"&P$12,UNWDF2021_LookUp!$B:$R,$D95,FALSE))","v":"Swiss Agency for Development and Cooperation (SDC); NORRAG/Graduate Institute; Development Initiatives"}]
[null,"Day3",null,null,"09:30 - 10:00 (BERN time)",{"$f":"IF(ISERROR(TEXT((DATE($E$3,$E$2,$E$1+1)+TIME(MID(E96,1,2),MID(E96,4,2),0))+($C$2-$C$3),\"H:MM AM/PM\")&\" - \"&TEXT(DATE($E$3,$E$2,$E$1+1)+TIME(MID(E96,9,2),MID(E96,12,2),0)+($C$2-$C$3),\"H:MM AM/PM\")),E96,TEXT((DATE($E$3,$E$2,$E$1+1)+TIME(MID(E96,1,2),MID(E96,4,2),0))+($C$2-$C$3),\"H:MM AM/PM\")&\" - \"&TEXT(DATE($E$3,$E$2,$E$1+1)+TIME(MID(E96,9,2),MID(E96,12,2),0)+($C$2-$C$3),\"H:MM AM/PM\"))","v":"09:30 - 10:00 (BERN time)"},"Break"]
[{"$f":"B97&C97","v":"Day3Time_Slot2"},"Day3","Time_Slot2",15,"10:00 - 11:00 (BERN time)",{"$f":"IF(ISERROR(TEXT((DATE($E$3,$E$2,$E$1+1)+TIME(MID(E97,1,2),MID(E97,4,2),0))+($C$2-$C$3),\"H:MM AM/PM\")&\" - \"&TEXT(DATE($E$3,$E$2,$E$1+1)+TIME(MID(E97,9,2),MID(E97,12,2),0)+($C$2-$C$3),\"H:MM AM/PM\")),E97,TEXT((DATE($E$3,$E$2,$E$1+1)+TIME(MID(E97,1,2),MID(E97,4,2),0))+($C$2-$C$3),\"H:MM AM/PM\")&\" - \"&TEXT(DATE($E$3,$E$2,$E$1+1)+TIME(MID(E97,9,2),MID(E97,12,2),0)+($C$2-$C$3),\"H:MM AM/PM\"))","v":"10:00 - 11:00 (BERN time)"},"Event_ID",{"$f":"IF(VLOOKUP($B97&\"_\"&$C97&\"_\"&H$12,UNWDF2021_LookUp!$B:$R,$D97,FALSE)=0,\"\",VLOOKUP($B97&\"_\"&$C97&\"_\"&H$12,UNWDF2021_LookUp!$B:$R,$D97,FALSE))","v":"TA2.12"},{"$f":"IF(VLOOKUP($B97&\"_\"&$C97&\"_\"&I$12,UNWDF2021_LookUp!$B:$R,$D97,FALSE)=0,\"\",VLOOKUP($B97&\"_\"&$C97&\"_\"&I$12,UNWDF2021_LookUp!$B:$R,$D97,FALSE))","v":"TA4.12"},{"$f":"IF(VLOOKUP($B97&\"_\"&$C97&\"_\"&J$12,UNWDF2021_LookUp!$B:$R,$D97,FALSE)=0,\"\",VLOOKUP($B97&\"_\"&$C97&\"_\"&J$12,UNWDF2021_LookUp!$B:$R,$D97,FALSE))","v":"TA4.04"},{"$f":"IF(VLOOKUP($B97&\"_\"&$C97&\"_\"&K$12,UNWDF2021_LookUp!$B:$R,$D97,FALSE)=0,\"\",VLOOKUP($B97&\"_\"&$C97&\"_\"&K$12,UNWDF2021_LookUp!$B:$R,$D97,FALSE))","v":"TA4.07"},{"$f":"IF(VLOOKUP($B97&\"_\"&$C97&\"_\"&L$12,UNWDF2021_LookUp!$B:$R,$D97,FALSE)=0,\"\",VLOOKUP($B97&\"_\"&$C97&\"_\"&L$12,UNWDF2021_LookUp!$B:$R,$D97,FALSE))","v":"TA5.11"},{"$f":"IF(VLOOKUP($B97&\"_\"&$C97&\"_\"&M$12,UNWDF2021_LookUp!$B:$R,$D97,FALSE)=0,\"\",VLOOKUP($B97&\"_\"&$C97&\"_\"&M$12,UNWDF2021_LookUp!$B:$R,$D97,FALSE))","v":"TA5.12"},{"$f":"IF(VLOOKUP($B97&\"_\"&$C97&\"_\"&N$12,UNWDF2021_LookUp!$B:$R,$D97,FALSE)=0,\"\",VLOOKUP($B97&\"_\"&$C97&\"_\"&N$12,UNWDF2021_LookUp!$B:$R,$D97,FALSE))","v":""},{"$f":"IF(VLOOKUP($B97&\"_\"&$C97&\"_\"&O$12,UNWDF2021_LookUp!$B:$R,$D97,FALSE)=0,\"\",VLOOKUP($B97&\"_\"&$C97&\"_\"&O$12,UNWDF2021_LookUp!$B:$R,$D97,FALSE))","v":"TA2.10"},{"$f":"IF(VLOOKUP($B97&\"_\"&$C97&\"_\"&P$12,UNWDF2021_LookUp!$B:$R,$D97,FALSE)=0,\"\",VLOOKUP($B97&\"_\"&$C97&\"_\"&P$12,UNWDF2021_LookUp!$B:$R,$D97,FALSE))","v":""}]
["Day3Time_Slot2","Day3","Time_Slot2",13,"",{"$f":"IF(ISERROR(TEXT((DATE($E$3,$E$2,$E$1+1)+TIME(MID(E98,1,2),MID(E98,4,2),0))+($C$2-#REF!),\"H:MM\")&\" - \"&TEXT(DATE($E$3,$E$2,$E$1+1)+TIME(MID(E98,9,2),MID(E98,12,2),0)+($C$2-#REF!),\"H:MM AM/PM\")),E98,TEXT((DATE($E$3,$E$2,$E$1+1)+TIME(MID(E98,1,2),MID(E98,4,2),0))+($C$2-#REF!),\"H:MM\")&\" - \"&TEXT(DATE($E$3,$E$2,$E$1+1)+TIME(MID(E98,9,2),MID(E98,12,2),0)+($C$2-#REF!),\"H:MM AM/PM\"))","v":""},"Thematic Area",{"$f":"IF(VLOOKUP($B98&\"_\"&$C98&\"_\"&H$12,UNWDF2021_LookUp!$B:$R,$D98,FALSE)=0,\"\",VLOOKUP($B98&\"_\"&$C98&\"_\"&H$12,UNWDF2021_LookUp!$B:$R,$D98,FALSE))","v":2},{"$f":"IF(VLOOKUP($B98&\"_\"&$C98&\"_\"&I$12,UNWDF2021_LookUp!$B:$R,$D98,FALSE)=0,\"\",VLOOKUP($B98&\"_\"&$C98&\"_\"&I$12,UNWDF2021_LookUp!$B:$R,$D98,FALSE))","v":4},{"$f":"IF(VLOOKUP($B98&\"_\"&$C98&\"_\"&J$12,UNWDF2021_LookUp!$B:$R,$D98,FALSE)=0,\"\",VLOOKUP($B98&\"_\"&$C98&\"_\"&J$12,UNWDF2021_LookUp!$B:$R,$D98,FALSE))","v":4},{"$f":"IF(VLOOKUP($B98&\"_\"&$C98&\"_\"&K$12,UNWDF2021_LookUp!$B:$R,$D98,FALSE)=0,\"\",VLOOKUP($B98&\"_\"&$C98&\"_\"&K$12,UNWDF2021_LookUp!$B:$R,$D98,FALSE))","v":4},{"$f":"IF(VLOOKUP($B98&\"_\"&$C98&\"_\"&L$12,UNWDF2021_LookUp!$B:$R,$D98,FALSE)=0,\"\",VLOOKUP($B98&\"_\"&$C98&\"_\"&L$12,UNWDF2021_LookUp!$B:$R,$D98,FALSE))","v":5},{"$f":"IF(VLOOKUP($B98&\"_\"&$C98&\"_\"&M$12,UNWDF2021_LookUp!$B:$R,$D98,FALSE)=0,\"\",VLOOKUP($B98&\"_\"&$C98&\"_\"&M$12,UNWDF2021_LookUp!$B:$R,$D98,FALSE))","v":5},{"$f":"IF(VLOOKUP($B98&\"_\"&$C98&\"_\"&N$12,UNWDF2021_LookUp!$B:$R,$D98,FALSE)=0,\"\",VLOOKUP($B98&\"_\"&$C98&\"_\"&N$12,UNWDF2021_LookUp!$B:$R,$D98,FALSE))","v":"NA"},{"$f":"IF(VLOOKUP($B98&\"_\"&$C98&\"_\"&O$12,UNWDF2021_LookUp!$B:$R,$D98,FALSE)=0,\"\",VLOOKUP($B98&\"_\"&$C98&\"_\"&O$12,UNWDF2021_LookUp!$B:$R,$D98,FALSE))","v":2},{"$f":"IF(VLOOKUP($B98&\"_\"&$C98&\"_\"&P$12,UNWDF2021_LookUp!$B:$R,$D98,FALSE)=0,\"\",VLOOKUP($B98&\"_\"&$C98&\"_\"&P$12,UNWDF2021_LookUp!$B:$R,$D98,FALSE))","v":"NA"}]
[{"$f":"B99&C99","v":"Day3Time_Slot2"},"Day3","Time_Slot2",16,"",null,"Event Title",{"$f":"IF(VLOOKUP($B99&\"_\"&$C99&\"_\"&H$12,UNWDF2021_LookUp!$B:$R,$D99,FALSE)=0,\"\",VLOOKUP($B99&\"_\"&$C99&\"_\"&H$12,UNWDF2021_LookUp!$B:$R,$D99,FALSE))","v":"Integrating Citizen Science into the Official SDG Monitoring Mechanisms and Introducing the Global Citizen Science Partnership (GCSP)"},{"$f":"IF(VLOOKUP($B99&\"_\"&$C99&\"_\"&I$12,UNWDF2021_LookUp!$B:$R,$D99,FALSE)=0,\"\",VLOOKUP($B99&\"_\"&$C99&\"_\"&I$12,UNWDF2021_LookUp!$B:$R,$D99,FALSE))","v":"Committing to strong data governance for health at times of Covid-19"},{"$f":"IF(VLOOKUP($B99&\"_\"&$C99&\"_\"&J$12,UNWDF2021_LookUp!$B:$R,$D99,FALSE)=0,\"\",VLOOKUP($B99&\"_\"&$C99&\"_\"&J$12,UNWDF2021_LookUp!$B:$R,$D99,FALSE))","v":"Violence against women statistics: better monitoring and communicating complex data and trends"},{"$f":"IF(VLOOKUP($B99&\"_\"&$C99&\"_\"&K$12,UNWDF2021_LookUp!$B:$R,$D99,FALSE)=0,\"\",VLOOKUP($B99&\"_\"&$C99&\"_\"&K$12,UNWDF2021_LookUp!$B:$R,$D99,FALSE))","v":"Statistics and Data Smart: Innovative solutions for increasing statistical literacy of the general public"},{"$f":"IF(VLOOKUP($B99&\"_\"&$C99&\"_\"&L$12,UNWDF2021_LookUp!$B:$R,$D99,FALSE)=0,\"\",VLOOKUP($B99&\"_\"&$C99&\"_\"&L$12,UNWDF2021_LookUp!$B:$R,$D99,FALSE))","v":"Strengthening trust in data: participatory data ecosystems for the post-covid society (^^)"},{"$f":"IF(VLOOKUP($B99&\"_\"&$C99&\"_\"&M$12,UNWDF2021_LookUp!$B:$R,$D99,FALSE)=0,\"\",VLOOKUP($B99&\"_\"&$C99&\"_\"&M$12,UNWDF2021_LookUp!$B:$R,$D99,FALSE))","v":"Data for Good: Toward a Sustainable Ecosystem, Beyond Philanthropy"},{"$f":"IF(VLOOKUP($B99&\"_\"&$C99&\"_\"&N$12,UNWDF2021_LookUp!$B:$R,$D99,FALSE)=0,\"\",VLOOKUP($B99&\"_\"&$C99&\"_\"&N$12,UNWDF2021_LookUp!$B:$R,$D99,FALSE))","v":"NA"},{"$f":"IF(VLOOKUP($B99&\"_\"&$C99&\"_\"&O$12,UNWDF2021_LookUp!$B:$R,$D99,FALSE)=0,\"\",VLOOKUP($B99&\"_\"&$C99&\"_\"&O$12,UNWDF2021_LookUp!$B:$R,$D99,FALSE))","v":"Leveraging Data Insights for Health Financing and Delivery in Low and Middle-Income Countries"},{"$f":"IF(VLOOKUP($B99&\"_\"&$C99&\"_\"&P$12,UNWDF2021_LookUp!$B:$R,$D99,FALSE)=0,\"\",VLOOKUP($B99&\"_\"&$C99&\"_\"&P$12,UNWDF2021_LookUp!$B:$R,$D99,FALSE))","v":"NA"}]
["Day3Time_Slot2","Day3","Time_Slot2",17,"",{"$f":"IF(ISERROR(TEXT((DATE($E$3,$E$2,$E$1+1)+TIME(MID(E100,1,2),MID(E100,4,2),0))+($C$2-#REF!),\"H:MM\")&\" - \"&TEXT(DATE($E$3,$E$2,$E$1+1)+TIME(MID(E100,9,2),MID(E100,12,2),0)+($C$2-#REF!),\"H:MM AM/PM\")),E100,TEXT((DATE($E$3,$E$2,$E$1+1)+TIME(MID(E100,1,2),MID(E100,4,2),0))+($C$2-#REF!),\"H:MM\")&\" - \"&TEXT(DATE($E$3,$E$2,$E$1+1)+TIME(MID(E100,9,2),MID(E100,12,2),0)+($C$2-#REF!),\"H:MM AM/PM\"))","v":""},"Organiser",{"$f":"IF(VLOOKUP($B100&\"_\"&$C100&\"_\"&H$12,UNWDF2021_LookUp!$B:$R,$D100,FALSE)=0,\"\",VLOOKUP($B100&\"_\"&$C100&\"_\"&H$12,UNWDF2021_LookUp!$B:$R,$D100,FALSE))","v":"International Institute for Applied Systems Analysis (IIASA); World Health Organization (WHO); United Nations Convention on Biological Diversity; Sustainable Development Solutions Network Thematic Research Network on Data and Statistics (SDSN TReNDS); Global Citizen Science Partnership (GCSP)"},{"$f":"IF(VLOOKUP($B100&\"_\"&$C100&\"_\"&I$12,UNWDF2021_LookUp!$B:$R,$D100,FALSE)=0,\"\",VLOOKUP($B100&\"_\"&$C100&\"_\"&I$12,UNWDF2021_LookUp!$B:$R,$D100,FALSE))","v":"Swiss Agency for Development and Cooperation (SDC)"},{"$f":"IF(VLOOKUP($B100&\"_\"&$C100&\"_\"&J$12,UNWDF2021_LookUp!$B:$R,$D100,FALSE)=0,\"\",VLOOKUP($B100&\"_\"&$C100&\"_\"&J$12,UNWDF2021_LookUp!$B:$R,$D100,FALSE))","v":"United Nations Population Fund (UNFPA); Italian National Institute of Statistics (Istat)"},{"$f":"IF(VLOOKUP($B100&\"_\"&$C100&\"_\"&K$12,UNWDF2021_LookUp!$B:$R,$D100,FALSE)=0,\"\",VLOOKUP($B100&\"_\"&$C100&\"_\"&K$12,UNWDF2021_LookUp!$B:$R,$D100,FALSE))","v":"United Nations Institute for Training and Research (UNITAR); United Nations Statistics Division (UNSD-DESA)"},{"$f":"IF(VLOOKUP($B100&\"_\"&$C100&\"_\"&L$12,UNWDF2021_LookUp!$B:$R,$D100,FALSE)=0,\"\",VLOOKUP($B100&\"_\"&$C100&\"_\"&L$12,UNWDF2021_LookUp!$B:$R,$D100,FALSE))","v":"Partnership in Statistics for Development in the 21st Century (PARIS21); Organisation for Economic Co-operation and Development (OECD)"},{"$f":"IF(VLOOKUP($B100&\"_\"&$C100&\"_\"&M$12,UNWDF2021_LookUp!$B:$R,$D100,FALSE)=0,\"\",VLOOKUP($B100&\"_\"&$C100&\"_\"&M$12,UNWDF2021_LookUp!$B:$R,$D100,FALSE))","v":"Telefonica; The GovLab; Flowminder; Statistics Poland; Bureau of Committee on Statistics and Statistical Policy (OECD); Instituto Nacional de Estadística (INE-Spain); Global System for Mobile Communications (GSMA); Mastercard"},{"$f":"IF(VLOOKUP($B100&\"_\"&$C100&\"_\"&N$12,UNWDF2021_LookUp!$B:$R,$D100,FALSE)=0,\"\",VLOOKUP($B100&\"_\"&$C100&\"_\"&N$12,UNWDF2021_LookUp!$B:$R,$D100,FALSE))","v":"NA"},{"$f":"IF(VLOOKUP($B100&\"_\"&$C100&\"_\"&O$12,UNWDF2021_LookUp!$B:$R,$D100,FALSE)=0,\"\",VLOOKUP($B100&\"_\"&$C100&\"_\"&O$12,UNWDF2021_LookUp!$B:$R,$D100,FALSE))","v":"PharmAccess Group"},{"$f":"IF(VLOOKUP($B100&\"_\"&$C100&\"_\"&P$12,UNWDF2021_LookUp!$B:$R,$D100,FALSE)=0,\"\",VLOOKUP($B100&\"_\"&$C100&\"_\"&P$12,UNWDF2021_LookUp!$B:$R,$D100,FALSE))","v":"NA"}]
[null,"Day3",null,null,"11:00 - 11:15 (BERN time)",{"$f":"IF(ISERROR(TEXT((DATE($E$3,$E$2,$E$1+1)+TIME(MID(E101,1,2),MID(E101,4,2),0))+($C$2-$C$3),\"H:MM AM/PM\")&\" - \"&TEXT(DATE($E$3,$E$2,$E$1+1)+TIME(MID(E101,9,2),MID(E101,12,2),0)+($C$2-$C$3),\"H:MM AM/PM\")),E101,TEXT((DATE($E$3,$E$2,$E$1+1)+TIME(MID(E101,1,2),MID(E101,4,2),0))+($C$2-$C$3),\"H:MM AM/PM\")&\" - \"&TEXT(DATE($E$3,$E$2,$E$1+1)+TIME(MID(E101,9,2),MID(E101,12,2),0)+($C$2-$C$3),\"H:MM AM/PM\"))","v":"11:00 - 11:15 (BERN time)"},"Break"]
[{"$f":"B102&C102","v":"Day3Time_Slot3"},"Day3","Time_Slot3",16,"11:15 - 12:30 (BERN time)",{"$f":"IF(ISERROR(TEXT((DATE($E$3,$E$2,$E$1+1)+TIME(MID(E102,1,2),MID(E102,4,2),0))+($C$2-$C$3),\"H:MM AM/PM\")&\" - \"&TEXT(DATE($E$3,$E$2,$E$1+1)+TIME(MID(E102,9,2),MID(E102,12,2),0)+($C$2-$C$3),\"H:MM AM/PM\")),E102,TEXT((DATE($E$3,$E$2,$E$1+1)+TIME(MID(E102,1,2),MID(E102,4,2),0))+($C$2-$C$3),\"H:MM AM/PM\")&\" - \"&TEXT(DATE($E$3,$E$2,$E$1+1)+TIME(MID(E102,9,2),MID(E102,12,2),0)+($C$2-$C$3),\"H:MM AM/PM\"))","v":"11:15 - 12:30 (BERN time)"},"Event Title",{"$f":"IF(VLOOKUP($B102&\"_\"&$C102&\"_\"&H$12,UNWDF2021_LookUp!$B:$R,$D102,FALSE)=0,\"\",VLOOKUP($B102&\"_\"&$C102&\"_\"&H$12,UNWDF2021_LookUp!$B:$R,$D102,FALSE))","v":"Data for Accountability to the People"}]
[{"$f":"B103&C103","v":"Day3Time_Slot3"},"Day3","Time_Slot3",17,"",null,"Organiser",{"$f":"IF(VLOOKUP($B103&\"_\"&$C103&\"_\"&H$12,UNWDF2021_LookUp!$B:$R,$D103,FALSE)=0,\"\",VLOOKUP($B103&\"_\"&$C103&\"_\"&H$12,UNWDF2021_LookUp!$B:$R,$D103,FALSE))","v":"Swiss Agency for Development and Cooperation (SDC)"}]
[null,"Day3",null,null,"12:30 - 13:45 (BERN time)",{"$f":"IF(ISERROR(TEXT((DATE($E$3,$E$2,$E$1+1)+TIME(MID(E104,1,2),MID(E104,4,2),0))+($C$2-$C$3),\"H:MM AM/PM\")&\" - \"&TEXT(DATE($E$3,$E$2,$E$1+1)+TIME(MID(E104,9,2),MID(E104,12,2),0)+($C$2-$C$3),\"H:MM AM/PM\")),E104,TEXT((DATE($E$3,$E$2,$E$1+1)+TIME(MID(E104,1,2),MID(E104,4,2),0))+($C$2-$C$3),\"H:MM AM/PM\")&\" - \"&TEXT(DATE($E$3,$E$2,$E$1+1)+TIME(MID(E104,9,2),MID(E104,12,2),0)+($C$2-$C$3),\"H:MM AM/PM\"))","v":"12:30 - 13:45 (BERN time)"},"Break"]
[{"$f":"B105&C105","v":"Day3Time_Slot4"},"Day3","Time_Slot4",15,"13:45 - 14:45 (BERN time)",{"$f":"IF(ISERROR(TEXT((DATE($E$3,$E$2,$E$1+1)+TIME(MID(E105,1,2),MID(E105,4,2),0))+($C$2-$C$3),\"H:MM AM/PM\")&\" - \"&TEXT(DATE($E$3,$E$2,$E$1+1)+TIME(MID(E105,9,2),MID(E105,12,2),0)+($C$2-$C$3),\"H:MM AM/PM\")),E105,TEXT((DATE($E$3,$E$2,$E$1+1)+TIME(MID(E105,1,2),MID(E105,4,2),0))+($C$2-$C$3),\"H:MM AM/PM\")&\" - \"&TEXT(DATE($E$3,$E$2,$E$1+1)+TIME(MID(E105,9,2),MID(E105,12,2),0)+($C$2-$C$3),\"H:MM AM/PM\"))","v":"13:45 - 14:45 (BERN time)"},"Event_ID",{"$f":"IF(VLOOKUP($B105&\"_\"&$C105&\"_\"&H$12,UNWDF2021_LookUp!$B:$R,$D105,FALSE)=0,\"\",VLOOKUP($B105&\"_\"&$C105&\"_\"&H$12,UNWDF2021_LookUp!$B:$R,$D105,FALSE))","v":"TA5.13"},{"$f":"IF(VLOOKUP($B105&\"_\"&$C105&\"_\"&I$12,UNWDF2021_LookUp!$B:$R,$D105,FALSE)=0,\"\",VLOOKUP($B105&\"_\"&$C105&\"_\"&I$12,UNWDF2021_LookUp!$B:$R,$D105,FALSE))","v":"TA2.14"},{"$f":"IF(VLOOKUP($B105&\"_\"&$C105&\"_\"&J$12,UNWDF2021_LookUp!$B:$R,$D105,FALSE)=0,\"\",VLOOKUP($B105&\"_\"&$C105&\"_\"&J$12,UNWDF2021_LookUp!$B:$R,$D105,FALSE))","v":"TA2.16"},{"$f":"IF(VLOOKUP($B105&\"_\"&$C105&\"_\"&K$12,UNWDF2021_LookUp!$B:$R,$D105,FALSE)=0,\"\",VLOOKUP($B105&\"_\"&$C105&\"_\"&K$12,UNWDF2021_LookUp!$B:$R,$D105,FALSE))","v":"TA5.14"},{"$f":"IF(VLOOKUP($B105&\"_\"&$C105&\"_\"&L$12,UNWDF2021_LookUp!$B:$R,$D105,FALSE)=0,\"\",VLOOKUP($B105&\"_\"&$C105&\"_\"&L$12,UNWDF2021_LookUp!$B:$R,$D105,FALSE))","v":"TA2.15"},{"$f":"IF(VLOOKUP($B105&\"_\"&$C105&\"_\"&M$12,UNWDF2021_LookUp!$B:$R,$D105,FALSE)=0,\"\",VLOOKUP($B105&\"_\"&$C105&\"_\"&M$12,UNWDF2021_LookUp!$B:$R,$D105,FALSE))","v":"TA4.08"},{"$f":"IF(VLOOKUP($B105&\"_\"&$C105&\"_\"&N$12,UNWDF2021_LookUp!$B:$R,$D105,FALSE)=0,\"\",VLOOKUP($B105&\"_\"&$C105&\"_\"&N$12,UNWDF2021_LookUp!$B:$R,$D105,FALSE))","v":"TA4.09"},{"$f":"IF(VLOOKUP($B105&\"_\"&$C105&\"_\"&O$12,UNWDF2021_LookUp!$B:$R,$D105,FALSE)=0,\"\",VLOOKUP($B105&\"_\"&$C105&\"_\"&O$12,UNWDF2021_LookUp!$B:$R,$D105,FALSE))","v":"TA3.16"},{"$f":"IF(VLOOKUP($B105&\"_\"&$C105&\"_\"&P$12,UNWDF2021_LookUp!$B:$R,$D105,FALSE)=0,\"\",VLOOKUP($B105&\"_\"&$C105&\"_\"&P$12,UNWDF2021_LookUp!$B:$R,$D105,FALSE))","v":"TA3.18"}]
["Day3Time_Slot4","Day3","Time_Slot4",13,"",{"$f":"IF(ISERROR(TEXT((DATE($E$3,$E$2,$E$1+1)+TIME(MID(E106,1,2),MID(E106,4,2),0))+($C$2-#REF!),\"H:MM\")&\" - \"&TEXT(DATE($E$3,$E$2,$E$1+1)+TIME(MID(E106,9,2),MID(E106,12,2),0)+($C$2-#REF!),\"H:MM AM/PM\")),E106,TEXT((DATE($E$3,$E$2,$E$1+1)+TIME(MID(E106,1,2),MID(E106,4,2),0))+($C$2-#REF!),\"H:MM\")&\" - \"&TEXT(DATE($E$3,$E$2,$E$1+1)+TIME(MID(E106,9,2),MID(E106,12,2),0)+($C$2-#REF!),\"H:MM AM/PM\"))","v":""},"Thematic Area",{"$f":"IF(VLOOKUP($B106&\"_\"&$C106&\"_\"&H$12,UNWDF2021_LookUp!$B:$R,$D106,FALSE)=0,\"\",VLOOKUP($B106&\"_\"&$C106&\"_\"&H$12,UNWDF2021_LookUp!$B:$R,$D106,FALSE))","v":5},{"$f":"IF(VLOOKUP($B106&\"_\"&$C106&\"_\"&I$12,UNWDF2021_LookUp!$B:$R,$D106,FALSE)=0,\"\",VLOOKUP($B106&\"_\"&$C106&\"_\"&I$12,UNWDF2021_LookUp!$B:$R,$D106,FALSE))","v":2},{"$f":"IF(VLOOKUP($B106&\"_\"&$C106&\"_\"&J$12,UNWDF2021_LookUp!$B:$R,$D106,FALSE)=0,\"\",VLOOKUP($B106&\"_\"&$C106&\"_\"&J$12,UNWDF2021_LookUp!$B:$R,$D106,FALSE))","v":2},{"$f":"IF(VLOOKUP($B106&\"_\"&$C106&\"_\"&K$12,UNWDF2021_LookUp!$B:$R,$D106,FALSE)=0,\"\",VLOOKUP($B106&\"_\"&$C106&\"_\"&K$12,UNWDF2021_LookUp!$B:$R,$D106,FALSE))","v":5},{"$f":"IF(VLOOKUP($B106&\"_\"&$C106&\"_\"&L$12,UNWDF2021_LookUp!$B:$R,$D106,FALSE)=0,\"\",VLOOKUP($B106&\"_\"&$C106&\"_\"&L$12,UNWDF2021_LookUp!$B:$R,$D106,FALSE))","v":2},{"$f":"IF(VLOOKUP($B106&\"_\"&$C106&\"_\"&M$12,UNWDF2021_LookUp!$B:$R,$D106,FALSE)=0,\"\",VLOOKUP($B106&\"_\"&$C106&\"_\"&M$12,UNWDF2021_LookUp!$B:$R,$D106,FALSE))","v":4},{"$f":"IF(VLOOKUP($B106&\"_\"&$C106&\"_\"&N$12,UNWDF2021_LookUp!$B:$R,$D106,FALSE)=0,\"\",VLOOKUP($B106&\"_\"&$C106&\"_\"&N$12,UNWDF2021_LookUp!$B:$R,$D106,FALSE))","v":4},{"$f":"IF(VLOOKUP($B106&\"_\"&$C106&\"_\"&O$12,UNWDF2021_LookUp!$B:$R,$D106,FALSE)=0,\"\",VLOOKUP($B106&\"_\"&$C106&\"_\"&O$12,UNWDF2021_LookUp!$B:$R,$D106,FALSE))","v":3},{"$f":"IF(VLOOKUP($B106&\"_\"&$C106&\"_\"&P$12,UNWDF2021_LookUp!$B:$R,$D106,FALSE)=0,\"\",VLOOKUP($B106&\"_\"&$C106&\"_\"&P$12,UNWDF2021_LookUp!$B:$R,$D106,FALSE))","v":3}]
[{"$f":"B107&C107","v":"Day3Time_Slot4"},"Day3","Time_Slot4",16,"",null,"Event Title",{"$f":"IF(VLOOKUP($B107&\"_\"&$C107&\"_\"&H$12,UNWDF2021_LookUp!$B:$R,$D107,FALSE)=0,\"\",VLOOKUP($B107&\"_\"&$C107&\"_\"&H$12,UNWDF2021_LookUp!$B:$R,$D107,FALSE))","v":"Building Trust in the Humanitarian Data Ecosystem"},{"$f":"IF(VLOOKUP($B107&\"_\"&$C107&\"_\"&I$12,UNWDF2021_LookUp!$B:$R,$D107,FALSE)=0,\"\",VLOOKUP($B107&\"_\"&$C107&\"_\"&I$12,UNWDF2021_LookUp!$B:$R,$D107,FALSE))","v":"Private Sector Innovation in a Post-Pandemic World: Integrating noncommercial data resources to support pandemic response and sustainable development (^^)"},{"$f":"IF(VLOOKUP($B107&\"_\"&$C107&\"_\"&J$12,UNWDF2021_LookUp!$B:$R,$D107,FALSE)=0,\"\",VLOOKUP($B107&\"_\"&$C107&\"_\"&J$12,UNWDF2021_LookUp!$B:$R,$D107,FALSE))","v":"Bringing alternative data to official use: cross-sector partnerships to leave no one behind in SDG monitoring and review"},{"$f":"IF(VLOOKUP($B107&\"_\"&$C107&\"_\"&K$12,UNWDF2021_LookUp!$B:$R,$D107,FALSE)=0,\"\",VLOOKUP($B107&\"_\"&$C107&\"_\"&K$12,UNWDF2021_LookUp!$B:$R,$D107,FALSE))","v":"Governing data for development: from normative frameworks to implementation (^^)"},{"$f":"IF(VLOOKUP($B107&\"_\"&$C107&\"_\"&L$12,UNWDF2021_LookUp!$B:$R,$D107,FALSE)=0,\"\",VLOOKUP($B107&\"_\"&$C107&\"_\"&L$12,UNWDF2021_LookUp!$B:$R,$D107,FALSE))","v":"From the Ground, Up. Improving Geospatial Modelling through a Collaborative Approach to Ground-Truthing (^^)"},{"$f":"IF(VLOOKUP($B107&\"_\"&$C107&\"_\"&M$12,UNWDF2021_LookUp!$B:$R,$D107,FALSE)=0,\"\",VLOOKUP($B107&\"_\"&$C107&\"_\"&M$12,UNWDF2021_LookUp!$B:$R,$D107,FALSE))","v":"Creating Data Use Ecosystems: Tools and Frameworks to promote evidence-based policies"},{"$f":"IF(VLOOKUP($B107&\"_\"&$C107&\"_\"&N$12,UNWDF2021_LookUp!$B:$R,$D107,FALSE)=0,\"\",VLOOKUP($B107&\"_\"&$C107&\"_\"&N$12,UNWDF2021_LookUp!$B:$R,$D107,FALSE))","v":"The interactive gameshow: How much do you know about gender data shaping our world?"},{"$f":"IF(VLOOKUP($B107&\"_\"&$C107&\"_\"&O$12,UNWDF2021_LookUp!$B:$R,$D107,FALSE)=0,\"\",VLOOKUP($B107&\"_\"&$C107&\"_\"&O$12,UNWDF2021_LookUp!$B:$R,$D107,FALSE))","v":"Domestic violence during Covid times"},{"$f":"IF(VLOOKUP($B107&\"_\"&$C107&\"_\"&P$12,UNWDF2021_LookUp!$B:$R,$D107,FALSE)=0,\"\",VLOOKUP($B107&\"_\"&$C107&\"_\"&P$12,UNWDF2021_LookUp!$B:$R,$D107,FALSE))","v":"Citizen-generated data for COVID-19 response:  Incorporating open data in micro-planning for vaccine equity"}]
["Day3Time_Slot4","Day3","Time_Slot4",17,"",{"$f":"IF(ISERROR(TEXT((DATE($E$3,$E$2,$E$1+1)+TIME(MID(E108,1,2),MID(E108,4,2),0))+($C$2-#REF!),\"H:MM\")&\" - \"&TEXT(DATE($E$3,$E$2,$E$1+1)+TIME(MID(E108,9,2),MID(E108,12,2),0)+($C$2-#REF!),\"H:MM AM/PM\")),E108,TEXT((DATE($E$3,$E$2,$E$1+1)+TIME(MID(E108,1,2),MID(E108,4,2),0))+($C$2-#REF!),\"H:MM\")&\" - \"&TEXT(DATE($E$3,$E$2,$E$1+1)+TIME(MID(E108,9,2),MID(E108,12,2),0)+($C$2-#REF!),\"H:MM AM/PM\"))","v":""},"Organiser",{"$f":"IF(VLOOKUP($B108&\"_\"&$C108&\"_\"&H$12,UNWDF2021_LookUp!$B:$R,$D108,FALSE)=0,\"\",VLOOKUP($B108&\"_\"&$C108&\"_\"&H$12,UNWDF2021_LookUp!$B:$R,$D108,FALSE))","v":"Swiss Federal Department of Foreign Affairs; International Committee of the Red Cross (ICRC); United Nations Office for the Coordination of Humanitarian Affairs (UNOCHA), Centre for Humanitarian Data"},{"$f":"IF(VLOOKUP($B108&\"_\"&$C108&\"_\"&I$12,UNWDF2021_LookUp!$B:$R,$D108,FALSE)=0,\"\",VLOOKUP($B108&\"_\"&$C108&\"_\"&I$12,UNWDF2021_LookUp!$B:$R,$D108,FALSE))","v":"Facebook; LinkedIn; Salesforce.org; PayPal; World Bank (WB); United Nations Office for the Coordination of Humanitarian Affairs (UNOCHA)"},{"$f":"IF(VLOOKUP($B108&\"_\"&$C108&\"_\"&J$12,UNWDF2021_LookUp!$B:$R,$D108,FALSE)=0,\"\",VLOOKUP($B108&\"_\"&$C108&\"_\"&J$12,UNWDF2021_LookUp!$B:$R,$D108,FALSE))","v":"International Civil Society Center (ICSC); Deutsche Gesellschaft für Internationale Zusammenarbeit (GIZ); Partners for Review and the Danish Institute for Human Rights"},{"$f":"IF(VLOOKUP($B108&\"_\"&$C108&\"_\"&K$12,UNWDF2021_LookUp!$B:$R,$D108,FALSE)=0,\"\",VLOOKUP($B108&\"_\"&$C108&\"_\"&K$12,UNWDF2021_LookUp!$B:$R,$D108,FALSE))","v":"Oxford Insights; Open Data Watch (ODW); Sustainable Development Solutions Network Thematic Research Network on Data and Statistics (SDSN TReNDS)"},{"$f":"IF(VLOOKUP($B108&\"_\"&$C108&\"_\"&L$12,UNWDF2021_LookUp!$B:$R,$D108,FALSE)=0,\"\",VLOOKUP($B108&\"_\"&$C108&\"_\"&L$12,UNWDF2021_LookUp!$B:$R,$D108,FALSE))","v":"World Bank (WB); The 50x2030 Initiative to Close the Agricultural Data Gap"},{"$f":"IF(VLOOKUP($B108&\"_\"&$C108&\"_\"&M$12,UNWDF2021_LookUp!$B:$R,$D108,FALSE)=0,\"\",VLOOKUP($B108&\"_\"&$C108&\"_\"&M$12,UNWDF2021_LookUp!$B:$R,$D108,FALSE))","v":"Open Data Watch (ODW); Development Gateway; Partnership in Statistics for Development in the 21st Century (PARIS21)"},{"$f":"IF(VLOOKUP($B108&\"_\"&$C108&\"_\"&N$12,UNWDF2021_LookUp!$B:$R,$D108,FALSE)=0,\"\",VLOOKUP($B108&\"_\"&$C108&\"_\"&N$12,UNWDF2021_LookUp!$B:$R,$D108,FALSE))","v":"United Nations Entity for Gender Equality and the Empowerment of Women (UN Women)"},{"$f":"IF(VLOOKUP($B108&\"_\"&$C108&\"_\"&O$12,UNWDF2021_LookUp!$B:$R,$D108,FALSE)=0,\"\",VLOOKUP($B108&\"_\"&$C108&\"_\"&O$12,UNWDF2021_LookUp!$B:$R,$D108,FALSE))","v":"Instituto Nacional de Estadística y Geografía (INEGI-México)"},{"$f":"IF(VLOOKUP($B108&\"_\"&$C108&\"_\"&P$12,UNWDF2021_LookUp!$B:$R,$D108,FALSE)=0,\"\",VLOOKUP($B108&\"_\"&$C108&\"_\"&P$12,UNWDF2021_LookUp!$B:$R,$D108,FALSE))","v":"Humanitarian OpenStreetMap Team; iLab Libera; Global Active Learning School; Public Lab Mongolia; Mapbox; Ona"}]
[null,"Day3",null,null,"14:45 - 15:15 (BERN time)",{"$f":"IF(ISERROR(TEXT((DATE($E$3,$E$2,$E$1+1)+TIME(MID(E109,1,2),MID(E109,4,2),0))+($C$2-$C$3),\"H:MM AM/PM\")&\" - \"&TEXT(DATE($E$3,$E$2,$E$1+1)+TIME(MID(E109,9,2),MID(E109,12,2),0)+($C$2-$C$3),\"H:MM AM/PM\")),E109,TEXT((DATE($E$3,$E$2,$E$1+1)+TIME(MID(E109,1,2),MID(E109,4,2),0))+($C$2-$C$3),\"H:MM AM/PM\")&\" - \"&TEXT(DATE($E$3,$E$2,$E$1+1)+TIME(MID(E109,9,2),MID(E109,12,2),0)+($C$2-$C$3),\"H:MM AM/PM\"))","v":"14:45 - 15:15 (BERN time)"},"Break"]
[{"$f":"B110&C110","v":"Day3Time_Slot5"},"Day3","Time_Slot5",15,"15:15 - 16:30 (BERN time)",{"$f":"IF(ISERROR(TEXT((DATE($E$3,$E$2,$E$1+1)+TIME(MID(E110,1,2),MID(E110,4,2),0))+($C$2-$C$3),\"H:MM AM/PM\")&\" - \"&TEXT(DATE($E$3,$E$2,$E$1+1)+TIME(MID(E110,9,2),MID(E110,12,2),0)+($C$2-$C$3),\"H:MM AM/PM\")),E110,TEXT((DATE($E$3,$E$2,$E$1+1)+TIME(MID(E110,1,2),MID(E110,4,2),0))+($C$2-$C$3),\"H:MM AM/PM\")&\" - \"&TEXT(DATE($E$3,$E$2,$E$1+1)+TIME(MID(E110,9,2),MID(E110,12,2),0)+($C$2-$C$3),\"H:MM AM/PM\"))","v":"15:15 - 16:30 (BERN time)"},"Event_ID",{"$f":"IF(VLOOKUP($B110&\"_\"&$C110&\"_\"&H$12,UNWDF2021_LookUp!$B:$R,$D110,FALSE)=0,\"\",VLOOKUP($B110&\"_\"&$C110&\"_\"&H$12,UNWDF2021_LookUp!$B:$R,$D110,FALSE))","v":"TA6.01"}]
["Day3Time_Slot5","Day3","Time_Slot5",13,"",{"$f":"IF(ISERROR(TEXT((DATE($E$3,$E$2,$E$1+1)+TIME(MID(E111,1,2),MID(E111,4,2),0))+($C$2-#REF!),\"H:MM\")&\" - \"&TEXT(DATE($E$3,$E$2,$E$1+1)+TIME(MID(E111,9,2),MID(E111,12,2),0)+($C$2-#REF!),\"H:MM AM/PM\")),E111,TEXT((DATE($E$3,$E$2,$E$1+1)+TIME(MID(E111,1,2),MID(E111,4,2),0))+($C$2-#REF!),\"H:MM\")&\" - \"&TEXT(DATE($E$3,$E$2,$E$1+1)+TIME(MID(E111,9,2),MID(E111,12,2),0)+($C$2-#REF!),\"H:MM AM/PM\"))","v":""},"Thematic Area",{"$f":"IF(VLOOKUP($B111&\"_\"&$C111&\"_\"&H$12,UNWDF2021_LookUp!$B:$R,$D111,FALSE)=0,\"\",VLOOKUP($B111&\"_\"&$C111&\"_\"&H$12,UNWDF2021_LookUp!$B:$R,$D111,FALSE))","v":6}]
[{"$f":"B112&C112","v":"Day3Time_Slot5"},"Day3","Time_Slot5",16,"",null,"Event Title",{"$f":"IF(VLOOKUP($B112&\"_\"&$C112&\"_\"&H$12,UNWDF2021_LookUp!$B:$R,$D112,FALSE)=0,\"\",VLOOKUP($B112&\"_\"&$C112&\"_\"&H$12,UNWDF2021_LookUp!$B:$R,$D112,FALSE))","v":"The road from Bern … navigating the data future"}]
["Day3Time_Slot5","Day3","Time_Slot5",17,"",{"$f":"IF(ISERROR(TEXT((DATE($E$3,$E$2,$E$1+1)+TIME(MID(E113,1,2),MID(E113,4,2),0))+($C$2-#REF!),\"H:MM\")&\" - \"&TEXT(DATE($E$3,$E$2,$E$1+1)+TIME(MID(E113,9,2),MID(E113,12,2),0)+($C$2-#REF!),\"H:MM AM/PM\")),E113,TEXT((DATE($E$3,$E$2,$E$1+1)+TIME(MID(E113,1,2),MID(E113,4,2),0))+($C$2-#REF!),\"H:MM\")&\" - \"&TEXT(DATE($E$3,$E$2,$E$1+1)+TIME(MID(E113,9,2),MID(E113,12,2),0)+($C$2-#REF!),\"H:MM AM/PM\"))","v":""},"Organiser",{"$f":"IF(VLOOKUP($B113&\"_\"&$C113&\"_\"&H$12,UNWDF2021_LookUp!$B:$R,$D113,FALSE)=0,\"\",VLOOKUP($B113&\"_\"&$C113&\"_\"&H$12,UNWDF2021_LookUp!$B:$R,$D113,FALSE))","v":"High-level Group for Partnership, Coordination and Capacity-Building for Statistics (HLG-PCCB) for the 2030 Agenda for Sustainable Development"}]
[null,"Day3",null,null,"16:30 - 16:45 (BERN time)",{"$f":"IF(ISERROR(TEXT((DATE($E$3,$E$2,$E$1+1)+TIME(MID(E114,1,2),MID(E114,4,2),0))+($C$2-$C$3),\"H:MM AM/PM\")&\" - \"&TEXT(DATE($E$3,$E$2,$E$1+1)+TIME(MID(E114,9,2),MID(E114,12,2),0)+($C$2-$C$3),\"H:MM AM/PM\")),E114,TEXT((DATE($E$3,$E$2,$E$1+1)+TIME(MID(E114,1,2),MID(E114,4,2),0))+($C$2-$C$3),\"H:MM AM/PM\")&\" - \"&TEXT(DATE($E$3,$E$2,$E$1+1)+TIME(MID(E114,9,2),MID(E114,12,2),0)+($C$2-$C$3),\"H:MM AM/PM\"))","v":"16:30 - 16:45 (BERN time)"},"Break"]
[{"$f":"B115&C115","v":"Day3Time_Slot6"},"Day3","Time_Slot6",16,"16:45 - 17:30 (BERN time)",{"$f":"IF(ISERROR(TEXT((DATE($E$3,$E$2,$E$1+1)+TIME(MID(E115,1,2),MID(E115,4,2),0))+($C$2-$C$3),\"H:MM AM/PM\")&\" - \"&TEXT(DATE($E$3,$E$2,$E$1+1)+TIME(MID(E115,9,2),MID(E115,12,2),0)+($C$2-$C$3),\"H:MM AM/PM\")),E115,TEXT((DATE($E$3,$E$2,$E$1+1)+TIME(MID(E115,1,2),MID(E115,4,2),0))+($C$2-$C$3),\"H:MM AM/PM\")&\" - \"&TEXT(DATE($E$3,$E$2,$E$1+1)+TIME(MID(E115,9,2),MID(E115,12,2),0)+($C$2-$C$3),\"H:MM AM/PM\"))","v":"16:45 - 17:30 (BERN time)"},"Event Title",{"$f":"IF(VLOOKUP($B115&\"_\"&$C115&\"_\"&H$12,UNWDF2021_LookUp!$B:$R,$D115,FALSE)=0,\"\",VLOOKUP($B115&\"_\"&$C115&\"_\"&H$12,UNWDF2021_LookUp!$B:$R,$D115,FALSE))","v":"Closing session"}]
[{"$f":"B116&C116","v":"Day3Time_Slot6"},"Day3","Time_Slot6",17,"",null,"Organiser",{"$f":"IF(VLOOKUP($B116&\"_\"&$C116&\"_\"&H$12,UNWDF2021_LookUp!$B:$R,$D116,FALSE)=0,\"\",VLOOKUP($B116&\"_\"&$C116&\"_\"&H$12,UNWDF2021_LookUp!$B:$R,$D116,FALSE))","v":"Swiss Confederation; United Nations (UN)"}]
[null,"Day3",null,null,"17:15 - 17:45 (BERN time)",{"$f":"IF(ISERROR(TEXT((DATE($E$3,$E$2,$E$1+1)+TIME(MID(E117,1,2),MID(E117,4,2),0))+($C$2-$C$3),\"H:MM AM/PM\")&\" - \"&TEXT(DATE($E$3,$E$2,$E$1+1)+TIME(MID(E117,9,2),MID(E117,12,2),0)+($C$2-$C$3),\"H:MM AM/PM\")),E117,TEXT((DATE($E$3,$E$2,$E$1+1)+TIME(MID(E117,1,2),MID(E117,4,2),0))+($C$2-$C$3),\"H:MM AM/PM\")&\" - \"&TEXT(DATE($E$3,$E$2,$E$1+1)+TIME(MID(E117,9,2),MID(E117,12,2),0)+($C$2-$C$3),\"H:MM AM/PM\"))","v":"17:15 - 17:45 (BERN time)"},"Break"]
["Day3Time_Slot7","Day3","Time_Slot7",16,"17:45 - 19:15 (BERN time)",{"$f":"IF(ISERROR(TEXT((DATE($E$3,$E$2,$E$1+1)+TIME(MID(E118,1,2),MID(E118,4,2),0))+($C$2-$C$3),\"H:MM AM/PM\")&\" - \"&TEXT(DATE($E$3,$E$2,$E$1+1)+TIME(MID(E118,9,2),MID(E118,12,2),0)+($C$2-$C$3),\"H:MM AM/PM\")),E118,TEXT((DATE($E$3,$E$2,$E$1+1)+TIME(MID(E118,1,2),MID(E118,4,2),0))+($C$2-$C$3),\"H:MM AM/PM\")&\" - \"&TEXT(DATE($E$3,$E$2,$E$1+1)+TIME(MID(E118,9,2),MID(E118,12,2),0)+($C$2-$C$3),\"H:MM AM/PM\"))","v":"17:45 - 19:15 (BERN time)"},"Event Title",{"$f":"IF(VLOOKUP($B118&\"_\"&$C118&\"_\"&H$12,UNWDF2021_LookUp!$B:$R,$D118,FALSE)=0,\"\",VLOOKUP($B118&\"_\"&$C118&\"_\"&H$12,UNWDF2021_LookUp!$B:$R,$D118,FALSE))","v":"Meet 'n' Jazz - Part 2 (in-person only)"}]
[{"$f":"B119&C119","v":"Day3Time_Slot7"},"Day3","Time_Slot7",17,"","","Organiser",{"$f":"IF(VLOOKUP($B119&\"_\"&$C119&\"_\"&H$12,UNWDF2021_LookUp!$B:$R,$D119,FALSE)=0,\"\",VLOOKUP($B119&\"_\"&$C119&\"_\"&H$12,UNWDF2021_LookUp!$B:$R,$D119,FALSE))","v":"Swiss Confederation"}]
[]
[null,null,null,null,null,null,null,null," TA 1. New approaches to capacity development for better data: supporting broad data ecosystems in countries",null,null," TA 3. Leaving no one behind: Generating and leveraging data and statistics to ensure visibility and voice for everyone",null,null," TA 5. Building trust in data and statistics: Applying data principles and governance to new and existing data sources and  implementing open data principles and practices"]
[]
[null,null,null,null,null,null,null,null," TA 2. Innovations and synergies across data ecosystems: bringing data sources together and creating an enabling environment for the integration and use of non-traditional data sources",null,null," TA 4. Understanding the world through data: making data and statistics relevant and usable to all users; increasing data and statistical literacy and data communication; strengthening the use of data in journalism",null,null," TA 6. How far have we come? A look at the implementation of the Cape Town Global Action Plan; Addressing emerging challenges of fully harnessing the power of data to improve people's lives"]
[]
[null,null,null,null,null,"(^) Sessions will be conducted in a hybrid format with some or all speakers in-person at the venue but also broadcast to a virtual audience, unless indicated with (^^) to denote completely virtual sessions. (III) The title for the Ted-style talk is 'Leveraging big data and non-traditional data for policy effectiveness evaluation during Covid-19'. "]

{"sheet":"UNWDF2021_LookUp","index":1,"n_rows":205,"n_cols":29,"rows_kept":205,"cut":false,"hidden":true,"merged":[]}
["ID","LookUp","Day/Time","Day","Time_Slot","Location","Date","Time","Duration","Room_Name","Room_Capacity","UNWDF2021_Plenary","UNWDF2021_ProposalID","UNWDF2021_TA","UNWDF2021_Session","UNWDF2021_ProgrammeID","UNWDF2021_SessionTitle","UNWDF2021_SessionOrg","LookUp"]
[1,{"$f":"C2&\"_\"&F2","v":"Day0_Time_Slot1_Parallel 01"},{"$f":"$D$1&D2&\"_\"&$E$1&E2","v":"Day0_Time_Slot1"},0,1,"Parallel 01",{"$f":"VLOOKUP($D$1&D2,Bern2021!A:F,6,FALSE)","v":"2021-10-03"},{"$f":"MID(VLOOKUP($D$1&D2&$E$1&E2,Bern2021!A:F,5,FALSE),1,SEARCH(\"(\",VLOOKUP($D$1&D2&$E$1&E2,Bern2021!A:F,5,FALSE))-2)","v":"15:00 - 16:45"},{"$f":"TEXT(MID(H2,SEARCH(\"-\",H2)+2,LEN(H2)-SEARCH(\"-\",H2)-1)-MID(H2,1,SEARCH(\"-\",H2)-1),\"h:mm\")","v":"1:45"},{"$f":"HLOOKUP($F2,Bern2021!$H$12:$P$14,2,FALSE)","v":"Arena"},{"$f":"HLOOKUP($F2,Bern2021!$H$12:$P$14,3,FALSE)","v":1357},"Y","NA","_O",{"$f":"IF(OR(L2=\"NA\",L2=\"E\"),\"NA\",IF(L2=\"Y\",COUNTIF($M$1:N1,N2)+1,COUNTIF($M$1:N1,N2)+1))","v":1},"TA_O.01A","Opening session","Swiss Confederation",{"$f":"B2","v":"Day0_Time_Slot1_Parallel 01"}]
[10,"Day0_Time_Slot2_Parallel 01","Day0_Time_Slot2",0,2,"Parallel 01",{"$f":"VLOOKUP($D$1&D3,Bern2021!A:F,6,FALSE)","v":"2021-10-03"},{"$f":"MID(VLOOKUP($D$1&D3&$E$1&E3,Bern2021!A:F,5,FALSE),1,SEARCH(\"(\",VLOOKUP($D$1&D3&$E$1&E3,Bern2021!A:F,5,FALSE))-2)","v":"16:45 - 18:00"},"1:15",{"$f":"HLOOKUP($F3,Bern2021!$H$12:$P$14,2,FALSE)","v":"Arena"},{"$f":"HLOOKUP($F3,Bern2021!$H$12:$P$14,3,FALSE)","v":1357},"Y","NA","_O",{"$f":"IF(OR(L3=\"NA\",L3=\"E\"),\"NA\",IF(L3=\"Y\",COUNTIF($M$1:N2,N3)+1,COUNTIF($M$1:N2,N3)+1))","v":2},"TA_O.01B","Opening reception (in-person only)","Swiss Confederation","Day0_Time_Slot2_Parallel 01"]
[20,"Day1_Time_Slot2_Parallel 01","Day1_Time_Slot2",1,2,"Parallel 01",{"$f":"VLOOKUP($D$1&D4,Bern2021!A:F,6,FALSE)","v":"2021-10-04"},{"$f":"MID(VLOOKUP($D$1&D4&$E$1&E4,Bern2021!A:F,5,FALSE),1,SEARCH(\"(\",VLOOKUP($D$1&D4&$E$1&E4,Bern2021!A:F,5,FALSE))-2)","v":"10:30 - 10:45"},"0:15",{"$f":"HLOOKUP($F4,Bern2021!$H$12:$P$14,2,FALSE)","v":"Arena"},{"$f":"HLOOKUP($F4,Bern2021!$H$12:$P$14,3,FALSE)","v":1357},"Y","NA","_O",{"$f":"IF(OR(L4=\"NA\",L4=\"E\"),\"NA\",IF(L4=\"Y\",COUNTIF($M$1:N3,N4)+1,COUNTIF($M$1:N3,N4)+1))","v":3},"TA_O.02","Welcome to UNWDF2021","United Nations (UN); Swiss Confederation","Day1_Time_Slot2_Parallel 01"]
[29,"Day1_Time_Slot3_Parallel 01","Day1_Time_Slot3",1,3,"Parallel 01",{"$f":"VLOOKUP($D$1&D5,Bern2021!A:F,6,FALSE)","v":"2021-10-04"},{"$f":"MID(VLOOKUP($D$1&D5&$E$1&E5,Bern2021!A:F,5,FALSE),1,SEARCH(\"(\",VLOOKUP($D$1&D5&$E$1&E5,Bern2021!A:F,5,FALSE))-2)","v":"10:45 - 12:00"},"1:15",{"$f":"HLOOKUP($F5,Bern2021!$H$12:$P$14,2,FALSE)","v":"Arena"},{"$f":"HLOOKUP($F5,Bern2021!$H$12:$P$14,3,FALSE)","v":1357},"Y","NA",1,{"$f":"IF(OR(L5=\"NA\",L5=\"E\"),\"NA\",IF(L5=\"Y\",COUNTIF($M$1:N4,N5)+1,COUNTIF($M$1:N4,N5)+1))","v":1},"TA1.01","Have we been going about capacity development the wrong way?","United Nations World Data Forum (UNWDF) Programme Committee","Day1_Time_Slot3_Parallel 01"]
[38,"Day1_Time_Slot4_Parallel 01","Day1_Time_Slot4",1,4,"Parallel 01",{"$f":"VLOOKUP($D$1&D6,Bern2021!A:F,6,FALSE)","v":"2021-10-04"},{"$f":"MID(VLOOKUP($D$1&D6&$E$1&E6,Bern2021!A:F,5,FALSE),1,SEARCH(\"(\",VLOOKUP($D$1&D6&$E$1&E6,Bern2021!A:F,5,FALSE))-2)","v":"13:15 - 14:30"},"1:15",{"$f":"HLOOKUP($F6,Bern2021!$H$12:$P$14,2,FALSE)","v":"Arena"},{"$f":"HLOOKUP($F6,Bern2021!$H$12:$P$14,3,FALSE)","v":1357},"Y","NA",2,{"$f":"IF(OR(L6=\"NA\",L6=\"E\"),\"NA\",IF(L6=\"Y\",COUNTIF($M$1:N5,N6)+1,COUNTIF($M$1:N5,N6)+1))","v":1},"TA2.01","How to innovate timely data for Covid-19 and the SDGs","United Nations World Data Forum (UNWDF) Programme Committee","Day1_Time_Slot4_Parallel 01"]
[56,"Day1_Time_Slot6_Parallel 01","Day1_Time_Slot6",1,6,"Parallel 01",{"$f":"VLOOKUP($D$1&D7,Bern2021!A:F,6,FALSE)","v":"2021-10-04"},{"$f":"MID(VLOOKUP($D$1&D7&$E$1&E7,Bern2021!A:F,5,FALSE),1,SEARCH(\"(\",VLOOKUP($D$1&D7&$E$1&E7,Bern2021!A:F,5,FALSE))-2)","v":"16:15 - 17:30"},"1:15",{"$f":"HLOOKUP($F7,Bern2021!$H$12:$P$14,2,FALSE)","v":"Arena"},{"$f":"HLOOKUP($F7,Bern2021!$H$12:$P$14,3,FALSE)","v":1357},"Y","NA",3,{"$f":"IF(OR(L7=\"NA\",L7=\"E\"),\"NA\",IF(L7=\"Y\",COUNTIF($M$1:N6,N7)+1,COUNTIF($M$1:N6,N7)+1))","v":1},"TA3.01","Leaving no one behind, the need to measure equity","United Nations World Data Forum (UNWDF) Programme Committee","Day1_Time_Slot6_Parallel 01"]
[65,"Day1_Time_Slot7_Parallel 01","Day1_Time_Slot7",1,7,"Parallel 01",{"$f":"VLOOKUP($D$1&D8,Bern2021!A:F,6,FALSE)","v":"2021-10-04"},{"$f":"MID(VLOOKUP($D$1&D8&$E$1&E8,Bern2021!A:F,5,FALSE),1,SEARCH(\"(\",VLOOKUP($D$1&D8&$E$1&E8,Bern2021!A:F,5,FALSE))-2)","v":"17:45 - 19:15"},"1:30",{"$f":"HLOOKUP($F8,Bern2021!$H$12:$P$14,2,FALSE)","v":"Arena"},{"$f":"HLOOKUP($F8,Bern2021!$H$12:$P$14,3,FALSE)","v":1357},"Y","NA","_S",{"$f":"IF(OR(L8=\"NA\",L8=\"E\"),\"NA\",IF(L8=\"Y\",COUNTIF($M$1:N7,N8)+1,COUNTIF($M$1:N7,N8)+1))","v":1},"TA_S.01","Meet 'n' Jazz - Part 1 (in-person only)","Entrepreneurs’ Organization EO","Day1_Time_Slot7_Parallel 01"]
[75,"Day2_Time_Slot2_Parallel 01","Day2_Time_Slot2",2,2,"Parallel 01",{"$f":"VLOOKUP($D$1&D9,Bern2021!A:F,6,FALSE)","v":"2021-10-05"},{"$f":"MID(VLOOKUP($D$1&D9&$E$1&E9,Bern2021!A:F,5,FALSE),1,SEARCH(\"(\",VLOOKUP($D$1&D9&$E$1&E9,Bern2021!A:F,5,FALSE))-2)","v":"10:30 - 11:45"},"1:15",{"$f":"HLOOKUP($F9,Bern2021!$H$12:$P$14,2,FALSE)","v":"Arena"},{"$f":"HLOOKUP($F9,Bern2021!$H$12:$P$14,3,FALSE)","v":1357},"Y","NA",4,{"$f":"IF(OR(L9=\"NA\",L9=\"E\"),\"NA\",IF(L9=\"Y\",COUNTIF($M$1:N8,N9)+1,COUNTIF($M$1:N8,N9)+1))","v":1},"TA4.01","Making it add up, counting on data and statistics during pandemics and other disasters","United Nations World Data Forum (UNWDF) Programme Committee","Day2_Time_Slot2_Parallel 01"]
[84,"Day2_Time_Slot3_Parallel 01","Day2_Time_Slot3",2,3,"Parallel 01",{"$f":"VLOOKUP($D$1&D10,Bern2021!A:F,6,FALSE)","v":"2021-10-05"},{"$f":"MID(VLOOKUP($D$1&D10&$E$1&E10,Bern2021!A:F,5,FALSE),1,SEARCH(\"(\",VLOOKUP($D$1&D10&$E$1&E10,Bern2021!A:F,5,FALSE))-2)","v":"13:15 - 14:30"},"1:15",{"$f":"HLOOKUP($F10,Bern2021!$H$12:$P$14,2,FALSE)","v":"Arena"},{"$f":"HLOOKUP($F10,Bern2021!$H$12:$P$14,3,FALSE)","v":1357},"Y","NA",5,{"$f":"IF(OR(L10=\"NA\",L10=\"E\"),\"NA\",IF(L10=\"Y\",COUNTIF($M$1:N9,N10)+1,COUNTIF($M$1:N9,N10)+1))","v":1},"TA5.01","Trust in Data: balancing quality, privacy and transparency","United Nations World Data Forum (UNWDF) Programme Committee","Day2_Time_Slot3_Parallel 01"]
[111,"Day2_Time_Slot6_Parallel 01","Day2_Time_Slot6",2,6,"Parallel 01",{"$f":"VLOOKUP($D$1&D11,Bern2021!A:F,6,FALSE)","v":"2021-10-05"},{"$f":"MID(VLOOKUP($D$1&D11&$E$1&E11,Bern2021!A:F,5,FALSE),1,SEARCH(\"(\",VLOOKUP($D$1&D11&$E$1&E11,Bern2021!A:F,5,FALSE))-2)","v":"19:30 - 23:59"},"4:29",{"$f":"HLOOKUP($F11,Bern2021!$H$12:$P$14,2,FALSE)","v":"Arena"},{"$f":"HLOOKUP($F11,Bern2021!$H$12:$P$14,3,FALSE)","v":1357},"Y","NA","_S",{"$f":"IF(OR(L11=\"NA\",L11=\"E\"),\"NA\",IF(L11=\"Y\",COUNTIF($M$1:N10,N11)+1,COUNTIF($M$1:N10,N11)+1))","v":2},"TA_S.02","Gala evening (in-person only)","Swiss Confederation","Day2_Time_Slot6_Parallel 01"]
[130,"Day3_Time_Slot3_Parallel 01","Day3_Time_Slot3",3,3,"Parallel 01",{"$f":"VLOOKUP($D$1&D12,Bern2021!A:F,6,FALSE)","v":"2021-10-06"},{"$f":"MID(VLOOKUP($D$1&D12&$E$1&E12,Bern2021!A:F,5,FALSE),1,SEARCH(\"(\",VLOOKUP($D$1&D12&$E$1&E12,Bern2021!A:F,5,FALSE))-2)","v":"11:15 - 12:30"},"1:15",{"$f":"HLOOKUP($F12,Bern2021!$H$12:$P$14,2,FALSE)","v":"Arena"},{"$f":"HLOOKUP($F12,Bern2021!$H$12:$P$14,3,FALSE)","v":1357},"Y","NA",7,{"$f":"IF(OR(L12=\"NA\",L12=\"E\"),\"NA\",IF(L12=\"Y\",COUNTIF($M$1:N11,N12)+1,COUNTIF($M$1:N11,N12)+1))","v":1},"TA7.01","Data for Accountability to the People","Swiss Agency for Development and Cooperation (SDC)","Day3_Time_Slot3_Parallel 01"]
[148,"Day3_Time_Slot5_Parallel 01","Day3_Time_Slot5",3,5,"Parallel 01",{"$f":"VLOOKUP($D$1&D13,Bern2021!A:F,6,FALSE)","v":"2021-10-06"},{"$f":"MID(VLOOKUP($D$1&D13&$E$1&E13,Bern2021!A:F,5,FALSE),1,SEARCH(\"(\",VLOOKUP($D$1&D13&$E$1&E13,Bern2021!A:F,5,FALSE))-2)","v":"15:15 - 16:30"},"1:15",{"$f":"HLOOKUP($F13,Bern2021!$H$12:$P$14,2,FALSE)","v":"Arena"},{"$f":"HLOOKUP($F13,Bern2021!$H$12:$P$14,3,FALSE)","v":1357},"Y","NA",6,{"$f":"IF(OR(L13=\"NA\",L13=\"E\"),\"NA\",IF(L13=\"Y\",COUNTIF($M$1:N12,N13)+1,COUNTIF($M$1:N12,N13)+1))","v":1},"TA6.01","The road from Bern … navigating the data future","High-level Group for Partnership, Coordination and Capacity-Building for Statistics (HLG-PCCB) for the 2030 Agenda for Sustainable Development","Day3_Time_Slot5_Parallel 01"]
[157,"Day3_Time_Slot6_Parallel 01","Day3_Time_Slot6",3,6,"Parallel 01",{"$f":"VLOOKUP($D$1&D14,Bern2021!A:F,6,FALSE)","v":"2021-10-06"},{"$f":"MID(VLOOKUP($D$1&D14&$E$1&E14,Bern2021!A:F,5,FALSE),1,SEARCH(\"(\",VLOOKUP($D$1&D14&$E$1&E14,Bern2021!A:F,5,FALSE))-2)","v":"16:45 - 17:30"},"0:45",{"$f":"HLOOKUP($F14,Bern2021!$H$12:$P$14,2,FALSE)","v":"Arena"},{"$f":"HLOOKUP($F14,Bern2021!$H$12:$P$14,3,FALSE)","v":1357},"Y","NA","_C",{"$f":"IF(OR(L14=\"NA\",L14=\"E\"),\"NA\",IF(L14=\"Y\",COUNTIF($M$1:N13,N14)+1,COUNTIF($M$1:N13,N14)+1))","v":1},"TA_C.01","Closing session","Swiss Confederation; United Nations (UN)","Day3_Time_Slot6_Parallel 01"]
[166,"Day3_Time_Slot7_Parallel 01","Day3_Time_Slot7",3,7,"Parallel 01",{"$f":"VLOOKUP($D$1&D15,Bern2021!A:F,6,FALSE)","v":"2021-10-06"},{"$f":"MID(VLOOKUP($D$1&D15&$E$1&E15,Bern2021!A:F,5,FALSE),1,SEARCH(\"(\",VLOOKUP($D$1&D15&$E$1&E15,Bern2021!A:F,5,FALSE))-2)","v":"17:45 - 19:15"},"1:30",{"$f":"HLOOKUP($F15,Bern2021!$H$12:$P$14,2,FALSE)","v":"Arena"},{"$f":"HLOOKUP($F15,Bern2021!$H$12:$P$14,3,FALSE)","v":1357},"Y","NA","_S",{"$f":"IF(OR(L15=\"NA\",L15=\"E\"),\"NA\",IF(L15=\"Y\",COUNTIF($M$1:N14,N15)+1,COUNTIF($M$1:N14,N15)+1))","v":3},"TA_S.03","Meet 'n' Jazz - Part 2 (in-person only)","Swiss Confederation","Day3_Time_Slot7_Parallel 01"]
[2,"Day0_Time_Slot1_Parallel 02","Day0_Time_Slot1",0,1,"Parallel 02",{"$f":"VLOOKUP($D$1&D16,Bern2021!A:F,6,FALSE)","v":"2021-10-03"},{"$f":"MID(VLOOKUP($D$1&D16&$E$1&E16,Bern2021!A:F,5,FALSE),1,SEARCH(\"(\",VLOOKUP($D$1&D16&$E$1&E16,Bern2021!A:F,5,FALSE))-2)","v":"15:00 - 16:45"},"1:45",{"$f":"HLOOKUP($F16,Bern2021!$H$12:$P$14,2,FALSE)","v":"Aare"},{"$f":"HLOOKUP($F16,Bern2021!$H$12:$P$14,3,FALSE)","v":298},"NA","NA","NA",{"$f":"IF(OR(L16=\"NA\",L16=\"E\"),\"NA\",IF(L16=\"Y\",COUNTIF($M$1:N15,N16)+1,COUNTIF($M$1:N15,N16)+1))","v":"NA"},"NA","NA","NA","Day0_Time_Slot1_Parallel 02"]
[3,"Day0_Time_Slot1_Parallel 03","Day0_Time_Slot1",0,1,"Parallel 03",{"$f":"VLOOKUP($D$1&D17,Bern2021!A:F,6,FALSE)","v":"2021-10-03"},{"$f":"MID(VLOOKUP($D$1&D17&$E$1&E17,Bern2021!A:F,5,FALSE),1,SEARCH(\"(\",VLOOKUP($D$1&D17&$E$1&E17,Bern2021!A:F,5,FALSE))-2)","v":"15:00 - 16:45"},"1:45",{"$f":"HLOOKUP($F17,Bern2021!$H$12:$P$14,2,FALSE)","v":"Szenario 2"},{"$f":"HLOOKUP($F17,Bern2021!$H$12:$P$14,3,FALSE)","v":221},"NA","NA","NA",{"$f":"IF(OR(L17=\"NA\",L17=\"E\"),\"NA\",IF(L17=\"Y\",COUNTIF($M$1:N16,N17)+1,COUNTIF($M$1:N16,N17)+1))","v":"NA"},"NA","NA","NA","Day0_Time_Slot1_Parallel 03"]
[4,"Day0_Time_Slot1_Parallel 04","Day0_Time_Slot1",0,1,"Parallel 04",{"$f":"VLOOKUP($D$1&D18,Bern2021!A:F,6,FALSE)","v":"2021-10-03"},{"$f":"MID(VLOOKUP($D$1&D18&$E$1&E18,Bern2021!A:F,5,FALSE),1,SEARCH(\"(\",VLOOKUP($D$1&D18&$E$1&E18,Bern2021!A:F,5,FALSE))-2)","v":"15:00 - 16:45"},"1:45",{"$f":"HLOOKUP($F18,Bern2021!$H$12:$P$14,2,FALSE)","v":"Panorama 2-4"},{"$f":"HLOOKUP($F18,Bern2021!$H$12:$P$14,3,FALSE)","v":199},"NA","NA","NA",{"$f":"IF(OR(L18=\"NA\",L18=\"E\"),\"NA\",IF(L18=\"Y\",COUNTIF($M$1:N17,N18)+1,COUNTIF($M$1:N17,N18)+1))","v":"NA"},"NA","NA","NA","Day0_Time_Slot1_Parallel 04"]
[5,"Day0_Time_Slot1_Parallel 05","Day0_Time_Slot1",0,1,"Parallel 05",{"$f":"VLOOKUP($D$1&D19,Bern2021!A:F,6,FALSE)","v":"2021-10-03"},{"$f":"MID(VLOOKUP($D$1&D19&$E$1&E19,Bern2021!A:F,5,FALSE),1,SEARCH(\"(\",VLOOKUP($D$1&D19&$E$1&E19,Bern2021!A:F,5,FALSE))-2)","v":"15:00 - 16:45"},"1:45",{"$f":"HLOOKUP($F19,Bern2021!$H$12:$P$14,2,FALSE)","v":"Panorama 1"},{"$f":"HLOOKUP($F19,Bern2021!$H$12:$P$14,3,FALSE)","v":125},"NA","NA","NA",{"$f":"IF(OR(L19=\"NA\",L19=\"E\"),\"NA\",IF(L19=\"Y\",COUNTIF($M$1:N18,N19)+1,COUNTIF($M$1:N18,N19)+1))","v":"NA"},"NA","NA","NA","Day0_Time_Slot1_Parallel 05"]
[6,"Day0_Time_Slot1_Parallel 06","Day0_Time_Slot1",0,1,"Parallel 06",{"$f":"VLOOKUP($D$1&D20,Bern2021!A:F,6,FALSE)","v":"2021-10-03"},{"$f":"MID(VLOOKUP($D$1&D20&$E$1&E20,Bern2021!A:F,5,FALSE),1,SEARCH(\"(\",VLOOKUP($D$1&D20&$E$1&E20,Bern2021!A:F,5,FALSE))-2)","v":"15:00 - 16:45"},"1:45",{"$f":"HLOOKUP($F20,Bern2021!$H$12:$P$14,2,FALSE)","v":"Szenario 1 (^^)"},{"$f":"HLOOKUP($F20,Bern2021!$H$12:$P$14,3,FALSE)","v":131},"NA","NA","NA",{"$f":"IF(OR(L20=\"NA\",L20=\"E\"),\"NA\",IF(L20=\"Y\",COUNTIF($M$1:N19,N20)+1,COUNTIF($M$1:N19,N20)+1))","v":"NA"},"NA","NA","NA","Day0_Time_Slot1_Parallel 06"]
[7,"Day0_Time_Slot1_Parallel 07","Day0_Time_Slot1",0,1,"Parallel 07",{"$f":"VLOOKUP($D$1&D21,Bern2021!A:F,6,FALSE)","v":"2021-10-03"},{"$f":"MID(VLOOKUP($D$1&D21&$E$1&E21,Bern2021!A:F,5,FALSE),1,SEARCH(\"(\",VLOOKUP($D$1&D21&$E$1&E21,Bern2021!A:F,5,FALSE))-2)","v":"15:00 - 16:45"},"1:45",{"$f":"HLOOKUP($F21,Bern2021!$H$12:$P$14,2,FALSE)","v":"Aare 1 (^^)"},{"$f":"HLOOKUP($F21,Bern2021!$H$12:$P$14,3,FALSE)","v":63},"NA","NA","NA",{"$f":"IF(OR(L21=\"NA\",L21=\"E\"),\"NA\",IF(L21=\"Y\",COUNTIF($M$1:N20,N21)+1,COUNTIF($M$1:N20,N21)+1))","v":"NA"},"NA","NA","NA","Day0_Time_Slot1_Parallel 07"]
[8,"Day0_Time_Slot1_Parallel 08","Day0_Time_Slot1",0,1,"Parallel 08",{"$f":"VLOOKUP($D$1&D22,Bern2021!A:F,6,FALSE)","v":"2021-10-03"},{"$f":"MID(VLOOKUP($D$1&D22&$E$1&E22,Bern2021!A:F,5,FALSE),1,SEARCH(\"(\",VLOOKUP($D$1&D22&$E$1&E22,Bern2021!A:F,5,FALSE))-2)","v":"15:00 - 16:45"},"1:45",{"$f":"HLOOKUP($F22,Bern2021!$H$12:$P$14,2,FALSE)","v":"Aare 2 (^^)"},{"$f":"HLOOKUP($F22,Bern2021!$H$12:$P$14,3,FALSE)","v":63},"NA","NA","NA",{"$f":"IF(OR(L22=\"NA\",L22=\"E\"),\"NA\",IF(L22=\"Y\",COUNTIF($M$1:N21,N22)+1,COUNTIF($M$1:N21,N22)+1))","v":"NA"},"NA","NA","NA","Day0_Time_Slot1_Parallel 08"]
[9,"Day0_Time_Slot1_Parallel 09","Day0_Time_Slot1",0,1,"Parallel 09",{"$f":"VLOOKUP($D$1&D23,Bern2021!A:F,6,FALSE)","v":"2021-10-03"},{"$f":"MID(VLOOKUP($D$1&D23&$E$1&E23,Bern2021!A:F,5,FALSE),1,SEARCH(\"(\",VLOOKUP($D$1&D23&$E$1&E23,Bern2021!A:F,5,FALSE))-2)","v":"15:00 - 16:45"},"1:45",{"$f":"HLOOKUP($F23,Bern2021!$H$12:$P$14,2,FALSE)","v":"Aare 3 (^^)"},{"$f":"HLOOKUP($F23,Bern2021!$H$12:$P$14,3,FALSE)","v":75},"NA","NA","NA",{"$f":"IF(OR(L23=\"NA\",L23=\"E\"),\"NA\",IF(L23=\"Y\",COUNTIF($M$1:N22,N23)+1,COUNTIF($M$1:N22,N23)+1))","v":"NA"},"NA","NA","NA","Day0_Time_Slot1_Parallel 09"]
[21,"Day1_Time_Slot2_Parallel 02","Day1_Time_Slot2",1,2,"Parallel 02",{"$f":"VLOOKUP($D$1&D24,Bern2021!A:F,6,FALSE)","v":"2021-10-04"},{"$f":"MID(VLOOKUP($D$1&D24&$E$1&E24,Bern2021!A:F,5,FALSE),1,SEARCH(\"(\",VLOOKUP($D$1&D24&$E$1&E24,Bern2021!A:F,5,FALSE))-2)","v":"10:30 - 10:45"},"0:15",{"$f":"HLOOKUP($F24,Bern2021!$H$12:$P$14,2,FALSE)","v":"Aare"},{"$f":"HLOOKUP($F24,Bern2021!$H$12:$P$14,3,FALSE)","v":298},"NA","NA","NA",{"$f":"IF(OR(L24=\"NA\",L24=\"E\"),\"NA\",IF(L24=\"Y\",COUNTIF($M$1:N23,N24)+1,COUNTIF($M$1:N23,N24)+1))","v":"NA"},"NA","NA","NA","Day1_Time_Slot2_Parallel 02"]
[22,"Day1_Time_Slot2_Parallel 03","Day1_Time_Slot2",1,2,"Parallel 03",{"$f":"VLOOKUP($D$1&D25,Bern2021!A:F,6,FALSE)","v":"2021-10-04"},{"$f":"MID(VLOOKUP($D$1&D25&$E$1&E25,Bern2021!A:F,5,FALSE),1,SEARCH(\"(\",VLOOKUP($D$1&D25&$E$1&E25,Bern2021!A:F,5,FALSE))-2)","v":"10:30 - 10:45"},"0:15",{"$f":"HLOOKUP($F25,Bern2021!$H$12:$P$14,2,FALSE)","v":"Szenario 2"},{"$f":"HLOOKUP($F25,Bern2021!$H$12:$P$14,3,FALSE)","v":221},"NA","NA","NA",{"$f":"IF(OR(L25=\"NA\",L25=\"E\"),\"NA\",IF(L25=\"Y\",COUNTIF($M$1:N24,N25)+1,COUNTIF($M$1:N24,N25)+1))","v":"NA"},"NA","NA","NA","Day1_Time_Slot2_Parallel 03"]
[23,"Day1_Time_Slot2_Parallel 04","Day1_Time_Slot2",1,2,"Parallel 04",{"$f":"VLOOKUP($D$1&D26,Bern2021!A:F,6,FALSE)","v":"2021-10-04"},{"$f":"MID(VLOOKUP($D$1&D26&$E$1&E26,Bern2021!A:F,5,FALSE),1,SEARCH(\"(\",VLOOKUP($D$1&D26&$E$1&E26,Bern2021!A:F,5,FALSE))-2)","v":"10:30 - 10:45"},"0:15",{"$f":"HLOOKUP($F26,Bern2021!$H$12:$P$14,2,FALSE)","v":"Panorama 2-4"},{"$f":"HLOOKUP($F26,Bern2021!$H$12:$P$14,3,FALSE)","v":199},"NA","NA","NA",{"$f":"IF(OR(L26=\"NA\",L26=\"E\"),\"NA\",IF(L26=\"Y\",COUNTIF($M$1:N25,N26)+1,COUNTIF($M$1:N25,N26)+1))","v":"NA"},"NA","NA","NA","Day1_Time_Slot2_Parallel 04"]
[24,"Day1_Time_Slot2_Parallel 05","Day1_Time_Slot2",1,2,"Parallel 05",{"$f":"VLOOKUP($D$1&D27,Bern2021!A:F,6,FALSE)","v":"2021-10-04"},{"$f":"MID(VLOOKUP($D$1&D27&$E$1&E27,Bern2021!A:F,5,FALSE),1,SEARCH(\"(\",VLOOKUP($D$1&D27&$E$1&E27,Bern2021!A:F,5,FALSE))-2)","v":"10:30 - 10:45"},"0:15",{"$f":"HLOOKUP($F27,Bern2021!$H$12:$P$14,2,FALSE)","v":"Panorama 1"},{"$f":"HLOOKUP($F27,Bern2021!$H$12:$P$14,3,FALSE)","v":125},"NA","NA","NA",{"$f":"IF(OR(L27=\"NA\",L27=\"E\"),\"NA\",IF(L27=\"Y\",COUNTIF($M$1:N26,N27)+1,COUNTIF($M$1:N26,N27)+1))","v":"NA"},"NA","NA","NA","Day1_Time_Slot2_Parallel 05"]
[25,"Day1_Time_Slot2_Parallel 06","Day1_Time_Slot2",1,2,"Parallel 06",{"$f":"VLOOKUP($D$1&D28,Bern2021!A:F,6,FALSE)","v":"2021-10-04"},{"$f":"MID(VLOOKUP($D$1&D28&$E$1&E28,Bern2021!A:F,5,FALSE),1,SEARCH(\"(\",VLOOKUP($D$1&D28&$E$1&E28,Bern2021!A:F,5,FALSE))-2)","v":"10:30 - 10:45"},"0:15",{"$f":"HLOOKUP($F28,Bern2021!$H$12:$P$14,2,FALSE)","v":"Szenario 1 (^^)"},{"$f":"HLOOKUP($F28,Bern2021!$H$12:$P$14,3,FALSE)","v":131},"NA","NA","NA",{"$f":"IF(OR(L28=\"NA\",L28=\"E\"),\"NA\",IF(L28=\"Y\",COUNTIF($M$1:N27,N28)+1,COUNTIF($M$1:N27,N28)+1))","v":"NA"},"NA","NA","NA","Day1_Time_Slot2_Parallel 06"]
[26,"Day1_Time_Slot2_Parallel 07","Day1_Time_Slot2",1,2,"Parallel 07",{"$f":"VLOOKUP($D$1&D29,Bern2021!A:F,6,FALSE)","v":"2021-10-04"},{"$f":"MID(VLOOKUP($D$1&D29&$E$1&E29,Bern2021!A:F,5,FALSE),1,SEARCH(\"(\",VLOOKUP($D$1&D29&$E$1&E29,Bern2021!A:F,5,FALSE))-2)","v":"10:30 - 10:45"},"0:15",{"$f":"HLOOKUP($F29,Bern2021!$H$12:$P$14,2,FALSE)","v":"Aare 1 (^^)"},{"$f":"HLOOKUP($F29,Bern2021!$H$12:$P$14,3,FALSE)","v":63},"NA","NA","NA",{"$f":"IF(OR(L29=\"NA\",L29=\"E\"),\"NA\",IF(L29=\"Y\",COUNTIF($M$1:N28,N29)+1,COUNTIF($M$1:N28,N29)+1))","v":"NA"},"NA","NA","NA","Day1_Time_Slot2_Parallel 07"]
[27,"Day1_Time_Slot2_Parallel 08","Day1_Time_Slot2",1,2,"Parallel 08",{"$f":"VLOOKUP($D$1&D30,Bern2021!A:F,6,FALSE)","v":"2021-10-04"},{"$f":"MID(VLOOKUP($D$1&D30&$E$1&E30,Bern2021!A:F,5,FALSE),1,SEARCH(\"(\",VLOOKUP($D$1&D30&$E$1&E30,Bern2021!A:F,5,FALSE))-2)","v":"10:30 - 10:45"},"0:15",{"$f":"HLOOKUP($F30,Bern2021!$H$12:$P$14,2,FALSE)","v":"Aare 2 (^^)"},{"$f":"HLOOKUP($F30,Bern2021!$H$12:$P$14,3,FALSE)","v":63},"NA","NA","NA",{"$f":"IF(OR(L30=\"NA\",L30=\"E\"),\"NA\",IF(L30=\"Y\",COUNTIF($M$1:N29,N30)+1,COUNTIF($M$1:N29,N30)+1))","v":"NA"},"NA","NA","NA","Day1_Time_Slot2_Parallel 08"]
[28,"Day1_Time_Slot2_Parallel 09","Day1_Time_Slot2",1,2,"Parallel 09",{"$f":"VLOOKUP($D$1&D31,Bern2021!A:F,6,FALSE)","v":"2021-10-04"},{"$f":"MID(VLOOKUP($D$1&D31&$E$1&E31,Bern2021!A:F,5,FALSE),1,SEARCH(\"(\",VLOOKUP($D$1&D31&$E$1&E31,Bern2021!A:F,5,FALSE))-2)","v":"10:30 - 10:45"},"0:15",{"$f":"HLOOKUP($F31,Bern2021!$H$12:$P$14,2,FALSE)","v":"Aare 3 (^^)"},{"$f":"HLOOKUP($F31,Bern2021!$H$12:$P$14,3,FALSE)","v":75},"NA","NA","NA",{"$f":"IF(OR(L31=\"NA\",L31=\"E\"),\"NA\",IF(L31=\"Y\",COUNTIF($M$1:N30,N31)+1,COUNTIF($M$1:N30,N31)+1))","v":"NA"},"NA","NA","NA","Day1_Time_Slot2_Parallel 09"]
[30,"Day1_Time_Slot3_Parallel 02","Day1_Time_Slot3",1,3,"Parallel 02",{"$f":"VLOOKUP($D$1&D32,Bern2021!A:F,6,FALSE)","v":"2021-10-04"},{"$f":"MID(VLOOKUP($D$1&D32&$E$1&E32,Bern2021!A:F,5,FALSE),1,SEARCH(\"(\",VLOOKUP($D$1&D32&$E$1&E32,Bern2021!A:F,5,FALSE))-2)","v":"10:45 - 12:00"},"1:15",{"$f":"HLOOKUP($F32,Bern2021!$H$12:$P$14,2,FALSE)","v":"Aare"},{"$f":"HLOOKUP($F32,Bern2021!$H$12:$P$14,3,FALSE)","v":298},"NA","NA","NA",{"$f":"IF(OR(L32=\"NA\",L32=\"E\"),\"NA\",IF(L32=\"Y\",COUNTIF($M$1:N31,N32)+1,COUNTIF($M$1:N31,N32)+1))","v":"NA"},"NA","NA","NA","Day1_Time_Slot3_Parallel 02"]
[31,"Day1_Time_Slot3_Parallel 03","Day1_Time_Slot3",1,3,"Parallel 03",{"$f":"VLOOKUP($D$1&D33,Bern2021!A:F,6,FALSE)","v":"2021-10-04"},{"$f":"MID(VLOOKUP($D$1&D33&$E$1&E33,Bern2021!A:F,5,FALSE),1,SEARCH(\"(\",VLOOKUP($D$1&D33&$E$1&E33,Bern2021!A:F,5,FALSE))-2)","v":"10:45 - 12:00"},"1:15",{"$f":"HLOOKUP($F33,Bern2021!$H$12:$P$14,2,FALSE)","v":"Szenario 2"},{"$f":"HLOOKUP($F33,Bern2021!$H$12:$P$14,3,FALSE)","v":221},"NA","NA","NA",{"$f":"IF(OR(L33=\"NA\",L33=\"E\"),\"NA\",IF(L33=\"Y\",COUNTIF($M$1:N32,N33)+1,COUNTIF($M$1:N32,N33)+1))","v":"NA"},"NA","NA","NA","Day1_Time_Slot3_Parallel 03"]
[32,{"$f":"C34&\"_\"&F34","v":"Day1_Time_Slot3_Parallel 04"},{"$f":"$D$1&D34&\"_\"&$E$1&E34","v":"Day1_Time_Slot3"},1,3,"Parallel 04",{"$f":"VLOOKUP($D$1&D34,Bern2021!A:F,6,FALSE)","v":"2021-10-04"},{"$f":"MID(VLOOKUP($D$1&D34&$E$1&E34,Bern2021!A:F,5,FALSE),1,SEARCH(\"(\",VLOOKUP($D$1&D34&$E$1&E34,Bern2021!A:F,5,FALSE))-2)","v":"10:45 - 12:00"},{"$f":"TEXT(MID(H34,SEARCH(\"-\",H34)+2,LEN(H34)-SEARCH(\"-\",H34)-1)-MID(H34,1,SEARCH(\"-\",H34)-1),\"h:mm\")","v":"1:15"},{"$f":"HLOOKUP($F34,Bern2021!$H$12:$P$14,2,FALSE)","v":"Panorama 2-4"},{"$f":"HLOOKUP($F34,Bern2021!$H$12:$P$14,3,FALSE)","v":199},"NA","NA","NA",{"$f":"IF(OR(L34=\"NA\",L34=\"E\"),\"NA\",IF(L34=\"Y\",COUNTIF($M$1:N33,N34)+1,COUNTIF($M$1:N33,N34)+1))","v":"NA"},"NA","NA","NA",{"$f":"B34","v":"Day1_Time_Slot3_Parallel 04"}]
[33,"Day1_Time_Slot3_Parallel 05","Day1_Time_Slot3",1,3,"Parallel 05",{"$f":"VLOOKUP($D$1&D35,Bern2021!A:F,6,FALSE)","v":"2021-10-04"},{"$f":"MID(VLOOKUP($D$1&D35&$E$1&E35,Bern2021!A:F,5,FALSE),1,SEARCH(\"(\",VLOOKUP($D$1&D35&$E$1&E35,Bern2021!A:F,5,FALSE))-2)","v":"10:45 - 12:00"},"1:15",{"$f":"HLOOKUP($F35,Bern2021!$H$12:$P$14,2,FALSE)","v":"Panorama 1"},{"$f":"HLOOKUP($F35,Bern2021!$H$12:$P$14,3,FALSE)","v":125},"NA","NA","NA",{"$f":"IF(OR(L35=\"NA\",L35=\"E\"),\"NA\",IF(L35=\"Y\",COUNTIF($M$1:N34,N35)+1,COUNTIF($M$1:N34,N35)+1))","v":"NA"},"NA","NA","NA","Day1_Time_Slot3_Parallel 05"]
[34,"Day1_Time_Slot3_Parallel 06","Day1_Time_Slot3",1,3,"Parallel 06",{"$f":"VLOOKUP($D$1&D36,Bern2021!A:F,6,FALSE)","v":"2021-10-04"},{"$f":"MID(VLOOKUP($D$1&D36&$E$1&E36,Bern2021!A:F,5,FALSE),1,SEARCH(\"(\",VLOOKUP($D$1&D36&$E$1&E36,Bern2021!A:F,5,FALSE))-2)","v":"10:45 - 12:00"},"1:15",{"$f":"HLOOKUP($F36,Bern2021!$H$12:$P$14,2,FALSE)","v":"Szenario 1 (^^)"},{"$f":"HLOOKUP($F36,Bern2021!$H$12:$P$14,3,FALSE)","v":131},"NA","NA","NA",{"$f":"IF(OR(L36=\"NA\",L36=\"E\"),\"NA\",IF(L36=\"Y\",COUNTIF($M$1:N35,N36)+1,COUNTIF($M$1:N35,N36)+1))","v":"NA"},"NA","NA","NA","Day1_Time_Slot3_Parallel 06"]
[35,"Day1_Time_Slot3_Parallel 07","Day1_Time_Slot3",1,3,"Parallel 07",{"$f":"VLOOKUP($D$1&D37,Bern2021!A:F,6,FALSE)","v":"2021-10-04"},{"$f":"MID(VLOOKUP($D$1&D37&$E$1&E37,Bern2021!A:F,5,FALSE),1,SEARCH(\"(\",VLOOKUP($D$1&D37&$E$1&E37,Bern2021!A:F,5,FALSE))-2)","v":"10:45 - 12:00"},"1:15",{"$f":"HLOOKUP($F37,Bern2021!$H$12:$P$14,2,FALSE)","v":"Aare 1 (^^)"},{"$f":"HLOOKUP($F37,Bern2021!$H$12:$P$14,3,FALSE)","v":63},"NA","NA","NA",{"$f":"IF(OR(L37=\"NA\",L37=\"E\"),\"NA\",IF(L37=\"Y\",COUNTIF($M$1:N36,N37)+1,COUNTIF($M$1:N36,N37)+1))","v":"NA"},"NA","NA","NA","Day1_Time_Slot3_Parallel 07"]
[36,"Day1_Time_Slot3_Parallel 08","Day1_Time_Slot3",1,3,"Parallel 08",{"$f":"VLOOKUP($D$1&D38,Bern2021!A:F,6,FALSE)","v":"2021-10-04"},{"$f":"MID(VLOOKUP($D$1&D38&$E$1&E38,Bern2021!A:F,5,FALSE),1,SEARCH(\"(\",VLOOKUP($D$1&D38&$E$1&E38,Bern2021!A:F,5,FALSE))-2)","v":"10:45 - 12:00"},"1:15",{"$f":"HLOOKUP($F38,Bern2021!$H$12:$P$14,2,FALSE)","v":"Aare 2 (^^)"},{"$f":"HLOOKUP($F38,Bern2021!$H$12:$P$14,3,FALSE)","v":63},"NA","NA","NA",{"$f":"IF(OR(L38=\"NA\",L38=\"E\"),\"NA\",IF(L38=\"Y\",COUNTIF($M$1:N37,N38)+1,COUNTIF($M$1:N37,N38)+1))","v":"NA"},"NA","NA","NA","Day1_Time_Slot3_Parallel 08"]
[37,"Day1_Time_Slot3_Parallel 09","Day1_Time_Slot3",1,3,"Parallel 09",{"$f":"VLOOKUP($D$1&D39,Bern2021!A:F,6,FALSE)","v":"2021-10-04"},{"$f":"MID(VLOOKUP($D$1&D39&$E$1&E39,Bern2021!A:F,5,FALSE),1,SEARCH(\"(\",VLOOKUP($D$1&D39&$E$1&E39,Bern2021!A:F,5,FALSE))-2)","v":"10:45 - 12:00"},"1:15",{"$f":"HLOOKUP($F39,Bern2021!$H$12:$P$14,2,FALSE)","v":"Aare 3 (^^)"},{"$f":"HLOOKUP($F39,Bern2021!$H$12:$P$14,3,FALSE)","v":75},"NA","NA","NA",{"$f":"IF(OR(L39=\"NA\",L39=\"E\"),\"NA\",IF(L39=\"Y\",COUNTIF($M$1:N38,N39)+1,COUNTIF($M$1:N38,N39)+1))","v":"NA"},"NA","NA","NA","Day1_Time_Slot3_Parallel 09"]
[39,"Day1_Time_Slot4_Parallel 02","Day1_Time_Slot4",1,4,"Parallel 02",{"$f":"VLOOKUP($D$1&D40,Bern2021!A:F,6,FALSE)","v":"2021-10-04"},{"$f":"MID(VLOOKUP($D$1&D40&$E$1&E40,Bern2021!A:F,5,FALSE),1,SEARCH(\"(\",VLOOKUP($D$1&D40&$E$1&E40,Bern2021!A:F,5,FALSE))-2)","v":"13:15 - 14:30"},"1:15",{"$f":"HLOOKUP($F40,Bern2021!$H$12:$P$14,2,FALSE)","v":"Aare"},{"$f":"HLOOKUP($F40,Bern2021!$H$12:$P$14,3,FALSE)","v":298},"NA","NA","NA",{"$f":"IF(OR(L40=\"NA\",L40=\"E\"),\"NA\",IF(L40=\"Y\",COUNTIF($M$1:N39,N40)+1,COUNTIF($M$1:N39,N40)+1))","v":"NA"},"NA","NA","NA","Day1_Time_Slot4_Parallel 02"]
[40,"Day1_Time_Slot4_Parallel 03","Day1_Time_Slot4",1,4,"Parallel 03",{"$f":"VLOOKUP($D$1&D41,Bern2021!A:F,6,FALSE)","v":"2021-10-04"},{"$f":"MID(VLOOKUP($D$1&D41&$E$1&E41,Bern2021!A:F,5,FALSE),1,SEARCH(\"(\",VLOOKUP($D$1&D41&$E$1&E41,Bern2021!A:F,5,FALSE))-2)","v":"13:15 - 14:30"},"1:15",{"$f":"HLOOKUP($F41,Bern2021!$H$12:$P$14,2,FALSE)","v":"Szenario 2"},{"$f":"HLOOKUP($F41,Bern2021!$H$12:$P$14,3,FALSE)","v":221},"NA","NA","NA",{"$f":"IF(OR(L41=\"NA\",L41=\"E\"),\"NA\",IF(L41=\"Y\",COUNTIF($M$1:N40,N41)+1,COUNTIF($M$1:N40,N41)+1))","v":"NA"},"NA","NA","NA","Day1_Time_Slot4_Parallel 03"]
[41,"Day1_Time_Slot4_Parallel 04","Day1_Time_Slot4",1,4,"Parallel 04",{"$f":"VLOOKUP($D$1&D42,Bern2021!A:F,6,FALSE)","v":"2021-10-04"},{"$f":"MID(VLOOKUP($D$1&D42&$E$1&E42,Bern2021!A:F,5,FALSE),1,SEARCH(\"(\",VLOOKUP($D$1&D42&$E$1&E42,Bern2021!A:F,5,FALSE))-2)","v":"13:15 - 14:30"},"1:15",{"$f":"HLOOKUP($F42,Bern2021!$H$12:$P$14,2,FALSE)","v":"Panorama 2-4"},{"$f":"HLOOKUP($F42,Bern2021!$H$12:$P$14,3,FALSE)","v":199},"NA","NA","NA",{"$f":"IF(OR(L42=\"NA\",L42=\"E\"),\"NA\",IF(L42=\"Y\",COUNTIF($M$1:N41,N42)+1,COUNTIF($M$1:N41,N42)+1))","v":"NA"},"NA","NA","NA","Day1_Time_Slot4_Parallel 04"]
[42,"Day1_Time_Slot4_Parallel 05","Day1_Time_Slot4",1,4,"Parallel 05",{"$f":"VLOOKUP($D$1&D43,Bern2021!A:F,6,FALSE)","v":"2021-10-04"},{"$f":"MID(VLOOKUP($D$1&D43&$E$1&E43,Bern2021!A:F,5,FALSE),1,SEARCH(\"(\",VLOOKUP($D$1&D43&$E$1&E43,Bern2021!A:F,5,FALSE))-2)","v":"13:15 - 14:30"},"1:15",{"$f":"HLOOKUP($F43,Bern2021!$H$12:$P$14,2,FALSE)","v":"Panorama 1"},{"$f":"HLOOKUP($F43,Bern2021!$H$12:$P$14,3,FALSE)","v":125},"NA","NA","NA",{"$f":"IF(OR(L43=\"NA\",L43=\"E\"),\"NA\",IF(L43=\"Y\",COUNTIF($M$1:N42,N43)+1,COUNTIF($M$1:N42,N43)+1))","v":"NA"},"NA","NA","NA","Day1_Time_Slot4_Parallel 05"]
[43,"Day1_Time_Slot4_Parallel 06","Day1_Time_Slot4",1,4,"Parallel 06",{"$f":"VLOOKUP($D$1&D44,Bern2021!A:F,6,FALSE)","v":"2021-10-04"},{"$f":"MID(VLOOKUP($D$1&D44&$E$1&E44,Bern2021!A:F,5,FALSE),1,SEARCH(\"(\",VLOOKUP($D$1&D44&$E$1&E44,Bern2021!A:F,5,FALSE))-2)","v":"13:15 - 14:30"},"1:15",{"$f":"HLOOKUP($F44,Bern2021!$H$12:$P$14,2,FALSE)","v":"Szenario 1 (^^)"},{"$f":"HLOOKUP($F44,Bern2021!$H$12:$P$14,3,FALSE)","v":131},"NA","NA","NA",{"$f":"IF(OR(L44=\"NA\",L44=\"E\"),\"NA\",IF(L44=\"Y\",COUNTIF($M$1:N43,N44)+1,COUNTIF($M$1:N43,N44)+1))","v":"NA"},"NA","NA","NA","Day1_Time_Slot4_Parallel 06"]
[44,"Day1_Time_Slot4_Parallel 07","Day1_Time_Slot4",1,4,"Parallel 07",{"$f":"VLOOKUP($D$1&D45,Bern2021!A:F,6,FALSE)","v":"2021-10-04"},{"$f":"MID(VLOOKUP($D$1&D45&$E$1&E45,Bern2021!A:F,5,FALSE),1,SEARCH(\"(\",VLOOKUP($D$1&D45&$E$1&E45,Bern2021!A:F,5,FALSE))-2)","v":"13:15 - 14:30"},"1:15",{"$f":"HLOOKUP($F45,Bern2021!$H$12:$P$14,2,FALSE)","v":"Aare 1 (^^)"},{"$f":"HLOOKUP($F45,Bern2021!$H$12:$P$14,3,FALSE)","v":63},"NA","NA","NA",{"$f":"IF(OR(L45=\"NA\",L45=\"E\"),\"NA\",IF(L45=\"Y\",COUNTIF($M$1:N44,N45)+1,COUNTIF($M$1:N44,N45)+1))","v":"NA"},"NA","NA","NA","Day1_Time_Slot4_Parallel 07"]
[45,"Day1_Time_Slot4_Parallel 08","Day1_Time_Slot4",1,4,"Parallel 08",{"$f":"VLOOKUP($D$1&D46,Bern2021!A:F,6,FALSE)","v":"2021-10-04"},{"$f":"MID(VLOOKUP($D$1&D46&$E$1&E46,Bern2021!A:F,5,FALSE),1,SEARCH(\"(\",VLOOKUP($D$1&D46&$E$1&E46,Bern2021!A:F,5,FALSE))-2)","v":"13:15 - 14:30"},"1:15",{"$f":"HLOOKUP($F46,Bern2021!$H$12:$P$14,2,FALSE)","v":"Aare 2 (^^)"},{"$f":"HLOOKUP($F46,Bern2021!$H$12:$P$14,3,FALSE)","v":63},"NA","NA","NA",{"$f":"IF(OR(L46=\"NA\",L46=\"E\"),\"NA\",IF(L46=\"Y\",COUNTIF($M$1:N45,N46)+1,COUNTIF($M$1:N45,N46)+1))","v":"NA"},"NA","NA","NA","Day1_Time_Slot4_Parallel 08"]
[46,"Day1_Time_Slot4_Parallel 09","Day1_Time_Slot4",1,4,"Parallel 09",{"$f":"VLOOKUP($D$1&D47,Bern2021!A:F,6,FALSE)","v":"2021-10-04"},{"$f":"MID(VLOOKUP($D$1&D47&$E$1&E47,Bern2021!A:F,5,FALSE),1,SEARCH(\"(\",VLOOKUP($D$1&D47&$E$1&E47,Bern2021!A:F,5,FALSE))-2)","v":"13:15 - 14:30"},"1:15",{"$f":"HLOOKUP($F47,Bern2021!$H$12:$P$14,2,FALSE)","v":"Aare 3 (^^)"},{"$f":"HLOOKUP($F47,Bern2021!$H$12:$P$14,3,FALSE)","v":75},"NA","NA","NA",{"$f":"IF(OR(L47=\"NA\",L47=\"E\"),\"NA\",IF(L47=\"Y\",COUNTIF($M$1:N46,N47)+1,COUNTIF($M$1:N46,N47)+1))","v":"NA"},"NA","NA","NA","Day1_Time_Slot4_Parallel 09"]
[57,"Day1_Time_Slot6_Parallel 02","Day1_Time_Slot6",1,6,"Parallel 02",{"$f":"VLOOKUP($D$1&D48,Bern2021!A:F,6,FALSE)","v":"2021-10-04"},{"$f":"MID(VLOOKUP($D$1&D48&$E$1&E48,Bern2021!A:F,5,FALSE),1,SEARCH(\"(\",VLOOKUP($D$1&D48&$E$1&E48,Bern2021!A:F,5,FALSE))-2)","v":"16:15 - 17:30"},"1:15",{"$f":"HLOOKUP($F48,Bern2021!$H$12:$P$14,2,FALSE)","v":"Aare"},{"$f":"HLOOKUP($F48,Bern2021!$H$12:$P$14,3,FALSE)","v":298},"NA","NA","NA",{"$f":"IF(OR(L48=\"NA\",L48=\"E\"),\"NA\",IF(L48=\"Y\",COUNTIF($M$1:N47,N48)+1,COUNTIF($M$1:N47,N48)+1))","v":"NA"},"NA","NA","NA","Day1_Time_Slot6_Parallel 02"]
[58,"Day1_Time_Slot6_Parallel 03","Day1_Time_Slot6",1,6,"Parallel 03",{"$f":"VLOOKUP($D$1&D49,Bern2021!A:F,6,FALSE)","v":"2021-10-04"},{"$f":"MID(VLOOKUP($D$1&D49&$E$1&E49,Bern2021!A:F,5,FALSE),1,SEARCH(\"(\",VLOOKUP($D$1&D49&$E$1&E49,Bern2021!A:F,5,FALSE))-2)","v":"16:15 - 17:30"},"1:15",{"$f":"HLOOKUP($F49,Bern2021!$H$12:$P$14,2,FALSE)","v":"Szenario 2"},{"$f":"HLOOKUP($F49,Bern2021!$H$12:$P$14,3,FALSE)","v":221},"NA","NA","NA",{"$f":"IF(OR(L49=\"NA\",L49=\"E\"),\"NA\",IF(L49=\"Y\",COUNTIF($M$1:N48,N49)+1,COUNTIF($M$1:N48,N49)+1))","v":"NA"},"NA","NA","NA","Day1_Time_Slot6_Parallel 03"]
[59,"Day1_Time_Slot6_Parallel 04","Day1_Time_Slot6",1,6,"Parallel 04",{"$f":"VLOOKUP($D$1&D50,Bern2021!A:F,6,FALSE)","v":"2021-10-04"},{"$f":"MID(VLOOKUP($D$1&D50&$E$1&E50,Bern2021!A:F,5,FALSE),1,SEARCH(\"(\",VLOOKUP($D$1&D50&$E$1&E50,Bern2021!A:F,5,FALSE))-2)","v":"16:15 - 17:30"},"1:15",{"$f":"HLOOKUP($F50,Bern2021!$H$12:$P$14,2,FALSE)","v":"Panorama 2-4"},{"$f":"HLOOKUP($F50,Bern2021!$H$12:$P$14,3,FALSE)","v":199},"NA","NA","NA",{"$f":"IF(OR(L50=\"NA\",L50=\"E\"),\"NA\",IF(L50=\"Y\",COUNTIF($M$1:N49,N50)+1,COUNTIF($M$1:N49,N50)+1))","v":"NA"},"NA","NA","NA","Day1_Time_Slot6_Parallel 04"]
[60,"Day1_Time_Slot6_Parallel 05","Day1_Time_Slot6",1,6,"Parallel 05",{"$f":"VLOOKUP($D$1&D51,Bern2021!A:F,6,FALSE)","v":"2021-10-04"},{"$f":"MID(VLOOKUP($D$1&D51&$E$1&E51,Bern2021!A:F,5,FALSE),1,SEARCH(\"(\",VLOOKUP($D$1&D51&$E$1&E51,Bern2021!A:F,5,FALSE))-2)","v":"16:15 - 17:30"},"1:15",{"$f":"HLOOKUP($F51,Bern2021!$H$12:$P$14,2,FALSE)","v":"Panorama 1"},{"$f":"HLOOKUP($F51,Bern2021!$H$12:$P$14,3,FALSE)","v":125},"NA","NA","NA",{"$f":"IF(OR(L51=\"NA\",L51=\"E\"),\"NA\",IF(L51=\"Y\",COUNTIF($M$1:N50,N51)+1,COUNTIF($M$1:N50,N51)+1))","v":"NA"},"NA","NA","NA","Day1_Time_Slot6_Parallel 05"]
[61,"Day1_Time_Slot6_Parallel 06","Day1_Time_Slot6",1,6,"Parallel 06",{"$f":"VLOOKUP($D$1&D52,Bern2021!A:F,6,FALSE)","v":"2021-10-04"},{"$f":"MID(VLOOKUP($D$1&D52&$E$1&E52,Bern2021!A:F,5,FALSE),1,SEARCH(\"(\",VLOOKUP($D$1&D52&$E$1&E52,Bern2021!A:F,5,FALSE))-2)","v":"16:15 - 17:30"},"1:15",{"$f":"HLOOKUP($F52,Bern2021!$H$12:$P$14,2,FALSE)","v":"Szenario 1 (^^)"},{"$f":"HLOOKUP($F52,Bern2021!$H$12:$P$14,3,FALSE)","v":131},"NA","NA","NA",{"$f":"IF(OR(L52=\"NA\",L52=\"E\"),\"NA\",IF(L52=\"Y\",COUNTIF($M$1:N51,N52)+1,COUNTIF($M$1:N51,N52)+1))","v":"NA"},"NA","NA","NA","Day1_Time_Slot6_Parallel 06"]
[62,"Day1_Time_Slot6_Parallel 07","Day1_Time_Slot6",1,6,"Parallel 07",{"$f":"VLOOKUP($D$1&D53,Bern2021!A:F,6,FALSE)","v":"2021-10-04"},{"$f":"MID(VLOOKUP($D$1&D53&$E$1&E53,Bern2021!A:F,5,FALSE),1,SEARCH(\"(\",VLOOKUP($D$1&D53&$E$1&E53,Bern2021!A:F,5,FALSE))-2)","v":"16:15 - 17:30"},"1:15",{"$f":"HLOOKUP($F53,Bern2021!$H$12:$P$14,2,FALSE)","v":"Aare 1 (^^)"},{"$f":"HLOOKUP($F53,Bern2021!$H$12:$P$14,3,FALSE)","v":63},"NA","NA","NA",{"$f":"IF(OR(L53=\"NA\",L53=\"E\"),\"NA\",IF(L53=\"Y\",COUNTIF($M$1:N52,N53)+1,COUNTIF($M$1:N52,N53)+1))","v":"NA"},"NA","NA","NA","Day1_Time_Slot6_Parallel 07"]
[63,"Day1_Time_Slot6_Parallel 08","Day1_Time_Slot6",1,6,"Parallel 08",{"$f":"VLOOKUP($D$1&D54,Bern2021!A:F,6,FALSE)","v":"2021-10-04"},{"$f":"MID(VLOOKUP($D$1&D54&$E$1&E54,Bern2021!A:F,5,FALSE),1,SEARCH(\"(\",VLOOKUP($D$1&D54&$E$1&E54,Bern2021!A:F,5,FALSE))-2)","v":"16:15 - 17:30"},"1:15",{"$f":"HLOOKUP($F54,Bern2021!$H$12:$P$14,2,FALSE)","v":"Aare 2 (^^)"},{"$f":"HLOOKUP($F54,Bern2021!$H$12:$P$14,3,FALSE)","v":63},"NA","NA","NA",{"$f":"IF(OR(L54=\"NA\",L54=\"E\"),\"NA\",IF(L54=\"Y\",COUNTIF($M$1:N53,N54)+1,COUNTIF($M$1:N53,N54)+1))","v":"NA"},"NA","NA","NA","Day1_Time_Slot6_Parallel 08"]
[64,"Day1_Time_Slot6_Parallel 09","Day1_Time_Slot6",1,6,"Parallel 09",{"$f":"VLOOKUP($D$1&D55,Bern2021!A:F,6,FALSE)","v":"2021-10-04"},{"$f":"MID(VLOOKUP($D$1&D55&$E$1&E55,Bern2021!A:F,5,FALSE),1,SEARCH(\"(\",VLOOKUP($D$1&D55&$E$1&E55,Bern2021!A:F,5,FALSE))-2)","v":"16:15 - 17:30"},"1:15",{"$f":"HLOOKUP($F55,Bern2021!$H$12:$P$14,2,FALSE)","v":"Aare 3 (^^)"},{"$f":"HLOOKUP($F55,Bern2021!$H$12:$P$14,3,FALSE)","v":75},"NA","NA","NA",{"$f":"IF(OR(L55=\"NA\",L55=\"E\"),\"NA\",IF(L55=\"Y\",COUNTIF($M$1:N54,N55)+1,COUNTIF($M$1:N54,N55)+1))","v":"NA"},"NA","NA","NA","Day1_Time_Slot6_Parallel 09"]
[76,"Day2_Time_Slot2_Parallel 02","Day2_Time_Slot2",2,2,"Parallel 02",{"$f":"VLOOKUP($D$1&D56,Bern2021!A:F,6,FALSE)","v":"2021-10-05"},{"$f":"MID(VLOOKUP($D$1&D56&$E$1&E56,Bern2021!A:F,5,FALSE),1,SEARCH(\"(\",VLOOKUP($D$1&D56&$E$1&E56,Bern2021!A:F,5,FALSE))-2)","v":"10:30 - 11:45"},"1:15",{"$f":"HLOOKUP($F56,Bern2021!$H$12:$P$14,2,FALSE)","v":"Aare"},{"$f":"HLOOKUP($F56,Bern2021!$H$12:$P$14,3,FALSE)","v":298},"NA","NA","NA",{"$f":"IF(OR(L56=\"NA\",L56=\"E\"),\"NA\",IF(L56=\"Y\",COUNTIF($M$1:N55,N56)+1,COUNTIF($M$1:N55,N56)+1))","v":"NA"},"NA","NA","NA","Day2_Time_Slot2_Parallel 02"]
[77,"Day2_Time_Slot2_Parallel 03","Day2_Time_Slot2",2,2,"Parallel 03",{"$f":"VLOOKUP($D$1&D57,Bern2021!A:F,6,FALSE)","v":"2021-10-05"},{"$f":"MID(VLOOKUP($D$1&D57&$E$1&E57,Bern2021!A:F,5,FALSE),1,SEARCH(\"(\",VLOOKUP($D$1&D57&$E$1&E57,Bern2021!A:F,5,FALSE))-2)","v":"10:30 - 11:45"},"1:15",{"$f":"HLOOKUP($F57,Bern2021!$H$12:$P$14,2,FALSE)","v":"Szenario 2"},{"$f":"HLOOKUP($F57,Bern2021!$H$12:$P$14,3,FALSE)","v":221},"NA","NA","NA",{"$f":"IF(OR(L57=\"NA\",L57=\"E\"),\"NA\",IF(L57=\"Y\",COUNTIF($M$1:N56,N57)+1,COUNTIF($M$1:N56,N57)+1))","v":"NA"},"NA","NA","NA","Day2_Time_Slot2_Parallel 03"]
[78,"Day2_Time_Slot2_Parallel 04","Day2_Time_Slot2",2,2,"Parallel 04",{"$f":"VLOOKUP($D$1&D58,Bern2021!A:F,6,FALSE)","v":"2021-10-05"},{"$f":"MID(VLOOKUP($D$1&D58&$E$1&E58,Bern2021!A:F,5,FALSE),1,SEARCH(\"(\",VLOOKUP($D$1&D58&$E$1&E58,Bern2021!A:F,5,FALSE))-2)","v":"10:30 - 11:45"},"1:15",{"$f":"HLOOKUP($F58,Bern2021!$H$12:$P$14,2,FALSE)","v":"Panorama 2-4"},{"$f":"HLOOKUP($F58,Bern2021!$H$12:$P$14,3,FALSE)","v":199},"NA","NA","NA",{"$f":"IF(OR(L58=\"NA\",L58=\"E\"),\"NA\",IF(L58=\"Y\",COUNTIF($M$1:N57,N58)+1,COUNTIF($M$1:N57,N58)+1))","v":"NA"},"NA","NA","NA","Day2_Time_Slot2_Parallel 04"]
[79,"Day2_Time_Slot2_Parallel 05","Day2_Time_Slot2",2,2,"Parallel 05",{"$f":"VLOOKUP($D$1&D59,Bern2021!A:F,6,FALSE)","v":"2021-10-05"},{"$f":"MID(VLOOKUP($D$1&D59&$E$1&E59,Bern2021!A:F,5,FALSE),1,SEARCH(\"(\",VLOOKUP($D$1&D59&$E$1&E59,Bern2021!A:F,5,FALSE))-2)","v":"10:30 - 11:45"},"1:15",{"$f":"HLOOKUP($F59,Bern2021!$H$12:$P$14,2,FALSE)","v":"Panorama 1"},{"$f":"HLOOKUP($F59,Bern2021!$H$12:$P$14,3,FALSE)","v":125},"NA","NA","NA",{"$f":"IF(OR(L59=\"NA\",L59=\"E\"),\"NA\",IF(L59=\"Y\",COUNTIF($M$1:N58,N59)+1,COUNTIF($M$1:N58,N59)+1))","v":"NA"},"NA","NA","NA","Day2_Time_Slot2_Parallel 05"]
[80,"Day2_Time_Slot2_Parallel 06","Day2_Time_Slot2",2,2,"Parallel 06",{"$f":"VLOOKUP($D$1&D60,Bern2021!A:F,6,FALSE)","v":"2021-10-05"},{"$f":"MID(VLOOKUP($D$1&D60&$E$1&E60,Bern2021!A:F,5,FALSE),1,SEARCH(\"(\",VLOOKUP($D$1&D60&$E$1&E60,Bern2021!A:F,5,FALSE))-2)","v":"10:30 - 11:45"},"1:15",{"$f":"HLOOKUP($F60,Bern2021!$H$12:$P$14,2,FALSE)","v":"Szenario 1 (^^)"},{"$f":"HLOOKUP($F60,Bern2021!$H$12:$P$14,3,FALSE)","v":131},"NA","NA","NA",{"$f":"IF(OR(L60=\"NA\",L60=\"E\"),\"NA\",IF(L60=\"Y\",COUNTIF($M$1:N59,N60)+1,COUNTIF($M$1:N59,N60)+1))","v":"NA"},"NA","NA","NA","Day2_Time_Slot2_Parallel 06"]
[81,"Day2_Time_Slot2_Parallel 07","Day2_Time_Slot2",2,2,"Parallel 07",{"$f":"VLOOKUP($D$1&D61,Bern2021!A:F,6,FALSE)","v":"2021-10-05"},{"$f":"MID(VLOOKUP($D$1&D61&$E$1&E61,Bern2021!A:F,5,FALSE),1,SEARCH(\"(\",VLOOKUP($D$1&D61&$E$1&E61,Bern2021!A:F,5,FALSE))-2)","v":"10:30 - 11:45"},"1:15",{"$f":"HLOOKUP($F61,Bern2021!$H$12:$P$14,2,FALSE)","v":"Aare 1 (^^)"},{"$f":"HLOOKUP($F61,Bern2021!$H$12:$P$14,3,FALSE)","v":63},"NA","NA","NA",{"$f":"IF(OR(L61=\"NA\",L61=\"E\"),\"NA\",IF(L61=\"Y\",COUNTIF($M$1:N60,N61)+1,COUNTIF($M$1:N60,N61)+1))","v":"NA"},"NA","NA","NA","Day2_Time_Slot2_Parallel 07"]
[82,"Day2_Time_Slot2_Parallel 08","Day2_Time_Slot2",2,2,"Parallel 08",{"$f":"VLOOKUP($D$1&D62,Bern2021!A:F,6,FALSE)","v":"2021-10-05"},{"$f":"MID(VLOOKUP($D$1&D62&$E$1&E62,Bern2021!A:F,5,FALSE),1,SEARCH(\"(\",VLOOKUP($D$1&D62&$E$1&E62,Bern2021!A:F,5,FALSE))-2)","v":"10:30 - 11:45"},"1:15",{"$f":"HLOOKUP($F62,Bern2021!$H$12:$P$14,2,FALSE)","v":"Aare 2 (^^)"},{"$f":"HLOOKUP($F62,Bern2021!$H$12:$P$14,3,FALSE)","v":63},"NA","NA","NA",{"$f":"IF(OR(L62=\"NA\",L62=\"E\"),\"NA\",IF(L62=\"Y\",COUNTIF($M$1:N61,N62)+1,COUNTIF($M$1:N61,N62)+1))","v":"NA"},"NA","NA","NA","Day2_Time_Slot2_Parallel 08"]
[83,"Day2_Time_Slot2_Parallel 09","Day2_Time_Slot2",2,2,"Parallel 09",{"$f":"VLOOKUP($D$1&D63,Bern2021!A:F,6,FALSE)","v":"2021-10-05"},{"$f":"MID(VLOOKUP($D$1&D63&$E$1&E63,Bern2021!A:F,5,FALSE),1,SEARCH(\"(\",VLOOKUP($D$1&D63&$E$1&E63,Bern2021!A:F,5,FALSE))-2)","v":"10:30 - 11:45"},"1:15",{"$f":"HLOOKUP($F63,Bern2021!$H$12:$P$14,2,FALSE)","v":"Aare 3 (^^)"},{"$f":"HLOOKUP($F63,Bern2021!$H$12:$P$14,3,FALSE)","v":75},"NA","NA","NA",{"$f":"IF(OR(L63=\"NA\",L63=\"E\"),\"NA\",IF(L63=\"Y\",COUNTIF($M$1:N62,N63)+1,COUNTIF($M$1:N62,N63)+1))","v":"NA"},"NA","NA","NA","Day2_Time_Slot2_Parallel 09"]
[85,"Day2_Time_Slot3_Parallel 02","Day2_Time_Slot3",2,3,"Parallel 02",{"$f":"VLOOKUP($D$1&D64,Bern2021!A:F,6,FALSE)","v":"2021-10-05"},{"$f":"MID(VLOOKUP($D$1&D64&$E$1&E64,Bern2021!A:F,5,FALSE),1,SEARCH(\"(\",VLOOKUP($D$1&D64&$E$1&E64,Bern2021!A:F,5,FALSE))-2)","v":"13:15 - 14:30"},"1:15",{"$f":"HLOOKUP($F64,Bern2021!$H$12:$P$14,2,FALSE)","v":"Aare"},{"$f":"HLOOKUP($F64,Bern2021!$H$12:$P$14,3,FALSE)","v":298},"NA","NA","NA",{"$f":"IF(OR(L64=\"NA\",L64=\"E\"),\"NA\",IF(L64=\"Y\",COUNTIF($M$1:N63,N64)+1,COUNTIF($M$1:N63,N64)+1))","v":"NA"},"NA","NA","NA","Day2_Time_Slot3_Parallel 02"]
[86,"Day2_Time_Slot3_Parallel 03","Day2_Time_Slot3",2,3,"Parallel 03",{"$f":"VLOOKUP($D$1&D65,Bern2021!A:F,6,FALSE)","v":"2021-10-05"},{"$f":"MID(VLOOKUP($D$1&D65&$E$1&E65,Bern2021!A:F,5,FALSE),1,SEARCH(\"(\",VLOOKUP($D$1&D65&$E$1&E65,Bern2021!A:F,5,FALSE))-2)","v":"13:15 - 14:30"},"1:15",{"$f":"HLOOKUP($F65,Bern2021!$H$12:$P$14,2,FALSE)","v":"Szenario 2"},{"$f":"HLOOKUP($F65,Bern2021!$H$12:$P$14,3,FALSE)","v":221},"NA","NA","NA",{"$f":"IF(OR(L65=\"NA\",L65=\"E\"),\"NA\",IF(L65=\"Y\",COUNTIF($M$1:N64,N65)+1,COUNTIF($M$1:N64,N65)+1))","v":"NA"},"NA","NA","NA","Day2_Time_Slot3_Parallel 03"]
[87,{"$f":"C66&\"_\"&F66","v":"Day2_Time_Slot3_Parallel 04"},{"$f":"$D$1&D66&\"_\"&$E$1&E66","v":"Day2_Time_Slot3"},2,3,"Parallel 04",{"$f":"VLOOKUP($D$1&D66,Bern2021!A:F,6,FALSE)","v":"2021-10-05"},{"$f":"MID(VLOOKUP($D$1&D66&$E$1&E66,Bern2021!A:F,5,FALSE),1,SEARCH(\"(\",VLOOKUP($D$1&D66&$E$1&E66,Bern2021!A:F,5,FALSE))-2)","v":"13:15 - 14:30"},{"$f":"TEXT(MID(H66,SEARCH(\"-\",H66)+2,LEN(H66)-SEARCH(\"-\",H66)-1)-MID(H66,1,SEARCH(\"-\",H66)-1),\"h:mm\")","v":"1:15"},{"$f":"HLOOKUP($F66,Bern2021!$H$12:$P$14,2,FALSE)","v":"Panorama 2-4"},{"$f":"HLOOKUP($F66,Bern2021!$H$12:$P$14,3,FALSE)","v":199},"NA","NA","NA",{"$f":"IF(OR(L66=\"NA\",L66=\"E\"),\"NA\",IF(L66=\"Y\",COUNTIF($M$1:N65,N66)+1,COUNTIF($M$1:N65,N66)+1))","v":"NA"},"NA","NA","NA",{"$f":"B66","v":"Day2_Time_Slot3_Parallel 04"}]
[88,"Day2_Time_Slot3_Parallel 05","Day2_Time_Slot3",2,3,"Parallel 05",{"$f":"VLOOKUP($D$1&D67,Bern2021!A:F,6,FALSE)","v":"2021-10-05"},{"$f":"MID(VLOOKUP($D$1&D67&$E$1&E67,Bern2021!A:F,5,FALSE),1,SEARCH(\"(\",VLOOKUP($D$1&D67&$E$1&E67,Bern2021!A:F,5,FALSE))-2)","v":"13:15 - 14:30"},"1:15",{"$f":"HLOOKUP($F67,Bern2021!$H$12:$P$14,2,FALSE)","v":"Panorama 1"},{"$f":"HLOOKUP($F67,Bern2021!$H$12:$P$14,3,FALSE)","v":125},"NA","NA","NA",{"$f":"IF(OR(L67=\"NA\",L67=\"E\"),\"NA\",IF(L67=\"Y\",COUNTIF($M$1:N66,N67)+1,COUNTIF($M$1:N66,N67)+1))","v":"NA"},"NA","NA","NA","Day2_Time_Slot3_Parallel 05"]
[89,"Day2_Time_Slot3_Parallel 06","Day2_Time_Slot3",2,3,"Parallel 06",{"$f":"VLOOKUP($D$1&D68,Bern2021!A:F,6,FALSE)","v":"2021-10-05"},{"$f":"MID(VLOOKUP($D$1&D68&$E$1&E68,Bern2021!A:F,5,FALSE),1,SEARCH(\"(\",VLOOKUP($D$1&D68&$E$1&E68,Bern2021!A:F,5,FALSE))-2)","v":"13:15 - 14:30"},"1:15",{"$f":"HLOOKUP($F68,Bern2021!$H$12:$P$14,2,FALSE)","v":"Szenario 1 (^^)"},{"$f":"HLOOKUP($F68,Bern2021!$H$12:$P$14,3,FALSE)","v":131},"NA","NA","NA",{"$f":"IF(OR(L68=\"NA\",L68=\"E\"),\"NA\",IF(L68=\"Y\",COUNTIF($M$1:N67,N68)+1,COUNTIF($M$1:N67,N68)+1))","v":"NA"},"NA","NA","NA","Day2_Time_Slot3_Parallel 06"]
[90,"Day2_Time_Slot3_Parallel 07","Day2_Time_Slot3",2,3,"Parallel 07",{"$f":"VLOOKUP($D$1&D69,Bern2021!A:F,6,FALSE)","v":"2021-10-05"},{"$f":"MID(VLOOKUP($D$1&D69&$E$1&E69,Bern2021!A:F,5,FALSE),1,SEARCH(\"(\",VLOOKUP($D$1&D69&$E$1&E69,Bern2021!A:F,5,FALSE))-2)","v":"13:15 - 14:30"},"1:15",{"$f":"HLOOKUP($F69,Bern2021!$H$12:$P$14,2,FALSE)","v":"Aare 1 (^^)"},{"$f":"HLOOKUP($F69,Bern2021!$H$12:$P$14,3,FALSE)","v":63},"NA","NA","NA",{"$f":"IF(OR(L69=\"NA\",L69=\"E\"),\"NA\",IF(L69=\"Y\",COUNTIF($M$1:N68,N69)+1,COUNTIF($M$1:N68,N69)+1))","v":"NA"},"NA","NA","NA","Day2_Time_Slot3_Parallel 07"]
[91,"Day2_Time_Slot3_Parallel 08","Day2_Time_Slot3",2,3,"Parallel 08",{"$f":"VLOOKUP($D$1&D70,Bern2021!A:F,6,FALSE)","v":"2021-10-05"},{"$f":"MID(VLOOKUP($D$1&D70&$E$1&E70,Bern2021!A:F,5,FALSE),1,SEARCH(\"(\",VLOOKUP($D$1&D70&$E$1&E70,Bern2021!A:F,5,FALSE))-2)","v":"13:15 - 14:30"},"1:15",{"$f":"HLOOKUP($F70,Bern2021!$H$12:$P$14,2,FALSE)","v":"Aare 2 (^^)"},{"$f":"HLOOKUP($F70,Bern2021!$H$12:$P$14,3,FALSE)","v":63},"NA","NA","NA",{"$f":"IF(OR(L70=\"NA\",L70=\"E\"),\"NA\",IF(L70=\"Y\",COUNTIF($M$1:N69,N70)+1,COUNTIF($M$1:N69,N70)+1))","v":"NA"},"NA","NA","NA","Day2_Time_Slot3_Parallel 08"]
[92,"Day2_Time_Slot3_Parallel 09","Day2_Time_Slot3",2,3,"Parallel 09",{"$f":"VLOOKUP($D$1&D71,Bern2021!A:F,6,FALSE)","v":"2021-10-05"},{"$f":"MID(VLOOKUP($D$1&D71&$E$1&E71,Bern2021!A:F,5,FALSE),1,SEARCH(\"(\",VLOOKUP($D$1&D71&$E$1&E71,Bern2021!A:F,5,FALSE))-2)","v":"13:15 - 14:30"},"1:15",{"$f":"HLOOKUP($F71,Bern2021!$H$12:$P$14,2,FALSE)","v":"Aare 3 (^^)"},{"$f":"HLOOKUP($F71,Bern2021!$H$12:$P$14,3,FALSE)","v":75},"NA","NA","NA",{"$f":"IF(OR(L71=\"NA\",L71=\"E\"),\"NA\",IF(L71=\"Y\",COUNTIF($M$1:N70,N71)+1,COUNTIF($M$1:N70,N71)+1))","v":"NA"},"NA","NA","NA","Day2_Time_Slot3_Parallel 09"]
[93,"Day2_Time_Slot4_Parallel 01","Day2_Time_Slot4",2,4,"Parallel 01",{"$f":"VLOOKUP($D$1&D72,Bern2021!A:F,6,FALSE)","v":"2021-10-05"},{"$f":"MID(VLOOKUP($D$1&D72&$E$1&E72,Bern2021!A:F,5,FALSE),1,SEARCH(\"(\",VLOOKUP($D$1&D72&$E$1&E72,Bern2021!A:F,5,FALSE))-2)","v":"15:00 - 16:00"},"1:00",{"$f":"HLOOKUP($F72,Bern2021!$H$12:$P$14,2,FALSE)","v":"Arena"},{"$f":"HLOOKUP($F72,Bern2021!$H$12:$P$14,3,FALSE)","v":1357},"NA","NA","NA",{"$f":"IF(OR(L72=\"NA\",L72=\"E\"),\"NA\",IF(L72=\"Y\",COUNTIF($M$1:N71,N72)+1,COUNTIF($M$1:N71,N72)+1))","v":"NA"},"NA","To set up for Gala evening",null,"Day2_Time_Slot4_Parallel 01"]
[102,"Day2_Time_Slot5_Parallel 01","Day2_Time_Slot5",2,5,"Parallel 01",{"$f":"VLOOKUP($D$1&D73,Bern2021!A:F,6,FALSE)","v":"2021-10-05"},{"$f":"MID(VLOOKUP($D$1&D73&$E$1&E73,Bern2021!A:F,5,FALSE),1,SEARCH(\"(\",VLOOKUP($D$1&D73&$E$1&E73,Bern2021!A:F,5,FALSE))-2)","v":"16:15 - 17:15"},"1:00",{"$f":"HLOOKUP($F73,Bern2021!$H$12:$P$14,2,FALSE)","v":"Arena"},{"$f":"HLOOKUP($F73,Bern2021!$H$12:$P$14,3,FALSE)","v":1357},"NA","NA","NA",{"$f":"IF(OR(L73=\"NA\",L73=\"E\"),\"NA\",IF(L73=\"Y\",COUNTIF($M$1:N72,N73)+1,COUNTIF($M$1:N72,N73)+1))","v":"NA"},"NA","To set up for Gala evening",null,"Day2_Time_Slot5_Parallel 01"]
[131,"Day3_Time_Slot3_Parallel 02","Day3_Time_Slot3",3,3,"Parallel 02",{"$f":"VLOOKUP($D$1&D74,Bern2021!A:F,6,FALSE)","v":"2021-10-06"},{"$f":"MID(VLOOKUP($D$1&D74&$E$1&E74,Bern2021!A:F,5,FALSE),1,SEARCH(\"(\",VLOOKUP($D$1&D74&$E$1&E74,Bern2021!A:F,5,FALSE))-2)","v":"11:15 - 12:30"},"1:15",{"$f":"HLOOKUP($F74,Bern2021!$H$12:$P$14,2,FALSE)","v":"Aare"},{"$f":"HLOOKUP($F74,Bern2021!$H$12:$P$14,3,FALSE)","v":298},"NA","NA","NA",{"$f":"IF(OR(L74=\"NA\",L74=\"E\"),\"NA\",IF(L74=\"Y\",COUNTIF($M$1:N73,N74)+1,COUNTIF($M$1:N73,N74)+1))","v":"NA"},"NA","NA","NA","Day3_Time_Slot3_Parallel 02"]
[132,"Day3_Time_Slot3_Parallel 03","Day3_Time_Slot3",3,3,"Parallel 03",{"$f":"VLOOKUP($D$1&D75,Bern2021!A:F,6,FALSE)","v":"2021-10-06"},{"$f":"MID(VLOOKUP($D$1&D75&$E$1&E75,Bern2021!A:F,5,FALSE),1,SEARCH(\"(\",VLOOKUP($D$1&D75&$E$1&E75,Bern2021!A:F,5,FALSE))-2)","v":"11:15 - 12:30"},"1:15",{"$f":"HLOOKUP($F75,Bern2021!$H$12:$P$14,2,FALSE)","v":"Szenario 2"},{"$f":"HLOOKUP($F75,Bern2021!$H$12:$P$14,3,FALSE)","v":221},"NA","NA","NA",{"$f":"IF(OR(L75=\"NA\",L75=\"E\"),\"NA\",IF(L75=\"Y\",COUNTIF($M$1:N74,N75)+1,COUNTIF($M$1:N74,N75)+1))","v":"NA"},"NA","NA","NA","Day3_Time_Slot3_Parallel 03"]
[133,"Day3_Time_Slot3_Parallel 04","Day3_Time_Slot3",3,3,"Parallel 04",{"$f":"VLOOKUP($D$1&D76,Bern2021!A:F,6,FALSE)","v":"2021-10-06"},{"$f":"MID(VLOOKUP($D$1&D76&$E$1&E76,Bern2021!A:F,5,FALSE),1,SEARCH(\"(\",VLOOKUP($D$1&D76&$E$1&E76,Bern2021!A:F,5,FALSE))-2)","v":"11:15 - 12:30"},"1:15",{"$f":"HLOOKUP($F76,Bern2021!$H$12:$P$14,2,FALSE)","v":"Panorama 2-4"},{"$f":"HLOOKUP($F76,Bern2021!$H$12:$P$14,3,FALSE)","v":199},"NA","NA","NA",{"$f":"IF(OR(L76=\"NA\",L76=\"E\"),\"NA\",IF(L76=\"Y\",COUNTIF($M$1:N75,N76)+1,COUNTIF($M$1:N75,N76)+1))","v":"NA"},"NA","NA","NA","Day3_Time_Slot3_Parallel 04"]
[134,"Day3_Time_Slot3_Parallel 05","Day3_Time_Slot3",3,3,"Parallel 05",{"$f":"VLOOKUP($D$1&D77,Bern2021!A:F,6,FALSE)","v":"2021-10-06"},{"$f":"MID(VLOOKUP($D$1&D77&$E$1&E77,Bern2021!A:F,5,FALSE),1,SEARCH(\"(\",VLOOKUP($D$1&D77&$E$1&E77,Bern2021!A:F,5,FALSE))-2)","v":"11:15 - 12:30"},"1:15",{"$f":"HLOOKUP($F77,Bern2021!$H$12:$P$14,2,FALSE)","v":"Panorama 1"},{"$f":"HLOOKUP($F77,Bern2021!$H$12:$P$14,3,FALSE)","v":125},"NA","NA","NA",{"$f":"IF(OR(L77=\"NA\",L77=\"E\"),\"NA\",IF(L77=\"Y\",COUNTIF($M$1:N76,N77)+1,COUNTIF($M$1:N76,N77)+1))","v":"NA"},"NA","NA","NA","Day3_Time_Slot3_Parallel 05"]
[135,"Day3_Time_Slot3_Parallel 06","Day3_Time_Slot3",3,3,"Parallel 06",{"$f":"VLOOKUP($D$1&D78,Bern2021!A:F,6,FALSE)","v":"2021-10-06"},{"$f":"MID(VLOOKUP($D$1&D78&$E$1&E78,Bern2021!A:F,5,FALSE),1,SEARCH(\"(\",VLOOKUP($D$1&D78&$E$1&E78,Bern2021!A:F,5,FALSE))-2)","v":"11:15 - 12:30"},"1:15",{"$f":"HLOOKUP($F78,Bern2021!$H$12:$P$14,2,FALSE)","v":"Szenario 1 (^^)"},{"$f":"HLOOKUP($F78,Bern2021!$H$12:$P$14,3,FALSE)","v":131},"NA","NA","NA",{"$f":"IF(OR(L78=\"NA\",L78=\"E\"),\"NA\",IF(L78=\"Y\",COUNTIF($M$1:N77,N78)+1,COUNTIF($M$1:N77,N78)+1))","v":"NA"},"NA","NA","NA","Day3_Time_Slot3_Parallel 06"]
[136,"Day3_Time_Slot3_Parallel 07","Day3_Time_Slot3",3,3,"Parallel 07",{"$f":"VLOOKUP($D$1&D79,Bern2021!A:F,6,FALSE)","v":"2021-10-06"},{"$f":"MID(VLOOKUP($D$1&D79&$E$1&E79,Bern2021!A:F,5,FALSE),1,SEARCH(\"(\",VLOOKUP($D$1&D79&$E$1&E79,Bern2021!A:F,5,FALSE))-2)","v":"11:15 - 12:30"},"1:15",{"$f":"HLOOKUP($F79,Bern2021!$H$12:$P$14,2,FALSE)","v":"Aare 1 (^^)"},{"$f":"HLOOKUP($F79,Bern2021!$H$12:$P$14,3,FALSE)","v":63},"NA","NA","NA",{"$f":"IF(OR(L79=\"NA\",L79=\"E\"),\"NA\",IF(L79=\"Y\",COUNTIF($M$1:N78,N79)+1,COUNTIF($M$1:N78,N79)+1))","v":"NA"},"NA","NA","NA","Day3_Time_Slot3_Parallel 07"]
[137,"Day3_Time_Slot3_Parallel 08","Day3_Time_Slot3",3,3,"Parallel 08",{"$f":"VLOOKUP($D$1&D80,Bern2021!A:F,6,FALSE)","v":"2021-10-06"},{"$f":"MID(VLOOKUP($D$1&D80&$E$1&E80,Bern2021!A:F,5,FALSE),1,SEARCH(\"(\",VLOOKUP($D$1&D80&$E$1&E80,Bern2021!A:F,5,FALSE))-2)","v":"11:15 - 12:30"},"1:15",{"$f":"HLOOKUP($F80,Bern2021!$H$12:$P$14,2,FALSE)","v":"Aare 2 (^^)"},{"$f":"HLOOKUP($F80,Bern2021!$H$12:$P$14,3,FALSE)","v":63},"NA","NA","NA",{"$f":"IF(OR(L80=\"NA\",L80=\"E\"),\"NA\",IF(L80=\"Y\",COUNTIF($M$1:N79,N80)+1,COUNTIF($M$1:N79,N80)+1))","v":"NA"},"NA","NA","NA","Day3_Time_Slot3_Parallel 08"]
[138,"Day3_Time_Slot3_Parallel 09","Day3_Time_Slot3",3,3,"Parallel 09",{"$f":"VLOOKUP($D$1&D81,Bern2021!A:F,6,FALSE)","v":"2021-10-06"},{"$f":"MID(VLOOKUP($D$1&D81&$E$1&E81,Bern2021!A:F,5,FALSE),1,SEARCH(\"(\",VLOOKUP($D$1&D81&$E$1&E81,Bern2021!A:F,5,FALSE))-2)","v":"11:15 - 12:30"},"1:15",{"$f":"HLOOKUP($F81,Bern2021!$H$12:$P$14,2,FALSE)","v":"Aare 3 (^^)"},{"$f":"HLOOKUP($F81,Bern2021!$H$12:$P$14,3,FALSE)","v":75},"NA","NA","NA",{"$f":"IF(OR(L81=\"NA\",L81=\"E\"),\"NA\",IF(L81=\"Y\",COUNTIF($M$1:N80,N81)+1,COUNTIF($M$1:N80,N81)+1))","v":"NA"},"NA","NA","NA","Day3_Time_Slot3_Parallel 09"]
[149,"Day3_Time_Slot5_Parallel 02","Day3_Time_Slot5",3,5,"Parallel 02",{"$f":"VLOOKUP($D$1&D82,Bern2021!A:F,6,FALSE)","v":"2021-10-06"},{"$f":"MID(VLOOKUP($D$1&D82&$E$1&E82,Bern2021!A:F,5,FALSE),1,SEARCH(\"(\",VLOOKUP($D$1&D82&$E$1&E82,Bern2021!A:F,5,FALSE))-2)","v":"15:15 - 16:30"},"1:15",{"$f":"HLOOKUP($F82,Bern2021!$H$12:$P$14,2,FALSE)","v":"Aare"},{"$f":"HLOOKUP($F82,Bern2021!$H$12:$P$14,3,FALSE)","v":298},"NA","NA","NA",{"$f":"IF(OR(L82=\"NA\",L82=\"E\"),\"NA\",IF(L82=\"Y\",COUNTIF($M$1:N81,N82)+1,COUNTIF($M$1:N81,N82)+1))","v":"NA"},"NA","NA","NA","Day3_Time_Slot5_Parallel 02"]
[150,"Day3_Time_Slot5_Parallel 03","Day3_Time_Slot5",3,5,"Parallel 03",{"$f":"VLOOKUP($D$1&D83,Bern2021!A:F,6,FALSE)","v":"2021-10-06"},{"$f":"MID(VLOOKUP($D$1&D83&$E$1&E83,Bern2021!A:F,5,FALSE),1,SEARCH(\"(\",VLOOKUP($D$1&D83&$E$1&E83,Bern2021!A:F,5,FALSE))-2)","v":"15:15 - 16:30"},"1:15",{"$f":"HLOOKUP($F83,Bern2021!$H$12:$P$14,2,FALSE)","v":"Szenario 2"},{"$f":"HLOOKUP($F83,Bern2021!$H$12:$P$14,3,FALSE)","v":221},"NA","NA","NA",{"$f":"IF(OR(L83=\"NA\",L83=\"E\"),\"NA\",IF(L83=\"Y\",COUNTIF($M$1:N82,N83)+1,COUNTIF($M$1:N82,N83)+1))","v":"NA"},"NA","NA","NA","Day3_Time_Slot5_Parallel 03"]
[151,"Day3_Time_Slot5_Parallel 04","Day3_Time_Slot5",3,5,"Parallel 04",{"$f":"VLOOKUP($D$1&D84,Bern2021!A:F,6,FALSE)","v":"2021-10-06"},{"$f":"MID(VLOOKUP($D$1&D84&$E$1&E84,Bern2021!A:F,5,FALSE),1,SEARCH(\"(\",VLOOKUP($D$1&D84&$E$1&E84,Bern2021!A:F,5,FALSE))-2)","v":"15:15 - 16:30"},"1:15",{"$f":"HLOOKUP($F84,Bern2021!$H$12:$P$14,2,FALSE)","v":"Panorama 2-4"},{"$f":"HLOOKUP($F84,Bern2021!$H$12:$P$14,3,FALSE)","v":199},"NA","NA","NA",{"$f":"IF(OR(L84=\"NA\",L84=\"E\"),\"NA\",IF(L84=\"Y\",COUNTIF($M$1:N83,N84)+1,COUNTIF($M$1:N83,N84)+1))","v":"NA"},"NA","NA","NA","Day3_Time_Slot5_Parallel 04"]
[152,"Day3_Time_Slot5_Parallel 05","Day3_Time_Slot5",3,5,"Parallel 05",{"$f":"VLOOKUP($D$1&D85,Bern2021!A:F,6,FALSE)","v":"2021-10-06"},{"$f":"MID(VLOOKUP($D$1&D85&$E$1&E85,Bern2021!A:F,5,FALSE),1,SEARCH(\"(\",VLOOKUP($D$1&D85&$E$1&E85,Bern2021!A:F,5,FALSE))-2)","v":"15:15 - 16:30"},"1:15",{"$f":"HLOOKUP($F85,Bern2021!$H$12:$P$14,2,FALSE)","v":"Panorama 1"},{"$f":"HLOOKUP($F85,Bern2021!$H$12:$P$14,3,FALSE)","v":125},"NA","NA","NA",{"$f":"IF(OR(L85=\"NA\",L85=\"E\"),\"NA\",IF(L85=\"Y\",COUNTIF($M$1:N84,N85)+1,COUNTIF($M$1:N84,N85)+1))","v":"NA"},"NA","NA","NA","Day3_Time_Slot5_Parallel 05"]
[153,"Day3_Time_Slot5_Parallel 06","Day3_Time_Slot5",3,5,"Parallel 06",{"$f":"VLOOKUP($D$1&D86,Bern2021!A:F,6,FALSE)","v":"2021-10-06"},{"$f":"MID(VLOOKUP($D$1&D86&$E$1&E86,Bern2021!A:F,5,FALSE),1,SEARCH(\"(\",VLOOKUP($D$1&D86&$E$1&E86,Bern2021!A:F,5,FALSE))-2)","v":"15:15 - 16:30"},"1:15",{"$f":"HLOOKUP($F86,Bern2021!$H$12:$P$14,2,FALSE)","v":"Szenario 1 (^^)"},{"$f":"HLOOKUP($F86,Bern2021!$H$12:$P$14,3,FALSE)","v":131},"NA","NA","NA",{"$f":"IF(OR(L86=\"NA\",L86=\"E\"),\"NA\",IF(L86=\"Y\",COUNTIF($M$1:N85,N86)+1,COUNTIF($M$1:N85,N86)+1))","v":"NA"},"NA","NA","NA","Day3_Time_Slot5_Parallel 06"]
[154,"Day3_Time_Slot5_Parallel 07","Day3_Time_Slot5",3,5,"Parallel 07",{"$f":"VLOOKUP($D$1&D87,Bern2021!A:F,6,FALSE)","v":"2021-10-06"},{"$f":"MID(VLOOKUP($D$1&D87&$E$1&E87,Bern2021!A:F,5,FALSE),1,SEARCH(\"(\",VLOOKUP($D$1&D87&$E$1&E87,Bern2021!A:F,5,FALSE))-2)","v":"15:15 - 16:30"},"1:15",{"$f":"HLOOKUP($F87,Bern2021!$H$12:$P$14,2,FALSE)","v":"Aare 1 (^^)"},{"$f":"HLOOKUP($F87,Bern2021!$H$12:$P$14,3,FALSE)","v":63},"NA","NA","NA",{"$f":"IF(OR(L87=\"NA\",L87=\"E\"),\"NA\",IF(L87=\"Y\",COUNTIF($M$1:N86,N87)+1,COUNTIF($M$1:N86,N87)+1))","v":"NA"},"NA","NA","NA","Day3_Time_Slot5_Parallel 07"]
[155,"Day3_Time_Slot5_Parallel 08","Day3_Time_Slot5",3,5,"Parallel 08",{"$f":"VLOOKUP($D$1&D88,Bern2021!A:F,6,FALSE)","v":"2021-10-06"},{"$f":"MID(VLOOKUP($D$1&D88&$E$1&E88,Bern2021!A:F,5,FALSE),1,SEARCH(\"(\",VLOOKUP($D$1&D88&$E$1&E88,Bern2021!A:F,5,FALSE))-2)","v":"15:15 - 16:30"},"1:15",{"$f":"HLOOKUP($F88,Bern2021!$H$12:$P$14,2,FALSE)","v":"Aare 2 (^^)"},{"$f":"HLOOKUP($F88,Bern2021!$H$12:$P$14,3,FALSE)","v":63},"NA","NA","NA",{"$f":"IF(OR(L88=\"NA\",L88=\"E\"),\"NA\",IF(L88=\"Y\",COUNTIF($M$1:N87,N88)+1,COUNTIF($M$1:N87,N88)+1))","v":"NA"},"NA","NA","NA","Day3_Time_Slot5_Parallel 08"]
[156,"Day3_Time_Slot5_Parallel 09","Day3_Time_Slot5",3,5,"Parallel 09",{"$f":"VLOOKUP($D$1&D89,Bern2021!A:F,6,FALSE)","v":"2021-10-06"},{"$f":"MID(VLOOKUP($D$1&D89&$E$1&E89,Bern2021!A:F,5,FALSE),1,SEARCH(\"(\",VLOOKUP($D$1&D89&$E$1&E89,Bern2021!A:F,5,FALSE))-2)","v":"15:15 - 16:30"},"1:15",{"$f":"HLOOKUP($F89,Bern2021!$H$12:$P$14,2,FALSE)","v":"Aare 3 (^^)"},{"$f":"HLOOKUP($F89,Bern2021!$H$12:$P$14,3,FALSE)","v":75},"NA","NA","NA",{"$f":"IF(OR(L89=\"NA\",L89=\"E\"),\"NA\",IF(L89=\"Y\",COUNTIF($M$1:N88,N89)+1,COUNTIF($M$1:N88,N89)+1))","v":"NA"},"NA","NA","NA","Day3_Time_Slot5_Parallel 09"]
[158,"Day3_Time_Slot6_Parallel 02","Day3_Time_Slot6",3,6,"Parallel 02",{"$f":"VLOOKUP($D$1&D90,Bern2021!A:F,6,FALSE)","v":"2021-10-06"},{"$f":"MID(VLOOKUP($D$1&D90&$E$1&E90,Bern2021!A:F,5,FALSE),1,SEARCH(\"(\",VLOOKUP($D$1&D90&$E$1&E90,Bern2021!A:F,5,FALSE))-2)","v":"16:45 - 17:30"},"0:45",{"$f":"HLOOKUP($F90,Bern2021!$H$12:$P$14,2,FALSE)","v":"Aare"},{"$f":"HLOOKUP($F90,Bern2021!$H$12:$P$14,3,FALSE)","v":298},"NA","NA","NA",{"$f":"IF(OR(L90=\"NA\",L90=\"E\"),\"NA\",IF(L90=\"Y\",COUNTIF($M$1:N89,N90)+1,COUNTIF($M$1:N89,N90)+1))","v":"NA"},"NA","NA","NA","Day3_Time_Slot6_Parallel 02"]
[159,"Day3_Time_Slot6_Parallel 03","Day3_Time_Slot6",3,6,"Parallel 03",{"$f":"VLOOKUP($D$1&D91,Bern2021!A:F,6,FALSE)","v":"2021-10-06"},{"$f":"MID(VLOOKUP($D$1&D91&$E$1&E91,Bern2021!A:F,5,FALSE),1,SEARCH(\"(\",VLOOKUP($D$1&D91&$E$1&E91,Bern2021!A:F,5,FALSE))-2)","v":"16:45 - 17:30"},"0:45",{"$f":"HLOOKUP($F91,Bern2021!$H$12:$P$14,2,FALSE)","v":"Szenario 2"},{"$f":"HLOOKUP($F91,Bern2021!$H$12:$P$14,3,FALSE)","v":221},"NA","NA","NA",{"$f":"IF(OR(L91=\"NA\",L91=\"E\"),\"NA\",IF(L91=\"Y\",COUNTIF($M$1:N90,N91)+1,COUNTIF($M$1:N90,N91)+1))","v":"NA"},"NA","NA","NA","Day3_Time_Slot6_Parallel 03"]
[160,"Day3_Time_Slot6_Parallel 04","Day3_Time_Slot6",3,6,"Parallel 04",{"$f":"VLOOKUP($D$1&D92,Bern2021!A:F,6,FALSE)","v":"2021-10-06"},{"$f":"MID(VLOOKUP($D$1&D92&$E$1&E92,Bern2021!A:F,5,FALSE),1,SEARCH(\"(\",VLOOKUP($D$1&D92&$E$1&E92,Bern2021!A:F,5,FALSE))-2)","v":"16:45 - 17:30"},"0:45",{"$f":"HLOOKUP($F92,Bern2021!$H$12:$P$14,2,FALSE)","v":"Panorama 2-4"},{"$f":"HLOOKUP($F92,Bern2021!$H$12:$P$14,3,FALSE)","v":199},"NA","NA","NA",{"$f":"IF(OR(L92=\"NA\",L92=\"E\"),\"NA\",IF(L92=\"Y\",COUNTIF($M$1:N91,N92)+1,COUNTIF($M$1:N91,N92)+1))","v":"NA"},"NA","NA","NA","Day3_Time_Slot6_Parallel 04"]
[161,"Day3_Time_Slot6_Parallel 05","Day3_Time_Slot6",3,6,"Parallel 05",{"$f":"VLOOKUP($D$1&D93,Bern2021!A:F,6,FALSE)","v":"2021-10-06"},{"$f":"MID(VLOOKUP($D$1&D93&$E$1&E93,Bern2021!A:F,5,FALSE),1,SEARCH(\"(\",VLOOKUP($D$1&D93&$E$1&E93,Bern2021!A:F,5,FALSE))-2)","v":"16:45 - 17:30"},"0:45",{"$f":"HLOOKUP($F93,Bern2021!$H$12:$P$14,2,FALSE)","v":"Panorama 1"},{"$f":"HLOOKUP($F93,Bern2021!$H$12:$P$14,3,FALSE)","v":125},"NA","NA","NA",{"$f":"IF(OR(L93=\"NA\",L93=\"E\"),\"NA\",IF(L93=\"Y\",COUNTIF($M$1:N92,N93)+1,COUNTIF($M$1:N92,N93)+1))","v":"NA"},"NA","NA","NA","Day3_Time_Slot6_Parallel 05"]
[162,"Day3_Time_Slot6_Parallel 06","Day3_Time_Slot6",3,6,"Parallel 06",{"$f":"VLOOKUP($D$1&D94,Bern2021!A:F,6,FALSE)","v":"2021-10-06"},{"$f":"MID(VLOOKUP($D$1&D94&$E$1&E94,Bern2021!A:F,5,FALSE),1,SEARCH(\"(\",VLOOKUP($D$1&D94&$E$1&E94,Bern2021!A:F,5,FALSE))-2)","v":"16:45 - 17:30"},"0:45",{"$f":"HLOOKUP($F94,Bern2021!$H$12:$P$14,2,FALSE)","v":"Szenario 1 (^^)"},{"$f":"HLOOKUP($F94,Bern2021!$H$12:$P$14,3,FALSE)","v":131},"NA","NA","NA",{"$f":"IF(OR(L94=\"NA\",L94=\"E\"),\"NA\",IF(L94=\"Y\",COUNTIF($M$1:N93,N94)+1,COUNTIF($M$1:N93,N94)+1))","v":"NA"},"NA","NA","NA","Day3_Time_Slot6_Parallel 06"]
[163,"Day3_Time_Slot6_Parallel 07","Day3_Time_Slot6",3,6,"Parallel 07",{"$f":"VLOOKUP($D$1&D95,Bern2021!A:F,6,FALSE)","v":"2021-10-06"},{"$f":"MID(VLOOKUP($D$1&D95&$E$1&E95,Bern2021!A:F,5,FALSE),1,SEARCH(\"(\",VLOOKUP($D$1&D95&$E$1&E95,Bern2021!A:F,5,FALSE))-2)","v":"16:45 - 17:30"},"0:45",{"$f":"HLOOKUP($F95,Bern2021!$H$12:$P$14,2,FALSE)","v":"Aare 1 (^^)"},{"$f":"HLOOKUP($F95,Bern2021!$H$12:$P$14,3,FALSE)","v":63},"NA","NA","NA",{"$f":"IF(OR(L95=\"NA\",L95=\"E\"),\"NA\",IF(L95=\"Y\",COUNTIF($M$1:N94,N95)+1,COUNTIF($M$1:N94,N95)+1))","v":"NA"},"NA","NA","NA","Day3_Time_Slot6_Parallel 07"]
[164,"Day3_Time_Slot6_Parallel 08","Day3_Time_Slot6",3,6,"Parallel 08",{"$f":"VLOOKUP($D$1&D96,Bern2021!A:F,6,FALSE)","v":"2021-10-06"},{"$f":"MID(VLOOKUP($D$1&D96&$E$1&E96,Bern2021!A:F,5,FALSE),1,SEARCH(\"(\",VLOOKUP($D$1&D96&$E$1&E96,Bern2021!A:F,5,FALSE))-2)","v":"16:45 - 17:30"},"0:45",{"$f":"HLOOKUP($F96,Bern2021!$H$12:$P$14,2,FALSE)","v":"Aare 2 (^^)"},{"$f":"HLOOKUP($F96,Bern2021!$H$12:$P$14,3,FALSE)","v":63},"NA","NA","NA",{"$f":"IF(OR(L96=\"NA\",L96=\"E\"),\"NA\",IF(L96=\"Y\",COUNTIF($M$1:N95,N96)+1,COUNTIF($M$1:N95,N96)+1))","v":"NA"},"NA","NA","NA","Day3_Time_Slot6_Parallel 08"]
[165,"Day3_Time_Slot6_Parallel 09","Day3_Time_Slot6",3,6,"Parallel 09",{"$f":"VLOOKUP($D$1&D97,Bern2021!A:F,6,FALSE)","v":"2021-10-06"},{"$f":"MID(VLOOKUP($D$1&D97&$E$1&E97,Bern2021!A:F,5,FALSE),1,SEARCH(\"(\",VLOOKUP($D$1&D97&$E$1&E97,Bern2021!A:F,5,FALSE))-2)","v":"16:45 - 17:30"},"0:45",{"$f":"HLOOKUP($F97,Bern2021!$H$12:$P$14,2,FALSE)","v":"Aare 3 (^^)"},{"$f":"HLOOKUP($F97,Bern2021!$H$12:$P$14,3,FALSE)","v":75},"NA","NA","NA",{"$f":"IF(OR(L97=\"NA\",L97=\"E\"),\"NA\",IF(L97=\"Y\",COUNTIF($M$1:N96,N97)+1,COUNTIF($M$1:N96,N97)+1))","v":"NA"},"NA","NA","NA","Day3_Time_Slot6_Parallel 09"]
[11,{"$f":"C98&\"_\"&F98","v":"Day1_Time_Slot1_Parallel 01"},{"$f":"$D$1&D98&\"_\"&$E$1&E98","v":"Day1_Time_Slot1"},1,1,"Parallel 01",{"$f":"VLOOKUP($D$1&D98,Bern2021!A:F,6,FALSE)","v":"2021-10-04"},{"$f":"MID(VLOOKUP($D$1&D98&$E$1&E98,Bern2021!A:F,5,FALSE),1,SEARCH(\"(\",VLOOKUP($D$1&D98&$E$1&E98,Bern2021!A:F,5,FALSE))-2)","v":"09:00 - 10:00"},{"$f":"TEXT(MID(H98,SEARCH(\"-\",H98)+2,LEN(H98)-SEARCH(\"-\",H98)-1)-MID(H98,1,SEARCH(\"-\",H98)-1),\"h:mm\")","v":"1:00"},{"$f":"HLOOKUP($F98,Bern2021!$H$12:$P$14,2,FALSE)","v":"Arena"},{"$f":"HLOOKUP($F98,Bern2021!$H$12:$P$14,3,FALSE)","v":1357},"N","SP.1067.1370",2,{"$f":"IF(OR(L98=\"NA\",L98=\"E\"),\"NA\",IF(L98=\"Y\",COUNTIF($M$1:N97,N98)+1,COUNTIF($M$1:N97,N98)+1))","v":2},"TA2.02","Partnership for Sustainable Development: The Global South Story","Centro de Pensamiento Estratégico Internacional (Cepei); African Institute for Mathematical Sciences (AIMS); LINERasia; CIS; LDRI; Canada's International Development Research Centre (IDRC); Tanzania Data Lab (dLab); Millennium Challenge Corporation; Global Partnership for Sustainable Development Data (GPSDD); Partnership in Statistics for Development in the 21st Century (PARIS21)",{"$f":"B98","v":"Day1_Time_Slot1_Parallel 01"}]
[12,"Day1_Time_Slot1_Parallel 02","Day1_Time_Slot1",1,1,"Parallel 02",{"$f":"VLOOKUP($D$1&D99,Bern2021!A:F,6,FALSE)","v":"2021-10-04"},{"$f":"MID(VLOOKUP($D$1&D99&$E$1&E99,Bern2021!A:F,5,FALSE),1,SEARCH(\"(\",VLOOKUP($D$1&D99&$E$1&E99,Bern2021!A:F,5,FALSE))-2)","v":"09:00 - 10:00"},"1:00",{"$f":"HLOOKUP($F99,Bern2021!$H$12:$P$14,2,FALSE)","v":"Aare"},{"$f":"HLOOKUP($F99,Bern2021!$H$12:$P$14,3,FALSE)","v":298},"N","SP.1174.1401",6,{"$f":"IF(OR(L99=\"NA\",L99=\"E\"),\"NA\",IF(L99=\"Y\",COUNTIF($M$1:N98,N99)+1,COUNTIF($M$1:N98,N99)+1))","v":2},"TA6.02","Smart investments in data for development: Launch of the Clearinghouse for Financing Development Data","Bern Network Secretariat; Swiss Agency for Development and Cooperation; Swiss Federal Statistical Office (SFSO); Partnership in Statistics for Development in the 21st Century (PARIS21); United Nations Statistics Division (UNSD-DESA); Open Data Watch (ODW); Global Partnership for Sustainable Development Data (GPSDD); World Bank (WB); Organisation for Economic Co-operation and Development (OECD)","Day1_Time_Slot1_Parallel 02"]
[13,"Day1_Time_Slot1_Parallel 03","Day1_Time_Slot1",1,1,"Parallel 03",{"$f":"VLOOKUP($D$1&D100,Bern2021!A:F,6,FALSE)","v":"2021-10-04"},{"$f":"MID(VLOOKUP($D$1&D100&$E$1&E100,Bern2021!A:F,5,FALSE),1,SEARCH(\"(\",VLOOKUP($D$1&D100&$E$1&E100,Bern2021!A:F,5,FALSE))-2)","v":"09:00 - 10:00"},"1:00",{"$f":"HLOOKUP($F100,Bern2021!$H$12:$P$14,2,FALSE)","v":"Szenario 2"},{"$f":"HLOOKUP($F100,Bern2021!$H$12:$P$14,3,FALSE)","v":221},"N","SP.1219.1505",3,{"$f":"IF(OR(L100=\"NA\",L100=\"E\"),\"NA\",IF(L100=\"Y\",COUNTIF($M$1:N99,N100)+1,COUNTIF($M$1:N99,N100)+1))","v":2},"TA3.02","Leaving no one behind: adopting a systematic approach of using small area estimation for SDG monitoring","World Bank (WB); United Nations Population Fund (UNFPA); United Nations Statistics Division (UNSD-DESA)","Day1_Time_Slot1_Parallel 03"]
[14,"Day1_Time_Slot1_Parallel 04","Day1_Time_Slot1",1,1,"Parallel 04",{"$f":"VLOOKUP($D$1&D101,Bern2021!A:F,6,FALSE)","v":"2021-10-04"},{"$f":"MID(VLOOKUP($D$1&D101&$E$1&E101,Bern2021!A:F,5,FALSE),1,SEARCH(\"(\",VLOOKUP($D$1&D101&$E$1&E101,Bern2021!A:F,5,FALSE))-2)","v":"09:00 - 10:00"},"1:00",{"$f":"HLOOKUP($F101,Bern2021!$H$12:$P$14,2,FALSE)","v":"Panorama 2-4"},{"$f":"HLOOKUP($F101,Bern2021!$H$12:$P$14,3,FALSE)","v":199},"N","SP.3016",2,{"$f":"IF(OR(L101=\"NA\",L101=\"E\"),\"NA\",IF(L101=\"Y\",COUNTIF($M$1:N100,N101)+1,COUNTIF($M$1:N100,N101)+1))","v":3},"TA2.17","Real-time data collection systems for agile policymaking and foresight to prevent trafficking of Covid-19- related falsified vaccines and other medical products","United Nations Office on Drugs and Crime (UNODC)-Instituto Nacional de Estadística y Geografía (INEGI-México) Centre of Excellence in statistical information on government, crime, victimization and justice; UNODC-Statistics Korea (KOSTAT) Centre of Excellence for statistics on crime and criminal justice in Asia and the Pacific","Day1_Time_Slot1_Parallel 04"]
[15,"Day1_Time_Slot1_Parallel 05","Day1_Time_Slot1",1,1,"Parallel 05",{"$f":"VLOOKUP($D$1&D102,Bern2021!A:F,6,FALSE)","v":"2021-10-04"},{"$f":"MID(VLOOKUP($D$1&D102&$E$1&E102,Bern2021!A:F,5,FALSE),1,SEARCH(\"(\",VLOOKUP($D$1&D102&$E$1&E102,Bern2021!A:F,5,FALSE))-2)","v":"09:00 - 10:00"},"1:00",{"$f":"HLOOKUP($F102,Bern2021!$H$12:$P$14,2,FALSE)","v":"Panorama 1"},{"$f":"HLOOKUP($F102,Bern2021!$H$12:$P$14,3,FALSE)","v":125},"N","SP.4002",5,{"$f":"IF(OR(L102=\"NA\",L102=\"E\"),\"NA\",IF(L102=\"Y\",COUNTIF($M$1:N101,N102)+1,COUNTIF($M$1:N101,N102)+1))","v":2},"TA5.15","Do we need a Global Data Convention to achieve sustainable development","Committee for the Coordination of Statistical Activities (CCSA)","Day1_Time_Slot1_Parallel 05"]
[16,"Day1_Time_Slot1_Parallel 06","Day1_Time_Slot1",1,1,"Parallel 06",{"$f":"VLOOKUP($D$1&D103,Bern2021!A:F,6,FALSE)","v":"2021-10-04"},{"$f":"MID(VLOOKUP($D$1&D103&$E$1&E103,Bern2021!A:F,5,FALSE),1,SEARCH(\"(\",VLOOKUP($D$1&D103&$E$1&E103,Bern2021!A:F,5,FALSE))-2)","v":"09:00 - 10:00"},"1:00",{"$f":"HLOOKUP($F103,Bern2021!$H$12:$P$14,2,FALSE)","v":"Szenario 1 (^^)"},{"$f":"HLOOKUP($F103,Bern2021!$H$12:$P$14,3,FALSE)","v":131},"N","SP.3012.3023",4,{"$f":"IF(OR(L103=\"NA\",L103=\"E\"),\"NA\",IF(L103=\"Y\",COUNTIF($M$1:N102,N103)+1,COUNTIF($M$1:N102,N103)+1))","v":2},"TA4.10","Re-strategizing labour market data collection, analysis and dissemination in time of crisis","International Labour Organization; Philippine Statistics Authority; Economic Planning Unit, Prime Minister's Department; Malaysian Bureau of Labour Statistics, Department of Statistics Malaysia","Day1_Time_Slot1_Parallel 06"]
[17,"Day1_Time_Slot1_Parallel 07","Day1_Time_Slot1",1,1,"Parallel 07",{"$f":"VLOOKUP($D$1&D104,Bern2021!A:F,6,FALSE)","v":"2021-10-04"},{"$f":"MID(VLOOKUP($D$1&D104&$E$1&E104,Bern2021!A:F,5,FALSE),1,SEARCH(\"(\",VLOOKUP($D$1&D104&$E$1&E104,Bern2021!A:F,5,FALSE))-2)","v":"09:00 - 10:00"},"1:00",{"$f":"HLOOKUP($F104,Bern2021!$H$12:$P$14,2,FALSE)","v":"Aare 1 (^^)"},{"$f":"HLOOKUP($F104,Bern2021!$H$12:$P$14,3,FALSE)","v":63},"N","SP.1122.1467",5,{"$f":"IF(OR(L104=\"NA\",L104=\"E\"),\"NA\",IF(L104=\"Y\",COUNTIF($M$1:N103,N104)+1,COUNTIF($M$1:N103,N104)+1))","v":3},"TA5.04","Human Rights Based Governance Frameworks for AI in the Global South","United Nations Global Pulse (UNGP); Deutsche Gesellschaft für Internationale Zusammenarbeit (GIZ)","Day1_Time_Slot1_Parallel 07"]
[18,"Day1_Time_Slot1_Parallel 08","Day1_Time_Slot1",1,1,"Parallel 08",{"$f":"VLOOKUP($D$1&D105,Bern2021!A:F,6,FALSE)","v":"2021-10-04"},{"$f":"MID(VLOOKUP($D$1&D105&$E$1&E105,Bern2021!A:F,5,FALSE),1,SEARCH(\"(\",VLOOKUP($D$1&D105&$E$1&E105,Bern2021!A:F,5,FALSE))-2)","v":"09:00 - 10:00"},"1:00",{"$f":"HLOOKUP($F105,Bern2021!$H$12:$P$14,2,FALSE)","v":"Aare 2 (^^)"},{"$f":"HLOOKUP($F105,Bern2021!$H$12:$P$14,3,FALSE)","v":63},"N","SP.1351.1036",2,{"$f":"IF(OR(L105=\"NA\",L105=\"E\"),\"NA\",IF(L105=\"Y\",COUNTIF($M$1:N104,N105)+1,COUNTIF($M$1:N104,N105)+1))","v":4},"TA2.03","Understanding current trends in global urbanization - The World Settlement Footprint suite","German Aerospace Center - DLR; European Space Agency (ESA); United Nations Human Settlements Programme (UN-Habitat)","Day1_Time_Slot1_Parallel 08"]
[19,"Day1_Time_Slot1_Parallel 09","Day1_Time_Slot1",1,1,"Parallel 09",{"$f":"VLOOKUP($D$1&D106,Bern2021!A:F,6,FALSE)","v":"2021-10-04"},{"$f":"MID(VLOOKUP($D$1&D106&$E$1&E106,Bern2021!A:F,5,FALSE),1,SEARCH(\"(\",VLOOKUP($D$1&D106&$E$1&E106,Bern2021!A:F,5,FALSE))-2)","v":"09:00 - 10:00"},"1:00",{"$f":"HLOOKUP($F106,Bern2021!$H$12:$P$14,2,FALSE)","v":"Aare 3 (^^)"},{"$f":"HLOOKUP($F106,Bern2021!$H$12:$P$14,3,FALSE)","v":75},"E","SP.1241","NA",{"$f":"IF(OR(L106=\"NA\",L106=\"E\"),\"NA\",IF(L106=\"Y\",COUNTIF($M$1:N105,N106)+1,COUNTIF($M$1:N105,N106)+1))","v":"NA"},null,"NA","NA","Day1_Time_Slot1_Parallel 09"]
[47,"Day1_Time_Slot5_Parallel 01","Day1_Time_Slot5",1,5,"Parallel 01",{"$f":"VLOOKUP($D$1&D107,Bern2021!A:F,6,FALSE)","v":"2021-10-04"},{"$f":"MID(VLOOKUP($D$1&D107&$E$1&E107,Bern2021!A:F,5,FALSE),1,SEARCH(\"(\",VLOOKUP($D$1&D107&$E$1&E107,Bern2021!A:F,5,FALSE))-2)","v":"15:00 - 16:00"},"1:00",{"$f":"HLOOKUP($F107,Bern2021!$H$12:$P$14,2,FALSE)","v":"Arena"},{"$f":"HLOOKUP($F107,Bern2021!$H$12:$P$14,3,FALSE)","v":1357},"N","SP.1381.1377",3,{"$f":"IF(OR(L107=\"NA\",L107=\"E\"),\"NA\",IF(L107=\"Y\",COUNTIF($M$1:N106,N107)+1,COUNTIF($M$1:N106,N107)+1))","v":3},"TA3.12","Stronger migration data and statistics for realizing the decade of action and delivery for sustainable development","International Organisation for Migration (IOM); United Nations Statistics Division (UNSD-DESA); Organisation for Economic Co-operation and Development (OECD)","Day1_Time_Slot5_Parallel 01"]
[53,"Day1_Time_Slot5_Parallel 07","Day1_Time_Slot5",1,5,"Parallel 07",{"$f":"VLOOKUP($D$1&D108,Bern2021!A:F,6,FALSE)","v":"2021-10-04"},{"$f":"MID(VLOOKUP($D$1&D108&$E$1&E108,Bern2021!A:F,5,FALSE),1,SEARCH(\"(\",VLOOKUP($D$1&D108&$E$1&E108,Bern2021!A:F,5,FALSE))-2)","v":"15:00 - 16:00"},"1:00",{"$f":"HLOOKUP($F108,Bern2021!$H$12:$P$14,2,FALSE)","v":"Aare 1 (^^)"},{"$f":"HLOOKUP($F108,Bern2021!$H$12:$P$14,3,FALSE)","v":63},"N","SP.1356",2,{"$f":"IF(OR(L108=\"NA\",L108=\"E\"),\"NA\",IF(L108=\"Y\",COUNTIF($M$1:N107,N108)+1,COUNTIF($M$1:N107,N108)+1))","v":5},"TA2.06","Multi-Stakeholder Data Bridges II - Making data work for cross-domain grand challenges","The Committee on Data of the International Science Council (CODATA)","Day1_Time_Slot5_Parallel 07"]
[49,"Day1_Time_Slot5_Parallel 03","Day1_Time_Slot5",1,5,"Parallel 03",{"$f":"VLOOKUP($D$1&D109,Bern2021!A:F,6,FALSE)","v":"2021-10-04"},{"$f":"MID(VLOOKUP($D$1&D109&$E$1&E109,Bern2021!A:F,5,FALSE),1,SEARCH(\"(\",VLOOKUP($D$1&D109&$E$1&E109,Bern2021!A:F,5,FALSE))-2)","v":"15:00 - 16:00"},"1:00",{"$f":"HLOOKUP($F109,Bern2021!$H$12:$P$14,2,FALSE)","v":"Szenario 2"},{"$f":"HLOOKUP($F109,Bern2021!$H$12:$P$14,3,FALSE)","v":221},"N","SP.1486",2,{"$f":"IF(OR(L109=\"NA\",L109=\"E\"),\"NA\",IF(L109=\"Y\",COUNTIF($M$1:N108,N109)+1,COUNTIF($M$1:N108,N109)+1))","v":6},"TA2.13","Positioning Household Surveys in the Next Decade","Inter-Secretariat Working Group on Household Surveys (ISWGHS)","Day1_Time_Slot5_Parallel 03"]
[50,"Day1_Time_Slot5_Parallel 04","Day1_Time_Slot5",1,5,"Parallel 04",{"$f":"VLOOKUP($D$1&D110,Bern2021!A:F,6,FALSE)","v":"2021-10-04"},{"$f":"MID(VLOOKUP($D$1&D110&$E$1&E110,Bern2021!A:F,5,FALSE),1,SEARCH(\"(\",VLOOKUP($D$1&D110&$E$1&E110,Bern2021!A:F,5,FALSE))-2)","v":"15:00 - 16:00"},"1:00",{"$f":"HLOOKUP($F110,Bern2021!$H$12:$P$14,2,FALSE)","v":"Panorama 2-4"},{"$f":"HLOOKUP($F110,Bern2021!$H$12:$P$14,3,FALSE)","v":199},"N","SP.1312.1344",3,{"$f":"IF(OR(L110=\"NA\",L110=\"E\"),\"NA\",IF(L110=\"Y\",COUNTIF($M$1:N109,N110)+1,COUNTIF($M$1:N109,N110)+1))","v":4},"TA3.05","Making the most vulnerable visible: Data gaps and official statistics on forced displacement (^^)","World Bank – UNHCR Joint Data Center on Forced Displacement (JDC); Expert Group on Refugee and IDP Statistics (EGRIS)","Day1_Time_Slot5_Parallel 04"]
[51,"Day1_Time_Slot5_Parallel 05","Day1_Time_Slot5",1,5,"Parallel 05",{"$f":"VLOOKUP($D$1&D111,Bern2021!A:F,6,FALSE)","v":"2021-10-04"},{"$f":"MID(VLOOKUP($D$1&D111&$E$1&E111,Bern2021!A:F,5,FALSE),1,SEARCH(\"(\",VLOOKUP($D$1&D111&$E$1&E111,Bern2021!A:F,5,FALSE))-2)","v":"15:00 - 16:00"},"1:00",{"$f":"HLOOKUP($F111,Bern2021!$H$12:$P$14,2,FALSE)","v":"Panorama 1"},{"$f":"HLOOKUP($F111,Bern2021!$H$12:$P$14,3,FALSE)","v":125},"N","SP.3040",3,{"$f":"IF(OR(L111=\"NA\",L111=\"E\"),\"NA\",IF(L111=\"Y\",COUNTIF($M$1:N110,N111)+1,COUNTIF($M$1:N110,N111)+1))","v":5},"TA3.17","Integrating geospatial data from all parties for COVID-19 response, recovery and resilience for informed decision-making .","Fundación GeoCensos; Paris 21; Statistics Sweden","Day1_Time_Slot5_Parallel 05"]
[52,"Day1_Time_Slot5_Parallel 06","Day1_Time_Slot5",1,5,"Parallel 06",{"$f":"VLOOKUP($D$1&D112,Bern2021!A:F,6,FALSE)","v":"2021-10-04"},{"$f":"MID(VLOOKUP($D$1&D112&$E$1&E112,Bern2021!A:F,5,FALSE),1,SEARCH(\"(\",VLOOKUP($D$1&D112&$E$1&E112,Bern2021!A:F,5,FALSE))-2)","v":"15:00 - 16:00"},"1:00",{"$f":"HLOOKUP($F112,Bern2021!$H$12:$P$14,2,FALSE)","v":"Szenario 1 (^^)"},{"$f":"HLOOKUP($F112,Bern2021!$H$12:$P$14,3,FALSE)","v":131},"N","SP.1146.1104",4,{"$f":"IF(OR(L112=\"NA\",L112=\"E\"),\"NA\",IF(L112=\"Y\",COUNTIF($M$1:N111,N112)+1,COUNTIF($M$1:N111,N112)+1))","v":3},"TA4.02","Open Environmental Data: A Digital Ecosystem for Earth and the SDGs","University of British Columbia; United Nations Environment Programme (UNEP)","Day1_Time_Slot5_Parallel 06"]
[48,"Day1_Time_Slot5_Parallel 02","Day1_Time_Slot5",1,5,"Parallel 02",{"$f":"VLOOKUP($D$1&D113,Bern2021!A:F,6,FALSE)","v":"2021-10-04"},{"$f":"MID(VLOOKUP($D$1&D113&$E$1&E113,Bern2021!A:F,5,FALSE),1,SEARCH(\"(\",VLOOKUP($D$1&D113&$E$1&E113,Bern2021!A:F,5,FALSE))-2)","v":"15:00 - 16:00"},"1:00",{"$f":"HLOOKUP($F113,Bern2021!$H$12:$P$14,2,FALSE)","v":"Aare"},{"$f":"HLOOKUP($F113,Bern2021!$H$12:$P$14,3,FALSE)","v":298},"N","SP.1194",1,{"$f":"IF(OR(L113=\"NA\",L113=\"E\"),\"NA\",IF(L113=\"Y\",COUNTIF($M$1:N112,N113)+1,COUNTIF($M$1:N112,N113)+1))","v":2},"TA1.04","Uncovering Opportunity in Unusual Places: How countries are helping each other leverage administrative data for the SDGs","Centro de Pensamiento Estratégico Internacional (Cepei); Global Partnership for Sustainable Development Data (GPSDD)","Day1_Time_Slot5_Parallel 02"]
[54,"Day1_Time_Slot5_Parallel 08","Day1_Time_Slot5",1,5,"Parallel 08",{"$f":"VLOOKUP($D$1&D114,Bern2021!A:F,6,FALSE)","v":"2021-10-04"},{"$f":"MID(VLOOKUP($D$1&D114&$E$1&E114,Bern2021!A:F,5,FALSE),1,SEARCH(\"(\",VLOOKUP($D$1&D114&$E$1&E114,Bern2021!A:F,5,FALSE))-2)","v":"15:00 - 16:00"},"1:00",{"$f":"HLOOKUP($F114,Bern2021!$H$12:$P$14,2,FALSE)","v":"Aare 2 (^^)"},{"$f":"HLOOKUP($F114,Bern2021!$H$12:$P$14,3,FALSE)","v":63},"N","SP.1269.1447.1218",1,{"$f":"IF(OR(L114=\"NA\",L114=\"E\"),\"NA\",IF(L114=\"Y\",COUNTIF($M$1:N113,N114)+1,COUNTIF($M$1:N113,N114)+1))","v":3},"TA1.05","Bridging the Gap: Forging networks to address gender data gaps","Data2X (UN Foundation); United Nations Entity for Gender Equality and the Empowerment of Women (UN Women)","Day1_Time_Slot5_Parallel 08"]
[55,"Day1_Time_Slot5_Parallel 09","Day1_Time_Slot5",1,5,"Parallel 09",{"$f":"VLOOKUP($D$1&D115,Bern2021!A:F,6,FALSE)","v":"2021-10-04"},{"$f":"MID(VLOOKUP($D$1&D115&$E$1&E115,Bern2021!A:F,5,FALSE),1,SEARCH(\"(\",VLOOKUP($D$1&D115&$E$1&E115,Bern2021!A:F,5,FALSE))-2)","v":"15:00 - 16:00"},"1:00",{"$f":"HLOOKUP($F115,Bern2021!$H$12:$P$14,2,FALSE)","v":"Aare 3 (^^)"},{"$f":"HLOOKUP($F115,Bern2021!$H$12:$P$14,3,FALSE)","v":75},"N","SP.1050",5,{"$f":"IF(OR(L115=\"NA\",L115=\"E\"),\"NA\",IF(L115=\"Y\",COUNTIF($M$1:N114,N115)+1,COUNTIF($M$1:N114,N115)+1))","v":4},"TA5.02","Are strong foundations enough? The challenges of implementing a modern statistical legal framework","Inter-American Development Bank (IDB); Partnership in Statistics for Development in the 21st Century (PARIS21)","Day1_Time_Slot5_Parallel 09"]
[66,"Day2_Time_Slot1_Parallel 01","Day2_Time_Slot1",2,1,"Parallel 01",{"$f":"VLOOKUP($D$1&D116,Bern2021!A:F,6,FALSE)","v":"2021-10-05"},{"$f":"MID(VLOOKUP($D$1&D116&$E$1&E116,Bern2021!A:F,5,FALSE),1,SEARCH(\"(\",VLOOKUP($D$1&D116&$E$1&E116,Bern2021!A:F,5,FALSE))-2)","v":"09:00 - 10:00"},"1:00",{"$f":"HLOOKUP($F116,Bern2021!$H$12:$P$14,2,FALSE)","v":"Arena"},{"$f":"HLOOKUP($F116,Bern2021!$H$12:$P$14,3,FALSE)","v":1357},"N","SP.1320",1,{"$f":"IF(OR(L116=\"NA\",L116=\"E\"),\"NA\",IF(L116=\"Y\",COUNTIF($M$1:N115,N116)+1,COUNTIF($M$1:N115,N116)+1))","v":4},"TA1.06","Where to start first? – Identifying the leverage points of effective capacity development","Partnership in Statistics for Development in the 21st Century (PARIS21); Organisation for Economic Co-operation and Development (OECD); Millennium Challenge Corporation (MCC), PEPFAR Partnerships","Day2_Time_Slot1_Parallel 01"]
[67,"Day2_Time_Slot1_Parallel 02","Day2_Time_Slot1",2,1,"Parallel 02",{"$f":"VLOOKUP($D$1&D117,Bern2021!A:F,6,FALSE)","v":"2021-10-05"},{"$f":"MID(VLOOKUP($D$1&D117&$E$1&E117,Bern2021!A:F,5,FALSE),1,SEARCH(\"(\",VLOOKUP($D$1&D117&$E$1&E117,Bern2021!A:F,5,FALSE))-2)","v":"09:00 - 10:00"},"1:00",{"$f":"HLOOKUP($F117,Bern2021!$H$12:$P$14,2,FALSE)","v":"Aare"},{"$f":"HLOOKUP($F117,Bern2021!$H$12:$P$14,3,FALSE)","v":298},"N","SP.1333.1187.1404",4,{"$f":"IF(OR(L117=\"NA\",L117=\"E\"),\"NA\",IF(L117=\"Y\",COUNTIF($M$1:N116,N117)+1,COUNTIF($M$1:N116,N117)+1))","v":4},"TA4.03","Ensuring the future of sustainable water data--for citizens, scientists and policymakers","World Meteorological Organization (WMO); Gallup, Inc.; Northwestern University; United Nations Convention on Biological Diversity","Day2_Time_Slot1_Parallel 02"]
[73,"Day2_Time_Slot1_Parallel 08","Day2_Time_Slot1",2,1,"Parallel 08",{"$f":"VLOOKUP($D$1&D118,Bern2021!A:F,6,FALSE)","v":"2021-10-05"},{"$f":"MID(VLOOKUP($D$1&D118&$E$1&E118,Bern2021!A:F,5,FALSE),1,SEARCH(\"(\",VLOOKUP($D$1&D118&$E$1&E118,Bern2021!A:F,5,FALSE))-2)","v":"09:00 - 10:00"},"1:00",{"$f":"HLOOKUP($F118,Bern2021!$H$12:$P$14,2,FALSE)","v":"Aare 2 (^^)"},{"$f":"HLOOKUP($F118,Bern2021!$H$12:$P$14,3,FALSE)","v":63},"N","SP.1170.1416",1,{"$f":"IF(OR(L118=\"NA\",L118=\"E\"),\"NA\",IF(L118=\"Y\",COUNTIF($M$1:N117,N118)+1,COUNTIF($M$1:N117,N118)+1))","v":5},"TA1.07","Market Shaping: Accelerating the uptake of mobile big data and AI services through public private partnerships","Digital Impact Alliance (DIAL) (UN Foundation); Global System for Mobile Communications (GSMA)","Day2_Time_Slot1_Parallel 08"]
[69,"Day2_Time_Slot1_Parallel 04","Day2_Time_Slot1",2,1,"Parallel 04",{"$f":"VLOOKUP($D$1&D119,Bern2021!A:F,6,FALSE)","v":"2021-10-05"},{"$f":"MID(VLOOKUP($D$1&D119&$E$1&E119,Bern2021!A:F,5,FALSE),1,SEARCH(\"(\",VLOOKUP($D$1&D119&$E$1&E119,Bern2021!A:F,5,FALSE))-2)","v":"09:00 - 10:00"},"1:00",{"$f":"HLOOKUP($F119,Bern2021!$H$12:$P$14,2,FALSE)","v":"Panorama 2-4"},{"$f":"HLOOKUP($F119,Bern2021!$H$12:$P$14,3,FALSE)","v":199},"N","SP.1059.1275",1,{"$f":"IF(OR(L119=\"NA\",L119=\"E\"),\"NA\",IF(L119=\"Y\",COUNTIF($M$1:N118,N119)+1,COUNTIF($M$1:N118,N119)+1))","v":6},"TA1.08","Earth observations for enhanced decision making on connected land, biodiversity and climate agendas with impact stories from Africa","Group on Earth Observations (GEO); United Nations Convention to Combat Desertification (UNCCD); Deutsche Gesellschaft für Internationale Zusammenarbeit (GIZ); WOCAT/Centre for Development and Environment; Conservation International","Day2_Time_Slot1_Parallel 04"]
[70,"Day2_Time_Slot1_Parallel 05","Day2_Time_Slot1",2,1,"Parallel 05",{"$f":"VLOOKUP($D$1&D120,Bern2021!A:F,6,FALSE)","v":"2021-10-05"},{"$f":"MID(VLOOKUP($D$1&D120&$E$1&E120,Bern2021!A:F,5,FALSE),1,SEARCH(\"(\",VLOOKUP($D$1&D120&$E$1&E120,Bern2021!A:F,5,FALSE))-2)","v":"09:00 - 10:00"},"1:00",{"$f":"HLOOKUP($F120,Bern2021!$H$12:$P$14,2,FALSE)","v":"Panorama 1"},{"$f":"HLOOKUP($F120,Bern2021!$H$12:$P$14,3,FALSE)","v":125},"N","SP.4001",3,{"$f":"IF(OR(L120=\"NA\",L120=\"E\"),\"NA\",IF(L120=\"Y\",COUNTIF($M$1:N119,N120)+1,COUNTIF($M$1:N119,N120)+1))","v":6},"TA3.19","The Data Values Project  - redefining what it means to live in a digital society","Global Partnership for Sustainable Development Data (GPSDD)","Day2_Time_Slot1_Parallel 05"]
[71,"Day2_Time_Slot1_Parallel 06","Day2_Time_Slot1",2,1,"Parallel 06",{"$f":"VLOOKUP($D$1&D121,Bern2021!A:F,6,FALSE)","v":"2021-10-05"},{"$f":"MID(VLOOKUP($D$1&D121&$E$1&E121,Bern2021!A:F,5,FALSE),1,SEARCH(\"(\",VLOOKUP($D$1&D121&$E$1&E121,Bern2021!A:F,5,FALSE))-2)","v":"09:00 - 10:00"},"1:00",{"$f":"HLOOKUP($F121,Bern2021!$H$12:$P$14,2,FALSE)","v":"Szenario 1 (^^)"},{"$f":"HLOOKUP($F121,Bern2021!$H$12:$P$14,3,FALSE)","v":131},"N","SP.3021",2,{"$f":"IF(OR(L121=\"NA\",L121=\"E\"),\"NA\",IF(L121=\"Y\",COUNTIF($M$1:N120,N121)+1,COUNTIF($M$1:N120,N121)+1))","v":7},"TA2.18","Innovation during the Covid-19 crisis: why it was more critical for official statistics than ever","European Statistical Office (Eurostat); Statistics Finland; Institut national de la statistique et des études économiques (INSEE-France); Federal Statistical Office of Germany (Destatis); Italian National Institute of Statistics (Istat); Statistics Netherlands (CBS); Instituto Nacional de Estadística (INE-España)","Day2_Time_Slot1_Parallel 06"]
[72,"Day2_Time_Slot1_Parallel 07","Day2_Time_Slot1",2,1,"Parallel 07",{"$f":"VLOOKUP($D$1&D122,Bern2021!A:F,6,FALSE)","v":"2021-10-05"},{"$f":"MID(VLOOKUP($D$1&D122&$E$1&E122,Bern2021!A:F,5,FALSE),1,SEARCH(\"(\",VLOOKUP($D$1&D122&$E$1&E122,Bern2021!A:F,5,FALSE))-2)","v":"09:00 - 10:00"},"1:00",{"$f":"HLOOKUP($F122,Bern2021!$H$12:$P$14,2,FALSE)","v":"Aare 1 (^^)"},{"$f":"HLOOKUP($F122,Bern2021!$H$12:$P$14,3,FALSE)","v":63},"N","SP.1409",5,{"$f":"IF(OR(L122=\"NA\",L122=\"E\"),\"NA\",IF(L122=\"Y\",COUNTIF($M$1:N121,N122)+1,COUNTIF($M$1:N121,N122)+1))","v":5},"TA5.05","Balancing data use and data protection in times of COVID-19 – Learning from African Experiences","William and Flora Hewlett Foundation; Open Institute, Kenya","Day2_Time_Slot1_Parallel 07"]
[68,"Day2_Time_Slot1_Parallel 03","Day2_Time_Slot1",2,1,"Parallel 03",{"$f":"VLOOKUP($D$1&D123,Bern2021!A:F,6,FALSE)","v":"2021-10-05"},{"$f":"MID(VLOOKUP($D$1&D123&$E$1&E123,Bern2021!A:F,5,FALSE),1,SEARCH(\"(\",VLOOKUP($D$1&D123&$E$1&E123,Bern2021!A:F,5,FALSE))-2)","v":"09:00 - 10:00"},"1:00",{"$f":"HLOOKUP($F123,Bern2021!$H$12:$P$14,2,FALSE)","v":"Szenario 2"},{"$f":"HLOOKUP($F123,Bern2021!$H$12:$P$14,3,FALSE)","v":221},"N","SP.1127",3,{"$f":"IF(OR(L123=\"NA\",L123=\"E\"),\"NA\",IF(L123=\"Y\",COUNTIF($M$1:N122,N123)+1,COUNTIF($M$1:N122,N123)+1))","v":7},"TA3.03","Partnering to deliver data for invisible groups to ensure that no one is left behind: practical lessons to build inclusive data systems that give voice to communities","Development Initiatives; Uganda Bureau of Statistics (UBOS)","Day2_Time_Slot1_Parallel 03"]
[94,"Day2_Time_Slot4_Parallel 02","Day2_Time_Slot4",2,4,"Parallel 02",{"$f":"VLOOKUP($D$1&D124,Bern2021!A:F,6,FALSE)","v":"2021-10-05"},{"$f":"MID(VLOOKUP($D$1&D124&$E$1&E124,Bern2021!A:F,5,FALSE),1,SEARCH(\"(\",VLOOKUP($D$1&D124&$E$1&E124,Bern2021!A:F,5,FALSE))-2)","v":"15:00 - 16:00"},"1:00",{"$f":"HLOOKUP($F124,Bern2021!$H$12:$P$14,2,FALSE)","v":"Aare"},{"$f":"HLOOKUP($F124,Bern2021!$H$12:$P$14,3,FALSE)","v":298},"N","SP.3034",2,{"$f":"IF(OR(L124=\"NA\",L124=\"E\"),\"NA\",IF(L124=\"Y\",COUNTIF($M$1:N123,N124)+1,COUNTIF($M$1:N123,N124)+1))","v":8},"TA2.19","How to adhere to the fundamental principles of official statistics when compiling data during the Covid-19 pandemic?","United Nations Statistics Division (UNSD-DESA); International Telecommunication Union; Statistics Estonia; Positium; Flowminder; University of Tokyo","Day2_Time_Slot4_Parallel 02"]
[95,"Day2_Time_Slot4_Parallel 03","Day2_Time_Slot4",2,4,"Parallel 03",{"$f":"VLOOKUP($D$1&D125,Bern2021!A:F,6,FALSE)","v":"2021-10-05"},{"$f":"MID(VLOOKUP($D$1&D125&$E$1&E125,Bern2021!A:F,5,FALSE),1,SEARCH(\"(\",VLOOKUP($D$1&D125&$E$1&E125,Bern2021!A:F,5,FALSE))-2)","v":"15:00 - 16:00"},"1:00",{"$f":"HLOOKUP($F125,Bern2021!$H$12:$P$14,2,FALSE)","v":"Szenario 2"},{"$f":"HLOOKUP($F125,Bern2021!$H$12:$P$14,3,FALSE)","v":221},"N","SP.3018.3022.3039",4,{"$f":"IF(OR(L125=\"NA\",L125=\"E\"),\"NA\",IF(L125=\"Y\",COUNTIF($M$1:N124,N125)+1,COUNTIF($M$1:N124,N125)+1))","v":5},"TA4.13","Data-driven vaccination strategy for a COVID-19 free world","Southern Voice - A Network of Think-tanks; Centre for Policy Dialogue (CPD); Center for the Implementation of Public Policies Promoting Equity and Growth (CIPPEC); Embassy of Switzerland in Bangladesh; The Brown Institute for Media Innovation, Columbia University; THE CITY; Patrick J. McGovern Foundation","Day2_Time_Slot4_Parallel 03"]
[96,"Day2_Time_Slot4_Parallel 04","Day2_Time_Slot4",2,4,"Parallel 04",{"$f":"VLOOKUP($D$1&D126,Bern2021!A:F,6,FALSE)","v":"2021-10-05"},{"$f":"MID(VLOOKUP($D$1&D126&$E$1&E126,Bern2021!A:F,5,FALSE),1,SEARCH(\"(\",VLOOKUP($D$1&D126&$E$1&E126,Bern2021!A:F,5,FALSE))-2)","v":"15:00 - 16:00"},"1:00",{"$f":"HLOOKUP($F126,Bern2021!$H$12:$P$14,2,FALSE)","v":"Panorama 2-4"},{"$f":"HLOOKUP($F126,Bern2021!$H$12:$P$14,3,FALSE)","v":199},"N","SP.1334.1359",3,{"$f":"IF(OR(L126=\"NA\",L126=\"E\"),\"NA\",IF(L126=\"Y\",COUNTIF($M$1:N125,N126)+1,COUNTIF($M$1:N125,N126)+1))","v":8},"TA3.09","Measuring and combatting modern slavery with data-driven solutions in times of a pandemic","Gallup, Inc; MIT – Task Force on Computational Law for Combatting Modern Slavery; ServiceNow; Squatz; The Future Society; United Abolitionists; Walk Free ","Day2_Time_Slot4_Parallel 04"]
[97,"Day2_Time_Slot4_Parallel 05","Day2_Time_Slot4",2,4,"Parallel 05",{"$f":"VLOOKUP($D$1&D127,Bern2021!A:F,6,FALSE)","v":"2021-10-05"},{"$f":"MID(VLOOKUP($D$1&D127&$E$1&E127,Bern2021!A:F,5,FALSE),1,SEARCH(\"(\",VLOOKUP($D$1&D127&$E$1&E127,Bern2021!A:F,5,FALSE))-2)","v":"15:00 - 16:00"},"1:00",{"$f":"HLOOKUP($F127,Bern2021!$H$12:$P$14,2,FALSE)","v":"Panorama 1"},{"$f":"HLOOKUP($F127,Bern2021!$H$12:$P$14,3,FALSE)","v":125},"N","SP.1406",3,{"$f":"IF(OR(L127=\"NA\",L127=\"E\"),\"NA\",IF(L127=\"Y\",COUNTIF($M$1:N126,N127)+1,COUNTIF($M$1:N126,N127)+1))","v":9},"TA3.07","Measure-Report-Act: How analysis of fiscal equity can accelerate progress towards the SDGs for the most marginalised and deprived (^^)","Save the Children; United Nations Children's Fund (UNICEF); World Bank (WB)","Day2_Time_Slot4_Parallel 05"]
[98,"Day2_Time_Slot4_Parallel 06","Day2_Time_Slot4",2,4,"Parallel 06",{"$f":"VLOOKUP($D$1&D128,Bern2021!A:F,6,FALSE)","v":"2021-10-05"},{"$f":"MID(VLOOKUP($D$1&D128&$E$1&E128,Bern2021!A:F,5,FALSE),1,SEARCH(\"(\",VLOOKUP($D$1&D128&$E$1&E128,Bern2021!A:F,5,FALSE))-2)","v":"15:00 - 16:00"},"1:00",{"$f":"HLOOKUP($F128,Bern2021!$H$12:$P$14,2,FALSE)","v":"Szenario 1 (^^)"},{"$f":"HLOOKUP($F128,Bern2021!$H$12:$P$14,3,FALSE)","v":131},"N","SP.1243",3,{"$f":"IF(OR(L128=\"NA\",L128=\"E\"),\"NA\",IF(L128=\"Y\",COUNTIF($M$1:N127,N128)+1,COUNTIF($M$1:N127,N128)+1))","v":10},"TA3.08","Innovative responses to data collection about and by persons with disabilities in the time of COVID-19","Stakeholder Group of Persons with Disabilities, the International Disability Alliance, World Blind Union and CBM Global Disability Inclusion","Day2_Time_Slot4_Parallel 06"]
[99,"Day2_Time_Slot4_Parallel 07","Day2_Time_Slot4",2,4,"Parallel 07",{"$f":"VLOOKUP($D$1&D129,Bern2021!A:F,6,FALSE)","v":"2021-10-05"},{"$f":"MID(VLOOKUP($D$1&D129&$E$1&E129,Bern2021!A:F,5,FALSE),1,SEARCH(\"(\",VLOOKUP($D$1&D129&$E$1&E129,Bern2021!A:F,5,FALSE))-2)","v":"15:00 - 16:00"},"1:00",{"$f":"HLOOKUP($F129,Bern2021!$H$12:$P$14,2,FALSE)","v":"Aare 1 (^^)"},{"$f":"HLOOKUP($F129,Bern2021!$H$12:$P$14,3,FALSE)","v":63},"N","SP.1510",5,{"$f":"IF(OR(L129=\"NA\",L129=\"E\"),\"NA\",IF(L129=\"Y\",COUNTIF($M$1:N128,N129)+1,COUNTIF($M$1:N128,N129)+1))","v":6},"TA5.03","Measuring Trust in Institutions matters!","Instituto Nacional de Estadística y Geografía (INEGI-México)","Day2_Time_Slot4_Parallel 07"]
[100,{"$f":"C130&\"_\"&F130","v":"Day2_Time_Slot4_Parallel 08"},{"$f":"$D$1&D130&\"_\"&$E$1&E130","v":"Day2_Time_Slot4"},2,4,"Parallel 08",{"$f":"VLOOKUP($D$1&D130,Bern2021!A:F,6,FALSE)","v":"2021-10-05"},{"$f":"MID(VLOOKUP($D$1&D130&$E$1&E130,Bern2021!A:F,5,FALSE),1,SEARCH(\"(\",VLOOKUP($D$1&D130&$E$1&E130,Bern2021!A:F,5,FALSE))-2)","v":"15:00 - 16:00"},{"$f":"TEXT(MID(H130,SEARCH(\"-\",H130)+2,LEN(H130)-SEARCH(\"-\",H130)-1)-MID(H130,1,SEARCH(\"-\",H130)-1),\"h:mm\")","v":"1:00"},{"$f":"HLOOKUP($F130,Bern2021!$H$12:$P$14,2,FALSE)","v":"Aare 2 (^^)"},{"$f":"HLOOKUP($F130,Bern2021!$H$12:$P$14,3,FALSE)","v":63},"N","SP.1292",2,{"$f":"IF(OR(L130=\"NA\",L130=\"E\"),\"NA\",IF(L130=\"Y\",COUNTIF($M$1:N129,N130)+1,COUNTIF($M$1:N129,N130)+1))","v":9},"TA2.07","Innovative use of Social Media for Remote Sensing and SDG Monitoring","Qatar Computing Research Institute; Massachusetts Institute of Technology (MIT); Max Planck Institute for Demographic Research",{"$f":"B130","v":"Day2_Time_Slot4_Parallel 08"}]
[101,"Day2_Time_Slot4_Parallel 09","Day2_Time_Slot4",2,4,"Parallel 09",{"$f":"VLOOKUP($D$1&D131,Bern2021!A:F,6,FALSE)","v":"2021-10-05"},{"$f":"MID(VLOOKUP($D$1&D131&$E$1&E131,Bern2021!A:F,5,FALSE),1,SEARCH(\"(\",VLOOKUP($D$1&D131&$E$1&E131,Bern2021!A:F,5,FALSE))-2)","v":"15:00 - 16:00"},"1:00",{"$f":"HLOOKUP($F131,Bern2021!$H$12:$P$14,2,FALSE)","v":"Aare 3 (^^)"},{"$f":"HLOOKUP($F131,Bern2021!$H$12:$P$14,3,FALSE)","v":75},"N","SP.1114",5,{"$f":"IF(OR(L131=\"NA\",L131=\"E\"),\"NA\",IF(L131=\"Y\",COUNTIF($M$1:N130,N131)+1,COUNTIF($M$1:N130,N131)+1))","v":7},"TA5.07","Fiscal Open Data for Emergency Response","Global Initiative for Fiscal Transparency (GIFT)","Day2_Time_Slot4_Parallel 09"]
[103,"Day2_Time_Slot5_Parallel 02","Day2_Time_Slot5",2,5,"Parallel 02",{"$f":"VLOOKUP($D$1&D132,Bern2021!A:F,6,FALSE)","v":"2021-10-05"},{"$f":"MID(VLOOKUP($D$1&D132&$E$1&E132,Bern2021!A:F,5,FALSE),1,SEARCH(\"(\",VLOOKUP($D$1&D132&$E$1&E132,Bern2021!A:F,5,FALSE))-2)","v":"16:15 - 17:15"},"1:00",{"$f":"HLOOKUP($F132,Bern2021!$H$12:$P$14,2,FALSE)","v":"Aare"},{"$f":"HLOOKUP($F132,Bern2021!$H$12:$P$14,3,FALSE)","v":298},"N","SP.1479",5,{"$f":"IF(OR(L132=\"NA\",L132=\"E\"),\"NA\",IF(L132=\"Y\",COUNTIF($M$1:N131,N132)+1,COUNTIF($M$1:N131,N132)+1))","v":8},"TA5.06","Is it possible to learn about open geospatial data platforms in 75 mins to Harness Non-Official Sources for the 2030 Agenda?","GeoCensos Foundation","Day2_Time_Slot5_Parallel 02"]
[104,"Day2_Time_Slot5_Parallel 03","Day2_Time_Slot5",2,5,"Parallel 03",{"$f":"VLOOKUP($D$1&D133,Bern2021!A:F,6,FALSE)","v":"2021-10-05"},{"$f":"MID(VLOOKUP($D$1&D133&$E$1&E133,Bern2021!A:F,5,FALSE),1,SEARCH(\"(\",VLOOKUP($D$1&D133&$E$1&E133,Bern2021!A:F,5,FALSE))-2)","v":"16:15 - 17:15"},"1:00",{"$f":"HLOOKUP($F133,Bern2021!$H$12:$P$14,2,FALSE)","v":"Szenario 2"},{"$f":"HLOOKUP($F133,Bern2021!$H$12:$P$14,3,FALSE)","v":221},"N","SP.2023",6,{"$f":"IF(OR(L133=\"NA\",L133=\"E\"),\"NA\",IF(L133=\"Y\",COUNTIF($M$1:N132,N133)+1,COUNTIF($M$1:N132,N133)+1))","v":3},"TA6.03","Beyond Open Data: What’s Next For The Movement? (^^)","Open Data Watch (ODW)","Day2_Time_Slot5_Parallel 03"]
[105,"Day2_Time_Slot5_Parallel 04","Day2_Time_Slot5",2,5,"Parallel 04",{"$f":"VLOOKUP($D$1&D134,Bern2021!A:F,6,FALSE)","v":"2021-10-05"},{"$f":"MID(VLOOKUP($D$1&D134&$E$1&E134,Bern2021!A:F,5,FALSE),1,SEARCH(\"(\",VLOOKUP($D$1&D134&$E$1&E134,Bern2021!A:F,5,FALSE))-2)","v":"16:15 - 17:15"},"1:00",{"$f":"HLOOKUP($F134,Bern2021!$H$12:$P$14,2,FALSE)","v":"Panorama 2-4"},{"$f":"HLOOKUP($F134,Bern2021!$H$12:$P$14,3,FALSE)","v":199},"N","SP.3029.3035.3038",3,{"$f":"IF(OR(L134=\"NA\",L134=\"E\"),\"NA\",IF(L134=\"Y\",COUNTIF($M$1:N133,N134)+1,COUNTIF($M$1:N133,N134)+1))","v":11},"TA3.15","The legacy of COVID-19: Mobilizing gender data to deliver better science (^^)","EMERGE Project - The Center on Gender Equity and Health (GEH) at University of California San Diego (UCSD); Università della Svizzera Italiana; Bill and Melinda Gates Foundation (BMGF)","Day2_Time_Slot5_Parallel 04"]
[106,"Day2_Time_Slot5_Parallel 05","Day2_Time_Slot5",2,5,"Parallel 05",{"$f":"VLOOKUP($D$1&D135,Bern2021!A:F,6,FALSE)","v":"2021-10-05"},{"$f":"MID(VLOOKUP($D$1&D135&$E$1&E135,Bern2021!A:F,5,FALSE),1,SEARCH(\"(\",VLOOKUP($D$1&D135&$E$1&E135,Bern2021!A:F,5,FALSE))-2)","v":"16:15 - 17:15"},"1:00",{"$f":"HLOOKUP($F135,Bern2021!$H$12:$P$14,2,FALSE)","v":"Panorama 1"},{"$f":"HLOOKUP($F135,Bern2021!$H$12:$P$14,3,FALSE)","v":125},"N","SP.1428",1,{"$f":"IF(OR(L135=\"NA\",L135=\"E\"),\"NA\",IF(L135=\"Y\",COUNTIF($M$1:N134,N135)+1,COUNTIF($M$1:N134,N135)+1))","v":7},"TA1-5.01","3 x Ted-style talk (see list under footnote III)","Canada's International Development Research Centre (IDRC)/ World Bank (WB)/ Centro de Pensamiento Estratégico Internacional (Cepei); LUCA-Telefónica; Global System for Mobile Communications (GSMA)","Day2_Time_Slot5_Parallel 05"]
[107,"Day2_Time_Slot5_Parallel 06","Day2_Time_Slot5",2,5,"Parallel 06",{"$f":"VLOOKUP($D$1&D136,Bern2021!A:F,6,FALSE)","v":"2021-10-05"},{"$f":"MID(VLOOKUP($D$1&D136&$E$1&E136,Bern2021!A:F,5,FALSE),1,SEARCH(\"(\",VLOOKUP($D$1&D136&$E$1&E136,Bern2021!A:F,5,FALSE))-2)","v":"16:15 - 17:15"},"1:00",{"$f":"HLOOKUP($F136,Bern2021!$H$12:$P$14,2,FALSE)","v":"Szenario 1 (^^)"},{"$f":"HLOOKUP($F136,Bern2021!$H$12:$P$14,3,FALSE)","v":131},"N","SP.1514",4,{"$f":"IF(OR(L136=\"NA\",L136=\"E\"),\"NA\",IF(L136=\"Y\",COUNTIF($M$1:N135,N136)+1,COUNTIF($M$1:N135,N136)+1))","v":6},"TA4.14","Strengthening peace and security data analytics","UN Department for Political and Peacebuilding Affairs (DPPA)","Day2_Time_Slot5_Parallel 06"]
[108,"Day2_Time_Slot5_Parallel 07","Day2_Time_Slot5",2,5,"Parallel 07",{"$f":"VLOOKUP($D$1&D137,Bern2021!A:F,6,FALSE)","v":"2021-10-05"},{"$f":"MID(VLOOKUP($D$1&D137&$E$1&E137,Bern2021!A:F,5,FALSE),1,SEARCH(\"(\",VLOOKUP($D$1&D137&$E$1&E137,Bern2021!A:F,5,FALSE))-2)","v":"16:15 - 17:15"},"1:00",{"$f":"HLOOKUP($F137,Bern2021!$H$12:$P$14,2,FALSE)","v":"Aare 1 (^^)"},{"$f":"HLOOKUP($F137,Bern2021!$H$12:$P$14,3,FALSE)","v":63},"N","SP.1291",3,{"$f":"IF(OR(L137=\"NA\",L137=\"E\"),\"NA\",IF(L137=\"Y\",COUNTIF($M$1:N136,N137)+1,COUNTIF($M$1:N136,N137)+1))","v":12},"TA3.11","Empowering Women to Join the Data Revolution to Improve Lives","Millennium Challenge Corporation (MCC); LinkedIn; Tanzania dLab; Vodacom Tanzania; Women in Data Science","Day2_Time_Slot5_Parallel 07"]
[109,"Day2_Time_Slot5_Parallel 08","Day2_Time_Slot5",2,5,"Parallel 08",{"$f":"VLOOKUP($D$1&D138,Bern2021!A:F,6,FALSE)","v":"2021-10-05"},{"$f":"MID(VLOOKUP($D$1&D138&$E$1&E138,Bern2021!A:F,5,FALSE),1,SEARCH(\"(\",VLOOKUP($D$1&D138&$E$1&E138,Bern2021!A:F,5,FALSE))-2)","v":"16:15 - 17:15"},"1:00",{"$f":"HLOOKUP($F138,Bern2021!$H$12:$P$14,2,FALSE)","v":"Aare 2 (^^)"},{"$f":"HLOOKUP($F138,Bern2021!$H$12:$P$14,3,FALSE)","v":63},"N","SP.1221",2,{"$f":"IF(OR(L138=\"NA\",L138=\"E\"),\"NA\",IF(L138=\"Y\",COUNTIF($M$1:N137,N138)+1,COUNTIF($M$1:N137,N138)+1))","v":10},"TA2.08","Digital Data for Gender Equality: The Next Generation","Data2X (UN Foundation); The GovLab","Day2_Time_Slot5_Parallel 08"]
[110,"Day2_Time_Slot5_Parallel 09","Day2_Time_Slot5",2,5,"Parallel 09",{"$f":"VLOOKUP($D$1&D139,Bern2021!A:F,6,FALSE)","v":"2021-10-05"},{"$f":"MID(VLOOKUP($D$1&D139&$E$1&E139,Bern2021!A:F,5,FALSE),1,SEARCH(\"(\",VLOOKUP($D$1&D139&$E$1&E139,Bern2021!A:F,5,FALSE))-2)","v":"16:15 - 17:15"},"1:00",{"$f":"HLOOKUP($F139,Bern2021!$H$12:$P$14,2,FALSE)","v":"Aare 3 (^^)"},{"$f":"HLOOKUP($F139,Bern2021!$H$12:$P$14,3,FALSE)","v":75},"N","SP.3017.3019",2,{"$f":"IF(OR(L139=\"NA\",L139=\"E\"),\"NA\",IF(L139=\"Y\",COUNTIF($M$1:N138,N139)+1,COUNTIF($M$1:N138,N139)+1))","v":11},"TA2.20","Fostering Collaboration Across Institutions: Sustaining the use of MNO data to enhance analytics and outcomes during COVID-19","Digital Impact Alliance; Cooper/Smith; Path; Airtel Malawi; Ministry of Health; Gambia Bureau of Statistics; Vodafone Ghana; Flowminder; World Bank; Public Utilities Regulatory Authority","Day2_Time_Slot5_Parallel 09"]
[112,"Day3_Time_Slot1_Parallel 01","Day3_Time_Slot1",3,1,"Parallel 01",{"$f":"VLOOKUP($D$1&D140,Bern2021!A:F,6,FALSE)","v":"2021-10-06"},{"$f":"MID(VLOOKUP($D$1&D140&$E$1&E140,Bern2021!A:F,5,FALSE),1,SEARCH(\"(\",VLOOKUP($D$1&D140&$E$1&E140,Bern2021!A:F,5,FALSE))-2)","v":"08:30 - 09:30"},"1:00",{"$f":"HLOOKUP($F140,Bern2021!$H$12:$P$14,2,FALSE)","v":"Arena"},{"$f":"HLOOKUP($F140,Bern2021!$H$12:$P$14,3,FALSE)","v":1357},"N","SP.3024",4,{"$f":"IF(OR(L140=\"NA\",L140=\"E\"),\"NA\",IF(L140=\"Y\",COUNTIF($M$1:N139,N140)+1,COUNTIF($M$1:N139,N140)+1))","v":7},"TA4.11","Decision making for Covid-19 response using data intelligence system","Directorate General of Health Services (DGHS); Aspire to Innovate (a2i) Programme; Centre for Policy Dialogue (CPD)","Day3_Time_Slot1_Parallel 01"]
[113,"Day3_Time_Slot1_Parallel 02","Day3_Time_Slot1",3,1,"Parallel 02",{"$f":"VLOOKUP($D$1&D141,Bern2021!A:F,6,FALSE)","v":"2021-10-06"},{"$f":"MID(VLOOKUP($D$1&D141&$E$1&E141,Bern2021!A:F,5,FALSE),1,SEARCH(\"(\",VLOOKUP($D$1&D141&$E$1&E141,Bern2021!A:F,5,FALSE))-2)","v":"08:30 - 09:30"},"1:00",{"$f":"HLOOKUP($F141,Bern2021!$H$12:$P$14,2,FALSE)","v":"Aare"},{"$f":"HLOOKUP($F141,Bern2021!$H$12:$P$14,3,FALSE)","v":298},"N","SP.1196",3,{"$f":"IF(OR(L141=\"NA\",L141=\"E\"),\"NA\",IF(L141=\"Y\",COUNTIF($M$1:N140,N141)+1,COUNTIF($M$1:N140,N141)+1))","v":13},"TA3.13","Developing national SDG indicators – what is the data situation for ‘leaving no one behind’ - producer and user perspective (^^)","Statistics Denmark; Statistics Canada","Day3_Time_Slot1_Parallel 02"]
[114,"Day3_Time_Slot1_Parallel 03","Day3_Time_Slot1",3,1,"Parallel 03",{"$f":"VLOOKUP($D$1&D142,Bern2021!A:F,6,FALSE)","v":"2021-10-06"},{"$f":"MID(VLOOKUP($D$1&D142&$E$1&E142,Bern2021!A:F,5,FALSE),1,SEARCH(\"(\",VLOOKUP($D$1&D142&$E$1&E142,Bern2021!A:F,5,FALSE))-2)","v":"08:30 - 09:30"},"1:00",{"$f":"HLOOKUP($F142,Bern2021!$H$12:$P$14,2,FALSE)","v":"Szenario 2"},{"$f":"HLOOKUP($F142,Bern2021!$H$12:$P$14,3,FALSE)","v":221},"N","SP.1455.1400",5,{"$f":"IF(OR(L142=\"NA\",L142=\"E\"),\"NA\",IF(L142=\"Y\",COUNTIF($M$1:N141,N142)+1,COUNTIF($M$1:N141,N142)+1))","v":9},"TA5.09","Microdata Use, Dissemination, and Emerging Issues","Open Data Watch (ODW); United Nations Children's Fund (UNICEF); United Nations Statistics Division (UNSD-DESA); Food and Agriculture Organization of United Nations (FAO)","Day3_Time_Slot1_Parallel 03"]
[115,"Day3_Time_Slot1_Parallel 04","Day3_Time_Slot1",3,1,"Parallel 04",{"$f":"VLOOKUP($D$1&D143,Bern2021!A:F,6,FALSE)","v":"2021-10-06"},{"$f":"MID(VLOOKUP($D$1&D143&$E$1&E143,Bern2021!A:F,5,FALSE),1,SEARCH(\"(\",VLOOKUP($D$1&D143&$E$1&E143,Bern2021!A:F,5,FALSE))-2)","v":"08:30 - 09:30"},"1:00",{"$f":"HLOOKUP($F143,Bern2021!$H$12:$P$14,2,FALSE)","v":"Panorama 2-4"},{"$f":"HLOOKUP($F143,Bern2021!$H$12:$P$14,3,FALSE)","v":199},"N","SP.1437",4,{"$f":"IF(OR(L143=\"NA\",L143=\"E\"),\"NA\",IF(L143=\"Y\",COUNTIF($M$1:N142,N143)+1,COUNTIF($M$1:N142,N143)+1))","v":8},"TA4.06","Monitoring the SDGs for everyone: making data widely accessible and engaging stakeholders","United Nations Statistics Division (UNSD-DESA)","Day3_Time_Slot1_Parallel 04"]
[116,"Day3_Time_Slot1_Parallel 05","Day3_Time_Slot1",3,1,"Parallel 05",{"$f":"VLOOKUP($D$1&D144,Bern2021!A:F,6,FALSE)","v":"2021-10-06"},{"$f":"MID(VLOOKUP($D$1&D144&$E$1&E144,Bern2021!A:F,5,FALSE),1,SEARCH(\"(\",VLOOKUP($D$1&D144&$E$1&E144,Bern2021!A:F,5,FALSE))-2)","v":"08:30 - 09:30"},"1:00",{"$f":"HLOOKUP($F144,Bern2021!$H$12:$P$14,2,FALSE)","v":"Panorama 1"},{"$f":"HLOOKUP($F144,Bern2021!$H$12:$P$14,3,FALSE)","v":125},"N","SP.1149",4,{"$f":"IF(OR(L144=\"NA\",L144=\"E\"),\"NA\",IF(L144=\"Y\",COUNTIF($M$1:N143,N144)+1,COUNTIF($M$1:N143,N144)+1))","v":9},"TA1-5.02","1 x Ted-style talk (see list under footnote IV)","Department of Statistics (DOS-Jordan); United Nations Economic and Social Commission for Western Asia (UNESCWA)","Day3_Time_Slot1_Parallel 05"]
[117,"Day3_Time_Slot1_Parallel 06","Day3_Time_Slot1",3,1,"Parallel 06",{"$f":"VLOOKUP($D$1&D145,Bern2021!A:F,6,FALSE)","v":"2021-10-06"},{"$f":"MID(VLOOKUP($D$1&D145&$E$1&E145,Bern2021!A:F,5,FALSE),1,SEARCH(\"(\",VLOOKUP($D$1&D145&$E$1&E145,Bern2021!A:F,5,FALSE))-2)","v":"08:30 - 09:30"},"1:00",{"$f":"HLOOKUP($F145,Bern2021!$H$12:$P$14,2,FALSE)","v":"Szenario 1 (^^)"},{"$f":"HLOOKUP($F145,Bern2021!$H$12:$P$14,3,FALSE)","v":131},"N","SP.1110",2,{"$f":"IF(OR(L145=\"NA\",L145=\"E\"),\"NA\",IF(L145=\"Y\",COUNTIF($M$1:N144,N145)+1,COUNTIF($M$1:N144,N145)+1))","v":12},"TA2.11","Impact Monitoring Using the Community-Based Monitoring System","Community-Based Monitoring System (CBMS) Network Office","Day3_Time_Slot1_Parallel 06"]
[118,"Day3_Time_Slot1_Parallel 07","Day3_Time_Slot1",3,1,"Parallel 07",{"$f":"VLOOKUP($D$1&D146,Bern2021!A:F,6,FALSE)","v":"2021-10-06"},{"$f":"MID(VLOOKUP($D$1&D146&$E$1&E146,Bern2021!A:F,5,FALSE),1,SEARCH(\"(\",VLOOKUP($D$1&D146&$E$1&E146,Bern2021!A:F,5,FALSE))-2)","v":"08:30 - 09:30"},"1:00",{"$f":"HLOOKUP($F146,Bern2021!$H$12:$P$14,2,FALSE)","v":"Aare 1 (^^)"},{"$f":"HLOOKUP($F146,Bern2021!$H$12:$P$14,3,FALSE)","v":63},"N","SP.1263.1396",2,{"$f":"IF(OR(L146=\"NA\",L146=\"E\"),\"NA\",IF(L146=\"Y\",COUNTIF($M$1:N145,N146)+1,COUNTIF($M$1:N145,N146)+1))","v":13},"TA2.09","Data Powered Positive Deviance: Bridging the gap between big data and explorative field research in Ecuador, Mexico, Niger and Somalia","Deutsche Gesellschaft für Internationale Zusammenarbeit (GIZ); UNDP Accelerator Labs; University of Manchester","Day3_Time_Slot1_Parallel 07"]
[119,"Day3_Time_Slot1_Parallel 08","Day3_Time_Slot1",3,1,"Parallel 08",{"$f":"VLOOKUP($D$1&D147,Bern2021!A:F,6,FALSE)","v":"2021-10-06"},{"$f":"MID(VLOOKUP($D$1&D147&$E$1&E147,Bern2021!A:F,5,FALSE),1,SEARCH(\"(\",VLOOKUP($D$1&D147&$E$1&E147,Bern2021!A:F,5,FALSE))-2)","v":"08:30 - 09:30"},"1:00",{"$f":"HLOOKUP($F147,Bern2021!$H$12:$P$14,2,FALSE)","v":"Aare 2 (^^)"},{"$f":"HLOOKUP($F147,Bern2021!$H$12:$P$14,3,FALSE)","v":63},"N","SP.1294.1468",1,{"$f":"IF(OR(L147=\"NA\",L147=\"E\"),\"NA\",IF(L147=\"Y\",COUNTIF($M$1:N146,N147)+1,COUNTIF($M$1:N146,N147)+1))","v":8},"TA1.03","Monitoring and reporting for a Sustainable and Inclusive Future: Urban Observatories and Capacity Building","Connected Cities Lab, University of Melbourne; University College London; United Nations Human Settlements Programme (UN-Habitat)","Day3_Time_Slot1_Parallel 08"]
[120,"Day3_Time_Slot1_Parallel 09","Day3_Time_Slot1",3,1,"Parallel 09",{"$f":"VLOOKUP($D$1&D148,Bern2021!A:F,6,FALSE)","v":"2021-10-06"},{"$f":"MID(VLOOKUP($D$1&D148&$E$1&E148,Bern2021!A:F,5,FALSE),1,SEARCH(\"(\",VLOOKUP($D$1&D148&$E$1&E148,Bern2021!A:F,5,FALSE))-2)","v":"08:30 - 09:30"},"1:00",{"$f":"HLOOKUP($F148,Bern2021!$H$12:$P$14,2,FALSE)","v":"Aare 3 (^^)"},{"$f":"HLOOKUP($F148,Bern2021!$H$12:$P$14,3,FALSE)","v":75},"N","SP.1402.1313",5,{"$f":"IF(OR(L148=\"NA\",L148=\"E\"),\"NA\",IF(L148=\"Y\",COUNTIF($M$1:N147,N148)+1,COUNTIF($M$1:N147,N148)+1))","v":10},"TA5.08","TWICE INVISIBLE, lack of education in crises leaves Internally Displaced Children behind –– Time to Act!","Swiss Agency for Development and Cooperation (SDC); NORRAG/Graduate Institute; Development Initiatives","Day3_Time_Slot1_Parallel 09"]
[121,"Day3_Time_Slot2_Parallel 01","Day3_Time_Slot2",3,2,"Parallel 01",{"$f":"VLOOKUP($D$1&D149,Bern2021!A:F,6,FALSE)","v":"2021-10-06"},{"$f":"MID(VLOOKUP($D$1&D149&$E$1&E149,Bern2021!A:F,5,FALSE),1,SEARCH(\"(\",VLOOKUP($D$1&D149&$E$1&E149,Bern2021!A:F,5,FALSE))-2)","v":"10:00 - 11:00"},"1:00",{"$f":"HLOOKUP($F149,Bern2021!$H$12:$P$14,2,FALSE)","v":"Arena"},{"$f":"HLOOKUP($F149,Bern2021!$H$12:$P$14,3,FALSE)","v":1357},"N","SP.1038.1285",2,{"$f":"IF(OR(L149=\"NA\",L149=\"E\"),\"NA\",IF(L149=\"Y\",COUNTIF($M$1:N148,N149)+1,COUNTIF($M$1:N148,N149)+1))","v":14},"TA2.12","Integrating Citizen Science into the Official SDG Monitoring Mechanisms and Introducing the Global Citizen Science Partnership (GCSP)","International Institute for Applied Systems Analysis (IIASA); World Health Organization (WHO); United Nations Convention on Biological Diversity; Sustainable Development Solutions Network Thematic Research Network on Data and Statistics (SDSN TReNDS); Global Citizen Science Partnership (GCSP)","Day3_Time_Slot2_Parallel 01"]
[122,"Day3_Time_Slot2_Parallel 02","Day3_Time_Slot2",3,2,"Parallel 02",{"$f":"VLOOKUP($D$1&D150,Bern2021!A:F,6,FALSE)","v":"2021-10-06"},{"$f":"MID(VLOOKUP($D$1&D150&$E$1&E150,Bern2021!A:F,5,FALSE),1,SEARCH(\"(\",VLOOKUP($D$1&D150&$E$1&E150,Bern2021!A:F,5,FALSE))-2)","v":"10:00 - 11:00"},"1:00",{"$f":"HLOOKUP($F150,Bern2021!$H$12:$P$14,2,FALSE)","v":"Aare"},{"$f":"HLOOKUP($F150,Bern2021!$H$12:$P$14,3,FALSE)","v":298},"N","SP.3005",4,{"$f":"IF(OR(L150=\"NA\",L150=\"E\"),\"NA\",IF(L150=\"Y\",COUNTIF($M$1:N149,N150)+1,COUNTIF($M$1:N149,N150)+1))","v":10},"TA4.12","Committing to strong data governance for health at times of Covid-19","Swiss Agency for Development and Cooperation (SDC)","Day3_Time_Slot2_Parallel 02"]
[123,"Day3_Time_Slot2_Parallel 03","Day3_Time_Slot2",3,2,"Parallel 03",{"$f":"VLOOKUP($D$1&D151,Bern2021!A:F,6,FALSE)","v":"2021-10-06"},{"$f":"MID(VLOOKUP($D$1&D151&$E$1&E151,Bern2021!A:F,5,FALSE),1,SEARCH(\"(\",VLOOKUP($D$1&D151&$E$1&E151,Bern2021!A:F,5,FALSE))-2)","v":"10:00 - 11:00"},"1:00",{"$f":"HLOOKUP($F151,Bern2021!$H$12:$P$14,2,FALSE)","v":"Szenario 2"},{"$f":"HLOOKUP($F151,Bern2021!$H$12:$P$14,3,FALSE)","v":221},"N","SP.1515.1212",4,{"$f":"IF(OR(L151=\"NA\",L151=\"E\"),\"NA\",IF(L151=\"Y\",COUNTIF($M$1:N150,N151)+1,COUNTIF($M$1:N150,N151)+1))","v":11},"TA4.04","Violence against women statistics: better monitoring and communicating complex data and trends","United Nations Population Fund (UNFPA); Italian National Institute of Statistics (Istat)","Day3_Time_Slot2_Parallel 03"]
[124,"Day3_Time_Slot2_Parallel 04","Day3_Time_Slot2",3,2,"Parallel 04",{"$f":"VLOOKUP($D$1&D152,Bern2021!A:F,6,FALSE)","v":"2021-10-06"},{"$f":"MID(VLOOKUP($D$1&D152&$E$1&E152,Bern2021!A:F,5,FALSE),1,SEARCH(\"(\",VLOOKUP($D$1&D152&$E$1&E152,Bern2021!A:F,5,FALSE))-2)","v":"10:00 - 11:00"},"1:00",{"$f":"HLOOKUP($F152,Bern2021!$H$12:$P$14,2,FALSE)","v":"Panorama 2-4"},{"$f":"HLOOKUP($F152,Bern2021!$H$12:$P$14,3,FALSE)","v":199},"N","SP.1271",4,{"$f":"IF(OR(L152=\"NA\",L152=\"E\"),\"NA\",IF(L152=\"Y\",COUNTIF($M$1:N151,N152)+1,COUNTIF($M$1:N151,N152)+1))","v":12},"TA4.07","Statistics and Data Smart: Innovative solutions for increasing statistical literacy of the general public","United Nations Institute for Training and Research (UNITAR); United Nations Statistics Division (UNSD-DESA)","Day3_Time_Slot2_Parallel 04"]
[125,"Day3_Time_Slot2_Parallel 05","Day3_Time_Slot2",3,2,"Parallel 05",{"$f":"VLOOKUP($D$1&D153,Bern2021!A:F,6,FALSE)","v":"2021-10-06"},{"$f":"MID(VLOOKUP($D$1&D153&$E$1&E153,Bern2021!A:F,5,FALSE),1,SEARCH(\"(\",VLOOKUP($D$1&D153&$E$1&E153,Bern2021!A:F,5,FALSE))-2)","v":"10:00 - 11:00"},"1:00",{"$f":"HLOOKUP($F153,Bern2021!$H$12:$P$14,2,FALSE)","v":"Panorama 1"},{"$f":"HLOOKUP($F153,Bern2021!$H$12:$P$14,3,FALSE)","v":125},"N","SP.1165.1143.1345",5,{"$f":"IF(OR(L153=\"NA\",L153=\"E\"),\"NA\",IF(L153=\"Y\",COUNTIF($M$1:N152,N153)+1,COUNTIF($M$1:N152,N153)+1))","v":11},"TA5.11","Strengthening trust in data: participatory data ecosystems for the post-covid society (^^)","Partnership in Statistics for Development in the 21st Century (PARIS21); Organisation for Economic Co-operation and Development (OECD)","Day3_Time_Slot2_Parallel 05"]
[126,"Day3_Time_Slot2_Parallel 06","Day3_Time_Slot2",3,2,"Parallel 06",{"$f":"VLOOKUP($D$1&D154,Bern2021!A:F,6,FALSE)","v":"2021-10-06"},{"$f":"MID(VLOOKUP($D$1&D154&$E$1&E154,Bern2021!A:F,5,FALSE),1,SEARCH(\"(\",VLOOKUP($D$1&D154&$E$1&E154,Bern2021!A:F,5,FALSE))-2)","v":"10:00 - 11:00"},"1:00",{"$f":"HLOOKUP($F154,Bern2021!$H$12:$P$14,2,FALSE)","v":"Szenario 1 (^^)"},{"$f":"HLOOKUP($F154,Bern2021!$H$12:$P$14,3,FALSE)","v":131},"N","SP.1141",5,{"$f":"IF(OR(L154=\"NA\",L154=\"E\"),\"NA\",IF(L154=\"Y\",COUNTIF($M$1:N153,N154)+1,COUNTIF($M$1:N153,N154)+1))","v":12},"TA5.12","Data for Good: Toward a Sustainable Ecosystem, Beyond Philanthropy","Telefonica; The GovLab; Flowminder; Statistics Poland; Bureau of Committee on Statistics and Statistical Policy (OECD); Instituto Nacional de Estadística (INE-Spain); Global System for Mobile Communications (GSMA); Mastercard","Day3_Time_Slot2_Parallel 06"]
[127,"Day3_Time_Slot2_Parallel 07","Day3_Time_Slot2",3,2,"Parallel 07",{"$f":"VLOOKUP($D$1&D155,Bern2021!A:F,6,FALSE)","v":"2021-10-06"},{"$f":"MID(VLOOKUP($D$1&D155&$E$1&E155,Bern2021!A:F,5,FALSE),1,SEARCH(\"(\",VLOOKUP($D$1&D155&$E$1&E155,Bern2021!A:F,5,FALSE))-2)","v":"10:00 - 11:00"},"1:00",{"$f":"HLOOKUP($F155,Bern2021!$H$12:$P$14,2,FALSE)","v":"Aare 1 (^^)"},{"$f":"HLOOKUP($F155,Bern2021!$H$12:$P$14,3,FALSE)","v":63},"E","NA","NA",{"$f":"IF(OR(L155=\"NA\",L155=\"E\"),\"NA\",IF(L155=\"Y\",COUNTIF($M$1:N154,N155)+1,COUNTIF($M$1:N154,N155)+1))","v":"NA"},null,"NA","NA","Day3_Time_Slot2_Parallel 07"]
[128,"Day3_Time_Slot2_Parallel 08","Day3_Time_Slot2",3,2,"Parallel 08",{"$f":"VLOOKUP($D$1&D156,Bern2021!A:F,6,FALSE)","v":"2021-10-06"},{"$f":"MID(VLOOKUP($D$1&D156&$E$1&E156,Bern2021!A:F,5,FALSE),1,SEARCH(\"(\",VLOOKUP($D$1&D156&$E$1&E156,Bern2021!A:F,5,FALSE))-2)","v":"10:00 - 11:00"},"1:00",{"$f":"HLOOKUP($F156,Bern2021!$H$12:$P$14,2,FALSE)","v":"Aare 2 (^^)"},{"$f":"HLOOKUP($F156,Bern2021!$H$12:$P$14,3,FALSE)","v":63},"N","SP.1025.1282",2,{"$f":"IF(OR(L156=\"NA\",L156=\"E\"),\"NA\",IF(L156=\"Y\",COUNTIF($M$1:N155,N156)+1,COUNTIF($M$1:N155,N156)+1))","v":15},"TA2.10","Leveraging Data Insights for Health Financing and Delivery in Low and Middle-Income Countries","PharmAccess Group","Day3_Time_Slot2_Parallel 08"]
[139,"Day3_Time_Slot4_Parallel 01","Day3_Time_Slot4",3,4,"Parallel 01",{"$f":"VLOOKUP($D$1&D157,Bern2021!A:F,6,FALSE)","v":"2021-10-06"},{"$f":"MID(VLOOKUP($D$1&D157&$E$1&E157,Bern2021!A:F,5,FALSE),1,SEARCH(\"(\",VLOOKUP($D$1&D157&$E$1&E157,Bern2021!A:F,5,FALSE))-2)","v":"13:45 - 14:45"},"1:00",{"$f":"HLOOKUP($F157,Bern2021!$H$12:$P$14,2,FALSE)","v":"Arena"},{"$f":"HLOOKUP($F157,Bern2021!$H$12:$P$14,3,FALSE)","v":1357},"N","SP.1426",5,{"$f":"IF(OR(L157=\"NA\",L157=\"E\"),\"NA\",IF(L157=\"Y\",COUNTIF($M$1:N156,N157)+1,COUNTIF($M$1:N156,N157)+1))","v":13},"TA5.13","Building Trust in the Humanitarian Data Ecosystem","Swiss Federal Department of Foreign Affairs; International Committee of the Red Cross (ICRC); United Nations Office for the Coordination of Humanitarian Affairs (UNOCHA), Centre for Humanitarian Data","Day3_Time_Slot4_Parallel 01"]
[140,"Day3_Time_Slot4_Parallel 02","Day3_Time_Slot4",3,4,"Parallel 02",{"$f":"VLOOKUP($D$1&D158,Bern2021!A:F,6,FALSE)","v":"2021-10-06"},{"$f":"MID(VLOOKUP($D$1&D158&$E$1&E158,Bern2021!A:F,5,FALSE),1,SEARCH(\"(\",VLOOKUP($D$1&D158&$E$1&E158,Bern2021!A:F,5,FALSE))-2)","v":"13:45 - 14:45"},"1:00",{"$f":"HLOOKUP($F158,Bern2021!$H$12:$P$14,2,FALSE)","v":"Aare"},{"$f":"HLOOKUP($F158,Bern2021!$H$12:$P$14,3,FALSE)","v":298},"N","SP.1227",2,{"$f":"IF(OR(L158=\"NA\",L158=\"E\"),\"NA\",IF(L158=\"Y\",COUNTIF($M$1:N157,N158)+1,COUNTIF($M$1:N157,N158)+1))","v":16},"TA2.14","Private Sector Innovation in a Post-Pandemic World: Integrating noncommercial data resources to support pandemic response and sustainable development (^^)","Facebook; LinkedIn; Salesforce.org; PayPal; World Bank (WB); United Nations Office for the Coordination of Humanitarian Affairs (UNOCHA)","Day3_Time_Slot4_Parallel 02"]
[141,"Day3_Time_Slot4_Parallel 03","Day3_Time_Slot4",3,4,"Parallel 03",{"$f":"VLOOKUP($D$1&D159,Bern2021!A:F,6,FALSE)","v":"2021-10-06"},{"$f":"MID(VLOOKUP($D$1&D159&$E$1&E159,Bern2021!A:F,5,FALSE),1,SEARCH(\"(\",VLOOKUP($D$1&D159&$E$1&E159,Bern2021!A:F,5,FALSE))-2)","v":"13:45 - 14:45"},"1:00",{"$f":"HLOOKUP($F159,Bern2021!$H$12:$P$14,2,FALSE)","v":"Szenario 2"},{"$f":"HLOOKUP($F159,Bern2021!$H$12:$P$14,3,FALSE)","v":221},"N","SP.2018",2,{"$f":"IF(OR(L159=\"NA\",L159=\"E\"),\"NA\",IF(L159=\"Y\",COUNTIF($M$1:N158,N159)+1,COUNTIF($M$1:N158,N159)+1))","v":17},"TA2.16","Bringing alternative data to official use: cross-sector partnerships to leave no one behind in SDG monitoring and review","International Civil Society Center (ICSC); Deutsche Gesellschaft für Internationale Zusammenarbeit (GIZ); Partners for Review and the Danish Institute for Human Rights","Day3_Time_Slot4_Parallel 03"]
[142,"Day3_Time_Slot4_Parallel 04","Day3_Time_Slot4",3,4,"Parallel 04",{"$f":"VLOOKUP($D$1&D160,Bern2021!A:F,6,FALSE)","v":"2021-10-06"},{"$f":"MID(VLOOKUP($D$1&D160&$E$1&E160,Bern2021!A:F,5,FALSE),1,SEARCH(\"(\",VLOOKUP($D$1&D160&$E$1&E160,Bern2021!A:F,5,FALSE))-2)","v":"13:45 - 14:45"},"1:00",{"$f":"HLOOKUP($F160,Bern2021!$H$12:$P$14,2,FALSE)","v":"Panorama 2-4"},{"$f":"HLOOKUP($F160,Bern2021!$H$12:$P$14,3,FALSE)","v":199},"N","SP.1018.1140",5,{"$f":"IF(OR(L160=\"NA\",L160=\"E\"),\"NA\",IF(L160=\"Y\",COUNTIF($M$1:N159,N160)+1,COUNTIF($M$1:N159,N160)+1))","v":14},"TA5.14","Governing data for development: from normative frameworks to implementation (^^)","Oxford Insights; Open Data Watch (ODW); Sustainable Development Solutions Network Thematic Research Network on Data and Statistics (SDSN TReNDS)","Day3_Time_Slot4_Parallel 04"]
[143,"Day3_Time_Slot4_Parallel 05","Day3_Time_Slot4",3,4,"Parallel 05",{"$f":"VLOOKUP($D$1&D161,Bern2021!A:F,6,FALSE)","v":"2021-10-06"},{"$f":"MID(VLOOKUP($D$1&D161&$E$1&E161,Bern2021!A:F,5,FALSE),1,SEARCH(\"(\",VLOOKUP($D$1&D161&$E$1&E161,Bern2021!A:F,5,FALSE))-2)","v":"13:45 - 14:45"},"1:00",{"$f":"HLOOKUP($F161,Bern2021!$H$12:$P$14,2,FALSE)","v":"Panorama 1"},{"$f":"HLOOKUP($F161,Bern2021!$H$12:$P$14,3,FALSE)","v":125},"N","SP.1513",2,{"$f":"IF(OR(L161=\"NA\",L161=\"E\"),\"NA\",IF(L161=\"Y\",COUNTIF($M$1:N160,N161)+1,COUNTIF($M$1:N160,N161)+1))","v":18},"TA2.15","From the Ground, Up. Improving Geospatial Modelling through a Collaborative Approach to Ground-Truthing (^^)","World Bank (WB); The 50x2030 Initiative to Close the Agricultural Data Gap","Day3_Time_Slot4_Parallel 05"]
[144,{"$f":"C162&\"_\"&F162","v":"Day3_Time_Slot4_Parallel 06"},{"$f":"$D$1&D162&\"_\"&$E$1&E162","v":"Day3_Time_Slot4"},3,4,"Parallel 06",{"$f":"VLOOKUP($D$1&D162,Bern2021!A:F,6,FALSE)","v":"2021-10-06"},{"$f":"MID(VLOOKUP($D$1&D162&$E$1&E162,Bern2021!A:F,5,FALSE),1,SEARCH(\"(\",VLOOKUP($D$1&D162&$E$1&E162,Bern2021!A:F,5,FALSE))-2)","v":"13:45 - 14:45"},{"$f":"TEXT(MID(H162,SEARCH(\"-\",H162)+2,LEN(H162)-SEARCH(\"-\",H162)-1)-MID(H162,1,SEARCH(\"-\",H162)-1),\"h:mm\")","v":"1:00"},{"$f":"HLOOKUP($F162,Bern2021!$H$12:$P$14,2,FALSE)","v":"Szenario 1 (^^)"},{"$f":"HLOOKUP($F162,Bern2021!$H$12:$P$14,3,FALSE)","v":131},"N","SP.1392",4,{"$f":"IF(OR(L162=\"NA\",L162=\"E\"),\"NA\",IF(L162=\"Y\",COUNTIF($M$1:N161,N162)+1,COUNTIF($M$1:N161,N162)+1))","v":13},"TA4.08","Creating Data Use Ecosystems: Tools and Frameworks to promote evidence-based policies","Open Data Watch (ODW); Development Gateway; Partnership in Statistics for Development in the 21st Century (PARIS21)",{"$f":"B162","v":"Day3_Time_Slot4_Parallel 06"}]
[145,"Day3_Time_Slot4_Parallel 07","Day3_Time_Slot4",3,4,"Parallel 07",{"$f":"VLOOKUP($D$1&D163,Bern2021!A:F,6,FALSE)","v":"2021-10-06"},{"$f":"MID(VLOOKUP($D$1&D163&$E$1&E163,Bern2021!A:F,5,FALSE),1,SEARCH(\"(\",VLOOKUP($D$1&D163&$E$1&E163,Bern2021!A:F,5,FALSE))-2)","v":"13:45 - 14:45"},"1:00",{"$f":"HLOOKUP($F163,Bern2021!$H$12:$P$14,2,FALSE)","v":"Aare 1 (^^)"},{"$f":"HLOOKUP($F163,Bern2021!$H$12:$P$14,3,FALSE)","v":63},"N","SP.1160",4,{"$f":"IF(OR(L163=\"NA\",L163=\"E\"),\"NA\",IF(L163=\"Y\",COUNTIF($M$1:N162,N163)+1,COUNTIF($M$1:N162,N163)+1))","v":14},"TA4.09","The interactive gameshow: How much do you know about gender data shaping our world?","United Nations Entity for Gender Equality and the Empowerment of Women (UN Women)","Day3_Time_Slot4_Parallel 07"]
[146,"Day3_Time_Slot4_Parallel 08","Day3_Time_Slot4",3,4,"Parallel 08",{"$f":"VLOOKUP($D$1&D164,Bern2021!A:F,6,FALSE)","v":"2021-10-06"},{"$f":"MID(VLOOKUP($D$1&D164&$E$1&E164,Bern2021!A:F,5,FALSE),1,SEARCH(\"(\",VLOOKUP($D$1&D164&$E$1&E164,Bern2021!A:F,5,FALSE))-2)","v":"13:45 - 14:45"},"1:00",{"$f":"HLOOKUP($F164,Bern2021!$H$12:$P$14,2,FALSE)","v":"Aare 2 (^^)"},{"$f":"HLOOKUP($F164,Bern2021!$H$12:$P$14,3,FALSE)","v":63},"N","SP.3042",3,{"$f":"IF(OR(L164=\"NA\",L164=\"E\"),\"NA\",IF(L164=\"Y\",COUNTIF($M$1:N163,N164)+1,COUNTIF($M$1:N163,N164)+1))","v":14},"TA3.16","Domestic violence during Covid times","Instituto Nacional de Estadística y Geografía (INEGI-México)","Day3_Time_Slot4_Parallel 08"]
[147,"Day3_Time_Slot4_Parallel 09","Day3_Time_Slot4",3,4,"Parallel 09",{"$f":"VLOOKUP($D$1&D165,Bern2021!A:F,6,FALSE)","v":"2021-10-06"},{"$f":"MID(VLOOKUP($D$1&D165&$E$1&E165,Bern2021!A:F,5,FALSE),1,SEARCH(\"(\",VLOOKUP($D$1&D165&$E$1&E165,Bern2021!A:F,5,FALSE))-2)","v":"13:45 - 14:45"},"1:00",{"$f":"HLOOKUP($F165,Bern2021!$H$12:$P$14,2,FALSE)","v":"Aare 3 (^^)"},{"$f":"HLOOKUP($F165,Bern2021!$H$12:$P$14,3,FALSE)","v":75},"N","SP.3020.3026",3,{"$f":"IF(OR(L165=\"NA\",L165=\"E\"),\"NA\",IF(L165=\"Y\",COUNTIF($M$1:N164,N165)+1,COUNTIF($M$1:N164,N165)+1))","v":15},"TA3.18","Citizen-generated data for COVID-19 response:  Incorporating open data in micro-planning for vaccine equity","Humanitarian OpenStreetMap Team; iLab Libera; Global Active Learning School; Public Lab Mongolia; Mapbox; Ona","Day3_Time_Slot4_Parallel 09"]
[74,"Day2_Time_Slot1_Parallel 09","Day2_Time_Slot1",2,1,"Parallel 09",{"$f":"VLOOKUP($D$1&D166,Bern2021!A:F,6,FALSE)","v":"2021-10-05"},{"$f":"MID(VLOOKUP($D$1&D166&$E$1&E166,Bern2021!A:F,5,FALSE),1,SEARCH(\"(\",VLOOKUP($D$1&D166&$E$1&E166,Bern2021!A:F,5,FALSE))-2)","v":"09:00 - 10:00"},"1:00",{"$f":"HLOOKUP($F166,Bern2021!$H$12:$P$14,2,FALSE)","v":"Aare 3 (^^)"},{"$f":"HLOOKUP($F166,Bern2021!$H$12:$P$14,3,FALSE)","v":75},"E","NA","NA",{"$f":"IF(OR(L166=\"NA\",L166=\"E\"),\"NA\",IF(L166=\"Y\",COUNTIF($M$1:N165,N166)+1,COUNTIF($M$1:N165,N166)+1))","v":"NA"},null,"NA","NA","Day2_Time_Slot1_Parallel 09"]
[129,"Day3_Time_Slot2_Parallel 09","Day3_Time_Slot2",3,2,"Parallel 09",{"$f":"VLOOKUP($D$1&D167,Bern2021!A:F,6,FALSE)","v":"2021-10-06"},{"$f":"MID(VLOOKUP($D$1&D167&$E$1&E167,Bern2021!A:F,5,FALSE),1,SEARCH(\"(\",VLOOKUP($D$1&D167&$E$1&E167,Bern2021!A:F,5,FALSE))-2)","v":"10:00 - 11:00"},"1:00",{"$f":"HLOOKUP($F167,Bern2021!$H$12:$P$14,2,FALSE)","v":"Aare 3 (^^)"},{"$f":"HLOOKUP($F167,Bern2021!$H$12:$P$14,3,FALSE)","v":75},"E","NA","NA",{"$f":"IF(OR(L167=\"NA\",L167=\"E\"),\"NA\",IF(L167=\"Y\",COUNTIF($M$1:N166,N167)+1,COUNTIF($M$1:N166,N167)+1))","v":"NA"},null,"NA","NA","Day3_Time_Slot2_Parallel 09"]
[167,null,null,null,null,"Parallel 10",null,null,null,null,null,"NA","NA","NA",null,"NA","Open Space / Dinner Room /Exhibition / Meet & Jazz","All",{"$f":"B168","v":0}]
[168,null,null,null,null,"Parallel 11",null,null,null,null,null,"NA","NA","NA",null,"NA","Lounge area","All",0]
[169,null,null,null,null,"Parallel 12",null,null,null,null,null,"NA","NA","NA",null,"NA","Media Zone","All",0]
[170,null,null,null,null,"Parallel 13",null,null,null,null,null,"NA","NA","NA",null,"NA","Lounge?","All",0]
[171,null,null,null,null,"Parallel 14",null,null,null,null,null,"NA","NA","NA",null,"NA","VIP-Area Meeting Room","VIP and staff",0]
[172,null,null,null,null,"Parallel 15",null,null,null,null,null,"NA","NA","NA",null,"NA","Room for moderators","Moderators and staff",0]
[173,null,null,null,null,"Parallel 16",null,null,null,null,null,"NA","NA","NA",null,"NA","VIP-Area ","VVIP, VIP and staff",0]
[174,null,null,null,null,"Parallel 17",null,null,null,null,null,"NA","NA","NA",null,"NA","Media Working space (IISD)","Media and staff",0]
[175,null,null,null,null,"Parallel 18",null,null,null,null,null,"NA","NA","NA",null,"NA","Covid-Testcenter","All",0]
[176,null,null,null,null,"Parallel 19",null,null,null,null,null,"NA","NA","NA",null,"NA","Meeting room UNSD and host country","Staff",0]
[177,null,null,null,null,"Parallel 20",null,null,null,null,null,"NA","NA","NA",null,"NA","Meeting room UNSD and host country","Staf",0]
[178,null,null,null,null,"Parallel 21",null,null,null,null,null,"NA","NA","NA",null,"NA","Host Office (Projekt Road to Bern / UNWDF & EDA-Events)","Staff",0]
[179,null,null,null,null,"Parallel 22",null,null,null,null,null,"NA","NA","NA",null,"NA","Host Office (Comm-unication)","Staff",0]
[180,null,null,null,null,"Parallel 23",null,null,null,null,null,"NA","NA","NA",null,"NA","Host Office (Room for bilaterals and meetings)","Staff",0]
[181,null,null,null,null,"Parallel 24",null,null,null,null,null,"NA","NA","NA",null,"NA","UNSD Office ","Staff",0]
[182,null,null,null,null,"Parallel 25",null,null,null,null,null,"NA","NA","NA",null,"NA","UNSD Office ","Staff",0]
[183,null,null,null,null,"Parallel 26",null,null,null,null,null,"NA","NA","NA",null,"NA","UNSD Office ","Staff",0]
[184,null,null,null,null,"Parallel 27",null,null,null,null,null,"NA","NA","NA",null,"NA","Room for Security (UN, Securitas, Police)","Staff",0]
[]
[null,null,null,null,null,null,null,null,null,null,null,null,null,null,"UNWDF2021",null,null,null,"UNWDF2020",null,null,null,"UNWDF2018",null,null,null,"UNWDF2017"]
[null,null,null,null,null,null,null,null,null,null,null,null,null,null,"TA",null,null,null,"TA",null,null,null,"TA",null,null,null,"TA"]
[null,null,null,null,null,null,null,null,null,null,null,null,null,null,"_O",{"$f":"COUNTIF(N:N,$O189)","v":3},1.5625E-2,null,"_O",1,2.8571428571428571E-2,null,"_O",2,0.02,null,"_O",1,0.01]
[null,null,null,null,null,null,null,null,null,null,null,null,null,null,1,8,0.15625,null,1,4,0.11428571428571428,null,1,10,0.11,null,1,9,0.11]
[null,null,null,null,null,null,null,null,null,null,null,null,null,null,2,18,0.234375,null,2,20,0.5714285714285714,null,2,23,0.26,null,2,20,0.25]
[null,null,null,null,null,null,null,null,null,null,null,null,null,null,3,15,0.203125,null,3,18,0.51428571428571423,null,3,18,0.21,null,3,13,0.16]
[null,null,null,null,null,null,null,null,null,null,null,null,null,null,4,14,0.140625,null,4,9,0.25714285714285712,null,4,12,0.14000000000000001,null,4,18,0.23]
[null,null,null,null,null,null,null,null,null,null,null,null,null,null,5,14,0.1875,null,5,12,0.34285714285714286,null,5,11,0.13,null,5,12,0.15]
[null,null,null,null,null,null,null,null,null,null,null,null,null,null,6,3,4.6875E-2,null,6,3,8.5714285714285715E-2,null,6,10,0.11,null,6,6,0.08]
[null,null,null,null,null,null,null,null,null,null,null,null,null,null,null,null,null,null,"2-5",1,2.8571428571428571E-2]
[null,null,null,null,null,null,null,null,null,null,null,null,null,null,"_Z",{"$f":"COUNTIF(N:N,$O197)","v":0},0,null,"_Z",0,0,null,"_Z",0,0,null,"_Z",0,0]
[null,null,null,null,null,null,null,null,null,null,null,null,null,null,"_C",{"$f":"COUNTIF(N:N,$O198)","v":1},1.5625E-2,null,"_C",1,2.8571428571428571E-2,null,"_C",1,0.01,null,"_C",1,0.01]
[null,null,null,null,null,null,null,null,null,null,null,null,null,null,null,null,null,null,null,null,null,null,null,87,null,null,null,80]
[]
[null,null,null,null,null,null,null,null,null,null,null,null,null,null,"Plenary",{"$f":"COUNTIF(L:L,\"Y\")","v":14},null,null,"Plenary",5,null,null,"Plenary",8,null,null,"Plenary",10]
[null,null,null,null,null,null,null,null,null,null,null,null,null,null,"Sessions",{"$f":"COUNTIF(L:L,\"N\")","v":66},null,null,"Sessions",64,null,null,"Sessions",79,null,null,"Sessions",70]
[null,null,null,null,null,null,null,null,null,null,null,null,null,null,"Total",{"$f":"SUM(P201:P202)","v":80},null,null,"Total",69,null,null,"Total",87,null,null,"Total",80]
[]
[null,null,null,null,null,null,null,null,null,null,null,null,null,null,null,null,null,null,"Note: 2-5 ","represent 3 Ted-style talks"]